{"text_format":"1","workbook":"xlsx","n_sheets":23,"sheets":["Formula","Project Information","Gateway Tracker","BN Approved Budget Tracker","Remainder mirror","master mirror","PM Comments","Title Tracker","Qnnaire","BNeed Unapproved Road Map","Resource Programme","Possibles","Resource Demand","Resource Capacity","Resource histogram (2)","Gateway Forecast","Unapproved Summary","Unapproved dashboard ","Priorities Next Month","Action Log","Pipeline Batching","Ave Project timescales","ave timescales"],"not_rendered":{"charts":6,"images":1,"macros":1,"external_links":1,"defined_names":55,"comments":4,"pivot_tables":0},"unopened":[],"bounds":{"document_bytes":16777216,"sheet_cells":100000,"rows_first":2000,"rows_last":500,"rows_between":2000,"halvings":0,"cell_chars":16384,"cell_head_chars":4096},"cells_cut":0,"cells_raw":0,"read":"whole","date_system":"1900"}

{"sheet":"Formula","index":0,"n_rows":89,"n_cols":18,"rows_kept":89,"cut":false,"hidden":true,"merged":[]}
["LISTS",null,null,null,null,"DATA FOR DASHBOARD GRAPHICS"]
["Pipeline",0,"Approved","Andrew Fleming","Basic Need","Total Projects / Phases","Basic Need","PSBP","Modernisation","NWoW","Corporate","Asset Utilisation","SSR","GET","ESFA Managed","Other","totals"]
["Feasibility",1,"KCP17","Angela Heselgrave","PSBP",0,{"$f":"COUNTIFS('Project Information'!#REF!,G$2,'Project Information'!#REF!,$F3)","v":{"$error":"#REF!"}},{"$f":"COUNTIFS('Project Information'!#REF!,H$2,'Project Information'!#REF!,$F3)","v":{"$error":"#REF!"}},{"$f":"COUNTIFS('Project Information'!#REF!,I$2,'Project Information'!#REF!,$F3)","v":{"$error":"#REF!"}},{"$f":"COUNTIFS('Project Information'!#REF!,J$2,'Project Information'!#REF!,$F3)","v":{"$error":"#REF!"}},{"$f":"COUNTIFS('Project Information'!#REF!,K$2,'Project Information'!#REF!,$F3)","v":{"$error":"#REF!"}},{"$f":"COUNTIFS('Project Information'!#REF!,L$2,'Project Information'!#REF!,$F3)","v":{"$error":"#REF!"}},{"$f":"COUNTIFS('Project Information'!#REF!,M$2,'Project Information'!#REF!,$F3)","v":{"$error":"#REF!"}},{"$f":"COUNTIFS('Project Information'!#REF!,N$2,'Project Information'!#REF!,$F3)","v":{"$error":"#REF!"}},{"$f":"COUNTIFS('Project Information'!#REF!,O$2,'Project Information'!#REF!,$F3)","v":{"$error":"#REF!"}},{"$f":"COUNTIFS('Project Information'!#REF!,P$2,'Project Information'!#REF!,$F3)","v":{"$error":"#REF!"}},{"$f":"SUM(G3:P3)","v":{"$error":"#REF!"}}]
["Detailed Design",2,"KCP18","Ben Sherreard","Modernisation",1,{"$f":"COUNTIFS('Project Information'!#REF!,G$2,'Project Information'!#REF!,$F4)","v":{"$error":"#REF!"}},{"$f":"COUNTIFS('Project Information'!#REF!,H$2,'Project Information'!#REF!,$F4)","v":{"$error":"#REF!"}},{"$f":"COUNTIFS('Project Information'!#REF!,I$2,'Project Information'!#REF!,$F4)","v":{"$error":"#REF!"}},{"$f":"COUNTIFS('Project Information'!#REF!,J$2,'Project Information'!#REF!,$F4)","v":{"$error":"#REF!"}},{"$f":"COUNTIFS('Project Information'!#REF!,K$2,'Project Information'!#REF!,$F4)","v":{"$error":"#REF!"}},{"$f":"COUNTIFS('Project Information'!#REF!,L$2,'Project Information'!#REF!,$F4)","v":{"$error":"#REF!"}},{"$f":"COUNTIFS('Project Information'!#REF!,M$2,'Project Information'!#REF!,$F4)","v":{"$error":"#REF!"}},{"$f":"COUNTIFS('Project Information'!#REF!,N$2,'Project Information'!#REF!,$F4)","v":{"$error":"#REF!"}},{"$f":"COUNTIFS('Project Information'!#REF!,O$2,'Project Information'!#REF!,$F4)","v":{"$error":"#REF!"}},{"$f":"COUNTIFS('Project Information'!#REF!,P$2,'Project Information'!#REF!,$F4)","v":{"$error":"#REF!"}},{"$f":"SUM(G4:P4)","v":{"$error":"#REF!"}}]
["Construction",3,"Blank 1","Brian Hirst","Corporate",2,{"$f":"COUNTIFS('Project Information'!#REF!,G$2,'Project Information'!#REF!,$F5)","v":{"$error":"#REF!"}},{"$f":"COUNTIFS('Project Information'!#REF!,H$2,'Project Information'!#REF!,$F5)","v":{"$error":"#REF!"}},{"$f":"COUNTIFS('Project Information'!#REF!,I$2,'Project Information'!#REF!,$F5)","v":{"$error":"#REF!"}},{"$f":"COUNTIFS('Project Information'!#REF!,J$2,'Project Information'!#REF!,$F5)","v":{"$error":"#REF!"}},{"$f":"COUNTIFS('Project Information'!#REF!,K$2,'Project Information'!#REF!,$F5)","v":{"$error":"#REF!"}},{"$f":"COUNTIFS('Project Information'!#REF!,L$2,'Project Information'!#REF!,$F5)","v":{"$error":"#REF!"}},{"$f":"COUNTIFS('Project Information'!#REF!,M$2,'Project Information'!#REF!,$F5)","v":{"$error":"#REF!"}},{"$f":"COUNTIFS('Project Information'!#REF!,N$2,'Project Information'!#REF!,$F5)","v":{"$error":"#REF!"}},{"$f":"COUNTIFS('Project Information'!#REF!,O$2,'Project Information'!#REF!,$F5)","v":{"$error":"#REF!"}},{"$f":"COUNTIFS('Project Information'!#REF!,P$2,'Project Information'!#REF!,$F5)","v":{"$error":"#REF!"}},{"$error":"#REF!"}]
["Defects","3-4","Blank 2","David Harris","NWoW",3,{"$f":"COUNTIFS('Project Information'!#REF!,G$2,'Project Information'!#REF!,$F6)","v":{"$error":"#REF!"}},{"$f":"COUNTIFS('Project Information'!#REF!,H$2,'Project Information'!#REF!,$F6)","v":{"$error":"#REF!"}},{"$f":"COUNTIFS('Project Information'!#REF!,I$2,'Project Information'!#REF!,$F6)","v":{"$error":"#REF!"}},{"$f":"COUNTIFS('Project Information'!#REF!,J$2,'Project Information'!#REF!,$F6)","v":{"$error":"#REF!"}},{"$f":"COUNTIFS('Project Information'!#REF!,K$2,'Project Information'!#REF!,$F6)","v":{"$error":"#REF!"}},{"$f":"COUNTIFS('Project Information'!#REF!,L$2,'Project Information'!#REF!,$F6)","v":{"$error":"#REF!"}},{"$f":"COUNTIFS('Project Information'!#REF!,M$2,'Project Information'!#REF!,$F6)","v":{"$error":"#REF!"}},{"$f":"COUNTIFS('Project Information'!#REF!,N$2,'Project Information'!#REF!,$F6)","v":{"$error":"#REF!"}},{"$f":"COUNTIFS('Project Information'!#REF!,O$2,'Project Information'!#REF!,$F6)","v":{"$error":"#REF!"}},{"$f":"COUNTIFS('Project Information'!#REF!,P$2,'Project Information'!#REF!,$F6)","v":{"$error":"#REF!"}},{"$error":"#REF!"}]
[null,4,"Blank 3","David Mounter","GET","3-4",{"$f":"COUNTIFS('Project Information'!#REF!,G$2,'Project Information'!#REF!,$F7)","v":{"$error":"#REF!"}},{"$f":"COUNTIFS('Project Information'!#REF!,H$2,'Project Information'!#REF!,$F7)","v":{"$error":"#REF!"}},{"$f":"COUNTIFS('Project Information'!#REF!,I$2,'Project Information'!#REF!,$F7)","v":{"$error":"#REF!"}},{"$f":"COUNTIFS('Project Information'!#REF!,J$2,'Project Information'!#REF!,$F7)","v":{"$error":"#REF!"}},{"$f":"COUNTIFS('Project Information'!#REF!,K$2,'Project Information'!#REF!,$F7)","v":{"$error":"#REF!"}},{"$f":"COUNTIFS('Project Information'!#REF!,L$2,'Project Information'!#REF!,$F7)","v":{"$error":"#REF!"}},{"$f":"COUNTIFS('Project Information'!#REF!,M$2,'Project Information'!#REF!,$F7)","v":{"$error":"#REF!"}},{"$f":"COUNTIFS('Project Information'!#REF!,N$2,'Project Information'!#REF!,$F7)","v":{"$error":"#REF!"}},{"$f":"COUNTIFS('Project Information'!#REF!,O$2,'Project Information'!#REF!,$F7)","v":{"$error":"#REF!"}},{"$f":"COUNTIFS('Project Information'!#REF!,P$2,'Project Information'!#REF!,$F7)","v":{"$error":"#REF!"}},{"$error":"#REF!"}]
[null,5,null,"Dominic Cresswell","SSR",4,{"$f":"COUNTIFS('Project Information'!#REF!,G$2,'Project Information'!#REF!,$F8)","v":{"$error":"#REF!"}},{"$f":"COUNTIFS('Project Information'!#REF!,H$2,'Project Information'!#REF!,$F8)","v":{"$error":"#REF!"}},{"$f":"COUNTIFS('Project Information'!#REF!,I$2,'Project Information'!#REF!,$F8)","v":{"$error":"#REF!"}},{"$f":"COUNTIFS('Project Information'!#REF!,J$2,'Project Information'!#REF!,$F8)","v":{"$error":"#REF!"}},{"$f":"COUNTIFS('Project Information'!#REF!,K$2,'Project Information'!#REF!,$F8)","v":{"$error":"#REF!"}},{"$f":"COUNTIFS('Project Information'!#REF!,L$2,'Project Information'!#REF!,$F8)","v":{"$error":"#REF!"}},{"$f":"COUNTIFS('Project Information'!#REF!,M$2,'Project Information'!#REF!,$F8)","v":{"$error":"#REF!"}},{"$f":"COUNTIFS('Project Information'!#REF!,N$2,'Project Information'!#REF!,$F8)","v":{"$error":"#REF!"}},{"$f":"COUNTIFS('Project Information'!#REF!,O$2,'Project Information'!#REF!,$F8)","v":{"$error":"#REF!"}},{"$f":"COUNTIFS('Project Information'!#REF!,P$2,'Project Information'!#REF!,$F8)","v":{"$error":"#REF!"}},{"$error":"#REF!"}]
[null,6,null,"Emily Stapley","ESFA Managed",5,{"$f":"COUNTIFS('Project Information'!#REF!,G$2,'Project Information'!#REF!,$F9)","v":{"$error":"#REF!"}},{"$f":"COUNTIFS('Project Information'!#REF!,H$2,'Project Information'!#REF!,$F9)","v":{"$error":"#REF!"}},{"$f":"COUNTIFS('Project Information'!#REF!,I$2,'Project Information'!#REF!,$F9)","v":{"$error":"#REF!"}},{"$f":"COUNTIFS('Project Information'!#REF!,J$2,'Project Information'!#REF!,$F9)","v":{"$error":"#REF!"}},{"$f":"COUNTIFS('Project Information'!#REF!,K$2,'Project Information'!#REF!,$F9)","v":{"$error":"#REF!"}},{"$f":"COUNTIFS('Project Information'!#REF!,L$2,'Project Information'!#REF!,$F9)","v":{"$error":"#REF!"}},{"$f":"COUNTIFS('Project Information'!#REF!,M$2,'Project Information'!#REF!,$F9)","v":{"$error":"#REF!"}},{"$f":"COUNTIFS('Project Information'!#REF!,N$2,'Project Information'!#REF!,$F9)","v":{"$error":"#REF!"}},{"$f":"COUNTIFS('Project Information'!#REF!,O$2,'Project Information'!#REF!,$F9)","v":{"$error":"#REF!"}},{"$f":"COUNTIFS('Project Information'!#REF!,P$2,'Project Information'!#REF!,$F9)","v":{"$error":"#REF!"}},{"$error":"#REF!"}]
[null,7,null,"Esther Larner","Asset Utilisation",6,{"$f":"COUNTIFS('Project Information'!#REF!,G$2,'Project Information'!#REF!,$F10)","v":{"$error":"#REF!"}},{"$f":"COUNTIFS('Project Information'!#REF!,H$2,'Project Information'!#REF!,$F10)","v":{"$error":"#REF!"}},{"$f":"COUNTIFS('Project Information'!#REF!,I$2,'Project Information'!#REF!,$F10)","v":{"$error":"#REF!"}},{"$f":"COUNTIFS('Project Information'!#REF!,J$2,'Project Information'!#REF!,$F10)","v":{"$error":"#REF!"}},{"$f":"COUNTIFS('Project Information'!#REF!,K$2,'Project Information'!#REF!,$F10)","v":{"$error":"#REF!"}},{"$f":"COUNTIFS('Project Information'!#REF!,L$2,'Project Information'!#REF!,$F10)","v":{"$error":"#REF!"}},{"$f":"COUNTIFS('Project Information'!#REF!,M$2,'Project Information'!#REF!,$F10)","v":{"$error":"#REF!"}},{"$f":"COUNTIFS('Project Information'!#REF!,N$2,'Project Information'!#REF!,$F10)","v":{"$error":"#REF!"}},{"$f":"COUNTIFS('Project Information'!#REF!,O$2,'Project Information'!#REF!,$F10)","v":{"$error":"#REF!"}},{"$f":"COUNTIFS('Project Information'!#REF!,P$2,'Project Information'!#REF!,$F10)","v":{"$error":"#REF!"}},{"$error":"#REF!"}]
[null,"Managed By Others",null,"James Drew","Other",7,{"$f":"COUNTIFS('Project Information'!#REF!,G$2,'Project Information'!#REF!,$F11)","v":{"$error":"#REF!"}},{"$f":"COUNTIFS('Project Information'!#REF!,H$2,'Project Information'!#REF!,$F11)","v":{"$error":"#REF!"}},{"$f":"COUNTIFS('Project Information'!#REF!,I$2,'Project Information'!#REF!,$F11)","v":{"$error":"#REF!"}},{"$f":"COUNTIFS('Project Information'!#REF!,J$2,'Project Information'!#REF!,$F11)","v":{"$error":"#REF!"}},{"$f":"COUNTIFS('Project Information'!#REF!,K$2,'Project Information'!#REF!,$F11)","v":{"$error":"#REF!"}},{"$f":"COUNTIFS('Project Information'!#REF!,L$2,'Project Information'!#REF!,$F11)","v":{"$error":"#REF!"}},{"$f":"COUNTIFS('Project Information'!#REF!,M$2,'Project Information'!#REF!,$F11)","v":{"$error":"#REF!"}},{"$f":"COUNTIFS('Project Information'!#REF!,N$2,'Project Information'!#REF!,$F11)","v":{"$error":"#REF!"}},{"$f":"COUNTIFS('Project Information'!#REF!,O$2,'Project Information'!#REF!,$F11)","v":{"$error":"#REF!"}},{"$f":"COUNTIFS('Project Information'!#REF!,P$2,'Project Information'!#REF!,$F11)","v":{"$error":"#REF!"}},{"$error":"#REF!"}]
[null,"On Hold",null,"Janet Streek",null,"Managed By Others",{"$f":"COUNTIFS('Project Information'!#REF!,G$2,'Project Information'!#REF!,$F12)","v":{"$error":"#REF!"}},{"$f":"COUNTIFS('Project Information'!#REF!,H$2,'Project Information'!#REF!,$F12)","v":{"$error":"#REF!"}},{"$f":"COUNTIFS('Project Information'!#REF!,I$2,'Project Information'!#REF!,$F12)","v":{"$error":"#REF!"}},{"$f":"COUNTIFS('Project Information'!#REF!,J$2,'Project Information'!#REF!,$F12)","v":{"$error":"#REF!"}},{"$f":"COUNTIFS('Project Information'!#REF!,K$2,'Project Information'!#REF!,$F12)","v":{"$error":"#REF!"}},{"$f":"COUNTIFS('Project Information'!#REF!,L$2,'Project Information'!#REF!,$F12)","v":{"$error":"#REF!"}},{"$f":"COUNTIFS('Project Information'!#REF!,M$2,'Project Information'!#REF!,$F12)","v":{"$error":"#REF!"}},{"$f":"COUNTIFS('Project Information'!#REF!,N$2,'Project Information'!#REF!,$F12)","v":{"$error":"#REF!"}},{"$f":"COUNTIFS('Project Information'!#REF!,O$2,'Project Information'!#REF!,$F12)","v":{"$error":"#REF!"}},{"$f":"COUNTIFS('Project Information'!#REF!,P$2,'Project Information'!#REF!,$F12)","v":{"$error":"#REF!"}},{"$error":"#REF!"}]
[null,null,null,"Joanna Ashby",null,null,{"$f":"SUM(G3:G12)","v":{"$error":"#REF!"}},{"$f":"SUM(H3:H12)","v":{"$error":"#REF!"}},{"$error":"#REF!"},{"$error":"#REF!"},{"$error":"#REF!"},{"$error":"#REF!"},{"$error":"#REF!"},{"$error":"#REF!"},{"$error":"#REF!"},{"$error":"#REF!"},{"$f":"SUM(Q3:Q12)","v":{"$error":"#REF!"}}]
[null,null,null,"Joanne Taylor",null,"On Hold",{"$f":"COUNTIFS('Project Information'!#REF!,G$2,'Project Information'!#REF!,$F14)","v":{"$error":"#REF!"}},{"$f":"COUNTIFS('Project Information'!#REF!,H$2,'Project Information'!#REF!,$F14)","v":{"$error":"#REF!"}},{"$f":"COUNTIFS('Project Information'!#REF!,I$2,'Project Information'!#REF!,$F14)","v":{"$error":"#REF!"}},{"$f":"COUNTIFS('Project Information'!#REF!,J$2,'Project Information'!#REF!,$F14)","v":{"$error":"#REF!"}},{"$f":"COUNTIFS('Project Information'!#REF!,K$2,'Project Information'!#REF!,$F14)","v":{"$error":"#REF!"}},{"$f":"COUNTIFS('Project Information'!#REF!,L$2,'Project Information'!#REF!,$F14)","v":{"$error":"#REF!"}},{"$f":"COUNTIFS('Project Information'!#REF!,M$2,'Project Information'!#REF!,$F14)","v":{"$error":"#REF!"}},{"$f":"COUNTIFS('Project Information'!#REF!,N$2,'Project Information'!#REF!,$F14)","v":{"$error":"#REF!"}},{"$f":"COUNTIFS('Project Information'!#REF!,O$2,'Project Information'!#REF!,$F14)","v":{"$error":"#REF!"}},{"$f":"COUNTIFS('Project Information'!#REF!,P$2,'Project Information'!#REF!,$F14)","v":{"$error":"#REF!"}},{"$error":"#REF!"}]
[null,null,null,"John Brocklehurst",null,null,null,null,null,null,null,null,null,null,null,null,{"$f":"Q13+Q14","v":{"$error":"#REF!"}}]
[null,null,null,"Natasha Petley"]
[null,null,null,"Paula Malpeli",null,"Live Projects","Number",null,"RIBA Stage","Total",null,"Gateways","Total"]
[null,null,null,"Banji Adegunju",null,"Pre-Contract",{"$f":"SUM(Formula!J18:J23)","v":{"$error":"#REF!"}},null,0,{"$f":"COUNTIF('Project Information'!#REF!,I18)","v":{"$error":"#REF!"}},null,"Due",{"$f":"COUNTIF('Project Information'!#REF!,TRUE)","v":{"$error":"#REF!"}}]
[null,null,null,"Rachel Line",null,"Post Contract",{"$f":"Formula!J24","v":{"$error":"#REF!"}},null,1,{"$f":"COUNTIF('Project Information'!#REF!,I19)","v":{"$error":"#REF!"}},null,"Complete",{"$f":"COUNTIF('Project Information'!#REF!,\"Y\")","v":{"$error":"#REF!"}}]
[null,null,null,"Sue Meads",null,"Complete",{"$f":"SUM(Formula!J25:J26)","v":{"$error":"#REF!"}},{"$f":"SUM(G18:G20)","v":{"$error":"#REF!"}},2,{"$f":"COUNTIF('Project Information'!#REF!,I20)","v":{"$error":"#REF!"}},null,null,null,null,"DATA TAKEN FROM RESOURCE DEMAND WORKSHEET"]
[null,null,null,"Erica Pavlis",null,null,null,null,3,{"$f":"COUNTIF('Project Information'!#REF!,I21)","v":{"$error":"#REF!"}}]
[null,null,null,"Chris Wrench",null,"RAG Status","Total",null,"3-4",{"$f":"COUNTIF('Project Information'!#REF!,I22)","v":{"$error":"#REF!"}},null,"PM capacity","Permanent","Bench","Flex","Demand"]
[null,null,null,"Aidan Webb",null,"Red",{"$f":"COUNTIF('Project Information'!#REF!,\"R\")","v":{"$error":"#REF!"}},null,4,{"$f":"COUNTIF('Project Information'!#REF!,I23)","v":{"$error":"#REF!"}},null,"2018-11-01",{"$f":"'Resource Demand'!G$45","v":1146.5},{"$f":"'Resource Demand'!G$46","v":331.20000000000005},{"$f":"'Resource Demand'!G$47","v":331.20000000000005},{"$f":"'Resource Demand'!G$59","v":0}]
[null,null,null,"Olabisi Ogunbambi",null,"Amber",{"$f":"COUNTIF('Project Information'!#REF!,\"A\")","v":{"$error":"#REF!"}},null,5,{"$f":"COUNTIF('Project Information'!#REF!,I24)","v":{"$error":"#REF!"}},null,"2018-12-01",917.2,264.96000000000004,264.96000000000004,{"$f":"'Resource Demand'!H$59","v":0}]
[null,null,null,"TBC",null,"Green",{"$f":"COUNTIF('Project Information'!#REF!,\"G\")","v":{"$error":"#REF!"}},null,6,{"$f":"COUNTIF('Project Information'!#REF!,I25)","v":{"$error":"#REF!"}},null,"2019-01-01",{"$f":"'Resource Demand'!I$45","v":1146.5},{"$f":"'Resource Demand'!I$46","v":331.20000000000005},{"$f":"'Resource Demand'!I$47","v":331.20000000000005},{"$f":"'Resource Demand'!I$59","v":0}]
[null,null,null,"N/A",null,"On Hold",{"$f":"COUNTIF('Project Information'!#REF!,\"H\")","v":{"$error":"#REF!"}},null,7,{"$f":"COUNTIF('Project Information'!#REF!,I26)","v":{"$error":"#REF!"}},{"$f":"SUM(J18:J26)","v":{"$error":"#REF!"}},"2019-02-01",{"$f":"'Resource Demand'!J$45","v":1146.5},{"$f":"'Resource Demand'!J$46","v":331.20000000000005},{"$f":"'Resource Demand'!J$47","v":331.20000000000005},{"$f":"'Resource Demand'!J$59","v":0}]
[null,null,null,null,null,"Managed By Others",{"$f":"COUNTIF('Project Information'!#REF!,\"SM\")","v":{"$error":"#REF!"}},null,"Managed By Others",{"$f":"COUNTIF('Project Information'!#REF!,I27)","v":{"$error":"#REF!"}}]
[null,null,null,null,null,null,{"$f":"SUM(G23:G27)","v":{"$error":"#REF!"}},null,"On Hold",{"$f":"COUNTIF('Project Information'!#REF!,I28)","v":{"$error":"#REF!"}}]
[null,null,null,null,null,null,null,null,null,{"$f":"SUM(J18:J28)","v":{"$error":"#REF!"}}]
[null,null,null,null,null,"Area","Total","GIFA"]
[null,null,null,null,null,"North",{"$f":"COUNTIF('Project Information'!B:B,F31)","v":25},{"$f":"SUMIFS('Project Information'!#REF!,'Project Information'!#REF!,\"Basic Need\",'Project Information'!B4:B79,\"North\")","v":{"$error":"#REF!"}}]
[null,null,null,null,null,"East",{"$f":"COUNTIF('Project Information'!B:B,F32)","v":17},{"$f":"SUMIFS('Project Information'!#REF!,'Project Information'!#REF!,\"Basic Need\",'Project Information'!B4:B79,\"East\")","v":{"$error":"#REF!"}},"GAPS IN DATA"]
[null,null,null,null,null,"South",{"$f":"COUNTIF('Project Information'!B:B,F33)","v":13},{"$f":"SUMIFS('Project Information'!#REF!,'Project Information'!#REF!,\"Basic Need\",'Project Information'!B4:B79,\"South\")","v":{"$error":"#REF!"}}]
[null,null,null,null,null,"West",{"$f":"COUNTIF('Project Information'!B:B,F34)","v":24},{"$f":"SUMIFS('Project Information'!#REF!,'Project Information'!#REF!,\"Basic Need\",'Project Information'!B4:B79,\"West\")","v":{"$error":"#REF!"}}]
[null,null,null,null,null,null,{"$f":"SUM(G31:G34)","v":79}]
[]
[null,null,null,null,null,"Programme Status","18/19","19/20","20/21","21/22","22/23","23/24"]
[null,null,null,null,null,"On Time",{"$f":"COUNTIFS('Project Information'!#REF!,G$37,'Project Information'!#REF!,0)","v":{"$error":"#REF!"}},{"$f":"COUNTIFS('Project Information'!#REF!,H$37,'Project Information'!#REF!,0)","v":{"$error":"#REF!"}},{"$f":"COUNTIFS('Project Information'!#REF!,I$37,'Project Information'!#REF!,0)","v":{"$error":"#REF!"}},{"$f":"COUNTIFS('Project Information'!#REF!,J$37,'Project Information'!#REF!,0)","v":{"$error":"#REF!"}},{"$f":"COUNTIFS('Project Information'!#REF!,K$37,'Project Information'!#REF!,0)","v":{"$error":"#REF!"}},{"$f":"COUNTIFS('Project Information'!#REF!,L$37,'Project Information'!#REF!,0)","v":{"$error":"#REF!"}}]
[null,null,null,"GATEWAYS",null,"Late",{"$f":"COUNTIFS('Project Information'!#REF!,G$37,'Project Information'!#REF!,1)","v":{"$error":"#REF!"}},{"$f":"COUNTIFS('Project Information'!#REF!,H$37,'Project Information'!#REF!,1)","v":{"$error":"#REF!"}},{"$f":"COUNTIFS('Project Information'!#REF!,I$37,'Project Information'!#REF!,1)","v":{"$error":"#REF!"}},{"$f":"COUNTIFS('Project Information'!#REF!,J$37,'Project Information'!#REF!,1)","v":{"$error":"#REF!"}},{"$f":"COUNTIFS('Project Information'!#REF!,K$37,'Project Information'!#REF!,1)","v":{"$error":"#REF!"}},{"$f":"COUNTIFS('Project Information'!#REF!,L$37,'Project Information'!#REF!,1)","v":{"$error":"#REF!"}}]
[null,null,null,0,null,"On Hold",{"$f":"COUNTIFS('Project Information'!#REF!,G$37,'Project Information'!#REF!,\"hold\")","v":{"$error":"#REF!"}},{"$f":"COUNTIFS('Project Information'!#REF!,H$37,'Project Information'!#REF!,\"hold\")","v":{"$error":"#REF!"}},{"$f":"COUNTIFS('Project Information'!#REF!,I$37,'Project Information'!#REF!,\"hold\")","v":{"$error":"#REF!"}},{"$f":"COUNTIFS('Project Information'!#REF!,J$37,'Project Information'!#REF!,\"hold\")","v":{"$error":"#REF!"}},{"$f":"COUNTIFS('Project Information'!#REF!,K$37,'Project Information'!#REF!,\"hold\")","v":{"$error":"#REF!"}},{"$f":"COUNTIFS('Project Information'!#REF!,L$37,'Project Information'!#REF!,\"hold\")","v":{"$error":"#REF!"}}]
[null,null,null,1,null,"Complete",{"$f":"G42-SUM(G38:G40)","v":{"$error":"#REF!"}},{"$f":"H42-SUM(H38:H40)","v":{"$error":"#REF!"}},{"$error":"#REF!"},{"$error":"#REF!"},{"$error":"#REF!"},{"$error":"#REF!"}]
[null,null,null,2,null,"totals",{"$f":"COUNTIFS('Project Information'!#REF!,G$37)","v":{"$error":"#REF!"}},{"$f":"COUNTIFS('Project Information'!#REF!,H$37)","v":{"$error":"#REF!"}},{"$f":"COUNTIFS('Project Information'!#REF!,I$37)","v":{"$error":"#REF!"}},{"$f":"COUNTIFS('Project Information'!#REF!,J$37)","v":{"$error":"#REF!"}},{"$f":"COUNTIFS('Project Information'!#REF!,K$37)","v":{"$error":"#REF!"}},{"$f":"COUNTIFS('Project Information'!#REF!,L$37)","v":{"$error":"#REF!"}},{"$f":"SUM(G38:L42)","v":{"$error":"#REF!"}},"projects / phases"]
[null,null,null,3]
[null,null,null,4]
[null,null,null,"5/6",null,"Average Cost/m2 GIFA","£/m2 Ave","£/m2 Sum","£/m2 Count","Average Cost/Pupil Place","£/pupil Ave","£/pupil Sum","£/pupil Count","Financial Status","Spent to Date","Planned","Agreed","Revised"]
[null,null,null,7,"Basic Need (tranche 1)","Completed",{"$f":"H46/I46","v":{"$error":"#REF!"}},{"$f":"SUMIFS('Project Information'!#REF!,'Project Information'!#REF!,\"Basic Need\",'Project Information'!#REF!,\"Approved\",'Project Information'!#REF!,\"Y\")-SUM(H47:H49)","v":{"$error":"#REF!"}},{"$f":"COUNTIFS('Project Information'!#REF!,\"Basic Need\",'Project Information'!#REF!,\"Approved\",'Project Information'!#REF!,\"Y\")-SUM(I47:I49)","v":{"$error":"#REF!"}},"Completed",{"$f":"L46/M46","v":{"$error":"#REF!"}},{"$f":"SUMIFS('Project Information'!#REF!,'Project Information'!#REF!,\"Basic Need\",'Project Information'!#REF!,\"Approved\",'Project Information'!#REF!,\"Y\")-SUM(L47:L49)","v":{"$error":"#REF!"}},{"$f":"COUNTIFS('Project Information'!#REF!,\"Basic Need\",'Project Information'!#REF!,\"Approved\",'Project Information'!#REF!,\"Y\")-SUM(M47:M49)","v":{"$error":"#REF!"}},"Completed",{"$f":"SUMIFS('Project Information'!#REF!,'Project Information'!#REF!,\"Basic Need\",'Project Information'!#REF!,\"Approved\")-SUM(O47:O49)","v":{"$error":"#REF!"}},{"$f":"SUMIFS('Project Information'!#REF!,'Project Information'!#REF!,\"Basic Need\",'Project Information'!#REF!,\"Approved\")-SUM(P47:P49)","v":{"$error":"#REF!"}},{"$f":"SUMIFS('Project Information'!#REF!,'Project Information'!#REF!,\"Basic Need\",'Project Information'!#REF!,\"Approved\")-SUM(Q47:Q49)","v":{"$error":"#REF!"}},{"$f":"SUMIFS('Project Information'!$E:$E,'Project Information'!#REF!,\"Basic Need\",'Project Information'!#REF!,\"Approved\")-SUM(R47:R49)","v":{"$error":"#REF!"}}]
[null,null,null,null,"Basic Need (tranche 1)","On Time",{"$f":"H47/I47","v":{"$error":"#REF!"}},{"$f":"SUMIFS('Project Information'!#REF!,'Project Information'!#REF!,\"Basic Need\",'Project Information'!#REF!,\"Approved\",'Project Information'!#REF!,0,'Project Information'!#REF!,\"Y\")","v":{"$error":"#REF!"}},{"$f":"COUNTIFS('Project Information'!#REF!,\"Basic Need\",'Project Information'!#REF!,\"Approved\",'Project Information'!#REF!,0,'Project Information'!#REF!,\"Y\")","v":{"$error":"#REF!"}},"On Time",{"$f":"L47/M47","v":{"$error":"#REF!"}},{"$f":"SUMIFS('Project Information'!#REF!,'Project Information'!#REF!,\"Basic Need\",'Project Information'!#REF!,\"Approved\",'Project Information'!#REF!,0,'Project Information'!#REF!,\"Y\")","v":{"$error":"#REF!"}},{"$f":"COUNTIFS('Project Information'!#REF!,\"Basic Need\",'Project Information'!#REF!,\"Approved\",'Project Information'!#REF!,0,'Project Information'!#REF!,\"Y\")","v":{"$error":"#REF!"}},"On Time",{"$f":"SUMIFS('Project Information'!#REF!,'Project Information'!#REF!,\"Basic Need\",'Project Information'!#REF!,\"Approved\",'Project Information'!#REF!,0)","v":{"$error":"#REF!"}},{"$f":"SUMIFS('Project Information'!#REF!,'Project Information'!#REF!,\"Basic Need\",'Project Information'!#REF!,\"Approved\",'Project Information'!#REF!,0)","v":{"$error":"#REF!"}},{"$f":"SUMIFS('Project Information'!#REF!,'Project Information'!#REF!,\"Basic Need\",'Project Information'!#REF!,\"Approved\",'Project Information'!#REF!,0)","v":{"$error":"#REF!"}},{"$f":"SUMIFS('Project Information'!$E:$E,'Project Information'!#REF!,\"Basic Need\",'Project Information'!#REF!,\"Approved\",'Project Information'!#REF!,0)","v":{"$error":"#REF!"}}]
[null,null,null,null,"Basic Need (tranche 1)","Late",{"$error":"#REF!"},{"$f":"SUMIFS('Project Information'!#REF!,'Project Information'!#REF!,\"Basic Need\",'Project Information'!#REF!,\"Approved\",'Project Information'!#REF!,1,'Project Information'!#REF!,\"Y\")","v":{"$error":"#REF!"}},{"$f":"COUNTIFS('Project Information'!#REF!,\"Basic Need\",'Project Information'!#REF!,\"Approved\",'Project Information'!#REF!,1,'Project Information'!#REF!,\"Y\")","v":{"$error":"#REF!"}},"Late",{"$error":"#REF!"},{"$f":"SUMIFS('Project Information'!#REF!,'Project Information'!#REF!,\"Basic Need\",'Project Information'!#REF!,\"Approved\",'Project Information'!#REF!,1,'Project Information'!#REF!,\"Y\")","v":{"$error":"#REF!"}},{"$f":"COUNTIFS('Project Information'!#REF!,\"Basic Need\",'Project Information'!#REF!,\"Approved\",'Project Information'!#REF!,1,'Project Information'!#REF!,\"Y\")","v":{"$error":"#REF!"}},"Late",{"$f":"SUMIFS('Project Information'!#REF!,'Project Information'!#REF!,\"Basic Need\",'Project Information'!#REF!,\"Approved\",'Project Information'!#REF!,1)","v":{"$error":"#REF!"}},{"$f":"SUMIFS('Project Information'!#REF!,'Project Information'!#REF!,\"Basic Need\",'Project Information'!#REF!,\"Approved\",'Project Information'!#REF!,1)","v":{"$error":"#REF!"}},{"$f":"SUMIFS('Project Information'!#REF!,'Project Information'!#REF!,\"Basic Need\",'Project Information'!#REF!,\"Approved\",'Project Information'!#REF!,1)","v":{"$error":"#REF!"}},{"$f":"SUMIFS('Project Information'!$E:$E,'Project Information'!#REF!,\"Basic Need\",'Project Information'!#REF!,\"Approved\",'Project Information'!#REF!,1)","v":{"$error":"#REF!"}}]
[null,null,null,null,"Basic Need (tranche 1)","Hold",null,{"$f":"SUMIFS('Project Information'!#REF!,'Project Information'!#REF!,\"Basic Need\",'Project Information'!#REF!,\"Approved\",'Project Information'!#REF!,\"Hold\",'Project Information'!#REF!,\"Y\")","v":{"$error":"#REF!"}},{"$f":"COUNTIFS('Project Information'!#REF!,\"Basic Need\",'Project Information'!#REF!,\"Approved\",'Project Information'!#REF!,\"hold\",'Project Information'!#REF!,\"Y\")","v":{"$error":"#REF!"}},"Hold",null,{"$f":"SUMIFS('Project Information'!#REF!,'Project Information'!#REF!,\"Basic Need\",'Project Information'!#REF!,\"Approved\",'Project Information'!#REF!,\"Hold\",'Project Information'!#REF!,\"Y\")","v":{"$error":"#REF!"}},{"$f":"COUNTIFS('Project Information'!#REF!,\"Basic Need\",'Project Information'!#REF!,\"Approved\",'Project Information'!#REF!,\"hold\",'Project Information'!#REF!,\"Y\")","v":{"$error":"#REF!"}},"Hold",{"$f":"SUMIFS('Project Information'!#REF!,'Project Information'!#REF!,\"Basic Need\",'Project Information'!#REF!,\"Approved\",'Project Information'!#REF!,\"hold\")","v":{"$error":"#REF!"}},{"$f":"SUMIFS('Project Information'!#REF!,'Project Information'!#REF!,\"Basic Need\",'Project Information'!#REF!,\"Approved\",'Project Information'!#REF!,\"hold\")","v":{"$error":"#REF!"}},{"$f":"SUMIFS('Project Information'!#REF!,'Project Information'!#REF!,\"Basic Need\",'Project Information'!#REF!,\"Approved\",'Project Information'!#REF!,\"hold\")","v":{"$error":"#REF!"}},{"$f":"SUMIFS('Project Information'!$E:$E,'Project Information'!#REF!,\"Basic Need\",'Project Information'!#REF!,\"Approved\",'Project Information'!#REF!,\"hold\")","v":{"$error":"#REF!"}}]
[null,null,null,null,null,"Average Cost/m2 GIFA","£/m2 Ave","£/m2 Sum","£/m2 Count","Average Cost/Pupil Place","£/pupil Ave","£/pupil Sum","£/pupil Count","Financial Status","Spent to Date","Planned","Agreed","Revised"]
[null,null,null,null,"Basic Need (tranche 2)","Completed",{"$error":"#REF!"},{"$f":"SUMIFS('Project Information'!#REF!,'Project Information'!#REF!,\"Basic Need\",'Project Information'!#REF!,\"Unapproved\",'Project Information'!#REF!,\"Y\")-SUM(H52:H54)","v":{"$error":"#REF!"}},{"$f":"COUNTIFS('Project Information'!#REF!,\"Basic Need\",'Project Information'!#REF!,\"Unapproved\",'Project Information'!#REF!,\"Y\")-SUM(I52:I54)","v":{"$error":"#REF!"}},"Completed",{"$error":"#REF!"},{"$f":"SUMIFS('Project Information'!#REF!,'Project Information'!#REF!,\"Basic Need\",'Project Information'!#REF!,\"Unapproved\",'Project Information'!#REF!,\"Y\")-SUM(L52:L54)","v":{"$error":"#REF!"}},{"$f":"COUNTIFS('Project Information'!#REF!,\"Basic Need\",'Project Information'!#REF!,\"Unapproved\",'Project Information'!#REF!,\"Y\")-SUM(M52:M54)","v":{"$error":"#REF!"}},"Completed",{"$f":"SUMIFS('Project Information'!#REF!,'Project Information'!#REF!,\"Basic Need\",'Project Information'!#REF!,\"Unapproved\")-SUM(O52:O54)","v":{"$error":"#REF!"}},{"$f":"SUMIFS('Project Information'!#REF!,'Project Information'!#REF!,\"Basic Need\",'Project Information'!#REF!,\"Unapproved\")-SUM(P52:P54)","v":{"$error":"#REF!"}},{"$f":"SUMIFS('Project Information'!#REF!,'Project Information'!#REF!,\"Basic Need\",'Project Information'!#REF!,\"Unapproved\")-SUM(Q52:Q54)","v":{"$error":"#REF!"}},{"$f":"SUMIFS('Project Information'!$E:$E,'Project Information'!#REF!,\"Basic Need\",'Project Information'!#REF!,\"Unapproved\")-SUM(R52:R54)","v":{"$error":"#REF!"}}]
[null,null,null,null,"Basic Need (tranche 2)","On Time",{"$error":"#REF!"},{"$f":"SUMIFS('Project Information'!#REF!,'Project Information'!#REF!,\"Basic Need\",'Project Information'!#REF!,\"Unapproved\",'Project Information'!#REF!,0,'Project Information'!#REF!,\"Y\")","v":{"$error":"#REF!"}},{"$f":"COUNTIFS('Project Information'!#REF!,\"Basic Need\",'Project Information'!#REF!,\"Unapproved\",'Project Information'!#REF!,0,'Project Information'!#REF!,\"Y\")","v":{"$error":"#REF!"}},"On Time",{"$error":"#REF!"},{"$f":"SUMIFS('Project Information'!#REF!,'Project Information'!#REF!,\"Basic Need\",'Project Information'!#REF!,\"Unapproved\",'Project Information'!#REF!,0,'Project Information'!#REF!,\"Y\")","v":{"$error":"#REF!"}},{"$f":"COUNTIFS('Project Information'!#REF!,\"Basic Need\",'Project Information'!#REF!,\"Unapproved\",'Project Information'!#REF!,0,'Project Information'!#REF!,\"Y\")","v":{"$error":"#REF!"}},"On Time",{"$f":"SUMIFS('Project Information'!#REF!,'Project Information'!#REF!,\"Basic Need\",'Project Information'!#REF!,\"Unapproved\",'Project Information'!#REF!,0)","v":{"$error":"#REF!"}},{"$f":"SUMIFS('Project Information'!#REF!,'Project Information'!#REF!,\"Basic Need\",'Project Information'!#REF!,\"Unapproved\",'Project Information'!#REF!,0)","v":{"$error":"#REF!"}},{"$f":"SUMIFS('Project Information'!#REF!,'Project Information'!#REF!,\"Basic Need\",'Project Information'!#REF!,\"Unapproved\",'Project Information'!#REF!,0)","v":{"$error":"#REF!"}},{"$f":"SUMIFS('Project Information'!$E:$E,'Project Information'!#REF!,\"Basic Need\",'Project Information'!#REF!,\"Unapproved\",'Project Information'!#REF!,0)","v":{"$error":"#REF!"}}]
[null,null,null,null,"Basic Need (tranche 2)","Late",null,{"$f":"SUMIFS('Project Information'!#REF!,'Project Information'!#REF!,\"Basic Need\",'Project Information'!#REF!,\"Unapproved\",'Project Information'!#REF!,1,'Project Information'!#REF!,\"Y\")","v":{"$error":"#REF!"}},{"$f":"COUNTIFS('Project Information'!#REF!,\"Basic Need\",'Project Information'!#REF!,\"Unapproved\",'Project Information'!#REF!,1,'Project Information'!#REF!,\"Y\")","v":{"$error":"#REF!"}},"Late",null,{"$f":"SUMIFS('Project Information'!#REF!,'Project Information'!#REF!,\"Basic Need\",'Project Information'!#REF!,\"Unapproved\",'Project Information'!#REF!,1,'Project Information'!#REF!,\"Y\")","v":{"$error":"#REF!"}},{"$f":"COUNTIFS('Project Information'!#REF!,\"Basic Need\",'Project Information'!#REF!,\"Unapproved\",'Project Information'!#REF!,1,'Project Information'!#REF!,\"Y\")","v":{"$error":"#REF!"}},"Late",{"$f":"SUMIFS('Project Information'!#REF!,'Project Information'!#REF!,\"Basic Need\",'Project Information'!#REF!,\"Unapproved\",'Project Information'!#REF!,1)","v":{"$error":"#REF!"}},{"$f":"SUMIFS('Project Information'!#REF!,'Project Information'!#REF!,\"Basic Need\",'Project Information'!#REF!,\"Unapproved\",'Project Information'!#REF!,1)","v":{"$error":"#REF!"}},{"$f":"SUMIFS('Project Information'!#REF!,'Project Information'!#REF!,\"Basic Need\",'Project Information'!#REF!,\"Unapproved\",'Project Information'!#REF!,1)","v":{"$error":"#REF!"}},{"$f":"SUMIFS('Project Information'!$E:$E,'Project Information'!#REF!,\"Basic Need\",'Project Information'!#REF!,\"Unapproved\",'Project Information'!#REF!,1)","v":{"$error":"#REF!"}}]
[null,null,null,null,"Basic Need (tranche 2)","Hold",null,{"$f":"SUMIFS('Project Information'!#REF!,'Project Information'!#REF!,\"Basic Need\",'Project Information'!#REF!,\"Unapproved\",'Project Information'!#REF!,\"Hold\",'Project Information'!#REF!,\"Y\")","v":{"$error":"#REF!"}},{"$f":"COUNTIFS('Project Information'!#REF!,\"Basic Need\",'Project Information'!#REF!,\"Unapproved\",'Project Information'!#REF!,\"hold\",'Project Information'!#REF!,\"Y\")","v":{"$error":"#REF!"}},"Hold",null,{"$f":"SUMIFS('Project Information'!#REF!,'Project Information'!#REF!,\"Basic Need\",'Project Information'!#REF!,\"Unapproved\",'Project Information'!#REF!,\"Hold\",'Project Information'!#REF!,\"Y\")","v":{"$error":"#REF!"}},{"$f":"COUNTIFS('Project Information'!#REF!,\"Basic Need\",'Project Information'!#REF!,\"Unapproved\",'Project Information'!#REF!,\"hold\",'Project Information'!#REF!,\"Y\")","v":{"$error":"#REF!"}},"Hold",{"$f":"SUMIFS('Project Information'!#REF!,'Project Information'!#REF!,\"Basic Need\",'Project Information'!#REF!,\"Unapproved\",'Project Information'!#REF!,\"hold\")","v":{"$error":"#REF!"}},{"$f":"SUMIFS('Project Information'!#REF!,'Project Information'!#REF!,\"Basic Need\",'Project Information'!#REF!,\"Unapproved\",'Project Information'!#REF!,\"hold\")","v":{"$error":"#REF!"}},{"$f":"SUMIFS('Project Information'!#REF!,'Project Information'!#REF!,\"Basic Need\",'Project Information'!#REF!,\"Unapproved\",'Project Information'!#REF!,\"hold\")","v":{"$error":"#REF!"}},{"$f":"SUMIFS('Project Information'!$E:$E,'Project Information'!#REF!,\"Basic Need\",'Project Information'!#REF!,\"Unapproved\",'Project Information'!#REF!,\"hold\")","v":{"$error":"#REF!"}}]
[null,null,null,null,null,"Average Cost/m2 GIFA","£/m2 Ave","£/m2 Sum","£/m2 Count","Average Cost/Pupil Place","£/pupil Ave","£/pupil Sum","£/pupil Count","Financial Status","Spent to Date","Planned","Agreed","Revised"]
[null,null,null,null,"Remainder","Completed",{"$error":"#REF!"},{"$f":"H60-H46-H51","v":{"$error":"#REF!"}},{"$error":"#REF!"},"Completed",null,{"$f":"L60-L46-L51","v":{"$error":"#REF!"}},{"$error":"#REF!"},"Completed",{"$f":"O60-O46-O51","v":{"$error":"#REF!"}},{"$error":"#REF!"},{"$error":"#REF!"},{"$error":"#REF!"}]
[null,null,null,null,"Remainder","On Time",{"$error":"#REF!"},{"$error":"#REF!"},{"$error":"#REF!"},"On Time",{"$error":"#REF!"},{"$error":"#REF!"},{"$error":"#REF!"},"On Time",{"$error":"#REF!"},{"$error":"#REF!"},{"$error":"#REF!"},{"$error":"#REF!"}]
[null,null,null,null,"Remainder","Late",null,{"$error":"#REF!"},{"$error":"#REF!"},"Late",null,{"$error":"#REF!"},{"$error":"#REF!"},"Late",{"$f":"O62-O48-O53","v":{"$error":"#REF!"}},{"$error":"#REF!"},{"$error":"#REF!"},{"$error":"#REF!"}]
[null,null,null,null,"Remainder","Hold",null,{"$error":"#REF!"},{"$error":"#REF!"},"Hold",null,{"$error":"#REF!"},{"$error":"#REF!"},"Hold",{"$f":"O63-O49-O54","v":{"$error":"#REF!"}},{"$error":"#REF!"},{"$error":"#REF!"},{"$error":"#REF!"}]
[null,null,null,null,"totals","Completed",{"$error":"#REF!"},{"$f":"SUMIFS('Project Information'!#REF!,'Project Information'!#REF!,\"Y\")-SUM(H61:H63)","v":{"$error":"#REF!"}},{"$f":"COUNTIF('Project Information'!#REF!,\"Y\")-SUM(I61:I63)","v":{"$error":"#REF!"}},"Completed",{"$error":"#REF!"},{"$f":"SUMIFS('Project Information'!#REF!,'Project Information'!#REF!,\"Y\")-SUM(L61:L63)","v":{"$error":"#REF!"}},{"$f":"COUNTIF('Project Information'!#REF!,\"Y\")-SUM(M61:M63)","v":{"$error":"#REF!"}},"Completed",{"$f":"'Project Information'!#REF!-SUM(O61:O63)","v":{"$error":"#REF!"}},{"$f":"'Project Information'!#REF!-SUM(P61:P63)","v":{"$error":"#REF!"}},{"$f":"'Project Information'!#REF!-SUM(Q61:Q63)","v":{"$error":"#REF!"}},{"$f":"'Project Information'!E2-SUM(R61:R63)","v":{"$error":"#REF!"}}]
[null,null,null,null,"totals","On Time",{"$error":"#REF!"},{"$f":"SUMIFS('Project Information'!#REF!,'Project Information'!#REF!,0,'Project Information'!#REF!,\"Y\")","v":{"$error":"#REF!"}},{"$f":"COUNTIFS('Project Information'!#REF!,0,'Project Information'!#REF!,\"Y\")","v":{"$error":"#REF!"}},"On Time",{"$error":"#REF!"},{"$f":"SUMIFS('Project Information'!#REF!,'Project Information'!#REF!,0,'Project Information'!#REF!,\"Y\")","v":{"$error":"#REF!"}},{"$f":"COUNTIFS('Project Information'!#REF!,0,'Project Information'!#REF!,\"Y\")","v":{"$error":"#REF!"}},"On Time",{"$f":"SUMIFS('Project Information'!#REF!,'Project Information'!#REF!,0)","v":{"$error":"#REF!"}},{"$f":"SUMIFS('Project Information'!#REF!,'Project Information'!#REF!,0)","v":{"$error":"#REF!"}},{"$f":"SUMIFS('Project Information'!#REF!,'Project Information'!#REF!,0)","v":{"$error":"#REF!"}},{"$f":"SUMIFS('Project Information'!$E:$E,'Project Information'!#REF!,0)","v":{"$error":"#REF!"}}]
[null,null,null,null,"totals","Late",{"$error":"#REF!"},{"$f":"SUMIFS('Project Information'!#REF!,'Project Information'!#REF!,1,'Project Information'!#REF!,\"Y\")","v":{"$error":"#REF!"}},{"$f":"COUNTIFS('Project Information'!#REF!,1,'Project Information'!#REF!,\"Y\")","v":{"$error":"#REF!"}},"Late",{"$error":"#REF!"},{"$f":"SUMIFS('Project Information'!#REF!,'Project Information'!#REF!,1,'Project Information'!#REF!,\"Y\")","v":{"$error":"#REF!"}},{"$f":"COUNTIFS('Project Information'!#REF!,1,'Project Information'!#REF!,\"Y\")","v":{"$error":"#REF!"}},"Late",{"$f":"SUMIFS('Project Information'!#REF!,'Project Information'!#REF!,1)","v":{"$error":"#REF!"}},{"$f":"SUMIFS('Project Information'!#REF!,'Project Information'!#REF!,1)","v":{"$error":"#REF!"}},{"$f":"SUMIFS('Project Information'!#REF!,'Project Information'!#REF!,1)","v":{"$error":"#REF!"}},{"$f":"SUMIFS('Project Information'!$E:$E,'Project Information'!#REF!,1)","v":{"$error":"#REF!"}}]
[null,null,null,null,"totals","Hold",null,{"$f":"SUMIFS('Project Information'!#REF!,'Project Information'!#REF!,\"hold\",'Project Information'!#REF!,\"Y\")","v":{"$error":"#REF!"}},{"$f":"COUNTIFS('Project Information'!#REF!,\"hold\",'Project Information'!#REF!,\"Y\")","v":{"$error":"#REF!"}},"Hold",null,{"$f":"SUMIFS('Project Information'!#REF!,'Project Information'!#REF!,\"hold\",'Project Information'!#REF!,\"Y\")","v":{"$error":"#REF!"}},{"$f":"COUNTIFS('Project Information'!#REF!,\"hold\",'Project Information'!#REF!,\"Y\")","v":{"$error":"#REF!"}},"Hold",{"$f":"SUMIFS('Project Information'!#REF!,'Project Information'!#REF!,\"hold\")","v":{"$error":"#REF!"}},{"$f":"SUMIFS('Project Information'!#REF!,'Project Information'!#REF!,\"hold\")","v":{"$error":"#REF!"}},{"$f":"SUMIFS('Project Information'!#REF!,'Project Information'!#REF!,\"hold\")","v":{"$error":"#REF!"}},{"$f":"SUMIFS('Project Information'!$E:$E,'Project Information'!#REF!,\"hold\")","v":{"$error":"#REF!"}}]
[null,null,null,null,null,null,null,null,null,null,null,null,null,null,{"$f":"SUM(O46:O59)","v":{"$error":"#REF!"}},{"$f":"SUM(P46:P59)","v":{"$error":"#REF!"}},{"$error":"#REF!"},{"$error":"#REF!"}]
[null,null,null,null,null,"Anticipated Expenditure allocated to current stage"]
[]
[null,null,null,null,null,"Programme\n(data retrieval, table info below)",0,1,2,3,"3-4",4,5,6,7,"Managed By Others"]
[null,null,null,null,null,"Basic Need, Approved",{"$f":"SUMIFS('Project Information'!#REF!,'Project Information'!#REF!,\"Basic Need\",'Project Information'!#REF!,\"Approved\",'Project Information'!#REF!,G$67)","v":{"$error":"#REF!"}},{"$f":"SUMIFS('Project Information'!#REF!,'Project Information'!#REF!,\"Basic Need\",'Project Information'!#REF!,\"Approved\",'Project Information'!#REF!,H$67)","v":{"$error":"#REF!"}},{"$f":"SUMIFS('Project Information'!#REF!,'Project Information'!#REF!,\"Basic Need\",'Project Information'!#REF!,\"Approved\",'Project Information'!#REF!,I$67)","v":{"$error":"#REF!"}},{"$f":"SUMIFS('Project Information'!#REF!,'Project Information'!#REF!,\"Basic Need\",'Project Information'!#REF!,\"Approved\",'Project Information'!#REF!,J$67)","v":{"$error":"#REF!"}},{"$f":"SUMIFS('Project Information'!#REF!,'Project Information'!#REF!,\"Basic Need\",'Project Information'!#REF!,\"Approved\",'Project Information'!#REF!,K$67)","v":{"$error":"#REF!"}},{"$f":"SUMIFS('Project Information'!#REF!,'Project Information'!#REF!,\"Basic Need\",'Project Information'!#REF!,\"Approved\",'Project Information'!#REF!,L$67)","v":{"$error":"#REF!"}},{"$f":"SUMIFS('Project Information'!#REF!,'Project Information'!#REF!,\"Basic Need\",'Project Information'!#REF!,\"Approved\",'Project Information'!#REF!,M$67)","v":{"$error":"#REF!"}},{"$f":"SUMIFS('Project Information'!#REF!,'Project Information'!#REF!,\"Basic Need\",'Project Information'!#REF!,\"Approved\",'Project Information'!#REF!,N$67)","v":{"$error":"#REF!"}},{"$f":"SUMIFS('Project Information'!#REF!,'Project Information'!#REF!,\"Basic Need\",'Project Information'!#REF!,\"Approved\",'Project Information'!#REF!,O$67)","v":{"$error":"#REF!"}},{"$f":"SUMIFS('Project Information'!#REF!,'Project Information'!#REF!,\"Basic Need\",'Project Information'!#REF!,\"Approved\",'Project Information'!#REF!,P$67)","v":{"$error":"#REF!"}}]
[null,null,null,null,null,"Basic Need, Unapproved",{"$f":"SUMIFS('Project Information'!#REF!,'Project Information'!#REF!,\"Basic Need\",'Project Information'!#REF!,\"Unapproved\",'Project Information'!#REF!,G$67)","v":{"$error":"#REF!"}},{"$f":"SUMIFS('Project Information'!#REF!,'Project Information'!#REF!,\"Basic Need\",'Project Information'!#REF!,\"Unapproved\",'Project Information'!#REF!,H$67)","v":{"$error":"#REF!"}},{"$f":"SUMIFS('Project Information'!#REF!,'Project Information'!#REF!,\"Basic Need\",'Project Information'!#REF!,\"Unapproved\",'Project Information'!#REF!,I$67)","v":{"$error":"#REF!"}},{"$f":"SUMIFS('Project Information'!#REF!,'Project Information'!#REF!,\"Basic Need\",'Project Information'!#REF!,\"Unapproved\",'Project Information'!#REF!,J$67)","v":{"$error":"#REF!"}},{"$f":"SUMIFS('Project Information'!#REF!,'Project Information'!#REF!,\"Basic Need\",'Project Information'!#REF!,\"Unapproved\",'Project Information'!#REF!,K$67)","v":{"$error":"#REF!"}},{"$f":"SUMIFS('Project Information'!#REF!,'Project Information'!#REF!,\"Basic Need\",'Project Information'!#REF!,\"Unapproved\",'Project Information'!#REF!,L$67)","v":{"$error":"#REF!"}},{"$f":"SUMIFS('Project Information'!#REF!,'Project Information'!#REF!,\"Basic Need\",'Project Information'!#REF!,\"Unapproved\",'Project Information'!#REF!,M$67)","v":{"$error":"#REF!"}},{"$f":"SUMIFS('Project Information'!#REF!,'Project Information'!#REF!,\"Basic Need\",'Project Information'!#REF!,\"Unapproved\",'Project Information'!#REF!,N$67)","v":{"$error":"#REF!"}},{"$f":"SUMIFS('Project Information'!#REF!,'Project Information'!#REF!,\"Basic Need\",'Project Information'!#REF!,\"Unapproved\",'Project Information'!#REF!,O$67)","v":{"$error":"#REF!"}},{"$f":"SUMIFS('Project Information'!#REF!,'Project Information'!#REF!,\"Basic Need\",'Project Information'!#REF!,\"Unapproved\",'Project Information'!#REF!,P$67)","v":{"$error":"#REF!"}}]
[null,null,null,null,null,"PSBP",{"$f":"SUMIFS('Project Information'!#REF!,'Project Information'!#REF!,$F70,'Project Information'!#REF!,G$67)","v":{"$error":"#REF!"}},{"$f":"SUMIFS('Project Information'!#REF!,'Project Information'!#REF!,$F70,'Project Information'!#REF!,H$67)","v":{"$error":"#REF!"}},{"$f":"SUMIFS('Project Information'!#REF!,'Project Information'!#REF!,$F70,'Project Information'!#REF!,I$67)","v":{"$error":"#REF!"}},{"$f":"SUMIFS('Project Information'!#REF!,'Project Information'!#REF!,$F70,'Project Information'!#REF!,J$67)","v":{"$error":"#REF!"}},{"$f":"SUMIFS('Project Information'!#REF!,'Project Information'!#REF!,$F70,'Project Information'!#REF!,K$67)","v":{"$error":"#REF!"}},{"$f":"SUMIFS('Project Information'!#REF!,'Project Information'!#REF!,$F70,'Project Information'!#REF!,L$67)","v":{"$error":"#REF!"}},{"$f":"SUMIFS('Project Information'!#REF!,'Project Information'!#REF!,$F70,'Project Information'!#REF!,M$67)","v":{"$error":"#REF!"}},{"$f":"SUMIFS('Project Information'!#REF!,'Project Information'!#REF!,$F70,'Project Information'!#REF!,N$67)","v":{"$error":"#REF!"}},{"$f":"SUMIFS('Project Information'!#REF!,'Project Information'!#REF!,$F70,'Project Information'!#REF!,O$67)","v":{"$error":"#REF!"}},{"$f":"SUMIFS('Project Information'!#REF!,'Project Information'!#REF!,$F70,'Project Information'!#REF!,P$67)","v":{"$error":"#REF!"}}]
[null,null,null,null,null,"Modernisation",{"$f":"SUMIFS('Project Information'!#REF!,'Project Information'!#REF!,$F71,'Project Information'!#REF!,G$67)","v":{"$error":"#REF!"}},{"$f":"SUMIFS('Project Information'!#REF!,'Project Information'!#REF!,$F71,'Project Information'!#REF!,H$67)","v":{"$error":"#REF!"}},{"$f":"SUMIFS('Project Information'!#REF!,'Project Information'!#REF!,$F71,'Project Information'!#REF!,I$67)","v":{"$error":"#REF!"}},{"$f":"SUMIFS('Project Information'!#REF!,'Project Information'!#REF!,$F71,'Project Information'!#REF!,J$67)","v":{"$error":"#REF!"}},{"$f":"SUMIFS('Project Information'!#REF!,'Project Information'!#REF!,$F71,'Project Information'!#REF!,K$67)","v":{"$error":"#REF!"}},{"$f":"SUMIFS('Project Information'!#REF!,'Project Information'!#REF!,$F71,'Project Information'!#REF!,L$67)","v":{"$error":"#REF!"}},{"$f":"SUMIFS('Project Information'!#REF!,'Project Information'!#REF!,$F71,'Project Information'!#REF!,M$67)","v":{"$error":"#REF!"}},{"$f":"SUMIFS('Project Information'!#REF!,'Project Information'!#REF!,$F71,'Project Information'!#REF!,N$67)","v":{"$error":"#REF!"}},{"$f":"SUMIFS('Project Information'!#REF!,'Project Information'!#REF!,$F71,'Project Information'!#REF!,O$67)","v":{"$error":"#REF!"}},{"$f":"SUMIFS('Project Information'!#REF!,'Project Information'!#REF!,$F71,'Project Information'!#REF!,P$67)","v":{"$error":"#REF!"}}]
[null,null,null,null,null,"NWoW",{"$f":"SUMIFS('Project Information'!#REF!,'Project Information'!#REF!,$F72,'Project Information'!#REF!,G$67)","v":{"$error":"#REF!"}},{"$f":"SUMIFS('Project Information'!#REF!,'Project Information'!#REF!,$F72,'Project Information'!#REF!,H$67)","v":{"$error":"#REF!"}},{"$f":"SUMIFS('Project Information'!#REF!,'Project Information'!#REF!,$F72,'Project Information'!#REF!,I$67)","v":{"$error":"#REF!"}},{"$f":"SUMIFS('Project Information'!#REF!,'Project Information'!#REF!,$F72,'Project Information'!#REF!,J$67)","v":{"$error":"#REF!"}},{"$f":"SUMIFS('Project Information'!#REF!,'Project Information'!#REF!,$F72,'Project Information'!#REF!,K$67)","v":{"$error":"#REF!"}},{"$f":"SUMIFS('Project Information'!#REF!,'Project Information'!#REF!,$F72,'Project Information'!#REF!,L$67)","v":{"$error":"#REF!"}},{"$f":"SUMIFS('Project Information'!#REF!,'Project Information'!#REF!,$F72,'Project Information'!#REF!,M$67)","v":{"$error":"#REF!"}},{"$f":"SUMIFS('Project Information'!#REF!,'Project Information'!#REF!,$F72,'Project Information'!#REF!,N$67)","v":{"$error":"#REF!"}},{"$f":"SUMIFS('Project Information'!#REF!,'Project Information'!#REF!,$F72,'Project Information'!#REF!,O$67)","v":{"$error":"#REF!"}},{"$f":"SUMIFS('Project Information'!#REF!,'Project Information'!#REF!,$F72,'Project Information'!#REF!,P$67)","v":{"$error":"#REF!"}}]
[null,null,null,null,null,"Corporate",{"$f":"SUMIFS('Project Information'!#REF!,'Project Information'!#REF!,$F73,'Project Information'!#REF!,G$67)","v":{"$error":"#REF!"}},{"$f":"SUMIFS('Project Information'!#REF!,'Project Information'!#REF!,$F73,'Project Information'!#REF!,H$67)","v":{"$error":"#REF!"}},{"$f":"SUMIFS('Project Information'!#REF!,'Project Information'!#REF!,$F73,'Project Information'!#REF!,I$67)","v":{"$error":"#REF!"}},{"$f":"SUMIFS('Project Information'!#REF!,'Project Information'!#REF!,$F73,'Project Information'!#REF!,J$67)","v":{"$error":"#REF!"}},{"$f":"SUMIFS('Project Information'!#REF!,'Project Information'!#REF!,$F73,'Project Information'!#REF!,K$67)","v":{"$error":"#REF!"}},{"$f":"SUMIFS('Project Information'!#REF!,'Project Information'!#REF!,$F73,'Project Information'!#REF!,L$67)","v":{"$error":"#REF!"}},{"$f":"SUMIFS('Project Information'!#REF!,'Project Information'!#REF!,$F73,'Project Information'!#REF!,M$67)","v":{"$error":"#REF!"}},{"$f":"SUMIFS('Project Information'!#REF!,'Project Information'!#REF!,$F73,'Project Information'!#REF!,N$67)","v":{"$error":"#REF!"}},{"$f":"SUMIFS('Project Information'!#REF!,'Project Information'!#REF!,$F73,'Project Information'!#REF!,O$67)","v":{"$error":"#REF!"}},{"$f":"SUMIFS('Project Information'!#REF!,'Project Information'!#REF!,$F73,'Project Information'!#REF!,P$67)","v":{"$error":"#REF!"}}]
[null,null,null,null,null,"SSR",{"$f":"SUMIFS('Project Information'!#REF!,'Project Information'!#REF!,$F74,'Project Information'!#REF!,G$67)","v":{"$error":"#REF!"}},{"$f":"SUMIFS('Project Information'!#REF!,'Project Information'!#REF!,$F74,'Project Information'!#REF!,H$67)","v":{"$error":"#REF!"}},{"$f":"SUMIFS('Project Information'!#REF!,'Project Information'!#REF!,$F74,'Project Information'!#REF!,I$67)","v":{"$error":"#REF!"}},{"$f":"SUMIFS('Project Information'!#REF!,'Project Information'!#REF!,$F74,'Project Information'!#REF!,J$67)","v":{"$error":"#REF!"}},{"$f":"SUMIFS('Project Information'!#REF!,'Project Information'!#REF!,$F74,'Project Information'!#REF!,K$67)","v":{"$error":"#REF!"}},{"$f":"SUMIFS('Project Information'!#REF!,'Project Information'!#REF!,$F74,'Project Information'!#REF!,L$67)","v":{"$error":"#REF!"}},{"$f":"SUMIFS('Project Information'!#REF!,'Project Information'!#REF!,$F74,'Project Information'!#REF!,M$67)","v":{"$error":"#REF!"}},{"$f":"SUMIFS('Project Information'!#REF!,'Project Information'!#REF!,$F74,'Project Information'!#REF!,N$67)","v":{"$error":"#REF!"}},{"$f":"SUMIFS('Project Information'!#REF!,'Project Information'!#REF!,$F74,'Project Information'!#REF!,O$67)","v":{"$error":"#REF!"}},{"$f":"SUMIFS('Project Information'!#REF!,'Project Information'!#REF!,$F74,'Project Information'!#REF!,P$67)","v":{"$error":"#REF!"}}]
[null,null,null,null,null,"GET",{"$f":"SUMIFS('Project Information'!#REF!,'Project Information'!#REF!,$F75,'Project Information'!#REF!,G$67)","v":{"$error":"#REF!"}},{"$f":"SUMIFS('Project Information'!#REF!,'Project Information'!#REF!,$F75,'Project Information'!#REF!,H$67)","v":{"$error":"#REF!"}},{"$f":"SUMIFS('Project Information'!#REF!,'Project Information'!#REF!,$F75,'Project Information'!#REF!,I$67)","v":{"$error":"#REF!"}},{"$f":"SUMIFS('Project Information'!#REF!,'Project Information'!#REF!,$F75,'Project Information'!#REF!,J$67)","v":{"$error":"#REF!"}},{"$f":"SUMIFS('Project Information'!#REF!,'Project Information'!#REF!,$F75,'Project Information'!#REF!,K$67)","v":{"$error":"#REF!"}},{"$f":"SUMIFS('Project Information'!#REF!,'Project Information'!#REF!,$F75,'Project Information'!#REF!,L$67)","v":{"$error":"#REF!"}},{"$f":"SUMIFS('Project Information'!#REF!,'Project Information'!#REF!,$F75,'Project Information'!#REF!,M$67)","v":{"$error":"#REF!"}},{"$f":"SUMIFS('Project Information'!#REF!,'Project Information'!#REF!,$F75,'Project Information'!#REF!,N$67)","v":{"$error":"#REF!"}},{"$f":"SUMIFS('Project Information'!#REF!,'Project Information'!#REF!,$F75,'Project Information'!#REF!,O$67)","v":{"$error":"#REF!"}},{"$f":"SUMIFS('Project Information'!#REF!,'Project Information'!#REF!,$F75,'Project Information'!#REF!,P$67)","v":{"$error":"#REF!"}}]
[null,null,null,null,null,"ESFA Managed",{"$f":"SUMIFS('Project Information'!#REF!,'Project Information'!#REF!,$F76,'Project Information'!#REF!,G$67)","v":{"$error":"#REF!"}},{"$f":"SUMIFS('Project Information'!#REF!,'Project Information'!#REF!,$F76,'Project Information'!#REF!,H$67)","v":{"$error":"#REF!"}},{"$f":"SUMIFS('Project Information'!#REF!,'Project Information'!#REF!,$F76,'Project Information'!#REF!,I$67)","v":{"$error":"#REF!"}},{"$f":"SUMIFS('Project Information'!#REF!,'Project Information'!#REF!,$F76,'Project Information'!#REF!,J$67)","v":{"$error":"#REF!"}},{"$f":"SUMIFS('Project Information'!#REF!,'Project Information'!#REF!,$F76,'Project Information'!#REF!,K$67)","v":{"$error":"#REF!"}},{"$f":"SUMIFS('Project Information'!#REF!,'Project Information'!#REF!,$F76,'Project Information'!#REF!,L$67)","v":{"$error":"#REF!"}},{"$f":"SUMIFS('Project Information'!#REF!,'Project Information'!#REF!,$F76,'Project Information'!#REF!,M$67)","v":{"$error":"#REF!"}},{"$f":"SUMIFS('Project Information'!#REF!,'Project Information'!#REF!,$F76,'Project Information'!#REF!,N$67)","v":{"$error":"#REF!"}},{"$f":"SUMIFS('Project Information'!#REF!,'Project Information'!#REF!,$F76,'Project Information'!#REF!,O$67)","v":{"$error":"#REF!"}},{"$f":"SUMIFS('Project Information'!#REF!,'Project Information'!#REF!,$F76,'Project Information'!#REF!,P$67)","v":{"$error":"#REF!"}}]
[null,null,null,null,null,"Other",{"$f":"SUMIFS('Project Information'!#REF!,'Project Information'!#REF!,$F77,'Project Information'!#REF!,G$67)","v":{"$error":"#REF!"}},{"$f":"SUMIFS('Project Information'!#REF!,'Project Information'!#REF!,$F77,'Project Information'!#REF!,H$67)","v":{"$error":"#REF!"}},{"$f":"SUMIFS('Project Information'!#REF!,'Project Information'!#REF!,$F77,'Project Information'!#REF!,I$67)","v":{"$error":"#REF!"}},{"$f":"SUMIFS('Project Information'!#REF!,'Project Information'!#REF!,$F77,'Project Information'!#REF!,J$67)","v":{"$error":"#REF!"}},{"$f":"SUMIFS('Project Information'!#REF!,'Project Information'!#REF!,$F77,'Project Information'!#REF!,K$67)","v":{"$error":"#REF!"}},{"$f":"SUMIFS('Project Information'!#REF!,'Project Information'!#REF!,$F77,'Project Information'!#REF!,L$67)","v":{"$error":"#REF!"}},{"$f":"SUMIFS('Project Information'!#REF!,'Project Information'!#REF!,$F77,'Project Information'!#REF!,M$67)","v":{"$error":"#REF!"}},{"$f":"SUMIFS('Project Information'!#REF!,'Project Information'!#REF!,$F77,'Project Information'!#REF!,N$67)","v":{"$error":"#REF!"}},{"$f":"SUMIFS('Project Information'!#REF!,'Project Information'!#REF!,$F77,'Project Information'!#REF!,O$67)","v":{"$error":"#REF!"}},{"$f":"SUMIFS('Project Information'!#REF!,'Project Information'!#REF!,$F77,'Project Information'!#REF!,P$67)","v":{"$error":"#REF!"}}]
[null,null,null,null,null,"Programme","0 to 4",5,"6&7","MbO","Residual","Budget"]
[null,null,null,null,null,"Basic Need, Approved",{"$f":"SUM(G68:L68)","v":{"$error":"#REF!"}},{"$f":"M68","v":{"$error":"#REF!"}},{"$f":"SUM(N68:O68)","v":{"$error":"#REF!"}},{"$f":"P68","v":{"$error":"#REF!"}},{"$f":"L79-SUM(G79:J79)","v":{"$error":"#REF!"}},{"$f":"SUMIFS('Project Information'!#REF!,'Project Information'!#REF!,\"Basic Need\",'Project Information'!#REF!,\"Approved\")","v":{"$error":"#REF!"}},{"$f":"K79/(L79)","v":{"$error":"#REF!"}}]
[null,null,null,null,null,"Basic Need, Unapproved",{"$f":"SUM(G69:L69)","v":{"$error":"#REF!"}},{"$f":"M69","v":{"$error":"#REF!"}},{"$f":"SUM(N69:O69)","v":{"$error":"#REF!"}},{"$f":"P69","v":{"$error":"#REF!"}},{"$f":"L80-SUM(G80:J80)","v":{"$error":"#REF!"}},{"$f":"SUMIFS('Project Information'!#REF!,'Project Information'!#REF!,\"Basic Need\",'Project Information'!#REF!,\"Unapproved\")","v":{"$error":"#REF!"}},{"$f":"K80/(L80)","v":{"$error":"#REF!"}}]
[null,null,null,null,null,"Programme","0 to 4",5,"6&7","MbO","Residual","Budget"]
[null,null,null,null,null,"PSBP",{"$f":"SUM(G70:L70)","v":{"$error":"#REF!"}},{"$f":"M70","v":{"$error":"#REF!"}},{"$f":"SUM(N70:O70)","v":{"$error":"#REF!"}},{"$f":"P70","v":{"$error":"#REF!"}},{"$f":"L82-SUM(G82:J82)","v":{"$error":"#REF!"}},{"$f":"SUMIFS('Project Information'!#REF!,'Project Information'!#REF!,$F82)","v":{"$error":"#REF!"}},{"$f":"K82/(L82)","v":{"$error":"#REF!"}}]
[null,null,null,null,null,"Modernisation",{"$error":"#REF!"},{"$error":"#REF!"},{"$error":"#REF!"},{"$error":"#REF!"},{"$error":"#REF!"},{"$f":"SUMIFS('Project Information'!#REF!,'Project Information'!#REF!,$F83)","v":{"$error":"#REF!"}},{"$error":"#REF!"}]
[null,null,null,null,null,"NWoW",{"$error":"#REF!"},{"$error":"#REF!"},{"$error":"#REF!"},{"$error":"#REF!"},{"$error":"#REF!"},{"$f":"SUMIFS('Project Information'!#REF!,'Project Information'!#REF!,$F84)","v":{"$error":"#REF!"}},{"$error":"#REF!"}]
[null,null,null,null,null,"Corporate",{"$error":"#REF!"},{"$error":"#REF!"},{"$error":"#REF!"},{"$error":"#REF!"},{"$error":"#REF!"},{"$f":"SUMIFS('Project Information'!#REF!,'Project Information'!#REF!,$F85)","v":{"$error":"#REF!"}},{"$error":"#REF!"}]
[null,null,null,null,null,"SSR",{"$error":"#REF!"},{"$error":"#REF!"},{"$error":"#REF!"},{"$error":"#REF!"},{"$error":"#REF!"},{"$f":"SUMIFS('Project Information'!#REF!,'Project Information'!#REF!,$F86)","v":{"$error":"#REF!"}},{"$error":"#REF!"}]
[null,null,null,null,null,"GET",{"$error":"#REF!"},{"$error":"#REF!"},{"$error":"#REF!"},{"$error":"#REF!"},{"$error":"#REF!"},{"$f":"SUMIFS('Project Information'!#REF!,'Project Information'!#REF!,$F87)","v":{"$error":"#REF!"}},{"$error":"#REF!"}]
[null,null,null,null,null,"ESFA Managed",{"$error":"#REF!"},{"$error":"#REF!"},{"$error":"#REF!"},{"$error":"#REF!"},{"$error":"#REF!"},{"$f":"SUMIFS('Project Information'!#REF!,'Project Information'!#REF!,$F88)","v":{"$error":"#REF!"}},{"$error":"#REF!"}]
[null,null,null,null,null,"Other",{"$error":"#REF!"},{"$error":"#REF!"},{"$error":"#REF!"},{"$error":"#REF!"},{"$error":"#REF!"},{"$f":"SUMIFS('Project Information'!#REF!,'Project Information'!#REF!,$F89)","v":{"$error":"#REF!"}},{"$error":"#REF!"}]

{"sheet":"Project Information","index":1,"n_rows":82,"n_cols":7,"rows_kept":82,"cut":false,"hidden":false,"merged":[]}
["APPENDIX 2 - Basic Need Programme"]
[]
["SCHOOL NAME","AREA","DESCRIPTION OF WORKS","RoD or \nBudget (if no RoD)","FORECAST COST","RoD vs FORECAST VARIANCE","VARIANCE %"]
["Dartford Girls Grammar","North","2 classroom extension",625000,598000,{"$f":"D4-E4","v":27000},{"$f":"(0-F4)/D4","v":-4.3200000000000002E-2}]
["St George's PS (Gravesham)","North","New 1FE with 2FE Infrastructure ",7100000,6571498.71,528501.29,-7.4436801408450715E-2]
["St Johns Catholic PS","North","Three phase 1FE expansion",2800000,5000000,-2200000,0.7857142857142857]
["Wilmington Academy","North","2FE - multiple phases expansion. ",7200000,9200000,-2000000,0.27777777777777779]
["Wilmington Grammar","North","1FE - multiple phase expansion plus additonal School CIF Funded Sports Hall",2800000,5600000,-2800000,1]
["Mayfield Grammar","North","1FE - multiple phase expansion",5200000,5195750,4250,-8.1730769230769227E-4]
["Brent PS","North","1FE - multiple phase expansion",4600000,4323325.6900000004,276674.30999999959,-6.0146589130434691E-2]
["Seal CoE PS","North","1FE expansion with ancillory facilities plus replacement of exisitng mobile accommodation and car park upgrade to Seal Parish Council ",2980000,4700000,-1720000,0.57718120805369133]
["Northfleet School for Girls","North","1FE expansion",4000000,3991812.38,8187.6200000001118,-2.0469050000000281E-3]
["Craylands School","North","1FE - multiple phase expansion split between KCC and PFI delivery",2650000,3200000,-550000,0.20754716981132076]
["Trinity Free School","North","2FE - multiple phases expansion",8000000,9000000,-1000000,0.125]
["Chilmington Green PS","South","New 2FE Primary School",7200000,8400000,-1200000,0.16666666666666666]
["Preston PS","South","1 classroom extension with associated WC's.",310000,261362.9,48637.100000000006,-0.15689387096774196]
["Whitfield Aspen School","South","2FE New Mainstream and SEN school",7990000,7447500,542500,-6.7897371714643301E-2]
["Palmarsh PS","South","1FE expansion. Note, forecast cost is for part accommodation",2200000,1267008,932992,-0.4240872727272727]
["Meadowfield School","East","1 FE expansion",4792000,4610000,182000,-3.7979966611018365E-2]
["Hampton PS","East","New classroom and corridor extension",300000,243470.07,56529.929999999993,-0.18843309999999996]
["St George's CoE Foundation PS","East","1FE expansion",2600000,2499829.17,100170.83000000007,-3.8527242307692333E-2]
["Regis Manor PS","East","1FE expansion",3300000,2881910,418090,-0.12669393939393939]
["Sittingbourne CC","East","2FE expansion",6000000,6542597.6799999997,-542597.6799999997,9.0432946666666611E-2]
["Maplesden Noakes Secondary Bulge","West","1FE bulge expansion.",650000,628178.02,21821.979999999981,-3.3572276923076898E-2]
["Langley Park PS","West","1 FE expansion",2600000,2577621.7400000002,22378.259999999776,-8.6070230769229907E-3]
["Park Way PS","West","2 teaching space expansion",400000,286737,113263,-0.28315750000000001]
["Harrietsham PS","West","1FE expansion",3000000,3600000,-600000,0.2]
["St Peters Tunbridge Wells PS (Hawkenbury)","West","New 1FE School",6900000,7900000,-1000000,0.14492753623188406]
["Northfleet Tech College (PFI)","North","1FE expansion required for Sept 2021. ",4500000,4320167,179833,-3.9962888888888888E-2]
["St John's Secondary School (PFI)","North","Two classrooms ",400000,100000,300000,-0.75]
["St John's Secondary School (PFI)","North","Phase 2 - 1FE expansion",5600000,5600000,0,0]
["Thamesview School (PFI)","North","Phase 1 - Two classrooms",50000,20151,29849,-0.59697999999999996]
["Thamesview School (PFI)","North","Phase 2 - 2FE expansion",5950000,3853370,2096630,-0.35237478991596638]
["Ursuline College","East","1FE expansion",3000000,2994393,5607,-1.869E-3]
["Judd School","West","New SRP",0,400000,-400000,4]
["Judd School","West","1FE expansion",1500000,1558076,{"$f":"D36-E36","v":-58076},{"$f":"(0-F36)/D36","v":3.8717333333333333E-2}]
["Bennett Memorial School","West","2FE Expansion ",6500000,7500000,-1000000,0.15384615384615385]
["Headcorn PS","West","1FE expansion",2700000,2924328,-224328,8.3084444444444447E-2]
["The Wyvern School","South","1FE Expansion",4700000,3164396,1535604,-0.32672425531914895]
["Spires","East","1FE expansion",3500000,3573632,-73632,2.1037714285714285E-2]
["West Borough PS","West","New Staff Room",195000,204105,-9105,4.6692307692307693E-2]
["Weald PS","North","Small classroom extension",481313,505458,-24145,5.0164861535009445E-2]
["Joy Lane Primary School Phase 2","East","1FE expansion",3500000,3647217.6,-147217.60000000009,4.2062171428571458E-2]
["Coxheath Primary School","West","Two classrooms ",600000,578455,21545,-3.5908333333333334E-2]
["Wentworth PS","North","1FE expansion",2600000,2346000,254000,-9.7692307692307689E-2]
["Finberry PS","South","New Primary School.",6000000,6267443.6500000004,-267443.65000000037,4.4573941666666728E-2]
["Birchington PS","East","New two storey teaching block.",2750000,2438962.92,311037.08000000007,-0.11310439272727275]
["South Borough PS","West","Two storey building with six classrooms.",2600000,2169009.86,430990.14000000013,-0.16576543846153852]
["Oakley PS (Nursery)","West","New SEN nursery provision.",995000,962199.18,32800.819999999949,-3.2965648241205979E-2]
["Barton Court Free School","East","New 5FE school",24790856,24790856,0,0]
["St Andrew's PS","West","New 2FE school",8561038,8561038,0,0]
["St George's (Gravesend)","North","1FE expansion",2700000,2600000,100000,-3.7037037037037035E-2]
["Wickhambreaux","East","School managed - additonal taching and admin space",127952,127952,0,0]
["Stone Bay School","East","Additonal classroom",100000,30000,70000,-0.7]
["Maidstone Boys Grammar","West","School managed - additonal taching",3580000,3580000,0,0]
["Lawn PS","North","1FE - only pre-con work",19663,19663,0,0]
["Dunton Green PS","North","1FE - only pre-con work",81121,81121,0,0]
["Copperfield Academy","North","1FE - only pre-con work",53655,53655,0,0]
["Deal Parochial PS","South","Bulge class",15700,15700,0,0]
["Marden PS","West","Expansion to 2FE",1400000,1440871,-40871,2.919357142857143E-2]
["Lady Joanna Thornhill PS","South","Only pre-con work",6434,6434,0,0]
["Sellindge PS","South","3 classroom new block and car park",1400000,1400000,0,0]
["Westlands Secondary School","East","1FE Expansion",3250000,3250000,0,0]
["Royal Harbour School / Laleham Gap","East","Relocation of STLS to Laleham Gap ",800000,825598.59,-25598.589999999967,3.1998237499999957E-2]
["St Gregory's Secondary School","West","1FE expansion including new sports hall",6600000,7400000,-800000,0.12121212121212122]
["Tunbridge Wells Boys School","West","1FE expansion including new sports hall and replacement of 4 old mobiles classrooms. ",7700000,8352403,-652403,8.4727662337662338E-2]
["Skinners School Expansion","West","0.3FE Expansion (school managed)",3000000,3000000,0,0]
["Ebbsfleet Green PS","North","New 1FE with 2FE Infrastructure ",6000000,6000000,{"$f":"D68-E68","v":0},0]
["Finberry PS","South","1FE Expansion",2800000,2850000,-50000,1.7857142857142856E-2]
["St Nicholas PS","South","30YR7 places ",100000,100000,0,0]
["Towers (North) School","South","0.5FE Expansion",350000,350000,0,0]
["Sunnybank PS","East","0.5FE Expansion plus relocation of Infant block onto the Junior site",3000000,3000000,0,0]
["Former RSD","East","6FE New School. Exlcudes land purchase as separate RoD ",20000000,18000000,2000000,-0.1]
["Hermitage Lane PS","West","2FE new school",7000000,7000000,0,0]
["Swanley and Hextable PS","North","1FE Expansion",2750000,2750000,0,0]
["St Gregory's PS","East","0.5FE Expansion",1500000,1500000,0,0]
["Skinners Kent Academy","West","6FE Expansion",20000000,20000000,0,0]
["Tonbridge and Malling Area","West","3FE of expansions of existing schools ",9750000,9750000,0,0]
["Tonbridge and Malling Area","West","2FE of expansion of existing schools ",6500000,0,6500000,-1]
["Deal Special School","South","Special School within existing KCC owned building",1500000,1500000,0,0]
["Southborough","West","Bulge Class",300000,272139,27861,-9.2869999999999994E-2]
["Rivermill ","North","New 2FE Primary (Free School) - KCC Contribution from Dev Cons",1900000,1900000,0,0]

{"sheet":"Gateway Tracker","index":2,"n_rows":70,"n_cols":10,"rows_kept":70,"cut":false,"hidden":true,"merged":[[2,0,2,9]]}
[]
[]
["Gateways Tracker"]
["Project","PM","Gateway","Deadline","Submitted to KCC","Meeting Arranged","Comments Received","Additional Information Submitted","Approval Received","Query Responses"]
["St George's (Gravesham)","Jo Taylor",4,"2018-08-02","2018-08-02","2018-08-07",null,"Minor queries outstanding",null,"Query responses submitted in August 2018"]
["Herne Bay Library ","Sue Meads",1,"2018-08-02","2018-08-02","2018-08-07",null,null,"2018-09-18"]
["Benenden Primary ","Jo Taylor",4,"2018-08-02","2018-08-09","2018-09-04",null,"Baseline form required",null,"Baseline submitted 08/11/2018"]
["Coroners","Andrew Fleming",2,"2018-08-02","2018-07-31","2018-08-07",null,"Project stopped","On Hold"]
["Hawkenbury","Emily Stapley",2,"2018-09-07","2018-09-07","2018-09-11",null,"Outstanding queries",null,"Agreed to wrap up in Gateway 4"]
["Spires - Modular Unit","Brian Hirst",3,"2018-09-07","2018-09-07","2018-09-11",null,"Below the threshold for Gateway (<£1m)"]
["Wilmington Academy, Wilmington Grammar, Mayfield","Esther Larner","PRE GATEWAY-DISCUSSION","2018-10-26","N/A","2018-11-01","N/A","Not yet submitted","N/A"]
["Seal","Emily Stapley",4,"2018-10-26","2018-10-19","2018-10-26",null,null,"2018-11-16"]
["Northfleet School for Girls","Erica Pavlis  /Ben Sherrard",2,"2018-10-26","2018-10-19","2018-10-25","2018-11-06","Outstanding queries",null,"Query reponses submitted"]
["St Peter’s Hawkenbury","Emily Stapley",3,"2018-10-26","2018-10-22","2018-10-26","2018-11-06","Outstanding queries",null,"Agreed to wrap up in Gateway 4"]
["St Andrews Free School","Emily Stapley",1,"2018-11-02","2018-10-22","2018-10-26",null,null,"2018-10-26"]
["Dover Discovery Centre","Andrew Fleming",1,"2018-11-02","2018-10-25","2018-10-26",null,null,"2018-11-06"]
["Dartford Girls Grammar School","Ben Sherrard",4,"2018-11-02",null,null,null,"Under 1m"]
["Barton Court Free School","Chris Wrench",1,"2018-11-02","2018-10-16","2018-10-16"]
["Portal House ","Sue Meads","5&6","2018-11-09","2018-10-31","2018-11-06"]
["Whitfield Aspen School","Sue Meads",4,"2018-11-09","2018-10-31","2018-11-06",null,null,"2018-11-26"]
["Preston Primary School","Natasha Petley","5&6","2018-11-23",null,null,null,"Under 1m"]
["Hampton ","David Mounter","5&6","2018-11-30","2018-12-06",null,null,"Under 1m"]
["Southbrorough Hub","Andrew Fleming",3,"2018-11-30","2018-12-06","2019-01-04",null,null,"2019-01-04"]
["Ebbsfleet Green","Joanna Johnson",0,"2018-11-30","2018-11-26","2018-11-29",null,null,"2018-11-29"]
["Finberry PS","Joanna Johnson",3,"2018-11-30","2018-11-26","2018-11-29",null,null,"2018-11-29"]
["RSD","Ben Sherrard",1,"2018-12-07","2018-11-29","2018-11-29",null,null,"2018-12-20"]
["Bennett Memorial","Janet Streek",3,"2018-12-07",null,null,null,"Queries at QA"]
["Mayfield","Esther Larner",4,"2018-12-07","2018-12-07","2018-12-07",null,null,"2018-12-07"]
["SKA","Ben Sherrard",0,"2018-12-07","2018-11-29","2018-11-29",null,null,"2018-11-29"]
["St Greg's","Paula Malpeli",3,"2018-12-07","2019-01-15","2019-01-16",null,"Queries at QA"]
["TWGSB","Paula Malpeli",3,"2018-12-07","2019-01-15","2019-01-16",null,"Queries at QA"]
["Park Way","James Drew",3,"2018-12-14"]
["Temple Hill ","Jo Taylor","5&6","2018-12-14","2018-12-20","2018-12-21"]
["Judd","Erica Pavlis ",3,"2018-12-21",null,null,null,"Queries at QA"]
["Tunbridge Wells Cultural Hub","Aidan Webb",4,"2018-12-21","2018-12-20","2018-12-21",null,"Outstanding queries require response"]
["Turner Contemporary","Aidan Webb",2,"2018-12-21"]
["Meadowfield ","Brian Hirst",4,"2019-01-04","2018-10-25","2018-11-06","2018-11-06","Outstanding queries","2018-12-19"]
["Hawkenbury ","Emily Stapley",4,"2019-01-04",null,null,null,"Queries at QA"]
["Ursuline ","Sue Meads",4,"2019-01-11"]
["Mayfield Science Block ","Esther Larner",3,"2019-01-11",null,"2019-01-11",null,null,"2019-01-11"]
["Faversham Library ","David Harris","5&6","2019-01-18"]
["Archbishops","David Harris","5&6","2019-01-18"]
["Dartford Clinic","David Harris","5&6","2019-01-18"]
["Barton Court Free School","Chris Wrench",2,"2019-01-18"]
["Pilgrims Way PS","Jo Johnson","0 & 1","2019-01-18"]
["West Hill PS","Jo Johnson","0 & 1","2019-01-18"]
["St John’s Secondary (PFI)","David Mounter",1,"2019-01-18"]
["Thamesview (PFI)","David Mounter",1,"2019-01-18"]
["Swadelands","Erica Pavlis",4,"2019-01-25"]
["Craylands","Natasha Petley","5&6","2019-01-25"]
["Sittingbourne CC","Paula Malpeli","5&6","2019-01-25"]
["Edenbridge","Jo Taylor","5&6","2019-01-25"]
["Herne Bay Library","Sue Meads",3,"2019-01-29"]
["Chilmington ","Emily Stapley",3,"2019-01-31"]
["Dover Discovery Centre","Andrew Fleming",1,"2019-02-01"]
["Wilmington Academy","Esther Larner",4,"2019-02-21"]
["Wilmington Grammar","Esther Larner",4,"2019-02-21"]
["Trinity ","Esther Larner",4,"2019-02-21"]
["Harrietsham ","David Mounter",4,"2019-02-21"]
["Darenth ","David Harris",null,null,null,"Yes","2018-11-06",null,"On Hold"]
[]
[]
[null,null,null,"Status","Planned reviews",16]
[null,null,null,null,"Signed off",14]
[null,null,null,null,"On hold/cancelled",0]
[null,null,null,null,"Minor outstanding queries",4]
[null,null,null,null,"Outstanding queries",0]
[null,null,null,null,"QA Queries",5]
[null,null,null,null,"Below threshold",10]
[null,null,null,null,null,{"$f":"SUM(F64:F69)","v":33}]

{"sheet":"BN Approved Budget Tracker","index":3,"n_rows":109,"n_cols":4,"rows_kept":109,"cut":false,"hidden":true,"merged":[[56,1,59,1],[56,2,59,2],[56,3,59,3]]}
["APPROVED SPEND TO DATE TRACKER"]
[]
[{"$f":"83575000","v":83575000},"Remaining Budget 18/19 Onwards"]
[{"$f":"D109","v":{"$error":"#REF!"}},"Forecast 18/19 Onwards"]
[{"$f":"A4-A3","v":{"$error":"#REF!"}},"Forecast Overspend"]
[]
[]
["School","Revised Forecast as at December 2018","Spend to Date up to end of 17/18","18/19 Budget Allowed"]
["Trinity",null,119000,{"$f":"B9-C9","v":-119000}]
["Laleham Gap",null,55000,{"$f":"B10-C10","v":-55000}]
["Bennett ",null,16000,-16000]
["RSD",null,25000,-25000]
["St George's PS (Gravesham)",{"$f":"'Project Information'!E5","v":6571498.71},573563,{"$f":"B13-C13","v":5997935.71}]
["St Johns Catholic PS",{"$f":"'Project Information'!E6","v":5000000},995775,{"$f":"B14-C14","v":4004225}]
["St Johns Catholic PS",null,null,0]
["St Johns Catholic PS",null,null,0]
["Wilmington Academy",{"$f":"'Project Information'!E7","v":9200000},1667335,7532665]
["Wilmington Academy",null,null,0]
["Wilmington Academy",null,null,0]
["Wilmington Academy",null,null,0]
["Wilmington Academy",null,null,0]
["Wilmington Academy",null,null,0]
["Wilmington Grammar",{"$f":"'Project Information'!E8","v":5600000},581707,5018293]
["Wilmington Grammar",null,null,0]
["Wilmington Grammar",null,null,0]
["Wilmington Grammar",null,null,0]
["Mayfield Grammar",{"$f":"'Project Information'!E9","v":5195750},408312,4787438]
["Mayfield Grammar",null,null,0]
["Mayfield Grammar",null,null,0]
["Mayfield Grammar",null,null,0]
["Mayfield Grammar",null,null,0]
["Mayfield Grammar",null,null,0]
["Brent PS",{"$f":"'Project Information'!E10","v":4323325.6900000004},3072733,1250592.6900000004]
["Edenbridge PS",{"$f":"'Project Information'!#REF!","v":{"$error":"#REF!"}},949038,{"$error":"#REF!"}]
["Seal CoE PS",{"$f":"'Project Information'!E11","v":4700000},512581,4187419]
["Temple Hill PS",{"$f":"'Project Information'!#REF!","v":{"$error":"#REF!"}},1965480,{"$error":"#REF!"}]
["Northfleet School for Girls",{"$f":"'Project Information'!E12","v":3991812.38},283721,3708091.38]
["Craylands School",{"$f":"'Project Information'!E13","v":3200000},1661773,1538227]
["Craylands School",null,null,0]
["Craylands School",null,null,0]
["Preston PS",{"$f":"'Project Information'!E16","v":261362.9},25549,235813.9]
["Whitfield Aspen School",{"$f":"'Project Information'!E17","v":7447500},null,7447500]
["Palmarsh PS",{"$f":"'Project Information'!E18","v":1267008},279466,987542]
["Meadowfield School",{"$f":"'Project Information'!E19","v":4610000},179584,4430416]
["Hampton PS",{"$f":"'Project Information'!E20","v":243470.07},8515,234955.07]
["Bysing Wood PS",{"$f":"'Project Information'!#REF!","v":{"$error":"#REF!"}},3339242,{"$error":"#REF!"}]
["St George's CoE Foundation PS",{"$f":"'Project Information'!E21","v":2499829.17},137656,2362173.17]
["Regis Manor PS",{"$f":"'Project Information'!E22","v":2881910},151052,2730858]
["Sittingbourne CC",{"$f":"'Project Information'!E23","v":6542597.6799999997},3652305,2890292.6799999997]
["Maplesden Noakes Secondary Bulge",{"$f":"'Project Information'!E24","v":628178.02},0,628178.02]
["Langley Park PS",{"$f":"'Project Information'!E25","v":2577621.7400000002},1223127,1354494.7400000002]
["Park Way PS",{"$f":"'Project Information'!E26","v":286737},6250,280487]
["Harrietsham PS",{"$f":"'Project Information'!E27","v":3600000},160083,3439917]
["St Peters Tunbridge Wells PS (Hawkenbury)",{"$f":"'Project Information'!E28","v":7900000},219733,7680267]
["Headcorn PS",{"$f":"'Project Information'!E38","v":2924328},2920145,4183]
["The Wyvern School",{"$f":"'Project Information'!E39","v":3164396},3164396,0]
["Spires",3973632,3468989,504643]
["Spires"]
["Spires"]
["Spires"]
["West Borough PS",{"$f":"'Project Information'!E41","v":204105},179003,25102]
["Weald PS",{"$f":"'Project Information'!E42","v":505458},463274,42184]
["Joy Lane Primary School Phase 2",{"$f":"'Project Information'!E43","v":3647217.6},3528323,118894.60000000009]
["Coxheath Primary School",{"$f":"'Project Information'!E44","v":578455},555641,22814]
["Wouldham PS",{"$f":"'Project Information'!#REF!","v":{"$error":"#REF!"}},8894636,{"$error":"#REF!"}]
["Wentworth PS",{"$f":"'Project Information'!E45","v":2346000},2210615,135385]
["Finberry PS",{"$f":"'Project Information'!E46","v":6267443.6500000004},6257884,9559.6500000003725]
["Birchington PS",{"$f":"'Project Information'!E47","v":2438962.92},2438567,395.91999999992549]
["South Borough PS",{"$f":"'Project Information'!E48","v":2169009.86},2092422,76587.85999999987]
["Oakley PS (Nursery)",{"$f":"'Project Information'!E49","v":962199.18},938642,23557.180000000051]
["Wickhambreaux",{"$f":"'Project Information'!E53","v":127952},27952,100000]
["Stone Bay School",{"$f":"'Project Information'!E54","v":30000},30000,0]
["Maidstone Boys Grammar",{"$f":"'Project Information'!E55","v":3580000},2000000,1580000]
["Lawn PS",{"$f":"'Project Information'!E56","v":19663},19663,0]
["Dunton Green PS",{"$f":"'Project Information'!E57","v":81121},81121,0]
["Copperfield Academy",{"$f":"'Project Information'!E58","v":53655},28655,25000]
["Deal Parochial PS",{"$f":"'Project Information'!E59","v":15700},null,{"$f":"B77-C77","v":15700}]
["Marden PS",{"$f":"'Project Information'!E60","v":1440871},79513,{"$f":"B78-C78","v":1361358}]
["Lady Joanna Thornhill PS",{"$f":"'Project Information'!E61","v":6434},6434,0]
["Sellindge PS",{"$f":"'Project Information'!E62","v":1400000},null,1400000]
["Martello Primary (East Folkestone)",{"$f":"'Project Information'!#REF!","v":{"$error":"#REF!"}},5014272,{"$error":"#REF!"}]
["Brockhill Park Performing Arts College",{"$f":"'Project Information'!#REF!","v":{"$error":"#REF!"}},819891,{"$error":"#REF!"}]
["Bromstone Primary School, Broadstairs",{"$f":"'Project Information'!#REF!","v":{"$error":"#REF!"}},2288438,{"$error":"#REF!"}]
["Churchill C of E (Voluntary Controlled) Primary School",{"$f":"'Project Information'!#REF!","v":{"$error":"#REF!"}},253106,{"$error":"#REF!"}]
["Former Ashford South Primary Sch",{"$f":"'Project Information'!#REF!","v":{"$error":"#REF!"}},null,{"$error":"#REF!"}]
["Hextable Primary School",{"$f":"'Project Information'!#REF!","v":{"$error":"#REF!"}},3092904,{"$error":"#REF!"}]
["Langley Park",{"$f":"'Project Information'!#REF!","v":{"$error":"#REF!"}},7030051,{"$error":"#REF!"}]
["Lansdowne Primary School",{"$f":"'Project Information'!#REF!","v":{"$error":"#REF!"}},588,{"$error":"#REF!"}]
["Maidstone St John's CEPS",{"$f":"'Project Information'!#REF!","v":{"$error":"#REF!"}},2763577,{"$error":"#REF!"}]
["Minster in Sheppey Primary School",{"$f":"'Project Information'!#REF!","v":{"$error":"#REF!"}},955332,{"$error":"#REF!"}]
["Queenborough School and Nursery",{"$f":"'Project Information'!#REF!","v":{"$error":"#REF!"}},58224,{"$error":"#REF!"}]
["Repton Manor Primary School",{"$f":"'Project Information'!#REF!","v":{"$error":"#REF!"}},171417,{"$error":"#REF!"}]
["Rose Street Primary School",{"$f":"'Project Information'!#REF!","v":{"$error":"#REF!"}},3017596,{"$error":"#REF!"}]
["Singlewell Primary",{"$f":"'Project Information'!#REF!","v":{"$error":"#REF!"}},3151065,{"$error":"#REF!"}]
["Slade Primary School",{"$f":"'Project Information'!#REF!","v":{"$error":"#REF!"}},2043435,{"$error":"#REF!"}]
["South Borough",{"$f":"'Project Information'!#REF!","v":{"$error":"#REF!"}},206447,{"$error":"#REF!"}]
["St George's Foundation Primary School, Broadstairs",{"$f":"'Project Information'!#REF!","v":{"$error":"#REF!"}},6254080,{"$error":"#REF!"}]
["The Judd School",{"$f":"'Project Information'!#REF!","v":{"$error":"#REF!"}},2607006,{"$error":"#REF!"}]
["Thistle Hill School",{"$f":"'Project Information'!#REF!","v":{"$error":"#REF!"}},6956062,{"$error":"#REF!"}]
["Valley Invicta Primary School at Leybourne Chase",{"$f":"'Project Information'!#REF!","v":{"$error":"#REF!"}},null,{"$error":"#REF!"}]
["Weald Community Primary School",{"$f":"'Project Information'!#REF!","v":{"$error":"#REF!"}},124809,{"$error":"#REF!"}]
["West Minster Primary School",{"$f":"'Project Information'!#REF!","v":{"$error":"#REF!"}},3144564,{"$error":"#REF!"}]
["Westcourt Primary School",{"$f":"'Project Information'!#REF!","v":{"$error":"#REF!"}},470192,{"$error":"#REF!"}]
["Westcourt Primary School Phase 2",{"$f":"'Project Information'!#REF!","v":{"$error":"#REF!"}},0,{"$error":"#REF!"}]
["White Cliffs Primary College for the Arts",{"$f":"'Project Information'!#REF!","v":{"$error":"#REF!"}},3432482,{"$error":"#REF!"}]
["Whitfield and Aspen School",{"$f":"'Project Information'!#REF!","v":{"$error":"#REF!"}},937274,{"$error":"#REF!"}]
["Whitstable Junior School",{"$f":"'Project Information'!#REF!","v":{"$error":"#REF!"}},2500,{"$error":"#REF!"}]
["Warden House Primary",{"$f":"'Project Information'!#REF!","v":{"$error":"#REF!"}},99176,{"$error":"#REF!"}]
[null,null,null,{"$f":"SUM(D9:D108)","v":{"$error":"#REF!"}}]

{"sheet":"Remainder mirror","index":4,"n_rows":55,"n_cols":87,"rows_kept":55,"cut":false,"hidden":true,"merged":[[41,73,43,73],[2,57,2,70],[3,19,3,21],[3,22,3,24],[3,25,3,27],[3,28,3,30],[3,31,3,33],[3,34,3,36],[3,37,3,39],[3,40,3,42],[3,43,3,45]]}
[null,"Reporting Period",2,3,4,5,6,7,8,9,10,11,12,13,14,15,16,17,18,19,20,21,22,23,24,25,26,27,28,29,30,31,32,33,34,35,36,37,38,39,40,41,42,43,44,45,46,47,48,49,50,51,52,53,54,55,56,57,58,59,60,61,62,63,64,65,66,67,68,69,70,71,72,73,74,75,76,77,78,79,80,81,82,83,84,85,86]
[null,{"$f":"REPORT_START","v":{"$error":"#REF!"}},"to",{"$f":"REPORT_FINISH","v":"APPENDIX 2 - Basic Need Programme"},null,null,null,null,null,null,null,null,null,"n On Time n Late n PC n EOD n Hold",null,null,null,null,null,null,null,null,null,null,null,null,null,null,null,null,null,null,null,null,null,null,null,null,null,null,null,null,null,null,null,null,null,null,null,null,null,null,null,null,null,null,null,null,null,null,null,null,null,null,null,null,null,null,null,null,null,null,null,null,null,null,null,"FORECAST SPEND"]
[null,{"$f":"TODAYS_DATE","v":{"$error":"#REF!"}},"PROJECT INFORMATION",null,null,null,null,null,null,null,null,null,null,"CURRENT RAG",null,null,"PROJECT RAG",null,"PROGRAMME INFORMATION (if no planned dates, leave blank)",null,null,null,null,null,null,null,null,null,null,null,null,null,null,null,null,null,null,null,null,null,null,null,null,null,null,null,null,null,null,null,"n On Time n Late n PC n EOD n Hold",null,null,null,"COST INFORMATION",null,null,"2018 Benchmarking Exercise"]
[null,null,null,null,null,null,null,null,null,null,null,null,null,null,null,null,null,null,null,"END OF RIBA STAGE 0",null,null,"END OF RIBA STAGE 1",null,null,"END OF RIBA STAGE 2",null,null,"END OF RIBA STAGE 3",null,null,"END OF RIBA \nSTAGE 4",null,null,"END OF RIBA STAGE 5",null,null,"PLANNING APPROVAL",null,null,"START ON SITE DATE",null,null,"AGREED COMPLETION DATE",null,null,"EOD",null,null,null,"Overall Programme Position",null,null,null,null,null,null,{"$f":"SUM(BF7:BF39)","v":{"$error":"#N/A"}},{"$f":"SUM(BG7:BG39)","v":{"$error":"#N/A"}},{"$f":"SUM(BH7:BH39)","v":{"$error":"#N/A"}},{"$f":"SUM(BI7:BI39)","v":{"$error":"#N/A"}},null,null,null,null,null,null,null,null,null,null,null,null,null,{"$f":"SUM(BW7:BW39)","v":{"$error":"#N/A"}},null,{"$f":"SUM(BY7:BY39)","v":{"$error":"#N/A"}},{"$f":"SUM(BZ7:BZ39)","v":{"$error":"#N/A"}},{"$f":"CC4-BZ4","v":{"$error":"#N/A"}},null,{"$f":"SUM(CC7:CC39)","v":{"$error":"#N/A"}},"CHANGE CONTROL",null,"GATEWAY PERFORMANCE"]
[]
["orig\norder","Discrete Description","PROGRAMME","PROJECT","AREA","PROJECT MANAGER","APPROVED/\nUNAPPROVED","PROCUREMENT ROUTE","DESCRIPTION OF WORKS","STATUS LEVEL","STATUS","OTHER GEN 2 INPUT","CROSS DISCIPLINE ISSUES","SCOPE","BUDGET","TIME","LAST MONTH","CURRENT MONTH","RIBA STAGE","Planned","Revised","Actual","Planned","Revised","Actual","Planned","Revised","Actual","Planned","Revised","Actual","Planned","Revised","Actual","Planned","Revised","Actual","Planned","Revised","Actual","Planned","Revised","Actual","Planned","Revised","Actual","EOD","Academic \nYear \nRequired","Next \nGateway","Gateway Deadline","On time = 0\nLate = 1","PC \nachieved\n= 2","EOD\nachieved\n= 3","RAG\nSTATUS","APPROX GIFA","APPROX COST PER M²","APPROX COST PER PUPIL","No of Pupils\n(school)","No of Pupils\n(nursery)","No of Pupils\n(other)","TOTAL No\nEXTRA\nPLACES","Construction Values","Fees\n(INTERNAL)","Fees\n(EXTERNAL)","Highways","Abnormals","External Works","Land Costs","Contingencies","Other Costs","Total","ROD","KCC CONTRIBUTION","CONTRIBUTION BY OTHERS","BASELINE BUDGET","CONTRACT SUM","SPEND TO DATE","PLANNED","VARIANCE\nGBP","VARIANCE\n%age","REVISED","DELEGATED\nAUTHORITY\nGBP","CHANGE\nNOTICE\nREQD?","GATEWAY\nDUE THIS\nPERIOD?","GATEWAY\nACHIEVED\n(Y/N)","APPROX COST PER M² > zero","APPROX COST PER PUPIL > zero"]
[4,"Portal House",{"$f":"VLOOKUP($B7,MASTER_DATABASE,2,0)","v":{"$error":"#N/A"}},{"$f":"VLOOKUP($B7,MASTER_DATABASE,3,0)","v":{"$error":"#N/A"}},{"$f":"VLOOKUP($B7,MASTER_DATABASE,4,0)","v":{"$error":"#N/A"}},{"$f":"VLOOKUP($B7,MASTER_DATABASE,5,0)","v":{"$error":"#N/A"}},{"$f":"VLOOKUP($B7,MASTER_DATABASE,6,0)","v":{"$error":"#N/A"}},{"$f":"VLOOKUP($B7,MASTER_DATABASE,7,0)","v":{"$error":"#N/A"}},{"$f":"VLOOKUP($B7,MASTER_DATABASE,8,0)","v":{"$error":"#N/A"}},{"$f":"VLOOKUP($B7,MASTER_DATABASE,9,0)","v":{"$error":"#N/A"}},{"$f":"VLOOKUP($B7,MASTER_DATABASE,10,0)","v":{"$error":"#N/A"}},{"$f":"VLOOKUP($B7,MASTER_DATABASE,11,0)","v":{"$error":"#N/A"}},{"$f":"VLOOKUP($B7,MASTER_DATABASE,12,0)","v":{"$error":"#N/A"}},{"$f":"VLOOKUP($B7,MASTER_DATABASE,13,0)","v":{"$error":"#N/A"}},{"$f":"VLOOKUP($B7,MASTER_DATABASE,14,0)","v":{"$error":"#N/A"}},{"$f":"VLOOKUP($B7,MASTER_DATABASE,15,0)","v":{"$error":"#N/A"}},{"$f":"VLOOKUP($B7,MASTER_DATABASE,16,0)","v":{"$error":"#N/A"}},{"$f":"VLOOKUP($B7,MASTER_DATABASE,17,0)","v":{"$error":"#N/A"}},{"$f":"VLOOKUP($B7,MASTER_DATABASE,18,0)","v":{"$error":"#N/A"}},{"$f":"VLOOKUP($B7,MASTER_DATABASE,19,0)","v":{"$error":"#N/A"}},{"$f":"VLOOKUP($B7,MASTER_DATABASE,20,0)","v":{"$error":"#N/A"}},{"$f":"VLOOKUP($B7,MASTER_DATABASE,21,0)","v":{"$error":"#N/A"}},{"$f":"VLOOKUP($B7,MASTER_DATABASE,22,0)","v":{"$error":"#N/A"}},{"$f":"VLOOKUP($B7,MASTER_DATABASE,23,0)","v":{"$error":"#N/A"}},{"$f":"VLOOKUP($B7,MASTER_DATABASE,24,0)","v":{"$error":"#N/A"}},{"$f":"VLOOKUP($B7,MASTER_DATABASE,25,0)","v":{"$error":"#N/A"}},{"$f":"VLOOKUP($B7,MASTER_DATABASE,26,0)","v":{"$error":"#N/A"}},{"$f":"VLOOKUP($B7,MASTER_DATABASE,27,0)","v":{"$error":"#N/A"}},{"$f":"VLOOKUP($B7,MASTER_DATABASE,28,0)","v":{"$error":"#N/A"}},{"$f":"VLOOKUP($B7,MASTER_DATABASE,29,0)","v":{"$error":"#N/A"}},{"$f":"VLOOKUP($B7,MASTER_DATABASE,30,0)","v":{"$error":"#N/A"}},{"$f":"VLOOKUP($B7,MASTER_DATABASE,31,0)","v":{"$error":"#N/A"}},{"$f":"VLOOKUP($B7,MASTER_DATABASE,32,0)","v":{"$error":"#N/A"}},{"$f":"VLOOKUP($B7,MASTER_DATABASE,33,0)","v":{"$error":"#N/A"}},{"$f":"VLOOKUP($B7,MASTER_DATABASE,34,0)","v":{"$error":"#N/A"}},{"$f":"VLOOKUP($B7,MASTER_DATABASE,35,0)","v":{"$error":"#N/A"}},{"$f":"VLOOKUP($B7,MASTER_DATABASE,36,0)","v":{"$error":"#N/A"}},{"$f":"VLOOKUP($B7,MASTER_DATABASE,37,0)","v":{"$error":"#N/A"}},{"$f":"VLOOKUP($B7,MASTER_DATABASE,38,0)","v":{"$error":"#N/A"}},{"$f":"VLOOKUP($B7,MASTER_DATABASE,39,0)","v":{"$error":"#N/A"}},{"$f":"VLOOKUP($B7,MASTER_DATABASE,40,0)","v":{"$error":"#N/A"}},{"$f":"VLOOKUP($B7,MASTER_DATABASE,41,0)","v":{"$error":"#N/A"}},{"$f":"VLOOKUP($B7,MASTER_DATABASE,42,0)","v":{"$error":"#N/A"}},{"$f":"VLOOKUP($B7,MASTER_DATABASE,43,0)","v":{"$error":"#N/A"}},{"$f":"VLOOKUP($B7,MASTER_DATABASE,44,0)","v":{"$error":"#N/A"}},{"$f":"VLOOKUP($B7,MASTER_DATABASE,45,0)","v":{"$error":"#N/A"}},{"$f":"VLOOKUP($B7,MASTER_DATABASE,46,0)","v":{"$error":"#N/A"}},{"$f":"VLOOKUP($B7,MASTER_DATABASE,47,0)","v":{"$error":"#N/A"}},{"$f":"VLOOKUP($B7,MASTER_DATABASE,48,0)","v":{"$error":"#N/A"}},{"$f":"VLOOKUP($B7,MASTER_DATABASE,49,0)","v":{"$error":"#N/A"}},{"$f":"VLOOKUP($B7,MASTER_DATABASE,50,0)","v":{"$error":"#N/A"}},{"$f":"VLOOKUP($B7,MASTER_DATABASE,51,0)","v":{"$error":"#N/A"}},{"$f":"VLOOKUP($B7,MASTER_DATABASE,52,0)","v":{"$error":"#N/A"}},{"$f":"VLOOKUP($B7,MASTER_DATABASE,53,0)","v":{"$error":"#N/A"}},{"$f":"VLOOKUP($B7,MASTER_DATABASE,54,0)","v":{"$error":"#N/A"}},{"$f":"VLOOKUP($B7,MASTER_DATABASE,55,0)","v":{"$error":"#N/A"}},{"$f":"VLOOKUP($B7,MASTER_DATABASE,56,0)","v":{"$error":"#N/A"}},{"$f":"VLOOKUP($B7,MASTER_DATABASE,57,0)","v":{"$error":"#N/A"}},{"$f":"VLOOKUP($B7,MASTER_DATABASE,58,0)","v":{"$error":"#N/A"}},{"$f":"VLOOKUP($B7,MASTER_DATABASE,59,0)","v":{"$error":"#N/A"}},{"$f":"VLOOKUP($B7,MASTER_DATABASE,60,0)","v":{"$error":"#N/A"}},{"$f":"VLOOKUP($B7,MASTER_DATABASE,61,0)","v":{"$error":"#N/A"}},{"$f":"VLOOKUP($B7,MASTER_DATABASE,62,0)","v":{"$error":"#N/A"}},{"$f":"VLOOKUP($B7,MASTER_DATABASE,63,0)","v":{"$error":"#N/A"}},{"$f":"VLOOKUP($B7,MASTER_DATABASE,64,0)","v":{"$error":"#N/A"}},{"$f":"VLOOKUP($B7,MASTER_DATABASE,65,0)","v":{"$error":"#N/A"}},{"$f":"VLOOKUP($B7,MASTER_DATABASE,66,0)","v":{"$error":"#N/A"}},{"$f":"VLOOKUP($B7,MASTER_DATABASE,67,0)","v":{"$error":"#N/A"}},{"$f":"VLOOKUP($B7,MASTER_DATABASE,68,0)","v":{"$error":"#N/A"}},{"$f":"VLOOKUP($B7,MASTER_DATABASE,69,0)","v":{"$error":"#N/A"}},{"$f":"VLOOKUP($B7,MASTER_DATABASE,70,0)","v":{"$error":"#N/A"}},{"$f":"VLOOKUP($B7,MASTER_DATABASE,71,0)","v":{"$error":"#N/A"}},{"$f":"VLOOKUP($B7,MASTER_DATABASE,72,0)","v":{"$error":"#N/A"}},{"$f":"VLOOKUP($B7,MASTER_DATABASE,73,0)","v":{"$error":"#N/A"}},{"$f":"VLOOKUP($B7,MASTER_DATABASE,74,0)","v":{"$error":"#N/A"}},{"$f":"VLOOKUP($B7,MASTER_DATABASE,75,0)","v":{"$error":"#N/A"}},{"$f":"VLOOKUP($B7,MASTER_DATABASE,76,0)","v":{"$error":"#N/A"}},{"$f":"VLOOKUP($B7,MASTER_DATABASE,77,0)","v":{"$error":"#N/A"}},{"$f":"VLOOKUP($B7,MASTER_DATABASE,78,0)","v":{"$error":"#N/A"}},{"$f":"VLOOKUP($B7,MASTER_DATABASE,79,0)","v":{"$error":"#N/A"}},{"$f":"VLOOKUP($B7,MASTER_DATABASE,80,0)","v":{"$error":"#N/A"}},{"$f":"VLOOKUP($B7,MASTER_DATABASE,81,0)","v":{"$error":"#N/A"}},{"$f":"VLOOKUP($B7,MASTER_DATABASE,82,0)","v":{"$error":"#N/A"}},{"$f":"VLOOKUP($B7,MASTER_DATABASE,83,0)","v":{"$error":"#N/A"}},{"$f":"VLOOKUP($B7,MASTER_DATABASE,84,0)","v":{"$error":"#N/A"}},{"$f":"VLOOKUP($B7,MASTER_DATABASE,85,0)","v":{"$error":"#N/A"}},{"$f":"VLOOKUP($B7,MASTER_DATABASE,86,0)","v":{"$error":"#N/A"}}]
[39,"Herne Bay Library",{"$error":"#N/A"},{"$error":"#N/A"},{"$error":"#N/A"},{"$error":"#N/A"},{"$error":"#N/A"},{"$error":"#N/A"},{"$error":"#N/A"},{"$error":"#N/A"},{"$error":"#N/A"},{"$error":"#N/A"},{"$error":"#N/A"},{"$error":"#N/A"},{"$error":"#N/A"},{"$error":"#N/A"},{"$error":"#N/A"},{"$error":"#N/A"},{"$error":"#N/A"},{"$error":"#N/A"},{"$error":"#N/A"},{"$error":"#N/A"},{"$error":"#N/A"},{"$error":"#N/A"},{"$error":"#N/A"},{"$error":"#N/A"},{"$error":"#N/A"},{"$error":"#N/A"},{"$error":"#N/A"},{"$error":"#N/A"},{"$error":"#N/A"},{"$error":"#N/A"},{"$error":"#N/A"},{"$error":"#N/A"},{"$error":"#N/A"},{"$error":"#N/A"},{"$error":"#N/A"},{"$error":"#N/A"},{"$error":"#N/A"},{"$error":"#N/A"},{"$error":"#N/A"},{"$error":"#N/A"},{"$error":"#N/A"},{"$error":"#N/A"},{"$error":"#N/A"},{"$error":"#N/A"},{"$error":"#N/A"},{"$error":"#N/A"},{"$error":"#N/A"},{"$error":"#N/A"},{"$error":"#N/A"},{"$error":"#N/A"},{"$error":"#N/A"},{"$error":"#N/A"},{"$error":"#N/A"},{"$error":"#N/A"},{"$error":"#N/A"},{"$error":"#N/A"},{"$error":"#N/A"},{"$error":"#N/A"},{"$error":"#N/A"},{"$error":"#N/A"},{"$error":"#N/A"},{"$error":"#N/A"},{"$error":"#N/A"},{"$error":"#N/A"},{"$error":"#N/A"},{"$error":"#N/A"},{"$error":"#N/A"},{"$error":"#N/A"},{"$error":"#N/A"},{"$error":"#N/A"},{"$error":"#N/A"},{"$error":"#N/A"},{"$error":"#N/A"},{"$error":"#N/A"},{"$error":"#N/A"},{"$error":"#N/A"},{"$error":"#N/A"},{"$error":"#N/A"},{"$error":"#N/A"},{"$error":"#N/A"},{"$error":"#N/A"},{"$error":"#N/A"},{"$error":"#N/A"},{"$error":"#N/A"},{"$error":"#N/A"}]
[52,"Benenden PS",{"$error":"#N/A"},{"$error":"#N/A"},{"$error":"#N/A"},{"$error":"#N/A"},{"$error":"#N/A"},{"$error":"#N/A"},{"$error":"#N/A"},{"$error":"#N/A"},{"$error":"#N/A"},{"$error":"#N/A"},{"$error":"#N/A"},{"$error":"#N/A"},{"$error":"#N/A"},{"$error":"#N/A"},{"$error":"#N/A"},{"$error":"#N/A"},{"$error":"#N/A"},{"$error":"#N/A"},{"$error":"#N/A"},{"$error":"#N/A"},{"$error":"#N/A"},{"$error":"#N/A"},{"$error":"#N/A"},{"$error":"#N/A"},{"$error":"#N/A"},{"$error":"#N/A"},{"$error":"#N/A"},{"$error":"#N/A"},{"$error":"#N/A"},{"$error":"#N/A"},{"$error":"#N/A"},{"$error":"#N/A"},{"$error":"#N/A"},{"$error":"#N/A"},{"$error":"#N/A"},{"$error":"#N/A"},{"$error":"#N/A"},{"$error":"#N/A"},{"$error":"#N/A"},{"$error":"#N/A"},{"$error":"#N/A"},{"$error":"#N/A"},{"$error":"#N/A"},{"$error":"#N/A"},{"$error":"#N/A"},{"$error":"#N/A"},{"$error":"#N/A"},{"$error":"#N/A"},{"$error":"#N/A"},{"$error":"#N/A"},{"$error":"#N/A"},{"$error":"#N/A"},{"$error":"#N/A"},{"$error":"#N/A"},{"$error":"#N/A"},{"$error":"#N/A"},{"$error":"#N/A"},{"$error":"#N/A"},{"$error":"#N/A"},{"$error":"#N/A"},{"$error":"#N/A"},{"$error":"#N/A"},{"$error":"#N/A"},{"$error":"#N/A"},{"$error":"#N/A"},{"$error":"#N/A"},{"$error":"#N/A"},{"$error":"#N/A"},{"$error":"#N/A"},{"$error":"#N/A"},{"$error":"#N/A"},{"$error":"#N/A"},{"$error":"#N/A"},{"$error":"#N/A"},{"$error":"#N/A"},{"$error":"#N/A"},{"$error":"#N/A"},{"$error":"#N/A"},{"$error":"#N/A"},{"$error":"#N/A"},{"$error":"#N/A"},{"$error":"#N/A"},{"$error":"#N/A"},{"$error":"#N/A"},{"$error":"#N/A"}]
[53,"Platt PS",{"$error":"#N/A"},{"$error":"#N/A"},{"$error":"#N/A"},{"$error":"#N/A"},{"$error":"#N/A"},{"$error":"#N/A"},{"$error":"#N/A"},{"$error":"#N/A"},{"$error":"#N/A"},{"$error":"#N/A"},{"$error":"#N/A"},{"$error":"#N/A"},{"$error":"#N/A"},{"$error":"#N/A"},{"$error":"#N/A"},{"$error":"#N/A"},{"$error":"#N/A"},{"$error":"#N/A"},{"$error":"#N/A"},{"$error":"#N/A"},{"$error":"#N/A"},{"$error":"#N/A"},{"$error":"#N/A"},{"$error":"#N/A"},{"$error":"#N/A"},{"$error":"#N/A"},{"$error":"#N/A"},{"$error":"#N/A"},{"$error":"#N/A"},{"$error":"#N/A"},{"$error":"#N/A"},{"$error":"#N/A"},{"$error":"#N/A"},{"$error":"#N/A"},{"$error":"#N/A"},{"$error":"#N/A"},{"$error":"#N/A"},{"$error":"#N/A"},{"$error":"#N/A"},{"$error":"#N/A"},{"$error":"#N/A"},{"$error":"#N/A"},{"$error":"#N/A"},{"$error":"#N/A"},{"$error":"#N/A"},{"$error":"#N/A"},{"$error":"#N/A"},{"$error":"#N/A"},{"$error":"#N/A"},{"$error":"#N/A"},{"$error":"#N/A"},{"$error":"#N/A"},{"$error":"#N/A"},{"$error":"#N/A"},{"$error":"#N/A"},{"$error":"#N/A"},{"$error":"#N/A"},{"$error":"#N/A"},{"$error":"#N/A"},{"$error":"#N/A"},{"$error":"#N/A"},{"$error":"#N/A"},{"$error":"#N/A"},{"$error":"#N/A"},{"$error":"#N/A"},{"$error":"#N/A"},{"$error":"#N/A"},{"$error":"#N/A"},{"$error":"#N/A"},{"$error":"#N/A"},{"$error":"#N/A"},{"$error":"#N/A"},{"$error":"#N/A"},{"$error":"#N/A"},{"$error":"#N/A"},{"$error":"#N/A"},{"$error":"#N/A"},{"$error":"#N/A"},{"$error":"#N/A"},{"$error":"#N/A"},{"$error":"#N/A"},{"$error":"#N/A"},{"$error":"#N/A"},{"$error":"#N/A"},{"$error":"#N/A"}]
[66,"Swadelands/The Lenham School",{"$error":"#N/A"},{"$error":"#N/A"},{"$error":"#N/A"},{"$error":"#N/A"},{"$error":"#N/A"},{"$error":"#N/A"},{"$error":"#N/A"},{"$error":"#N/A"},{"$error":"#N/A"},{"$error":"#N/A"},{"$error":"#N/A"},{"$error":"#N/A"},{"$error":"#N/A"},{"$error":"#N/A"},{"$error":"#N/A"},{"$error":"#N/A"},{"$error":"#N/A"},{"$error":"#N/A"},{"$error":"#N/A"},{"$error":"#N/A"},{"$error":"#N/A"},{"$error":"#N/A"},{"$error":"#N/A"},{"$error":"#N/A"},{"$error":"#N/A"},{"$error":"#N/A"},{"$error":"#N/A"},{"$error":"#N/A"},{"$error":"#N/A"},{"$error":"#N/A"},{"$error":"#N/A"},{"$error":"#N/A"},{"$error":"#N/A"},{"$error":"#N/A"},{"$error":"#N/A"},{"$error":"#N/A"},{"$error":"#N/A"},{"$error":"#N/A"},{"$error":"#N/A"},{"$error":"#N/A"},{"$error":"#N/A"},{"$error":"#N/A"},{"$error":"#N/A"},{"$error":"#N/A"},{"$error":"#N/A"},{"$error":"#N/A"},{"$error":"#N/A"},{"$error":"#N/A"},{"$error":"#N/A"},{"$error":"#N/A"},{"$error":"#N/A"},{"$error":"#N/A"},{"$error":"#N/A"},{"$error":"#N/A"},{"$error":"#N/A"},{"$error":"#N/A"},{"$error":"#N/A"},{"$error":"#N/A"},{"$error":"#N/A"},{"$error":"#N/A"},{"$error":"#N/A"},{"$error":"#N/A"},{"$error":"#N/A"},{"$error":"#N/A"},{"$error":"#N/A"},{"$error":"#N/A"},{"$error":"#N/A"},{"$error":"#N/A"},{"$error":"#N/A"},{"$error":"#N/A"},{"$error":"#N/A"},{"$error":"#N/A"},{"$error":"#N/A"},{"$error":"#N/A"},{"$error":"#N/A"},{"$error":"#N/A"},{"$error":"#N/A"},{"$error":"#N/A"},{"$error":"#N/A"},{"$error":"#N/A"},{"$error":"#N/A"},{"$error":"#N/A"},{"$error":"#N/A"},{"$error":"#N/A"},{"$error":"#N/A"}]
[71,"The Archbishops School",{"$error":"#N/A"},{"$error":"#N/A"},{"$error":"#N/A"},{"$error":"#N/A"},{"$error":"#N/A"},{"$error":"#N/A"},{"$error":"#N/A"},{"$error":"#N/A"},{"$error":"#N/A"},{"$error":"#N/A"},{"$error":"#N/A"},{"$error":"#N/A"},{"$error":"#N/A"},{"$error":"#N/A"},{"$error":"#N/A"},{"$error":"#N/A"},{"$error":"#N/A"},{"$error":"#N/A"},{"$error":"#N/A"},{"$error":"#N/A"},{"$error":"#N/A"},{"$error":"#N/A"},{"$error":"#N/A"},{"$error":"#N/A"},{"$error":"#N/A"},{"$error":"#N/A"},{"$error":"#N/A"},{"$error":"#N/A"},{"$error":"#N/A"},{"$error":"#N/A"},{"$error":"#N/A"},{"$error":"#N/A"},{"$error":"#N/A"},{"$error":"#N/A"},{"$error":"#N/A"},{"$error":"#N/A"},{"$error":"#N/A"},{"$error":"#N/A"},{"$error":"#N/A"},{"$error":"#N/A"},{"$error":"#N/A"},{"$error":"#N/A"},{"$error":"#N/A"},{"$error":"#N/A"},{"$error":"#N/A"},{"$error":"#N/A"},{"$error":"#N/A"},{"$error":"#N/A"},{"$error":"#N/A"},{"$error":"#N/A"},{"$error":"#N/A"},{"$error":"#N/A"},{"$error":"#N/A"},{"$error":"#N/A"},{"$error":"#N/A"},{"$error":"#N/A"},{"$error":"#N/A"},{"$error":"#N/A"},{"$error":"#N/A"},{"$error":"#N/A"},{"$error":"#N/A"},{"$error":"#N/A"},{"$error":"#N/A"},{"$error":"#N/A"},{"$error":"#N/A"},{"$error":"#N/A"},{"$error":"#N/A"},{"$error":"#N/A"},{"$error":"#N/A"},{"$error":"#N/A"},{"$error":"#N/A"},{"$error":"#N/A"},{"$error":"#N/A"},{"$error":"#N/A"},{"$error":"#N/A"},{"$error":"#N/A"},{"$error":"#N/A"},{"$error":"#N/A"},{"$error":"#N/A"},{"$error":"#N/A"},{"$error":"#N/A"},{"$error":"#N/A"},{"$error":"#N/A"},{"$error":"#N/A"},{"$error":"#N/A"}]
[72,"Darenth Community Primary School",{"$error":"#N/A"},{"$error":"#N/A"},{"$error":"#N/A"},{"$error":"#N/A"},{"$error":"#N/A"},{"$error":"#N/A"},{"$error":"#N/A"},{"$error":"#N/A"},{"$error":"#N/A"},{"$error":"#N/A"},{"$error":"#N/A"},{"$error":"#N/A"},{"$error":"#N/A"},{"$error":"#N/A"},{"$error":"#N/A"},{"$error":"#N/A"},{"$error":"#N/A"},{"$error":"#N/A"},{"$error":"#N/A"},{"$error":"#N/A"},{"$error":"#N/A"},{"$error":"#N/A"},{"$error":"#N/A"},{"$error":"#N/A"},{"$error":"#N/A"},{"$error":"#N/A"},{"$error":"#N/A"},{"$error":"#N/A"},{"$error":"#N/A"},{"$error":"#N/A"},{"$error":"#N/A"},{"$error":"#N/A"},{"$error":"#N/A"},{"$error":"#N/A"},{"$error":"#N/A"},{"$error":"#N/A"},{"$error":"#N/A"},{"$error":"#N/A"},{"$error":"#N/A"},{"$error":"#N/A"},{"$error":"#N/A"},{"$error":"#N/A"},{"$error":"#N/A"},{"$error":"#N/A"},{"$error":"#N/A"},{"$error":"#N/A"},{"$error":"#N/A"},{"$error":"#N/A"},{"$error":"#N/A"},{"$error":"#N/A"},{"$error":"#N/A"},{"$error":"#N/A"},{"$error":"#N/A"},{"$error":"#N/A"},{"$error":"#N/A"},{"$error":"#N/A"},{"$error":"#N/A"},{"$error":"#N/A"},{"$error":"#N/A"},{"$error":"#N/A"},{"$error":"#N/A"},{"$error":"#N/A"},{"$error":"#N/A"},{"$error":"#N/A"},{"$error":"#N/A"},{"$error":"#N/A"},{"$error":"#N/A"},{"$error":"#N/A"},{"$error":"#N/A"},{"$error":"#N/A"},{"$error":"#N/A"},{"$error":"#N/A"},{"$error":"#N/A"},{"$error":"#N/A"},{"$error":"#N/A"},{"$error":"#N/A"},{"$error":"#N/A"},{"$error":"#N/A"},{"$error":"#N/A"},{"$error":"#N/A"},{"$error":"#N/A"},{"$error":"#N/A"},{"$error":"#N/A"},{"$error":"#N/A"},{"$error":"#N/A"}]
[73,"Faversham Library ",{"$error":"#N/A"},{"$error":"#N/A"},{"$error":"#N/A"},{"$error":"#N/A"},{"$error":"#N/A"},{"$error":"#N/A"},{"$error":"#N/A"},{"$error":"#N/A"},{"$error":"#N/A"},{"$error":"#N/A"},{"$error":"#N/A"},{"$error":"#N/A"},{"$error":"#N/A"},{"$error":"#N/A"},{"$error":"#N/A"},{"$error":"#N/A"},{"$error":"#N/A"},{"$error":"#N/A"},{"$error":"#N/A"},{"$error":"#N/A"},{"$error":"#N/A"},{"$error":"#N/A"},{"$error":"#N/A"},{"$error":"#N/A"},{"$error":"#N/A"},{"$error":"#N/A"},{"$error":"#N/A"},{"$error":"#N/A"},{"$error":"#N/A"},{"$error":"#N/A"},{"$error":"#N/A"},{"$error":"#N/A"},{"$error":"#N/A"},{"$error":"#N/A"},{"$error":"#N/A"},{"$error":"#N/A"},{"$error":"#N/A"},{"$error":"#N/A"},{"$error":"#N/A"},{"$error":"#N/A"},{"$error":"#N/A"},{"$error":"#N/A"},{"$error":"#N/A"},{"$error":"#N/A"},{"$error":"#N/A"},{"$error":"#N/A"},{"$error":"#N/A"},{"$error":"#N/A"},{"$error":"#N/A"},{"$error":"#N/A"},{"$error":"#N/A"},{"$error":"#N/A"},{"$error":"#N/A"},{"$error":"#N/A"},{"$error":"#N/A"},{"$error":"#N/A"},{"$error":"#N/A"},{"$error":"#N/A"},{"$error":"#N/A"},{"$error":"#N/A"},{"$error":"#N/A"},{"$error":"#N/A"},{"$error":"#N/A"},{"$error":"#N/A"},{"$error":"#N/A"},{"$error":"#N/A"},{"$error":"#N/A"},{"$error":"#N/A"},{"$error":"#N/A"},{"$error":"#N/A"},{"$error":"#N/A"},{"$error":"#N/A"},{"$error":"#N/A"},{"$error":"#N/A"},{"$error":"#N/A"},{"$error":"#N/A"},{"$error":"#N/A"},{"$error":"#N/A"},{"$error":"#N/A"},{"$error":"#N/A"},{"$error":"#N/A"},{"$error":"#N/A"},{"$error":"#N/A"},{"$error":"#N/A"},{"$error":"#N/A"}]
[74,"Dartford Sexual Health Clinic",{"$error":"#N/A"},{"$error":"#N/A"},{"$error":"#N/A"},{"$error":"#N/A"},{"$error":"#N/A"},{"$error":"#N/A"},{"$error":"#N/A"},{"$error":"#N/A"},{"$error":"#N/A"},{"$error":"#N/A"},{"$error":"#N/A"},{"$error":"#N/A"},{"$error":"#N/A"},{"$error":"#N/A"},{"$error":"#N/A"},{"$error":"#N/A"},{"$error":"#N/A"},{"$error":"#N/A"},{"$error":"#N/A"},{"$error":"#N/A"},{"$error":"#N/A"},{"$error":"#N/A"},{"$error":"#N/A"},{"$error":"#N/A"},{"$error":"#N/A"},{"$error":"#N/A"},{"$error":"#N/A"},{"$error":"#N/A"},{"$error":"#N/A"},{"$error":"#N/A"},{"$error":"#N/A"},{"$error":"#N/A"},{"$error":"#N/A"},{"$error":"#N/A"},{"$error":"#N/A"},{"$error":"#N/A"},{"$error":"#N/A"},{"$error":"#N/A"},{"$error":"#N/A"},{"$error":"#N/A"},{"$error":"#N/A"},{"$error":"#N/A"},{"$error":"#N/A"},{"$error":"#N/A"},{"$error":"#N/A"},{"$error":"#N/A"},{"$error":"#N/A"},{"$error":"#N/A"},{"$error":"#N/A"},{"$error":"#N/A"},{"$error":"#N/A"},{"$error":"#N/A"},{"$error":"#N/A"},{"$error":"#N/A"},{"$error":"#N/A"},{"$error":"#N/A"},{"$error":"#N/A"},{"$error":"#N/A"},{"$error":"#N/A"},{"$error":"#N/A"},{"$error":"#N/A"},{"$error":"#N/A"},{"$error":"#N/A"},{"$error":"#N/A"},{"$error":"#N/A"},{"$error":"#N/A"},{"$error":"#N/A"},{"$error":"#N/A"},{"$error":"#N/A"},{"$error":"#N/A"},{"$error":"#N/A"},{"$error":"#N/A"},{"$error":"#N/A"},{"$error":"#N/A"},{"$error":"#N/A"},{"$error":"#N/A"},{"$error":"#N/A"},{"$error":"#N/A"},{"$error":"#N/A"},{"$error":"#N/A"},{"$error":"#N/A"},{"$error":"#N/A"},{"$error":"#N/A"},{"$error":"#N/A"},{"$error":"#N/A"}]
[75,"Pent Valley - Sharman Block",{"$error":"#N/A"},{"$error":"#N/A"},{"$error":"#N/A"},{"$error":"#N/A"},{"$error":"#N/A"},{"$error":"#N/A"},{"$error":"#N/A"},{"$error":"#N/A"},{"$error":"#N/A"},{"$error":"#N/A"},{"$error":"#N/A"},{"$error":"#N/A"},{"$error":"#N/A"},{"$error":"#N/A"},{"$error":"#N/A"},{"$error":"#N/A"},{"$error":"#N/A"},{"$error":"#N/A"},{"$error":"#N/A"},{"$error":"#N/A"},{"$error":"#N/A"},{"$error":"#N/A"},{"$error":"#N/A"},{"$error":"#N/A"},{"$error":"#N/A"},{"$error":"#N/A"},{"$error":"#N/A"},{"$error":"#N/A"},{"$error":"#N/A"},{"$error":"#N/A"},{"$error":"#N/A"},{"$error":"#N/A"},{"$error":"#N/A"},{"$error":"#N/A"},{"$error":"#N/A"},{"$error":"#N/A"},{"$error":"#N/A"},{"$error":"#N/A"},{"$error":"#N/A"},{"$error":"#N/A"},{"$error":"#N/A"},{"$error":"#N/A"},{"$error":"#N/A"},{"$error":"#N/A"},{"$error":"#N/A"},{"$error":"#N/A"},{"$error":"#N/A"},{"$error":"#N/A"},{"$error":"#N/A"},{"$error":"#N/A"},{"$error":"#N/A"},{"$error":"#N/A"},{"$error":"#N/A"},{"$error":"#N/A"},{"$error":"#N/A"},{"$error":"#N/A"},{"$error":"#N/A"},{"$error":"#N/A"},{"$error":"#N/A"},{"$error":"#N/A"},{"$error":"#N/A"},{"$error":"#N/A"},{"$error":"#N/A"},{"$error":"#N/A"},{"$error":"#N/A"},{"$error":"#N/A"},{"$error":"#N/A"},{"$error":"#N/A"},{"$error":"#N/A"},{"$error":"#N/A"},{"$error":"#N/A"},{"$error":"#N/A"},{"$error":"#N/A"},{"$error":"#N/A"},{"$error":"#N/A"},{"$error":"#N/A"},{"$error":"#N/A"},{"$error":"#N/A"},{"$error":"#N/A"},{"$error":"#N/A"},{"$error":"#N/A"},{"$error":"#N/A"},{"$error":"#N/A"},{"$error":"#N/A"},{"$error":"#N/A"}]
[76,"Invicta Car Park",{"$error":"#N/A"},{"$error":"#N/A"},{"$error":"#N/A"},{"$error":"#N/A"},{"$error":"#N/A"},{"$error":"#N/A"},{"$error":"#N/A"},{"$error":"#N/A"},{"$error":"#N/A"},{"$error":"#N/A"},{"$error":"#N/A"},{"$error":"#N/A"},{"$error":"#N/A"},{"$error":"#N/A"},{"$error":"#N/A"},{"$error":"#N/A"},{"$error":"#N/A"},{"$error":"#N/A"},{"$error":"#N/A"},{"$error":"#N/A"},{"$error":"#N/A"},{"$error":"#N/A"},{"$error":"#N/A"},{"$error":"#N/A"},{"$error":"#N/A"},{"$error":"#N/A"},{"$error":"#N/A"},{"$error":"#N/A"},{"$error":"#N/A"},{"$error":"#N/A"},{"$error":"#N/A"},{"$error":"#N/A"},{"$error":"#N/A"},{"$error":"#N/A"},{"$error":"#N/A"},{"$error":"#N/A"},{"$error":"#N/A"},{"$error":"#N/A"},{"$error":"#N/A"},{"$error":"#N/A"},{"$error":"#N/A"},{"$error":"#N/A"},{"$error":"#N/A"},{"$error":"#N/A"},{"$error":"#N/A"},{"$error":"#N/A"},{"$error":"#N/A"},{"$error":"#N/A"},{"$error":"#N/A"},{"$error":"#N/A"},{"$error":"#N/A"},{"$error":"#N/A"},{"$error":"#N/A"},{"$error":"#N/A"},{"$error":"#N/A"},{"$error":"#N/A"},{"$error":"#N/A"},{"$error":"#N/A"},{"$error":"#N/A"},{"$error":"#N/A"},{"$error":"#N/A"},{"$error":"#N/A"},{"$error":"#N/A"},{"$error":"#N/A"},{"$error":"#N/A"},{"$error":"#N/A"},{"$error":"#N/A"},{"$error":"#N/A"},{"$error":"#N/A"},{"$error":"#N/A"},{"$error":"#N/A"},{"$error":"#N/A"},{"$error":"#N/A"},{"$error":"#N/A"},{"$error":"#N/A"},{"$error":"#N/A"},{"$error":"#N/A"},{"$error":"#N/A"},{"$error":"#N/A"},{"$error":"#N/A"},{"$error":"#N/A"},{"$error":"#N/A"},{"$error":"#N/A"},{"$error":"#N/A"},{"$error":"#N/A"}]
[77,"Kent History and Library Centre",{"$error":"#N/A"},{"$error":"#N/A"},{"$error":"#N/A"},{"$error":"#N/A"},{"$error":"#N/A"},{"$error":"#N/A"},{"$error":"#N/A"},{"$error":"#N/A"},{"$error":"#N/A"},{"$error":"#N/A"},{"$error":"#N/A"},{"$error":"#N/A"},{"$error":"#N/A"},{"$error":"#N/A"},{"$error":"#N/A"},{"$error":"#N/A"},{"$error":"#N/A"},{"$error":"#N/A"},{"$error":"#N/A"},{"$error":"#N/A"},{"$error":"#N/A"},{"$error":"#N/A"},{"$error":"#N/A"},{"$error":"#N/A"},{"$error":"#N/A"},{"$error":"#N/A"},{"$error":"#N/A"},{"$error":"#N/A"},{"$error":"#N/A"},{"$error":"#N/A"},{"$error":"#N/A"},{"$error":"#N/A"},{"$error":"#N/A"},{"$error":"#N/A"},{"$error":"#N/A"},{"$error":"#N/A"},{"$error":"#N/A"},{"$error":"#N/A"},{"$error":"#N/A"},{"$error":"#N/A"},{"$error":"#N/A"},{"$error":"#N/A"},{"$error":"#N/A"},{"$error":"#N/A"},{"$error":"#N/A"},{"$error":"#N/A"},{"$error":"#N/A"},{"$error":"#N/A"},{"$error":"#N/A"},{"$error":"#N/A"},{"$error":"#N/A"},{"$error":"#N/A"},{"$error":"#N/A"},{"$error":"#N/A"},{"$error":"#N/A"},{"$error":"#N/A"},{"$error":"#N/A"},{"$error":"#N/A"},{"$error":"#N/A"},{"$error":"#N/A"},{"$error":"#N/A"},{"$error":"#N/A"},{"$error":"#N/A"},{"$error":"#N/A"},{"$error":"#N/A"},{"$error":"#N/A"},{"$error":"#N/A"},{"$error":"#N/A"},{"$error":"#N/A"},{"$error":"#N/A"},{"$error":"#N/A"},{"$error":"#N/A"},{"$error":"#N/A"},{"$error":"#N/A"},{"$error":"#N/A"},{"$error":"#N/A"},{"$error":"#N/A"},{"$error":"#N/A"},{"$error":"#N/A"},{"$error":"#N/A"},{"$error":"#N/A"},{"$error":"#N/A"},{"$error":"#N/A"},{"$error":"#N/A"},{"$error":"#N/A"}]
[78,"St Peter's House",{"$error":"#N/A"},{"$error":"#N/A"},{"$error":"#N/A"},{"$error":"#N/A"},{"$error":"#N/A"},{"$error":"#N/A"},{"$error":"#N/A"},{"$error":"#N/A"},{"$error":"#N/A"},{"$error":"#N/A"},{"$error":"#N/A"},{"$error":"#N/A"},{"$error":"#N/A"},{"$error":"#N/A"},{"$error":"#N/A"},{"$error":"#N/A"},{"$error":"#N/A"},{"$error":"#N/A"},{"$error":"#N/A"},{"$error":"#N/A"},{"$error":"#N/A"},{"$error":"#N/A"},{"$error":"#N/A"},{"$error":"#N/A"},{"$error":"#N/A"},{"$error":"#N/A"},{"$error":"#N/A"},{"$error":"#N/A"},{"$error":"#N/A"},{"$error":"#N/A"},{"$error":"#N/A"},{"$error":"#N/A"},{"$error":"#N/A"},{"$error":"#N/A"},{"$error":"#N/A"},{"$error":"#N/A"},{"$error":"#N/A"},{"$error":"#N/A"},{"$error":"#N/A"},{"$error":"#N/A"},{"$error":"#N/A"},{"$error":"#N/A"},{"$error":"#N/A"},{"$error":"#N/A"},{"$error":"#N/A"},{"$error":"#N/A"},{"$error":"#N/A"},{"$error":"#N/A"},{"$error":"#N/A"},{"$error":"#N/A"},{"$error":"#N/A"},{"$error":"#N/A"},{"$error":"#N/A"},{"$error":"#N/A"},{"$error":"#N/A"},{"$error":"#N/A"},{"$error":"#N/A"},{"$error":"#N/A"},{"$error":"#N/A"},{"$error":"#N/A"},{"$error":"#N/A"},{"$error":"#N/A"},{"$error":"#N/A"},{"$error":"#N/A"},{"$error":"#N/A"},{"$error":"#N/A"},{"$error":"#N/A"},{"$error":"#N/A"},{"$error":"#N/A"},{"$error":"#N/A"},{"$error":"#N/A"},{"$error":"#N/A"},{"$error":"#N/A"},{"$error":"#N/A"},{"$error":"#N/A"},{"$error":"#N/A"},{"$error":"#N/A"},{"$error":"#N/A"},{"$error":"#N/A"},{"$error":"#N/A"},{"$error":"#N/A"},{"$error":"#N/A"},{"$error":"#N/A"},{"$error":"#N/A"},{"$error":"#N/A"}]
[81,"North Farm WTS",{"$error":"#N/A"},{"$error":"#N/A"},{"$error":"#N/A"},{"$error":"#N/A"},{"$error":"#N/A"},{"$error":"#N/A"},{"$error":"#N/A"},{"$error":"#N/A"},{"$error":"#N/A"},{"$error":"#N/A"},{"$error":"#N/A"},{"$error":"#N/A"},{"$error":"#N/A"},{"$error":"#N/A"},{"$error":"#N/A"},{"$error":"#N/A"},{"$error":"#N/A"},{"$error":"#N/A"},{"$error":"#N/A"},{"$error":"#N/A"},{"$error":"#N/A"},{"$error":"#N/A"},{"$error":"#N/A"},{"$error":"#N/A"},{"$error":"#N/A"},{"$error":"#N/A"},{"$error":"#N/A"},{"$error":"#N/A"},{"$error":"#N/A"},{"$error":"#N/A"},{"$error":"#N/A"},{"$error":"#N/A"},{"$error":"#N/A"},{"$error":"#N/A"},{"$error":"#N/A"},{"$error":"#N/A"},{"$error":"#N/A"},{"$error":"#N/A"},{"$error":"#N/A"},{"$error":"#N/A"},{"$error":"#N/A"},{"$error":"#N/A"},{"$error":"#N/A"},{"$error":"#N/A"},{"$error":"#N/A"},{"$error":"#N/A"},{"$error":"#N/A"},{"$error":"#N/A"},{"$error":"#N/A"},{"$error":"#N/A"},{"$error":"#N/A"},{"$error":"#N/A"},{"$error":"#N/A"},{"$error":"#N/A"},{"$error":"#N/A"},{"$error":"#N/A"},{"$error":"#N/A"},{"$error":"#N/A"},{"$error":"#N/A"},{"$error":"#N/A"},{"$error":"#N/A"},{"$error":"#N/A"},{"$error":"#N/A"},{"$error":"#N/A"},{"$error":"#N/A"},{"$error":"#N/A"},{"$error":"#N/A"},{"$error":"#N/A"},{"$error":"#N/A"},{"$error":"#N/A"},{"$error":"#N/A"},{"$error":"#N/A"},{"$error":"#N/A"},{"$error":"#N/A"},{"$error":"#N/A"},{"$error":"#N/A"},{"$error":"#N/A"},{"$error":"#N/A"},{"$error":"#N/A"},{"$error":"#N/A"},{"$error":"#N/A"},{"$error":"#N/A"},{"$error":"#N/A"},{"$error":"#N/A"},{"$error":"#N/A"}]
[82,"Ryarsh PS",{"$error":"#N/A"},{"$error":"#N/A"},{"$error":"#N/A"},{"$error":"#N/A"},{"$error":"#N/A"},{"$error":"#N/A"},{"$error":"#N/A"},{"$error":"#N/A"},{"$error":"#N/A"},{"$error":"#N/A"},{"$error":"#N/A"},{"$error":"#N/A"},{"$error":"#N/A"},{"$error":"#N/A"},{"$error":"#N/A"},{"$error":"#N/A"},{"$error":"#N/A"},{"$error":"#N/A"},{"$error":"#N/A"},{"$error":"#N/A"},{"$error":"#N/A"},{"$error":"#N/A"},{"$error":"#N/A"},{"$error":"#N/A"},{"$error":"#N/A"},{"$error":"#N/A"},{"$error":"#N/A"},{"$error":"#N/A"},{"$error":"#N/A"},{"$error":"#N/A"},{"$error":"#N/A"},{"$error":"#N/A"},{"$error":"#N/A"},{"$error":"#N/A"},{"$error":"#N/A"},{"$error":"#N/A"},{"$error":"#N/A"},{"$error":"#N/A"},{"$error":"#N/A"},{"$error":"#N/A"},{"$error":"#N/A"},{"$error":"#N/A"},{"$error":"#N/A"},{"$error":"#N/A"},{"$error":"#N/A"},{"$error":"#N/A"},{"$error":"#N/A"},{"$error":"#N/A"},{"$error":"#N/A"},{"$error":"#N/A"},{"$error":"#N/A"},{"$error":"#N/A"},{"$error":"#N/A"},{"$error":"#N/A"},{"$error":"#N/A"},{"$error":"#N/A"},{"$error":"#N/A"},{"$error":"#N/A"},{"$error":"#N/A"},{"$error":"#N/A"},{"$error":"#N/A"},{"$error":"#N/A"},{"$error":"#N/A"},{"$error":"#N/A"},{"$error":"#N/A"},{"$error":"#N/A"},{"$error":"#N/A"},{"$error":"#N/A"},{"$error":"#N/A"},{"$error":"#N/A"},{"$error":"#N/A"},{"$error":"#N/A"},{"$error":"#N/A"},{"$error":"#N/A"},{"$error":"#N/A"},{"$error":"#N/A"},{"$error":"#N/A"},{"$error":"#N/A"},{"$error":"#N/A"},{"$error":"#N/A"},{"$error":"#N/A"},{"$error":"#N/A"},{"$error":"#N/A"},{"$error":"#N/A"},{"$error":"#N/A"}]
[84,"Avenue of Remembrance",{"$error":"#N/A"},{"$error":"#N/A"},{"$error":"#N/A"},{"$error":"#N/A"},{"$error":"#N/A"},{"$error":"#N/A"},{"$error":"#N/A"},{"$error":"#N/A"},{"$error":"#N/A"},{"$error":"#N/A"},{"$error":"#N/A"},{"$error":"#N/A"},{"$error":"#N/A"},{"$error":"#N/A"},{"$error":"#N/A"},{"$error":"#N/A"},{"$error":"#N/A"},{"$error":"#N/A"},{"$error":"#N/A"},{"$error":"#N/A"},{"$error":"#N/A"},{"$error":"#N/A"},{"$error":"#N/A"},{"$error":"#N/A"},{"$error":"#N/A"},{"$error":"#N/A"},{"$error":"#N/A"},{"$error":"#N/A"},{"$error":"#N/A"},{"$error":"#N/A"},{"$error":"#N/A"},{"$error":"#N/A"},{"$error":"#N/A"},{"$error":"#N/A"},{"$error":"#N/A"},{"$error":"#N/A"},{"$error":"#N/A"},{"$error":"#N/A"},{"$error":"#N/A"},{"$error":"#N/A"},{"$error":"#N/A"},{"$error":"#N/A"},{"$error":"#N/A"},{"$error":"#N/A"},{"$error":"#N/A"},{"$error":"#N/A"},{"$error":"#N/A"},{"$error":"#N/A"},{"$error":"#N/A"},{"$error":"#N/A"},{"$error":"#N/A"},{"$error":"#N/A"},{"$error":"#N/A"},{"$error":"#N/A"},{"$error":"#N/A"},{"$error":"#N/A"},{"$error":"#N/A"},{"$error":"#N/A"},{"$error":"#N/A"},{"$error":"#N/A"},{"$error":"#N/A"},{"$error":"#N/A"},{"$error":"#N/A"},{"$error":"#N/A"},{"$error":"#N/A"},{"$error":"#N/A"},{"$error":"#N/A"},{"$error":"#N/A"},{"$error":"#N/A"},{"$error":"#N/A"},{"$error":"#N/A"},{"$error":"#N/A"},{"$error":"#N/A"},{"$error":"#N/A"},{"$error":"#N/A"},{"$error":"#N/A"},{"$error":"#N/A"},{"$error":"#N/A"},{"$error":"#N/A"},{"$error":"#N/A"},{"$error":"#N/A"},{"$error":"#N/A"},{"$error":"#N/A"},{"$error":"#N/A"},{"$error":"#N/A"}]
[88,"Ridgeview School",{"$error":"#N/A"},{"$error":"#N/A"},{"$error":"#N/A"},{"$error":"#N/A"},{"$error":"#N/A"},{"$error":"#N/A"},{"$error":"#N/A"},{"$error":"#N/A"},{"$error":"#N/A"},{"$error":"#N/A"},{"$error":"#N/A"},{"$error":"#N/A"},{"$error":"#N/A"},{"$error":"#N/A"},{"$error":"#N/A"},{"$error":"#N/A"},{"$error":"#N/A"},{"$error":"#N/A"},{"$error":"#N/A"},{"$error":"#N/A"},{"$error":"#N/A"},{"$error":"#N/A"},{"$error":"#N/A"},{"$error":"#N/A"},{"$error":"#N/A"},{"$error":"#N/A"},{"$error":"#N/A"},{"$error":"#N/A"},{"$error":"#N/A"},{"$error":"#N/A"},{"$error":"#N/A"},{"$error":"#N/A"},{"$error":"#N/A"},{"$error":"#N/A"},{"$error":"#N/A"},{"$error":"#N/A"},{"$error":"#N/A"},{"$error":"#N/A"},{"$error":"#N/A"},{"$error":"#N/A"},{"$error":"#N/A"},{"$error":"#N/A"},{"$error":"#N/A"},{"$error":"#N/A"},{"$error":"#N/A"},{"$error":"#N/A"},{"$error":"#N/A"},{"$error":"#N/A"},{"$error":"#N/A"},{"$error":"#N/A"},{"$error":"#N/A"},{"$error":"#N/A"},{"$error":"#N/A"},{"$error":"#N/A"},{"$error":"#N/A"},{"$error":"#N/A"},{"$error":"#N/A"},{"$error":"#N/A"},{"$error":"#N/A"},{"$error":"#N/A"},{"$error":"#N/A"},{"$error":"#N/A"},{"$error":"#N/A"},{"$error":"#N/A"},{"$error":"#N/A"},{"$error":"#N/A"},{"$error":"#N/A"},{"$error":"#N/A"},{"$error":"#N/A"},{"$error":"#N/A"},{"$error":"#N/A"},{"$error":"#N/A"},{"$error":"#N/A"},{"$error":"#N/A"},{"$error":"#N/A"},{"$error":"#N/A"},{"$error":"#N/A"},{"$error":"#N/A"},{"$error":"#N/A"},{"$error":"#N/A"},{"$error":"#N/A"},{"$error":"#N/A"},{"$error":"#N/A"},{"$error":"#N/A"},{"$error":"#N/A"}]
[94,"Southborough Hub",{"$error":"#N/A"},{"$error":"#N/A"},{"$error":"#N/A"},{"$error":"#N/A"},{"$error":"#N/A"},{"$error":"#N/A"},{"$error":"#N/A"},{"$error":"#N/A"},{"$error":"#N/A"},{"$error":"#N/A"},{"$error":"#N/A"},{"$error":"#N/A"},{"$error":"#N/A"},{"$error":"#N/A"},{"$error":"#N/A"},{"$error":"#N/A"},{"$error":"#N/A"},{"$error":"#N/A"},{"$error":"#N/A"},{"$error":"#N/A"},{"$error":"#N/A"},{"$error":"#N/A"},{"$error":"#N/A"},{"$error":"#N/A"},{"$error":"#N/A"},{"$error":"#N/A"},{"$error":"#N/A"},{"$error":"#N/A"},{"$error":"#N/A"},{"$error":"#N/A"},{"$error":"#N/A"},{"$error":"#N/A"},{"$error":"#N/A"},{"$error":"#N/A"},{"$error":"#N/A"},{"$error":"#N/A"},{"$error":"#N/A"},{"$error":"#N/A"},{"$error":"#N/A"},{"$error":"#N/A"},{"$error":"#N/A"},{"$error":"#N/A"},{"$error":"#N/A"},{"$error":"#N/A"},{"$error":"#N/A"},{"$error":"#N/A"},{"$error":"#N/A"},{"$error":"#N/A"},{"$error":"#N/A"},{"$error":"#N/A"},{"$error":"#N/A"},{"$error":"#N/A"},{"$error":"#N/A"},{"$error":"#N/A"},{"$error":"#N/A"},{"$error":"#N/A"},{"$error":"#N/A"},{"$error":"#N/A"},{"$error":"#N/A"},{"$error":"#N/A"},{"$error":"#N/A"},{"$error":"#N/A"},{"$error":"#N/A"},{"$error":"#N/A"},{"$error":"#N/A"},{"$error":"#N/A"},{"$error":"#N/A"},{"$error":"#N/A"},{"$error":"#N/A"},{"$error":"#N/A"},{"$error":"#N/A"},{"$error":"#N/A"},{"$error":"#N/A"},{"$error":"#N/A"},{"$error":"#N/A"},{"$error":"#N/A"},{"$error":"#N/A"},{"$error":"#N/A"},{"$error":"#N/A"},{"$error":"#N/A"},{"$error":"#N/A"},{"$error":"#N/A"},{"$error":"#N/A"},{"$error":"#N/A"},{"$error":"#N/A"}]
[95,"Dover Discovery Centre",{"$error":"#N/A"},{"$error":"#N/A"},{"$error":"#N/A"},{"$error":"#N/A"},{"$error":"#N/A"},{"$error":"#N/A"},{"$error":"#N/A"},{"$error":"#N/A"},{"$error":"#N/A"},{"$error":"#N/A"},{"$error":"#N/A"},{"$error":"#N/A"},{"$error":"#N/A"},{"$error":"#N/A"},{"$error":"#N/A"},{"$error":"#N/A"},{"$error":"#N/A"},{"$error":"#N/A"},{"$error":"#N/A"},{"$error":"#N/A"},{"$error":"#N/A"},{"$error":"#N/A"},{"$error":"#N/A"},{"$error":"#N/A"},{"$error":"#N/A"},{"$error":"#N/A"},{"$error":"#N/A"},{"$error":"#N/A"},{"$error":"#N/A"},{"$error":"#N/A"},{"$error":"#N/A"},{"$error":"#N/A"},{"$error":"#N/A"},{"$error":"#N/A"},{"$error":"#N/A"},{"$error":"#N/A"},{"$error":"#N/A"},{"$error":"#N/A"},{"$error":"#N/A"},{"$error":"#N/A"},{"$error":"#N/A"},{"$error":"#N/A"},{"$error":"#N/A"},{"$error":"#N/A"},{"$error":"#N/A"},{"$error":"#N/A"},{"$error":"#N/A"},{"$error":"#N/A"},{"$error":"#N/A"},{"$error":"#N/A"},{"$error":"#N/A"},{"$error":"#N/A"},{"$error":"#N/A"},{"$error":"#N/A"},{"$error":"#N/A"},{"$error":"#N/A"},{"$error":"#N/A"},{"$error":"#N/A"},{"$error":"#N/A"},{"$error":"#N/A"},{"$error":"#N/A"},{"$error":"#N/A"},{"$error":"#N/A"},{"$error":"#N/A"},{"$error":"#N/A"},{"$error":"#N/A"},{"$error":"#N/A"},{"$error":"#N/A"},{"$error":"#N/A"},{"$error":"#N/A"},{"$error":"#N/A"},{"$error":"#N/A"},{"$error":"#N/A"},{"$error":"#N/A"},{"$error":"#N/A"},{"$error":"#N/A"},{"$error":"#N/A"},{"$error":"#N/A"},{"$error":"#N/A"},{"$error":"#N/A"},{"$error":"#N/A"},{"$error":"#N/A"},{"$error":"#N/A"},{"$error":"#N/A"},{"$error":"#N/A"}]
[96,"Queen's House Folkestone to Cheriton House",{"$error":"#N/A"},{"$error":"#N/A"},{"$error":"#N/A"},{"$error":"#N/A"},{"$error":"#N/A"},{"$error":"#N/A"},{"$error":"#N/A"},{"$error":"#N/A"},{"$error":"#N/A"},{"$error":"#N/A"},{"$error":"#N/A"},{"$error":"#N/A"},{"$error":"#N/A"},{"$error":"#N/A"},{"$error":"#N/A"},{"$error":"#N/A"},{"$error":"#N/A"},{"$error":"#N/A"},{"$error":"#N/A"},{"$error":"#N/A"},{"$error":"#N/A"},{"$error":"#N/A"},{"$error":"#N/A"},{"$error":"#N/A"},{"$error":"#N/A"},{"$error":"#N/A"},{"$error":"#N/A"},{"$error":"#N/A"},{"$error":"#N/A"},{"$error":"#N/A"},{"$error":"#N/A"},{"$error":"#N/A"},{"$error":"#N/A"},{"$error":"#N/A"},{"$error":"#N/A"},{"$error":"#N/A"},{"$error":"#N/A"},{"$error":"#N/A"},{"$error":"#N/A"},{"$error":"#N/A"},{"$error":"#N/A"},{"$error":"#N/A"},{"$error":"#N/A"},{"$error":"#N/A"},{"$error":"#N/A"},{"$error":"#N/A"},{"$error":"#N/A"},{"$error":"#N/A"},{"$error":"#N/A"},{"$error":"#N/A"},{"$error":"#N/A"},{"$error":"#N/A"},{"$error":"#N/A"},{"$error":"#N/A"},{"$error":"#N/A"},{"$error":"#N/A"},{"$error":"#N/A"},{"$error":"#N/A"},{"$error":"#N/A"},{"$error":"#N/A"},{"$error":"#N/A"},{"$error":"#N/A"},{"$error":"#N/A"},{"$error":"#N/A"},{"$error":"#N/A"},{"$error":"#N/A"},{"$error":"#N/A"},{"$error":"#N/A"},{"$error":"#N/A"},{"$error":"#N/A"},{"$error":"#N/A"},{"$error":"#N/A"},{"$error":"#N/A"},{"$error":"#N/A"},{"$error":"#N/A"},{"$error":"#N/A"},{"$error":"#N/A"},{"$error":"#N/A"},{"$error":"#N/A"},{"$error":"#N/A"},{"$error":"#N/A"},{"$error":"#N/A"},{"$error":"#N/A"},{"$error":"#N/A"},{"$error":"#N/A"}]
[97,"Coroners Phase 2",{"$error":"#N/A"},{"$error":"#N/A"},{"$error":"#N/A"},{"$error":"#N/A"},{"$error":"#N/A"},{"$error":"#N/A"},{"$error":"#N/A"},{"$error":"#N/A"},{"$error":"#N/A"},{"$error":"#N/A"},{"$error":"#N/A"},{"$error":"#N/A"},{"$error":"#N/A"},{"$error":"#N/A"},{"$error":"#N/A"},{"$error":"#N/A"},{"$error":"#N/A"},{"$error":"#N/A"},{"$error":"#N/A"},{"$error":"#N/A"},{"$error":"#N/A"},{"$error":"#N/A"},{"$error":"#N/A"},{"$error":"#N/A"},{"$error":"#N/A"},{"$error":"#N/A"},{"$error":"#N/A"},{"$error":"#N/A"},{"$error":"#N/A"},{"$error":"#N/A"},{"$error":"#N/A"},{"$error":"#N/A"},{"$error":"#N/A"},{"$error":"#N/A"},{"$error":"#N/A"},{"$error":"#N/A"},{"$error":"#N/A"},{"$error":"#N/A"},{"$error":"#N/A"},{"$error":"#N/A"},{"$error":"#N/A"},{"$error":"#N/A"},{"$error":"#N/A"},{"$error":"#N/A"},{"$error":"#N/A"},{"$error":"#N/A"},{"$error":"#N/A"},{"$error":"#N/A"},{"$error":"#N/A"},{"$error":"#N/A"},{"$error":"#N/A"},{"$error":"#N/A"},{"$error":"#N/A"},{"$error":"#N/A"},{"$error":"#N/A"},{"$error":"#N/A"},{"$error":"#N/A"},{"$error":"#N/A"},{"$error":"#N/A"},{"$error":"#N/A"},{"$error":"#N/A"},{"$error":"#N/A"},{"$error":"#N/A"},{"$error":"#N/A"},{"$error":"#N/A"},{"$error":"#N/A"},{"$error":"#N/A"},{"$error":"#N/A"},{"$error":"#N/A"},{"$error":"#N/A"},{"$error":"#N/A"},{"$error":"#N/A"},{"$error":"#N/A"},{"$error":"#N/A"},{"$error":"#N/A"},{"$error":"#N/A"},{"$error":"#N/A"},{"$error":"#N/A"},{"$error":"#N/A"},{"$error":"#N/A"},{"$error":"#N/A"},{"$error":"#N/A"},{"$error":"#N/A"},{"$error":"#N/A"},{"$error":"#N/A"}]
[98,"Barton Court Free School","East","New 5FE school",24790856,24790856,{"$error":"#REF!"},{"$error":"#REF!"},{"$error":"#REF!"},{"$error":"#REF!"},{"$error":"#REF!"},{"$error":"#REF!"},{"$error":"#REF!"},{"$error":"#REF!"},{"$error":"#REF!"},{"$error":"#REF!"},{"$error":"#REF!"},{"$error":"#REF!"},{"$error":"#REF!"},{"$error":"#REF!"},{"$error":"#REF!"},{"$error":"#REF!"},{"$error":"#REF!"},{"$error":"#REF!"},{"$error":"#REF!"},{"$error":"#REF!"},{"$error":"#REF!"},{"$error":"#REF!"},{"$error":"#REF!"},{"$error":"#REF!"},{"$error":"#REF!"},{"$error":"#REF!"},{"$error":"#REF!"},{"$error":"#REF!"},{"$error":"#REF!"},{"$error":"#REF!"},{"$error":"#REF!"},{"$error":"#REF!"},{"$error":"#REF!"},{"$error":"#REF!"},{"$error":"#REF!"},{"$error":"#REF!"},{"$error":"#REF!"},{"$error":"#REF!"},{"$error":"#REF!"},{"$error":"#REF!"},{"$error":"#REF!"},{"$error":"#REF!"},{"$error":"#REF!"},{"$error":"#REF!"},{"$error":"#REF!"},{"$error":"#REF!"},{"$error":"#REF!"},{"$error":"#REF!"},{"$error":"#REF!"},{"$error":"#REF!"},{"$error":"#REF!"},{"$error":"#REF!"},{"$error":"#REF!"},{"$error":"#REF!"},{"$error":"#REF!"},{"$error":"#REF!"},{"$error":"#REF!"},{"$error":"#REF!"},{"$error":"#REF!"},{"$error":"#REF!"},{"$error":"#REF!"},{"$error":"#REF!"},{"$error":"#REF!"},{"$error":"#REF!"},{"$error":"#REF!"},{"$error":"#REF!"},{"$error":"#REF!"},{"$error":"#REF!"},{"$error":"#REF!"},{"$error":"#REF!"},{"$error":"#REF!"},{"$error":"#REF!"},{"$error":"#REF!"},{"$error":"#REF!"},{"$error":"#REF!"},{"$error":"#REF!"},{"$error":"#REF!"},{"$error":"#REF!"},{"$error":"#REF!"},{"$error":"#REF!"},{"$error":"#REF!"}]
[99,"St Andrew's PS","West","New 2FE school",8561038,8561038,{"$error":"#REF!"},{"$error":"#REF!"},{"$error":"#REF!"},{"$error":"#REF!"},{"$error":"#REF!"},{"$error":"#REF!"},{"$error":"#REF!"},{"$error":"#REF!"},{"$error":"#REF!"},{"$error":"#REF!"},{"$error":"#REF!"},{"$error":"#REF!"},{"$error":"#REF!"},{"$error":"#REF!"},{"$error":"#REF!"},{"$error":"#REF!"},{"$error":"#REF!"},{"$error":"#REF!"},{"$error":"#REF!"},{"$error":"#REF!"},{"$error":"#REF!"},{"$error":"#REF!"},{"$error":"#REF!"},{"$error":"#REF!"},{"$error":"#REF!"},{"$error":"#REF!"},{"$error":"#REF!"},{"$error":"#REF!"},{"$error":"#REF!"},{"$error":"#REF!"},{"$error":"#REF!"},{"$error":"#REF!"},{"$error":"#REF!"},{"$error":"#REF!"},{"$error":"#REF!"},{"$error":"#REF!"},{"$error":"#REF!"},{"$error":"#REF!"},{"$error":"#REF!"},{"$error":"#REF!"},{"$error":"#REF!"},{"$error":"#REF!"},{"$error":"#REF!"},{"$error":"#REF!"},{"$error":"#REF!"},{"$error":"#REF!"},{"$error":"#REF!"},{"$error":"#REF!"},{"$error":"#REF!"},{"$error":"#REF!"},{"$error":"#REF!"},{"$error":"#REF!"},{"$error":"#REF!"},{"$error":"#REF!"},{"$error":"#REF!"},{"$error":"#REF!"},{"$error":"#REF!"},{"$error":"#REF!"},{"$error":"#REF!"},{"$error":"#REF!"},{"$error":"#REF!"},{"$error":"#REF!"},{"$error":"#REF!"},{"$error":"#REF!"},{"$error":"#REF!"},{"$error":"#REF!"},{"$error":"#REF!"},{"$error":"#REF!"},{"$error":"#REF!"},{"$error":"#REF!"},{"$error":"#REF!"},{"$error":"#REF!"},{"$error":"#REF!"},{"$error":"#REF!"},{"$error":"#REF!"},{"$error":"#REF!"},{"$error":"#REF!"},{"$error":"#REF!"},{"$error":"#REF!"},{"$error":"#REF!"},{"$error":"#REF!"}]
[100,"Dover Girls Grammar",{"$error":"#N/A"},{"$error":"#N/A"},{"$error":"#N/A"},{"$error":"#N/A"},{"$error":"#N/A"},{"$error":"#N/A"},{"$error":"#N/A"},{"$error":"#N/A"},{"$error":"#N/A"},{"$error":"#N/A"},{"$error":"#N/A"},{"$error":"#N/A"},{"$error":"#N/A"},{"$error":"#N/A"},{"$error":"#N/A"},{"$error":"#N/A"},{"$error":"#N/A"},{"$error":"#N/A"},{"$error":"#N/A"},{"$error":"#N/A"},{"$error":"#N/A"},{"$error":"#N/A"},{"$error":"#N/A"},{"$error":"#N/A"},{"$error":"#N/A"},{"$error":"#N/A"},{"$error":"#N/A"},{"$error":"#N/A"},{"$error":"#N/A"},{"$error":"#N/A"},{"$error":"#N/A"},{"$error":"#N/A"},{"$error":"#N/A"},{"$error":"#N/A"},{"$error":"#N/A"},{"$error":"#N/A"},{"$error":"#N/A"},{"$error":"#N/A"},{"$error":"#N/A"},{"$error":"#N/A"},{"$error":"#N/A"},{"$error":"#N/A"},{"$error":"#N/A"},{"$error":"#N/A"},{"$error":"#N/A"},{"$error":"#N/A"},{"$error":"#N/A"},{"$error":"#N/A"},{"$error":"#N/A"},{"$error":"#N/A"},{"$error":"#N/A"},{"$error":"#N/A"},{"$error":"#N/A"},{"$error":"#N/A"},{"$error":"#N/A"},{"$error":"#N/A"},{"$error":"#N/A"},{"$error":"#N/A"},{"$error":"#N/A"},{"$error":"#N/A"},{"$error":"#N/A"},{"$error":"#N/A"},{"$error":"#N/A"},{"$error":"#N/A"},{"$error":"#N/A"},{"$error":"#N/A"},{"$error":"#N/A"},{"$error":"#N/A"},{"$error":"#N/A"},{"$error":"#N/A"},{"$error":"#N/A"},{"$error":"#N/A"},{"$error":"#N/A"},{"$error":"#N/A"},{"$error":"#N/A"},{"$error":"#N/A"},{"$error":"#N/A"},{"$error":"#N/A"},{"$error":"#N/A"},{"$error":"#N/A"},{"$error":"#N/A"},{"$error":"#N/A"},{"$error":"#N/A"},{"$error":"#N/A"},{"$error":"#N/A"}]
[146,"The Limes / Westcourt Interim",{"$error":"#N/A"},{"$error":"#N/A"},{"$error":"#N/A"},{"$error":"#N/A"},{"$error":"#N/A"},{"$error":"#N/A"},{"$error":"#N/A"},{"$error":"#N/A"},{"$error":"#N/A"},{"$error":"#N/A"},{"$error":"#N/A"},{"$error":"#N/A"},{"$error":"#N/A"},{"$error":"#N/A"},{"$error":"#N/A"},{"$error":"#N/A"},{"$error":"#N/A"},{"$error":"#N/A"},{"$error":"#N/A"},{"$error":"#N/A"},{"$error":"#N/A"},{"$error":"#N/A"},{"$error":"#N/A"},{"$error":"#N/A"},{"$error":"#N/A"},{"$error":"#N/A"},{"$error":"#N/A"},{"$error":"#N/A"},{"$error":"#N/A"},{"$error":"#N/A"},{"$error":"#N/A"},{"$error":"#N/A"},{"$error":"#N/A"},{"$error":"#N/A"},{"$error":"#N/A"},{"$error":"#N/A"},{"$error":"#N/A"},{"$error":"#N/A"},{"$error":"#N/A"},{"$error":"#N/A"},{"$error":"#N/A"},{"$error":"#N/A"},{"$error":"#N/A"},{"$error":"#N/A"},{"$error":"#N/A"},{"$error":"#N/A"},{"$error":"#N/A"},{"$error":"#N/A"},{"$error":"#N/A"},{"$error":"#N/A"},{"$error":"#N/A"},{"$error":"#N/A"},{"$error":"#N/A"},{"$error":"#N/A"},{"$error":"#N/A"},{"$error":"#N/A"},{"$error":"#N/A"},{"$error":"#N/A"},{"$error":"#N/A"},{"$error":"#N/A"},{"$error":"#N/A"},{"$error":"#N/A"},{"$error":"#N/A"},{"$error":"#N/A"},{"$error":"#N/A"},{"$error":"#N/A"},{"$error":"#N/A"},{"$error":"#N/A"},{"$error":"#N/A"},{"$error":"#N/A"},{"$error":"#N/A"},{"$error":"#N/A"},{"$error":"#N/A"},{"$error":"#N/A"},{"$error":"#N/A"},{"$error":"#N/A"},{"$error":"#N/A"},{"$error":"#N/A"},{"$error":"#N/A"},{"$error":"#N/A"},{"$error":"#N/A"},{"$error":"#N/A"},{"$error":"#N/A"},{"$error":"#N/A"},{"$error":"#N/A"}]
[159,"Pent Valley - Demolition",{"$error":"#N/A"},{"$error":"#N/A"},{"$error":"#N/A"},{"$error":"#N/A"},{"$error":"#N/A"},{"$error":"#N/A"},{"$error":"#N/A"},{"$error":"#N/A"},{"$error":"#N/A"},{"$error":"#N/A"},{"$error":"#N/A"},{"$error":"#N/A"},{"$error":"#N/A"},{"$error":"#N/A"},{"$error":"#N/A"},{"$error":"#N/A"},{"$error":"#N/A"},{"$error":"#N/A"},{"$error":"#N/A"},{"$error":"#N/A"},{"$error":"#N/A"},{"$error":"#N/A"},{"$error":"#N/A"},{"$error":"#N/A"},{"$error":"#N/A"},{"$error":"#N/A"},{"$error":"#N/A"},{"$error":"#N/A"},{"$error":"#N/A"},{"$error":"#N/A"},{"$error":"#N/A"},{"$error":"#N/A"},{"$error":"#N/A"},{"$error":"#N/A"},{"$error":"#N/A"},{"$error":"#N/A"},{"$error":"#N/A"},{"$error":"#N/A"},{"$error":"#N/A"},{"$error":"#N/A"},{"$error":"#N/A"},{"$error":"#N/A"},{"$error":"#N/A"},{"$error":"#N/A"},{"$error":"#N/A"},{"$error":"#N/A"},{"$error":"#N/A"},{"$error":"#N/A"},{"$error":"#N/A"},{"$error":"#N/A"},{"$error":"#N/A"},{"$error":"#N/A"},{"$error":"#N/A"},{"$error":"#N/A"},{"$error":"#N/A"},{"$error":"#N/A"},{"$error":"#N/A"},{"$error":"#N/A"},{"$error":"#N/A"},{"$error":"#N/A"},{"$error":"#N/A"},{"$error":"#N/A"},{"$error":"#N/A"},{"$error":"#N/A"},{"$error":"#N/A"},{"$error":"#N/A"},{"$error":"#N/A"},{"$error":"#N/A"},{"$error":"#N/A"},{"$error":"#N/A"},{"$error":"#N/A"},{"$error":"#N/A"},{"$error":"#N/A"},{"$error":"#N/A"},{"$error":"#N/A"},{"$error":"#N/A"},{"$error":"#N/A"},{"$error":"#N/A"},{"$error":"#N/A"},{"$error":"#N/A"},{"$error":"#N/A"},{"$error":"#N/A"},{"$error":"#N/A"},{"$error":"#N/A"},{"$error":"#N/A"}]
[160,"New Ash Green Primary",{"$error":"#N/A"},{"$error":"#N/A"},{"$error":"#N/A"},{"$error":"#N/A"},{"$error":"#N/A"},{"$error":"#N/A"},{"$error":"#N/A"},{"$error":"#N/A"},{"$error":"#N/A"},{"$error":"#N/A"},{"$error":"#N/A"},{"$error":"#N/A"},{"$error":"#N/A"},{"$error":"#N/A"},{"$error":"#N/A"},{"$error":"#N/A"},{"$error":"#N/A"},{"$error":"#N/A"},{"$error":"#N/A"},{"$error":"#N/A"},{"$error":"#N/A"},{"$error":"#N/A"},{"$error":"#N/A"},{"$error":"#N/A"},{"$error":"#N/A"},{"$error":"#N/A"},{"$error":"#N/A"},{"$error":"#N/A"},{"$error":"#N/A"},{"$error":"#N/A"},{"$error":"#N/A"},{"$error":"#N/A"},{"$error":"#N/A"},{"$error":"#N/A"},{"$error":"#N/A"},{"$error":"#N/A"},{"$error":"#N/A"},{"$error":"#N/A"},{"$error":"#N/A"},{"$error":"#N/A"},{"$error":"#N/A"},{"$error":"#N/A"},{"$error":"#N/A"},{"$error":"#N/A"},{"$error":"#N/A"},{"$error":"#N/A"},{"$error":"#N/A"},{"$error":"#N/A"},{"$error":"#N/A"},{"$error":"#N/A"},{"$error":"#N/A"},{"$error":"#N/A"},{"$error":"#N/A"},{"$error":"#N/A"},{"$error":"#N/A"},{"$error":"#N/A"},{"$error":"#N/A"},{"$error":"#N/A"},{"$error":"#N/A"},{"$error":"#N/A"},{"$error":"#N/A"},{"$error":"#N/A"},{"$error":"#N/A"},{"$error":"#N/A"},{"$error":"#N/A"},{"$error":"#N/A"},{"$error":"#N/A"},{"$error":"#N/A"},{"$error":"#N/A"},{"$error":"#N/A"},{"$error":"#N/A"},{"$error":"#N/A"},{"$error":"#N/A"},{"$error":"#N/A"},{"$error":"#N/A"},{"$error":"#N/A"},{"$error":"#N/A"},{"$error":"#N/A"},{"$error":"#N/A"},{"$error":"#N/A"},{"$error":"#N/A"},{"$error":"#N/A"},{"$error":"#N/A"},{"$error":"#N/A"},{"$error":"#N/A"}]
[161,"Simon Langdon Boys",{"$error":"#N/A"},{"$error":"#N/A"},{"$error":"#N/A"},{"$error":"#N/A"},{"$error":"#N/A"},{"$error":"#N/A"},{"$error":"#N/A"},{"$error":"#N/A"},{"$error":"#N/A"},{"$error":"#N/A"},{"$error":"#N/A"},{"$error":"#N/A"},{"$error":"#N/A"},{"$error":"#N/A"},{"$error":"#N/A"},{"$error":"#N/A"},{"$error":"#N/A"},{"$error":"#N/A"},{"$error":"#N/A"},{"$error":"#N/A"},{"$error":"#N/A"},{"$error":"#N/A"},{"$error":"#N/A"},{"$error":"#N/A"},{"$error":"#N/A"},{"$error":"#N/A"},{"$error":"#N/A"},{"$error":"#N/A"},{"$error":"#N/A"},{"$error":"#N/A"},{"$error":"#N/A"},{"$error":"#N/A"},{"$error":"#N/A"},{"$error":"#N/A"},{"$error":"#N/A"},{"$error":"#N/A"},{"$error":"#N/A"},{"$error":"#N/A"},{"$error":"#N/A"},{"$error":"#N/A"},{"$error":"#N/A"},{"$error":"#N/A"},{"$error":"#N/A"},{"$error":"#N/A"},{"$error":"#N/A"},{"$error":"#N/A"},{"$error":"#N/A"},{"$error":"#N/A"},{"$error":"#N/A"},{"$error":"#N/A"},{"$error":"#N/A"},{"$error":"#N/A"},{"$error":"#N/A"},{"$error":"#N/A"},{"$error":"#N/A"},{"$error":"#N/A"},{"$error":"#N/A"},{"$error":"#N/A"},{"$error":"#N/A"},{"$error":"#N/A"},{"$error":"#N/A"},{"$error":"#N/A"},{"$error":"#N/A"},{"$error":"#N/A"},{"$error":"#N/A"},{"$error":"#N/A"},{"$error":"#N/A"},{"$error":"#N/A"},{"$error":"#N/A"},{"$error":"#N/A"},{"$error":"#N/A"},{"$error":"#N/A"},{"$error":"#N/A"},{"$error":"#N/A"},{"$error":"#N/A"},{"$error":"#N/A"},{"$error":"#N/A"},{"$error":"#N/A"},{"$error":"#N/A"},{"$error":"#N/A"},{"$error":"#N/A"},{"$error":"#N/A"},{"$error":"#N/A"},{"$error":"#N/A"},{"$error":"#N/A"}]
[162,"Simon Langdon Girls",{"$error":"#N/A"},{"$error":"#N/A"},{"$error":"#N/A"},{"$error":"#N/A"},{"$error":"#N/A"},{"$error":"#N/A"},{"$error":"#N/A"},{"$error":"#N/A"},{"$error":"#N/A"},{"$error":"#N/A"},{"$error":"#N/A"},{"$error":"#N/A"},{"$error":"#N/A"},{"$error":"#N/A"},{"$error":"#N/A"},{"$error":"#N/A"},{"$error":"#N/A"},{"$error":"#N/A"},{"$error":"#N/A"},{"$error":"#N/A"},{"$error":"#N/A"},{"$error":"#N/A"},{"$error":"#N/A"},{"$error":"#N/A"},{"$error":"#N/A"},{"$error":"#N/A"},{"$error":"#N/A"},{"$error":"#N/A"},{"$error":"#N/A"},{"$error":"#N/A"},{"$error":"#N/A"},{"$error":"#N/A"},{"$error":"#N/A"},{"$error":"#N/A"},{"$error":"#N/A"},{"$error":"#N/A"},{"$error":"#N/A"},{"$error":"#N/A"},{"$error":"#N/A"},{"$error":"#N/A"},{"$error":"#N/A"},{"$error":"#N/A"},{"$error":"#N/A"},{"$error":"#N/A"},{"$error":"#N/A"},{"$error":"#N/A"},{"$error":"#N/A"},{"$error":"#N/A"},{"$error":"#N/A"},{"$error":"#N/A"},{"$error":"#N/A"},{"$error":"#N/A"},{"$error":"#N/A"},{"$error":"#N/A"},{"$error":"#N/A"},{"$error":"#N/A"},{"$error":"#N/A"},{"$error":"#N/A"},{"$error":"#N/A"},{"$error":"#N/A"},{"$error":"#N/A"},{"$error":"#N/A"},{"$error":"#N/A"},{"$error":"#N/A"},{"$error":"#N/A"},{"$error":"#N/A"},{"$error":"#N/A"},{"$error":"#N/A"},{"$error":"#N/A"},{"$error":"#N/A"},{"$error":"#N/A"},{"$error":"#N/A"},{"$error":"#N/A"},{"$error":"#N/A"},{"$error":"#N/A"},{"$error":"#N/A"},{"$error":"#N/A"},{"$error":"#N/A"},{"$error":"#N/A"},{"$error":"#N/A"},{"$error":"#N/A"},{"$error":"#N/A"},{"$error":"#N/A"},{"$error":"#N/A"},{"$error":"#N/A"}]
[163,"Meadowfield School, Dining Room",{"$error":"#N/A"},{"$error":"#N/A"},{"$error":"#N/A"},{"$error":"#N/A"},{"$error":"#N/A"},{"$error":"#N/A"},{"$error":"#N/A"},{"$error":"#N/A"},{"$error":"#N/A"},{"$error":"#N/A"},{"$error":"#N/A"},{"$error":"#N/A"},{"$error":"#N/A"},{"$error":"#N/A"},{"$error":"#N/A"},{"$error":"#N/A"},{"$error":"#N/A"},{"$error":"#N/A"},{"$error":"#N/A"},{"$error":"#N/A"},{"$error":"#N/A"},{"$error":"#N/A"},{"$error":"#N/A"},{"$error":"#N/A"},{"$error":"#N/A"},{"$error":"#N/A"},{"$error":"#N/A"},{"$error":"#N/A"},{"$error":"#N/A"},{"$error":"#N/A"},{"$error":"#N/A"},{"$error":"#N/A"},{"$error":"#N/A"},{"$error":"#N/A"},{"$error":"#N/A"},{"$error":"#N/A"},{"$error":"#N/A"},{"$error":"#N/A"},{"$error":"#N/A"},{"$error":"#N/A"},{"$error":"#N/A"},{"$error":"#N/A"},{"$error":"#N/A"},{"$error":"#N/A"},{"$error":"#N/A"},{"$error":"#N/A"},{"$error":"#N/A"},{"$error":"#N/A"},{"$error":"#N/A"},{"$error":"#N/A"},{"$error":"#N/A"},{"$error":"#N/A"},{"$error":"#N/A"},{"$error":"#N/A"},{"$error":"#N/A"},{"$error":"#N/A"},{"$error":"#N/A"},{"$error":"#N/A"},{"$error":"#N/A"},{"$error":"#N/A"},{"$error":"#N/A"},{"$error":"#N/A"},{"$error":"#N/A"},{"$error":"#N/A"},{"$error":"#N/A"},{"$error":"#N/A"},{"$error":"#N/A"},{"$error":"#N/A"},{"$error":"#N/A"},{"$error":"#N/A"},{"$error":"#N/A"},{"$error":"#N/A"},{"$error":"#N/A"},{"$error":"#N/A"},{"$error":"#N/A"},{"$error":"#N/A"},{"$error":"#N/A"},{"$error":"#N/A"},{"$error":"#N/A"},{"$error":"#N/A"},{"$error":"#N/A"},{"$error":"#N/A"},{"$error":"#N/A"},{"$error":"#N/A"},{"$error":"#N/A"}]
[null,"Turner Contemporary",{"$error":"#N/A"},{"$error":"#N/A"},{"$error":"#N/A"},{"$error":"#N/A"},{"$error":"#N/A"},{"$error":"#N/A"},{"$error":"#N/A"},{"$error":"#N/A"},{"$error":"#N/A"},{"$error":"#N/A"},{"$error":"#N/A"},{"$error":"#N/A"},{"$error":"#N/A"},{"$error":"#N/A"},{"$error":"#N/A"},{"$error":"#N/A"},{"$error":"#N/A"},{"$error":"#N/A"},{"$error":"#N/A"},{"$error":"#N/A"},{"$error":"#N/A"},{"$error":"#N/A"},{"$error":"#N/A"},{"$error":"#N/A"},{"$error":"#N/A"},{"$error":"#N/A"},{"$error":"#N/A"},{"$error":"#N/A"},{"$error":"#N/A"},{"$error":"#N/A"},{"$error":"#N/A"},{"$error":"#N/A"},{"$error":"#N/A"},{"$error":"#N/A"},{"$error":"#N/A"},{"$error":"#N/A"},{"$error":"#N/A"},{"$error":"#N/A"},{"$error":"#N/A"},{"$error":"#N/A"},{"$error":"#N/A"},{"$error":"#N/A"},{"$error":"#N/A"},{"$error":"#N/A"},{"$error":"#N/A"},{"$error":"#N/A"},{"$error":"#N/A"},{"$error":"#N/A"},{"$error":"#N/A"},{"$error":"#N/A"},{"$error":"#N/A"},{"$error":"#N/A"},{"$error":"#N/A"},{"$error":"#N/A"},{"$error":"#N/A"},{"$error":"#N/A"},{"$error":"#N/A"},{"$error":"#N/A"},{"$error":"#N/A"},{"$error":"#N/A"},{"$error":"#N/A"},{"$error":"#N/A"},{"$error":"#N/A"},{"$error":"#N/A"},{"$error":"#N/A"},{"$error":"#N/A"},{"$error":"#N/A"},{"$error":"#N/A"},{"$error":"#N/A"},{"$error":"#N/A"},{"$error":"#N/A"},{"$error":"#N/A"},{"$error":"#N/A"},{"$error":"#N/A"},{"$error":"#N/A"},{"$error":"#N/A"},{"$error":"#N/A"},{"$error":"#N/A"},{"$error":"#N/A"},{"$error":"#N/A"},{"$error":"#N/A"},{"$error":"#N/A"},{"$error":"#N/A"},{"$error":"#N/A"},{"$error":"#N/A"}]
[null,"Tunbridge Wells Cultural Hub",{"$error":"#N/A"},{"$error":"#N/A"},{"$error":"#N/A"},{"$error":"#N/A"},{"$error":"#N/A"},{"$error":"#N/A"},{"$error":"#N/A"},{"$error":"#N/A"},{"$error":"#N/A"},{"$error":"#N/A"},{"$error":"#N/A"},{"$error":"#N/A"},{"$error":"#N/A"},{"$error":"#N/A"},{"$error":"#N/A"},{"$error":"#N/A"},{"$error":"#N/A"},{"$error":"#N/A"},{"$error":"#N/A"},{"$error":"#N/A"},{"$error":"#N/A"},{"$error":"#N/A"},{"$error":"#N/A"},{"$error":"#N/A"},{"$error":"#N/A"},{"$error":"#N/A"},{"$error":"#N/A"},{"$error":"#N/A"},{"$error":"#N/A"},{"$error":"#N/A"},{"$error":"#N/A"},{"$error":"#N/A"},{"$error":"#N/A"},{"$error":"#N/A"},{"$error":"#N/A"},{"$error":"#N/A"},{"$error":"#N/A"},{"$error":"#N/A"},{"$error":"#N/A"},{"$error":"#N/A"},{"$error":"#N/A"},{"$error":"#N/A"},{"$error":"#N/A"},{"$error":"#N/A"},{"$error":"#N/A"},{"$error":"#N/A"},{"$error":"#N/A"},{"$error":"#N/A"},{"$error":"#N/A"},{"$error":"#N/A"},{"$error":"#N/A"},{"$error":"#N/A"},{"$error":"#N/A"},{"$error":"#N/A"},{"$error":"#N/A"},{"$error":"#N/A"},{"$error":"#N/A"},{"$error":"#N/A"},{"$error":"#N/A"},{"$error":"#N/A"},{"$error":"#N/A"},{"$error":"#N/A"},{"$error":"#N/A"},{"$error":"#N/A"},{"$error":"#N/A"},{"$error":"#N/A"},{"$error":"#N/A"},{"$error":"#N/A"},{"$error":"#N/A"},{"$error":"#N/A"},{"$error":"#N/A"},{"$error":"#N/A"},{"$error":"#N/A"},{"$error":"#N/A"},{"$error":"#N/A"},{"$error":"#N/A"},{"$error":"#N/A"},{"$error":"#N/A"},{"$error":"#N/A"},{"$error":"#N/A"},{"$error":"#N/A"},{"$error":"#N/A"},{"$error":"#N/A"},{"$error":"#N/A"},{"$error":"#N/A"}]
[null,"insert above this line"]
[]
[null,null,null,null,null,null,null,null,null,null,null,null,null,null,null,null,null,null,null,null,null,null,null,null,null,null,null,null,null,null,null,null,null,null,null,null,null,null,null,null,null,null,null,null,null,null,null,null,null,null,null,null,null,null,null,null,null,null,null,null,null,null,null,null,null,null,null,null,null,null,null,null,null,null,null,null,null,null,null,null,null,"#","#","#","#","#","#"]
[null,null,null,null,null,null,null,null,null,null,null,null,null,null,null,null,null,null,null,null,null,null,null,null,null,null,null,null,null,null,null,null,null,null,null,null,null,null,null,null,null,null,null,null,null,null,null,null,null,null,null,null,null,null,null,null,null,null,null,null,null,null,null,null,null,null,null,null,null,null,null,null,null,"Unapproved Contingency","Agreed Budget vs Original Budget",{"$f":"#REF!-#REF!","v":{"$error":"#REF!"}},"Budget Contingency"]
[null,null,null,null,null,null,null,null,null,null,null,null,null,null,null,null,null,null,null,null,null,null,null,null,null,null,null,null,null,null,null,null,null,null,null,null,null,null,null,null,null,null,null,null,null,null,null,null,null,null,null,null,null,null,null,null,null,null,null,null,null,null,null,null,null,null,null,null,null,null,null,null,null,null,"Forecast Spend vs Agreed Budget",{"$f":"#REF!-#REF!","v":{"$error":"#REF!"}},"Programme Contingency"]
[null,null,null,null,null,null,null,null,null,null,null,null,null,null,null,null,null,null,null,null,null,null,null,null,null,null,null,null,null,null,null,null,null,null,null,null,null,null,null,null,null,null,null,null,null,null,null,null,null,null,null,null,null,null,null,null,null,null,null,null,null,null,null,null,null,null,null,null,null,null,null,null,null,null,"Forecast Spend vs Original Budget ",{"$f":"#REF!-#REF!","v":{"$error":"#REF!"}},"CP Contingency"]
[]
[]
[]
[]
[]
[]
[]
[]
[null,null,null,null,null,null,null,null,null,null,null,null,null,null,null,null,null,null,null,null,null,null,null,null,null,null,null,null,null,null,null,null,null,null,null,null,null,null,null,null,null,null,null,null,null,null,null,null,null,null,null,null,null,null,null,null,null,null,null,null,null,null,null,null,null,null,null,null,null,null,null,null,null,null,null,"Underspend",{"$f":"#REF!-#REF!","v":{"$error":"#REF!"}}]
[null,null,null,null,null,null,null,null,null,null,null,null,null,null,null,null,null,null,null,null,null,null,null,null,null,null,null,null,null,null,null,null,null,null,null,null,null,null,null,null,null,null,null,null,null,null,null,null,null,null,null,null,null,null,null,null,null,null,null,null,null,null,null,null,null,null,null,null,null,null,null,null,null,null,null,"Programme Contingency",{"$f":"#REF!-#REF!","v":{"$error":"#REF!"}}]
[null,null,null,null,null,null,null,null,null,null,null,null,null,null,null,null,null,null,null,null,null,null,null,null,null,null,null,null,null,null,null,null,null,null,null,null,null,null,null,null,null,null,null,null,null,null,null,null,null,null,null,null,null,null,null,null,null,null,null,null,null,null,null,null,null,null,null,null,null,null,null,null,null,null,null,"Total Contingency",{"$f":"SUM(BY53:BY54)","v":{"$error":"#REF!"}}]

{"sheet":"master mirror","index":5,"n_rows":189,"n_cols":87,"rows_kept":189,"cut":false,"hidden":true,"merged":[[2,57,2,70],[175,73,177,73],[3,34,3,36],[3,37,3,39],[3,40,3,42],[3,43,3,45],[3,19,3,21],[3,22,3,24],[3,25,3,27],[3,28,3,30],[3,31,3,33]]}
[null,"Reporting Period",2,3,4,5,6,7,8,9,10,11,12,13,14,15,16,17,18,19,20,21,22,23,24,25,26,27,28,29,30,31,32,33,34,35,36,37,38,39,40,41,42,43,44,45,46,47,48,49,50,51,52,53,54,55,56,57,58,59,60,61,62,63,64,65,66,67,68,69,70,71,72,73,74,75,76,77,78,79,80,81,82,83,84,85,86]
[null,{"$f":"REPORT_START","v":{"$error":"#REF!"}},"to",{"$f":"REPORT_FINISH","v":"APPENDIX 2 - Basic Need Programme"},null,null,null,null,null,null,null,null,null,"n On Time n Late n PC n EOD n Hold",null,null,null,null,null,null,null,null,null,null,null,null,null,null,null,null,null,null,null,null,null,null,null,null,null,null,null,null,null,null,null,null,null,null,null,null,null,null,null,null,null,null,null,null,null,null,null,null,null,null,null,null,null,null,null,null,null,null,null,null,null,null,null,"FORECAST SPEND"]
[null,{"$f":"TODAYS_DATE","v":{"$error":"#REF!"}},"PROJECT INFORMATION",null,null,null,null,null,null,null,null,null,null,"CURRENT RAG",null,null,"PROJECT RAG",null,"PROGRAMME INFORMATION (if no planned dates, leave blank)",null,null,null,null,null,null,null,null,null,null,null,null,null,null,null,null,null,null,null,null,null,null,null,null,null,null,null,null,null,null,null,"n On Time n Late n PC n EOD n Hold",null,null,null,"COST INFORMATION",null,null,"2018 Benchmarking Exercise"]
[null,null,null,null,null,null,null,null,null,null,null,null,null,null,null,null,null,null,null,"END OF RIBA STAGE 0",null,null,"END OF RIBA STAGE 1",null,null,"END OF RIBA STAGE 2",null,null,"END OF RIBA STAGE 3",null,null,"END OF RIBA \nSTAGE 4",null,null,"END OF RIBA STAGE 5",null,null,"PLANNING APPROVAL",null,null,"START ON SITE DATE",null,null,"AGREED COMPLETION DATE",null,null,"EOD",null,null,null,"Overall Programme Position",null,null,null,null,null,null,{"$f":"SUM(BF7:BF173)","v":{"$error":"#REF!"}},{"$f":"SUM(BG7:BG173)","v":{"$error":"#REF!"}},{"$f":"SUM(BH7:BH173)","v":{"$error":"#REF!"}},{"$f":"SUM(BI7:BI173)","v":{"$error":"#REF!"}},null,null,null,null,null,null,null,null,null,null,null,null,null,{"$f":"SUM(BW7:BW173)","v":{"$error":"#REF!"}},null,{"$f":"SUM(BY7:BY173)","v":{"$error":"#REF!"}},{"$f":"SUM(BZ7:BZ173)","v":{"$error":"#REF!"}},{"$f":"CC4-BZ4","v":{"$error":"#REF!"}},null,{"$f":"SUM(CC7:CC173)","v":{"$error":"#REF!"}},"CHANGE CONTROL",null,"GATEWAY PERFORMANCE"]
[]
["orig\norder","Discrete Description","PROGRAMME","PROJECT","AREA","PROJECT MANAGER","APPROVED/\nUNAPPROVED","PROCUREMENT ROUTE","DESCRIPTION OF WORKS","STATUS LEVEL","STATUS","OTHER GEN 2 INPUT","CROSS DISCIPLINE ISSUES","SCOPE","BUDGET","TIME","LAST MONTH","CURRENT MONTH","RIBA STAGE","Planned","Revised","Actual","Planned","Revised","Actual","Planned","Revised","Actual","Planned","Revised","Actual","Planned","Revised","Actual","Planned","Revised","Actual","Planned","Revised","Actual","Planned","Revised","Actual","Planned","Revised","Actual","EOD","Academic \nYear \nRequired","Next \nGateway","Gateway Deadline","On time = 0\nLate = 1","PC \nachieved\n= 2","EOD\nachieved\n= 3","RAG\nSTATUS","APPROX GIFA","APPROX COST PER M²","APPROX COST PER PUPIL","No of Pupils\n(school)","No of Pupils\n(nursery)","No of Pupils\n(other)","TOTAL No\nEXTRA\nPLACES","Construction Values","Fees\n(INTERNAL)","Fees\n(EXTERNAL)","Highways","Abnormals","External Works","Land Costs","Contingencies","Other Costs","Total","ROD","KCC CONTRIBUTION","CONTRIBUTION BY OTHERS","AGREED BUDGET","CONTRACT SUM","SPEND TO DATE","PLANNED","VARIANCE\nGBP","VARIANCE\n%age","REVISED","DELEGATED\nAUTHORITY\nGBP","CHANGE\nNOTICE\nREQD?","GATEWAY\nDUE THIS\nPERIOD?","GATEWAY\nACHIEVED\n(Y/N)","APPROX COST PER M² > zero","APPROX COST PER PUPIL > zero"]
[1,"Dartford Girls Grammar",{"$f":"VLOOKUP($B7,MASTER_DATABASE,2,0)","v":"North"},{"$f":"VLOOKUP($B7,MASTER_DATABASE,3,0)","v":"2 classroom extension"},{"$f":"VLOOKUP($B7,MASTER_DATABASE,4,0)","v":625000},{"$f":"VLOOKUP($B7,MASTER_DATABASE,5,0)","v":598000},{"$f":"VLOOKUP($B7,MASTER_DATABASE,6,0)","v":{"$error":"#REF!"}},{"$f":"VLOOKUP($B7,MASTER_DATABASE,7,0)","v":{"$error":"#REF!"}},{"$f":"VLOOKUP($B7,MASTER_DATABASE,8,0)","v":{"$error":"#REF!"}},{"$f":"VLOOKUP($B7,MASTER_DATABASE,9,0)","v":{"$error":"#REF!"}},{"$f":"VLOOKUP($B7,MASTER_DATABASE,10,0)","v":{"$error":"#REF!"}},{"$f":"VLOOKUP($B7,MASTER_DATABASE,11,0)","v":{"$error":"#REF!"}},{"$f":"VLOOKUP($B7,MASTER_DATABASE,12,0)","v":{"$error":"#REF!"}},{"$f":"VLOOKUP($B7,MASTER_DATABASE,13,0)","v":{"$error":"#REF!"}},{"$f":"VLOOKUP($B7,MASTER_DATABASE,14,0)","v":{"$error":"#REF!"}},{"$f":"VLOOKUP($B7,MASTER_DATABASE,15,0)","v":{"$error":"#REF!"}},{"$f":"VLOOKUP($B7,MASTER_DATABASE,16,0)","v":{"$error":"#REF!"}},{"$f":"VLOOKUP($B7,MASTER_DATABASE,17,0)","v":{"$error":"#REF!"}},{"$f":"VLOOKUP($B7,MASTER_DATABASE,18,0)","v":{"$error":"#REF!"}},{"$f":"VLOOKUP($B7,MASTER_DATABASE,19,0)","v":{"$error":"#REF!"}},{"$f":"VLOOKUP($B7,MASTER_DATABASE,20,0)","v":{"$error":"#REF!"}},{"$f":"VLOOKUP($B7,MASTER_DATABASE,21,0)","v":{"$error":"#REF!"}},{"$f":"VLOOKUP($B7,MASTER_DATABASE,22,0)","v":{"$error":"#REF!"}},{"$f":"VLOOKUP($B7,MASTER_DATABASE,23,0)","v":{"$error":"#REF!"}},{"$f":"VLOOKUP($B7,MASTER_DATABASE,24,0)","v":{"$error":"#REF!"}},{"$f":"VLOOKUP($B7,MASTER_DATABASE,25,0)","v":{"$error":"#REF!"}},{"$f":"VLOOKUP($B7,MASTER_DATABASE,26,0)","v":{"$error":"#REF!"}},{"$f":"VLOOKUP($B7,MASTER_DATABASE,27,0)","v":{"$error":"#REF!"}},{"$f":"VLOOKUP($B7,MASTER_DATABASE,28,0)","v":{"$error":"#REF!"}},{"$f":"VLOOKUP($B7,MASTER_DATABASE,29,0)","v":{"$error":"#REF!"}},{"$f":"VLOOKUP($B7,MASTER_DATABASE,30,0)","v":{"$error":"#REF!"}},{"$f":"VLOOKUP($B7,MASTER_DATABASE,31,0)","v":{"$error":"#REF!"}},{"$f":"VLOOKUP($B7,MASTER_DATABASE,32,0)","v":{"$error":"#REF!"}},{"$f":"VLOOKUP($B7,MASTER_DATABASE,33,0)","v":{"$error":"#REF!"}},{"$f":"VLOOKUP($B7,MASTER_DATABASE,34,0)","v":{"$error":"#REF!"}},{"$f":"VLOOKUP($B7,MASTER_DATABASE,35,0)","v":{"$error":"#REF!"}},{"$f":"VLOOKUP($B7,MASTER_DATABASE,36,0)","v":{"$error":"#REF!"}},{"$f":"VLOOKUP($B7,MASTER_DATABASE,37,0)","v":{"$error":"#REF!"}},{"$f":"VLOOKUP($B7,MASTER_DATABASE,38,0)","v":{"$error":"#REF!"}},{"$f":"VLOOKUP($B7,MASTER_DATABASE,39,0)","v":{"$error":"#REF!"}},{"$f":"VLOOKUP($B7,MASTER_DATABASE,40,0)","v":{"$error":"#REF!"}},{"$f":"VLOOKUP($B7,MASTER_DATABASE,41,0)","v":{"$error":"#REF!"}},{"$f":"VLOOKUP($B7,MASTER_DATABASE,42,0)","v":{"$error":"#REF!"}},{"$f":"VLOOKUP($B7,MASTER_DATABASE,43,0)","v":{"$error":"#REF!"}},{"$f":"VLOOKUP($B7,MASTER_DATABASE,44,0)","v":{"$error":"#REF!"}},{"$f":"VLOOKUP($B7,MASTER_DATABASE,45,0)","v":{"$error":"#REF!"}},{"$f":"VLOOKUP($B7,MASTER_DATABASE,46,0)","v":{"$error":"#REF!"}},{"$f":"VLOOKUP($B7,MASTER_DATABASE,47,0)","v":{"$error":"#REF!"}},{"$f":"VLOOKUP($B7,MASTER_DATABASE,48,0)","v":{"$error":"#REF!"}},{"$f":"VLOOKUP($B7,MASTER_DATABASE,49,0)","v":{"$error":"#REF!"}},{"$f":"VLOOKUP($B7,MASTER_DATABASE,50,0)","v":{"$error":"#REF!"}},{"$f":"VLOOKUP($B7,MASTER_DATABASE,51,0)","v":{"$error":"#REF!"}},{"$f":"VLOOKUP($B7,MASTER_DATABASE,52,0)","v":{"$error":"#REF!"}},{"$f":"VLOOKUP($B7,MASTER_DATABASE,53,0)","v":{"$error":"#REF!"}},{"$f":"VLOOKUP($B7,MASTER_DATABASE,54,0)","v":{"$error":"#REF!"}},{"$f":"VLOOKUP($B7,MASTER_DATABASE,55,0)","v":{"$error":"#REF!"}},{"$f":"VLOOKUP($B7,MASTER_DATABASE,56,0)","v":{"$error":"#REF!"}},{"$f":"VLOOKUP($B7,MASTER_DATABASE,57,0)","v":{"$error":"#REF!"}},{"$f":"VLOOKUP($B7,MASTER_DATABASE,58,0)","v":{"$error":"#REF!"}},{"$f":"VLOOKUP($B7,MASTER_DATABASE,59,0)","v":{"$error":"#REF!"}},{"$f":"VLOOKUP($B7,MASTER_DATABASE,60,0)","v":{"$error":"#REF!"}},{"$f":"VLOOKUP($B7,MASTER_DATABASE,61,0)","v":{"$error":"#REF!"}},{"$f":"VLOOKUP($B7,MASTER_DATABASE,62,0)","v":{"$error":"#REF!"}},{"$f":"VLOOKUP($B7,MASTER_DATABASE,63,0)","v":{"$error":"#REF!"}},{"$f":"VLOOKUP($B7,MASTER_DATABASE,64,0)","v":{"$error":"#REF!"}},{"$f":"VLOOKUP($B7,MASTER_DATABASE,65,0)","v":{"$error":"#REF!"}},{"$f":"VLOOKUP($B7,MASTER_DATABASE,66,0)","v":{"$error":"#REF!"}},{"$f":"VLOOKUP($B7,MASTER_DATABASE,67,0)","v":{"$error":"#REF!"}},{"$f":"VLOOKUP($B7,MASTER_DATABASE,68,0)","v":{"$error":"#REF!"}},{"$f":"VLOOKUP($B7,MASTER_DATABASE,69,0)","v":{"$error":"#REF!"}},{"$f":"VLOOKUP($B7,MASTER_DATABASE,70,0)","v":{"$error":"#REF!"}},{"$f":"VLOOKUP($B7,MASTER_DATABASE,71,0)","v":{"$error":"#REF!"}},{"$f":"VLOOKUP($B7,MASTER_DATABASE,72,0)","v":{"$error":"#REF!"}},{"$f":"VLOOKUP($B7,MASTER_DATABASE,73,0)","v":{"$error":"#REF!"}},{"$f":"VLOOKUP($B7,MASTER_DATABASE,74,0)","v":{"$error":"#REF!"}},{"$f":"VLOOKUP($B7,MASTER_DATABASE,75,0)","v":{"$error":"#REF!"}},{"$f":"VLOOKUP($B7,MASTER_DATABASE,76,0)","v":{"$error":"#REF!"}},{"$f":"VLOOKUP($B7,MASTER_DATABASE,77,0)","v":{"$error":"#REF!"}},{"$f":"VLOOKUP($B7,MASTER_DATABASE,78,0)","v":{"$error":"#REF!"}},{"$f":"VLOOKUP($B7,MASTER_DATABASE,79,0)","v":{"$error":"#REF!"}},{"$f":"VLOOKUP($B7,MASTER_DATABASE,80,0)","v":{"$error":"#REF!"}},{"$f":"VLOOKUP($B7,MASTER_DATABASE,81,0)","v":{"$error":"#REF!"}},{"$f":"VLOOKUP($B7,MASTER_DATABASE,82,0)","v":{"$error":"#REF!"}},{"$f":"VLOOKUP($B7,MASTER_DATABASE,83,0)","v":{"$error":"#REF!"}},{"$f":"VLOOKUP($B7,MASTER_DATABASE,84,0)","v":{"$error":"#REF!"}},{"$f":"VLOOKUP($B7,MASTER_DATABASE,85,0)","v":{"$error":"#REF!"}},{"$f":"VLOOKUP($B7,MASTER_DATABASE,86,0)","v":{"$error":"#REF!"}}]
[2,"St George's PS (Gravesham)","North","New 1FE with 2FE Infrastructure ",7100000,6571498.71,{"$error":"#REF!"},{"$error":"#REF!"},{"$error":"#REF!"},{"$error":"#REF!"},{"$error":"#REF!"},{"$error":"#REF!"},{"$error":"#REF!"},{"$error":"#REF!"},{"$error":"#REF!"},{"$error":"#REF!"},{"$error":"#REF!"},{"$error":"#REF!"},{"$error":"#REF!"},{"$error":"#REF!"},{"$error":"#REF!"},{"$error":"#REF!"},{"$error":"#REF!"},{"$error":"#REF!"},{"$error":"#REF!"},{"$error":"#REF!"},{"$error":"#REF!"},{"$error":"#REF!"},{"$error":"#REF!"},{"$error":"#REF!"},{"$error":"#REF!"},{"$error":"#REF!"},{"$error":"#REF!"},{"$error":"#REF!"},{"$error":"#REF!"},{"$error":"#REF!"},{"$error":"#REF!"},{"$error":"#REF!"},{"$error":"#REF!"},{"$error":"#REF!"},{"$error":"#REF!"},{"$error":"#REF!"},{"$error":"#REF!"},{"$error":"#REF!"},{"$error":"#REF!"},{"$error":"#REF!"},{"$error":"#REF!"},{"$error":"#REF!"},{"$error":"#REF!"},{"$error":"#REF!"},{"$error":"#REF!"},{"$error":"#REF!"},{"$error":"#REF!"},{"$error":"#REF!"},{"$error":"#REF!"},{"$error":"#REF!"},{"$error":"#REF!"},{"$error":"#REF!"},{"$error":"#REF!"},{"$error":"#REF!"},{"$error":"#REF!"},{"$error":"#REF!"},{"$error":"#REF!"},{"$error":"#REF!"},{"$error":"#REF!"},{"$error":"#REF!"},{"$error":"#REF!"},{"$error":"#REF!"},{"$error":"#REF!"},{"$error":"#REF!"},{"$error":"#REF!"},{"$error":"#REF!"},{"$error":"#REF!"},{"$error":"#REF!"},{"$error":"#REF!"},{"$error":"#REF!"},{"$error":"#REF!"},{"$error":"#REF!"},{"$error":"#REF!"},{"$error":"#REF!"},{"$error":"#REF!"},{"$error":"#REF!"},{"$error":"#REF!"},{"$error":"#REF!"},{"$error":"#REF!"},{"$error":"#REF!"},{"$error":"#REF!"}]
[3,"St Johns Catholic PS, Phase 1",{"$error":"#N/A"},{"$error":"#N/A"},{"$error":"#N/A"},{"$error":"#N/A"},{"$error":"#N/A"},{"$error":"#N/A"},{"$error":"#N/A"},{"$error":"#N/A"},{"$error":"#N/A"},{"$error":"#N/A"},{"$error":"#N/A"},{"$error":"#N/A"},{"$error":"#N/A"},{"$error":"#N/A"},{"$error":"#N/A"},{"$error":"#N/A"},{"$error":"#N/A"},{"$error":"#N/A"},{"$error":"#N/A"},{"$error":"#N/A"},{"$error":"#N/A"},{"$error":"#N/A"},{"$error":"#N/A"},{"$error":"#N/A"},{"$error":"#N/A"},{"$error":"#N/A"},{"$error":"#N/A"},{"$error":"#N/A"},{"$error":"#N/A"},{"$error":"#N/A"},{"$error":"#N/A"},{"$error":"#N/A"},{"$error":"#N/A"},{"$error":"#N/A"},{"$error":"#N/A"},{"$error":"#N/A"},{"$error":"#N/A"},{"$error":"#N/A"},{"$error":"#N/A"},{"$error":"#N/A"},{"$error":"#N/A"},{"$error":"#N/A"},{"$error":"#N/A"},{"$error":"#N/A"},{"$error":"#N/A"},{"$error":"#N/A"},{"$error":"#N/A"},{"$error":"#N/A"},{"$error":"#N/A"},{"$error":"#N/A"},{"$error":"#N/A"},{"$error":"#N/A"},{"$error":"#N/A"},{"$error":"#N/A"},{"$error":"#N/A"},{"$error":"#N/A"},{"$error":"#N/A"},{"$error":"#N/A"},{"$error":"#N/A"},{"$error":"#N/A"},{"$error":"#N/A"},{"$error":"#N/A"},{"$error":"#N/A"},{"$error":"#N/A"},{"$error":"#N/A"},{"$error":"#N/A"},{"$error":"#N/A"},{"$error":"#N/A"},{"$error":"#N/A"},{"$error":"#N/A"},{"$error":"#N/A"},{"$error":"#N/A"},{"$error":"#N/A"},{"$error":"#N/A"},{"$error":"#N/A"},{"$error":"#N/A"},{"$error":"#N/A"},{"$error":"#N/A"},{"$error":"#N/A"},{"$error":"#N/A"},{"$error":"#N/A"},{"$error":"#N/A"},{"$error":"#N/A"},{"$error":"#N/A"},{"$error":"#N/A"}]
[4,"Portal House",{"$error":"#N/A"},{"$error":"#N/A"},{"$error":"#N/A"},{"$error":"#N/A"},{"$error":"#N/A"},{"$error":"#N/A"},{"$error":"#N/A"},{"$error":"#N/A"},{"$error":"#N/A"},{"$error":"#N/A"},{"$error":"#N/A"},{"$error":"#N/A"},{"$error":"#N/A"},{"$error":"#N/A"},{"$error":"#N/A"},{"$error":"#N/A"},{"$error":"#N/A"},{"$error":"#N/A"},{"$error":"#N/A"},{"$error":"#N/A"},{"$error":"#N/A"},{"$error":"#N/A"},{"$error":"#N/A"},{"$error":"#N/A"},{"$error":"#N/A"},{"$error":"#N/A"},{"$error":"#N/A"},{"$error":"#N/A"},{"$error":"#N/A"},{"$error":"#N/A"},{"$error":"#N/A"},{"$error":"#N/A"},{"$error":"#N/A"},{"$error":"#N/A"},{"$error":"#N/A"},{"$error":"#N/A"},{"$error":"#N/A"},{"$error":"#N/A"},{"$error":"#N/A"},{"$error":"#N/A"},{"$error":"#N/A"},{"$error":"#N/A"},{"$error":"#N/A"},{"$error":"#N/A"},{"$error":"#N/A"},{"$error":"#N/A"},{"$error":"#N/A"},{"$error":"#N/A"},{"$error":"#N/A"},{"$error":"#N/A"},{"$error":"#N/A"},{"$error":"#N/A"},{"$error":"#N/A"},{"$error":"#N/A"},{"$error":"#N/A"},{"$error":"#N/A"},{"$error":"#N/A"},{"$error":"#N/A"},{"$error":"#N/A"},{"$error":"#N/A"},{"$error":"#N/A"},{"$error":"#N/A"},{"$error":"#N/A"},{"$error":"#N/A"},{"$error":"#N/A"},{"$error":"#N/A"},{"$error":"#N/A"},{"$error":"#N/A"},{"$error":"#N/A"},{"$error":"#N/A"},{"$error":"#N/A"},{"$error":"#N/A"},{"$error":"#N/A"},{"$error":"#N/A"},{"$error":"#N/A"},{"$error":"#N/A"},{"$error":"#N/A"},{"$error":"#N/A"},{"$error":"#N/A"},{"$error":"#N/A"},{"$error":"#N/A"},{"$error":"#N/A"},{"$error":"#N/A"},{"$error":"#N/A"},{"$error":"#N/A"}]
[5,"St Johns Catholic PS, Phase 2",{"$error":"#N/A"},{"$error":"#N/A"},{"$error":"#N/A"},{"$error":"#N/A"},{"$error":"#N/A"},{"$error":"#N/A"},{"$error":"#N/A"},{"$error":"#N/A"},{"$error":"#N/A"},{"$error":"#N/A"},{"$error":"#N/A"},{"$error":"#N/A"},{"$error":"#N/A"},{"$error":"#N/A"},{"$error":"#N/A"},{"$error":"#N/A"},{"$error":"#N/A"},{"$error":"#N/A"},{"$error":"#N/A"},{"$error":"#N/A"},{"$error":"#N/A"},{"$error":"#N/A"},{"$error":"#N/A"},{"$error":"#N/A"},{"$error":"#N/A"},{"$error":"#N/A"},{"$error":"#N/A"},{"$error":"#N/A"},{"$error":"#N/A"},{"$error":"#N/A"},{"$error":"#N/A"},{"$error":"#N/A"},{"$error":"#N/A"},{"$error":"#N/A"},{"$error":"#N/A"},{"$error":"#N/A"},{"$error":"#N/A"},{"$error":"#N/A"},{"$error":"#N/A"},{"$error":"#N/A"},{"$error":"#N/A"},{"$error":"#N/A"},{"$error":"#N/A"},{"$error":"#N/A"},{"$error":"#N/A"},{"$error":"#N/A"},{"$error":"#N/A"},{"$error":"#N/A"},{"$error":"#N/A"},{"$error":"#N/A"},{"$error":"#N/A"},{"$error":"#N/A"},{"$error":"#N/A"},{"$error":"#N/A"},{"$error":"#N/A"},{"$error":"#N/A"},{"$error":"#N/A"},{"$error":"#N/A"},{"$error":"#N/A"},{"$error":"#N/A"},{"$error":"#N/A"},{"$error":"#N/A"},{"$error":"#N/A"},{"$error":"#N/A"},{"$error":"#N/A"},{"$error":"#N/A"},{"$error":"#N/A"},{"$error":"#N/A"},{"$error":"#N/A"},{"$error":"#N/A"},{"$error":"#N/A"},{"$error":"#N/A"},{"$error":"#N/A"},{"$error":"#N/A"},{"$error":"#N/A"},{"$error":"#N/A"},{"$error":"#N/A"},{"$error":"#N/A"},{"$error":"#N/A"},{"$error":"#N/A"},{"$error":"#N/A"},{"$error":"#N/A"},{"$error":"#N/A"},{"$error":"#N/A"},{"$error":"#N/A"}]
[6,"St Johns Catholic PS, Phase 3",{"$error":"#N/A"},{"$error":"#N/A"},{"$error":"#N/A"},{"$error":"#N/A"},{"$error":"#N/A"},{"$error":"#N/A"},{"$error":"#N/A"},{"$error":"#N/A"},{"$error":"#N/A"},{"$error":"#N/A"},{"$error":"#N/A"},{"$error":"#N/A"},{"$error":"#N/A"},{"$error":"#N/A"},{"$error":"#N/A"},{"$error":"#N/A"},{"$error":"#N/A"},{"$error":"#N/A"},{"$error":"#N/A"},{"$error":"#N/A"},{"$error":"#N/A"},{"$error":"#N/A"},{"$error":"#N/A"},{"$error":"#N/A"},{"$error":"#N/A"},{"$error":"#N/A"},{"$error":"#N/A"},{"$error":"#N/A"},{"$error":"#N/A"},{"$error":"#N/A"},{"$error":"#N/A"},{"$error":"#N/A"},{"$error":"#N/A"},{"$error":"#N/A"},{"$error":"#N/A"},{"$error":"#N/A"},{"$error":"#N/A"},{"$error":"#N/A"},{"$error":"#N/A"},{"$error":"#N/A"},{"$error":"#N/A"},{"$error":"#N/A"},{"$error":"#N/A"},{"$error":"#N/A"},{"$error":"#N/A"},{"$error":"#N/A"},{"$error":"#N/A"},{"$error":"#N/A"},{"$error":"#N/A"},{"$error":"#N/A"},{"$error":"#N/A"},{"$error":"#N/A"},{"$error":"#N/A"},{"$error":"#N/A"},{"$error":"#N/A"},{"$error":"#N/A"},{"$error":"#N/A"},{"$error":"#N/A"},{"$error":"#N/A"},{"$error":"#N/A"},{"$error":"#N/A"},{"$error":"#N/A"},{"$error":"#N/A"},{"$error":"#N/A"},{"$error":"#N/A"},{"$error":"#N/A"},{"$error":"#N/A"},{"$error":"#N/A"},{"$error":"#N/A"},{"$error":"#N/A"},{"$error":"#N/A"},{"$error":"#N/A"},{"$error":"#N/A"},{"$error":"#N/A"},{"$error":"#N/A"},{"$error":"#N/A"},{"$error":"#N/A"},{"$error":"#N/A"},{"$error":"#N/A"},{"$error":"#N/A"},{"$error":"#N/A"},{"$error":"#N/A"},{"$error":"#N/A"},{"$error":"#N/A"},{"$error":"#N/A"}]
[7,"Wilmington Academy, Phase 1",{"$error":"#N/A"},{"$error":"#N/A"},{"$error":"#N/A"},{"$error":"#N/A"},{"$error":"#N/A"},{"$error":"#N/A"},{"$error":"#N/A"},{"$error":"#N/A"},{"$error":"#N/A"},{"$error":"#N/A"},{"$error":"#N/A"},{"$error":"#N/A"},{"$error":"#N/A"},{"$error":"#N/A"},{"$error":"#N/A"},{"$error":"#N/A"},{"$error":"#N/A"},{"$error":"#N/A"},{"$error":"#N/A"},{"$error":"#N/A"},{"$error":"#N/A"},{"$error":"#N/A"},{"$error":"#N/A"},{"$error":"#N/A"},{"$error":"#N/A"},{"$error":"#N/A"},{"$error":"#N/A"},{"$error":"#N/A"},{"$error":"#N/A"},{"$error":"#N/A"},{"$error":"#N/A"},{"$error":"#N/A"},{"$error":"#N/A"},{"$error":"#N/A"},{"$error":"#N/A"},{"$error":"#N/A"},{"$error":"#N/A"},{"$error":"#N/A"},{"$error":"#N/A"},{"$error":"#N/A"},{"$error":"#N/A"},{"$error":"#N/A"},{"$error":"#N/A"},{"$error":"#N/A"},{"$error":"#N/A"},{"$error":"#N/A"},{"$error":"#N/A"},{"$error":"#N/A"},{"$error":"#N/A"},{"$error":"#N/A"},{"$error":"#N/A"},{"$error":"#N/A"},{"$error":"#N/A"},{"$error":"#N/A"},{"$error":"#N/A"},{"$error":"#N/A"},{"$error":"#N/A"},{"$error":"#N/A"},{"$error":"#N/A"},{"$error":"#N/A"},{"$error":"#N/A"},{"$error":"#N/A"},{"$error":"#N/A"},{"$error":"#N/A"},{"$error":"#N/A"},{"$error":"#N/A"},{"$error":"#N/A"},{"$error":"#N/A"},{"$error":"#N/A"},{"$error":"#N/A"},{"$error":"#N/A"},{"$error":"#N/A"},{"$error":"#N/A"},{"$error":"#N/A"},{"$error":"#N/A"},{"$error":"#N/A"},{"$error":"#N/A"},{"$error":"#N/A"},{"$error":"#N/A"},{"$error":"#N/A"},{"$error":"#N/A"},{"$error":"#N/A"},{"$error":"#N/A"},{"$error":"#N/A"},{"$error":"#N/A"}]
[8,"Wilmington Academy, Phase 2",{"$error":"#N/A"},{"$error":"#N/A"},{"$error":"#N/A"},{"$error":"#N/A"},{"$error":"#N/A"},{"$error":"#N/A"},{"$error":"#N/A"},{"$error":"#N/A"},{"$error":"#N/A"},{"$error":"#N/A"},{"$error":"#N/A"},{"$error":"#N/A"},{"$error":"#N/A"},{"$error":"#N/A"},{"$error":"#N/A"},{"$error":"#N/A"},{"$error":"#N/A"},{"$error":"#N/A"},{"$error":"#N/A"},{"$error":"#N/A"},{"$error":"#N/A"},{"$error":"#N/A"},{"$error":"#N/A"},{"$error":"#N/A"},{"$error":"#N/A"},{"$error":"#N/A"},{"$error":"#N/A"},{"$error":"#N/A"},{"$error":"#N/A"},{"$error":"#N/A"},{"$error":"#N/A"},{"$error":"#N/A"},{"$error":"#N/A"},{"$error":"#N/A"},{"$error":"#N/A"},{"$error":"#N/A"},{"$error":"#N/A"},{"$error":"#N/A"},{"$error":"#N/A"},{"$error":"#N/A"},{"$error":"#N/A"},{"$error":"#N/A"},{"$error":"#N/A"},{"$error":"#N/A"},{"$error":"#N/A"},{"$error":"#N/A"},{"$error":"#N/A"},{"$error":"#N/A"},{"$error":"#N/A"},{"$error":"#N/A"},{"$error":"#N/A"},{"$error":"#N/A"},{"$error":"#N/A"},{"$error":"#N/A"},{"$error":"#N/A"},{"$error":"#N/A"},{"$error":"#N/A"},{"$error":"#N/A"},{"$error":"#N/A"},{"$error":"#N/A"},{"$error":"#N/A"},{"$error":"#N/A"},{"$error":"#N/A"},{"$error":"#N/A"},{"$error":"#N/A"},{"$error":"#N/A"},{"$error":"#N/A"},{"$error":"#N/A"},{"$error":"#N/A"},{"$error":"#N/A"},{"$error":"#N/A"},{"$error":"#N/A"},{"$error":"#N/A"},{"$error":"#N/A"},{"$error":"#N/A"},{"$error":"#N/A"},{"$error":"#N/A"},{"$error":"#N/A"},{"$error":"#N/A"},{"$error":"#N/A"},{"$error":"#N/A"},{"$error":"#N/A"},{"$error":"#N/A"},{"$error":"#N/A"},{"$error":"#N/A"}]
[9,"Wilmington Academy, Phase 3",{"$error":"#N/A"},{"$error":"#N/A"},{"$error":"#N/A"},{"$error":"#N/A"},{"$error":"#N/A"},{"$error":"#N/A"},{"$error":"#N/A"},{"$error":"#N/A"},{"$error":"#N/A"},{"$error":"#N/A"},{"$error":"#N/A"},{"$error":"#N/A"},{"$error":"#N/A"},{"$error":"#N/A"},{"$error":"#N/A"},{"$error":"#N/A"},{"$error":"#N/A"},{"$error":"#N/A"},{"$error":"#N/A"},{"$error":"#N/A"},{"$error":"#N/A"},{"$error":"#N/A"},{"$error":"#N/A"},{"$error":"#N/A"},{"$error":"#N/A"},{"$error":"#N/A"},{"$error":"#N/A"},{"$error":"#N/A"},{"$error":"#N/A"},{"$error":"#N/A"},{"$error":"#N/A"},{"$error":"#N/A"},{"$error":"#N/A"},{"$error":"#N/A"},{"$error":"#N/A"},{"$error":"#N/A"},{"$error":"#N/A"},{"$error":"#N/A"},{"$error":"#N/A"},{"$error":"#N/A"},{"$error":"#N/A"},{"$error":"#N/A"},{"$error":"#N/A"},{"$error":"#N/A"},{"$error":"#N/A"},{"$error":"#N/A"},{"$error":"#N/A"},{"$error":"#N/A"},{"$error":"#N/A"},{"$error":"#N/A"},{"$error":"#N/A"},{"$error":"#N/A"},{"$error":"#N/A"},{"$error":"#N/A"},{"$error":"#N/A"},{"$error":"#N/A"},{"$error":"#N/A"},{"$error":"#N/A"},{"$error":"#N/A"},{"$error":"#N/A"},{"$error":"#N/A"},{"$error":"#N/A"},{"$error":"#N/A"},{"$error":"#N/A"},{"$error":"#N/A"},{"$error":"#N/A"},{"$error":"#N/A"},{"$error":"#N/A"},{"$error":"#N/A"},{"$error":"#N/A"},{"$error":"#N/A"},{"$error":"#N/A"},{"$error":"#N/A"},{"$error":"#N/A"},{"$error":"#N/A"},{"$error":"#N/A"},{"$error":"#N/A"},{"$error":"#N/A"},{"$error":"#N/A"},{"$error":"#N/A"},{"$error":"#N/A"},{"$error":"#N/A"},{"$error":"#N/A"},{"$error":"#N/A"},{"$error":"#N/A"}]
[10,"Wilmington Academy, Phase 4",{"$error":"#N/A"},{"$error":"#N/A"},{"$error":"#N/A"},{"$error":"#N/A"},{"$error":"#N/A"},{"$error":"#N/A"},{"$error":"#N/A"},{"$error":"#N/A"},{"$error":"#N/A"},{"$error":"#N/A"},{"$error":"#N/A"},{"$error":"#N/A"},{"$error":"#N/A"},{"$error":"#N/A"},{"$error":"#N/A"},{"$error":"#N/A"},{"$error":"#N/A"},{"$error":"#N/A"},{"$error":"#N/A"},{"$error":"#N/A"},{"$error":"#N/A"},{"$error":"#N/A"},{"$error":"#N/A"},{"$error":"#N/A"},{"$error":"#N/A"},{"$error":"#N/A"},{"$error":"#N/A"},{"$error":"#N/A"},{"$error":"#N/A"},{"$error":"#N/A"},{"$error":"#N/A"},{"$error":"#N/A"},{"$error":"#N/A"},{"$error":"#N/A"},{"$error":"#N/A"},{"$error":"#N/A"},{"$error":"#N/A"},{"$error":"#N/A"},{"$error":"#N/A"},{"$error":"#N/A"},{"$error":"#N/A"},{"$error":"#N/A"},{"$error":"#N/A"},{"$error":"#N/A"},{"$error":"#N/A"},{"$error":"#N/A"},{"$error":"#N/A"},{"$error":"#N/A"},{"$error":"#N/A"},{"$error":"#N/A"},{"$error":"#N/A"},{"$error":"#N/A"},{"$error":"#N/A"},{"$error":"#N/A"},{"$error":"#N/A"},{"$error":"#N/A"},{"$error":"#N/A"},{"$error":"#N/A"},{"$error":"#N/A"},{"$error":"#N/A"},{"$error":"#N/A"},{"$error":"#N/A"},{"$error":"#N/A"},{"$error":"#N/A"},{"$error":"#N/A"},{"$error":"#N/A"},{"$error":"#N/A"},{"$error":"#N/A"},{"$error":"#N/A"},{"$error":"#N/A"},{"$error":"#N/A"},{"$error":"#N/A"},{"$error":"#N/A"},{"$error":"#N/A"},{"$error":"#N/A"},{"$error":"#N/A"},{"$error":"#N/A"},{"$error":"#N/A"},{"$error":"#N/A"},{"$error":"#N/A"},{"$error":"#N/A"},{"$error":"#N/A"},{"$error":"#N/A"},{"$error":"#N/A"},{"$error":"#N/A"}]
[11,"Wilmington Academy, Phase 5",{"$error":"#N/A"},{"$error":"#N/A"},{"$error":"#N/A"},{"$error":"#N/A"},{"$error":"#N/A"},{"$error":"#N/A"},{"$error":"#N/A"},{"$error":"#N/A"},{"$error":"#N/A"},{"$error":"#N/A"},{"$error":"#N/A"},{"$error":"#N/A"},{"$error":"#N/A"},{"$error":"#N/A"},{"$error":"#N/A"},{"$error":"#N/A"},{"$error":"#N/A"},{"$error":"#N/A"},{"$error":"#N/A"},{"$error":"#N/A"},{"$error":"#N/A"},{"$error":"#N/A"},{"$error":"#N/A"},{"$error":"#N/A"},{"$error":"#N/A"},{"$error":"#N/A"},{"$error":"#N/A"},{"$error":"#N/A"},{"$error":"#N/A"},{"$error":"#N/A"},{"$error":"#N/A"},{"$error":"#N/A"},{"$error":"#N/A"},{"$error":"#N/A"},{"$error":"#N/A"},{"$error":"#N/A"},{"$error":"#N/A"},{"$error":"#N/A"},{"$error":"#N/A"},{"$error":"#N/A"},{"$error":"#N/A"},{"$error":"#N/A"},{"$error":"#N/A"},{"$error":"#N/A"},{"$error":"#N/A"},{"$error":"#N/A"},{"$error":"#N/A"},{"$error":"#N/A"},{"$error":"#N/A"},{"$error":"#N/A"},{"$error":"#N/A"},{"$error":"#N/A"},{"$error":"#N/A"},{"$error":"#N/A"},{"$error":"#N/A"},{"$error":"#N/A"},{"$error":"#N/A"},{"$error":"#N/A"},{"$error":"#N/A"},{"$error":"#N/A"},{"$error":"#N/A"},{"$error":"#N/A"},{"$error":"#N/A"},{"$error":"#N/A"},{"$error":"#N/A"},{"$error":"#N/A"},{"$error":"#N/A"},{"$error":"#N/A"},{"$error":"#N/A"},{"$error":"#N/A"},{"$error":"#N/A"},{"$error":"#N/A"},{"$error":"#N/A"},{"$error":"#N/A"},{"$error":"#N/A"},{"$error":"#N/A"},{"$error":"#N/A"},{"$error":"#N/A"},{"$error":"#N/A"},{"$error":"#N/A"},{"$error":"#N/A"},{"$error":"#N/A"},{"$error":"#N/A"},{"$error":"#N/A"},{"$error":"#N/A"}]
[12,"Wilmington Academy, Phase 6",{"$error":"#N/A"},{"$error":"#N/A"},{"$error":"#N/A"},{"$error":"#N/A"},{"$error":"#N/A"},{"$error":"#N/A"},{"$error":"#N/A"},{"$error":"#N/A"},{"$error":"#N/A"},{"$error":"#N/A"},{"$error":"#N/A"},{"$error":"#N/A"},{"$error":"#N/A"},{"$error":"#N/A"},{"$error":"#N/A"},{"$error":"#N/A"},{"$error":"#N/A"},{"$error":"#N/A"},{"$error":"#N/A"},{"$error":"#N/A"},{"$error":"#N/A"},{"$error":"#N/A"},{"$error":"#N/A"},{"$error":"#N/A"},{"$error":"#N/A"},{"$error":"#N/A"},{"$error":"#N/A"},{"$error":"#N/A"},{"$error":"#N/A"},{"$error":"#N/A"},{"$error":"#N/A"},{"$error":"#N/A"},{"$error":"#N/A"},{"$error":"#N/A"},{"$error":"#N/A"},{"$error":"#N/A"},{"$error":"#N/A"},{"$error":"#N/A"},{"$error":"#N/A"},{"$error":"#N/A"},{"$error":"#N/A"},{"$error":"#N/A"},{"$error":"#N/A"},{"$error":"#N/A"},{"$error":"#N/A"},{"$error":"#N/A"},{"$error":"#N/A"},{"$error":"#N/A"},{"$error":"#N/A"},{"$error":"#N/A"},{"$error":"#N/A"},{"$error":"#N/A"},{"$error":"#N/A"},{"$error":"#N/A"},{"$error":"#N/A"},{"$error":"#N/A"},{"$error":"#N/A"},{"$error":"#N/A"},{"$error":"#N/A"},{"$error":"#N/A"},{"$error":"#N/A"},{"$error":"#N/A"},{"$error":"#N/A"},{"$error":"#N/A"},{"$error":"#N/A"},{"$error":"#N/A"},{"$error":"#N/A"},{"$error":"#N/A"},{"$error":"#N/A"},{"$error":"#N/A"},{"$error":"#N/A"},{"$error":"#N/A"},{"$error":"#N/A"},{"$error":"#N/A"},{"$error":"#N/A"},{"$error":"#N/A"},{"$error":"#N/A"},{"$error":"#N/A"},{"$error":"#N/A"},{"$error":"#N/A"},{"$error":"#N/A"},{"$error":"#N/A"},{"$error":"#N/A"},{"$error":"#N/A"},{"$error":"#N/A"}]
[13,"Wilmington Grammar, Phase 1",{"$error":"#N/A"},{"$error":"#N/A"},{"$error":"#N/A"},{"$error":"#N/A"},{"$error":"#N/A"},{"$error":"#N/A"},{"$error":"#N/A"},{"$error":"#N/A"},{"$error":"#N/A"},{"$error":"#N/A"},{"$error":"#N/A"},{"$error":"#N/A"},{"$error":"#N/A"},{"$error":"#N/A"},{"$error":"#N/A"},{"$error":"#N/A"},{"$error":"#N/A"},{"$error":"#N/A"},{"$error":"#N/A"},{"$error":"#N/A"},{"$error":"#N/A"},{"$error":"#N/A"},{"$error":"#N/A"},{"$error":"#N/A"},{"$error":"#N/A"},{"$error":"#N/A"},{"$error":"#N/A"},{"$error":"#N/A"},{"$error":"#N/A"},{"$error":"#N/A"},{"$error":"#N/A"},{"$error":"#N/A"},{"$error":"#N/A"},{"$error":"#N/A"},{"$error":"#N/A"},{"$error":"#N/A"},{"$error":"#N/A"},{"$error":"#N/A"},{"$error":"#N/A"},{"$error":"#N/A"},{"$error":"#N/A"},{"$error":"#N/A"},{"$error":"#N/A"},{"$error":"#N/A"},{"$error":"#N/A"},{"$error":"#N/A"},{"$error":"#N/A"},{"$error":"#N/A"},{"$error":"#N/A"},{"$error":"#N/A"},{"$error":"#N/A"},{"$error":"#N/A"},{"$error":"#N/A"},{"$error":"#N/A"},{"$error":"#N/A"},{"$error":"#N/A"},{"$error":"#N/A"},{"$error":"#N/A"},{"$error":"#N/A"},{"$error":"#N/A"},{"$error":"#N/A"},{"$error":"#N/A"},{"$error":"#N/A"},{"$error":"#N/A"},{"$error":"#N/A"},{"$error":"#N/A"},{"$error":"#N/A"},{"$error":"#N/A"},{"$error":"#N/A"},{"$error":"#N/A"},{"$error":"#N/A"},{"$error":"#N/A"},{"$error":"#N/A"},{"$error":"#N/A"},{"$error":"#N/A"},{"$error":"#N/A"},{"$error":"#N/A"},{"$error":"#N/A"},{"$error":"#N/A"},{"$error":"#N/A"},{"$error":"#N/A"},{"$error":"#N/A"},{"$error":"#N/A"},{"$error":"#N/A"},{"$error":"#N/A"}]
[14,"Wilmington Grammar, Phase 2",{"$error":"#N/A"},{"$error":"#N/A"},{"$error":"#N/A"},{"$error":"#N/A"},{"$error":"#N/A"},{"$error":"#N/A"},{"$error":"#N/A"},{"$error":"#N/A"},{"$error":"#N/A"},{"$error":"#N/A"},{"$error":"#N/A"},{"$error":"#N/A"},{"$error":"#N/A"},{"$error":"#N/A"},{"$error":"#N/A"},{"$error":"#N/A"},{"$error":"#N/A"},{"$error":"#N/A"},{"$error":"#N/A"},{"$error":"#N/A"},{"$error":"#N/A"},{"$error":"#N/A"},{"$error":"#N/A"},{"$error":"#N/A"},{"$error":"#N/A"},{"$error":"#N/A"},{"$error":"#N/A"},{"$error":"#N/A"},{"$error":"#N/A"},{"$error":"#N/A"},{"$error":"#N/A"},{"$error":"#N/A"},{"$error":"#N/A"},{"$error":"#N/A"},{"$error":"#N/A"},{"$error":"#N/A"},{"$error":"#N/A"},{"$error":"#N/A"},{"$error":"#N/A"},{"$error":"#N/A"},{"$error":"#N/A"},{"$error":"#N/A"},{"$error":"#N/A"},{"$error":"#N/A"},{"$error":"#N/A"},{"$error":"#N/A"},{"$error":"#N/A"},{"$error":"#N/A"},{"$error":"#N/A"},{"$error":"#N/A"},{"$error":"#N/A"},{"$error":"#N/A"},{"$error":"#N/A"},{"$error":"#N/A"},{"$error":"#N/A"},{"$error":"#N/A"},{"$error":"#N/A"},{"$error":"#N/A"},{"$error":"#N/A"},{"$error":"#N/A"},{"$error":"#N/A"},{"$error":"#N/A"},{"$error":"#N/A"},{"$error":"#N/A"},{"$error":"#N/A"},{"$error":"#N/A"},{"$error":"#N/A"},{"$error":"#N/A"},{"$error":"#N/A"},{"$error":"#N/A"},{"$error":"#N/A"},{"$error":"#N/A"},{"$error":"#N/A"},{"$error":"#N/A"},{"$error":"#N/A"},{"$error":"#N/A"},{"$error":"#N/A"},{"$error":"#N/A"},{"$error":"#N/A"},{"$error":"#N/A"},{"$error":"#N/A"},{"$error":"#N/A"},{"$error":"#N/A"},{"$error":"#N/A"},{"$error":"#N/A"}]
[15,"Wilmington Grammar, Phase 3",{"$error":"#N/A"},{"$error":"#N/A"},{"$error":"#N/A"},{"$error":"#N/A"},{"$error":"#N/A"},{"$error":"#N/A"},{"$error":"#N/A"},{"$error":"#N/A"},{"$error":"#N/A"},{"$error":"#N/A"},{"$error":"#N/A"},{"$error":"#N/A"},{"$error":"#N/A"},{"$error":"#N/A"},{"$error":"#N/A"},{"$error":"#N/A"},{"$error":"#N/A"},{"$error":"#N/A"},{"$error":"#N/A"},{"$error":"#N/A"},{"$error":"#N/A"},{"$error":"#N/A"},{"$error":"#N/A"},{"$error":"#N/A"},{"$error":"#N/A"},{"$error":"#N/A"},{"$error":"#N/A"},{"$error":"#N/A"},{"$error":"#N/A"},{"$error":"#N/A"},{"$error":"#N/A"},{"$error":"#N/A"},{"$error":"#N/A"},{"$error":"#N/A"},{"$error":"#N/A"},{"$error":"#N/A"},{"$error":"#N/A"},{"$error":"#N/A"},{"$error":"#N/A"},{"$error":"#N/A"},{"$error":"#N/A"},{"$error":"#N/A"},{"$error":"#N/A"},{"$error":"#N/A"},{"$error":"#N/A"},{"$error":"#N/A"},{"$error":"#N/A"},{"$error":"#N/A"},{"$error":"#N/A"},{"$error":"#N/A"},{"$error":"#N/A"},{"$error":"#N/A"},{"$error":"#N/A"},{"$error":"#N/A"},{"$error":"#N/A"},{"$error":"#N/A"},{"$error":"#N/A"},{"$error":"#N/A"},{"$error":"#N/A"},{"$error":"#N/A"},{"$error":"#N/A"},{"$error":"#N/A"},{"$error":"#N/A"},{"$error":"#N/A"},{"$error":"#N/A"},{"$error":"#N/A"},{"$error":"#N/A"},{"$error":"#N/A"},{"$error":"#N/A"},{"$error":"#N/A"},{"$error":"#N/A"},{"$error":"#N/A"},{"$error":"#N/A"},{"$error":"#N/A"},{"$error":"#N/A"},{"$error":"#N/A"},{"$error":"#N/A"},{"$error":"#N/A"},{"$error":"#N/A"},{"$error":"#N/A"},{"$error":"#N/A"},{"$error":"#N/A"},{"$error":"#N/A"},{"$error":"#N/A"},{"$error":"#N/A"}]
[16,"Wilmington Grammar, Phase 4",{"$error":"#N/A"},{"$error":"#N/A"},{"$error":"#N/A"},{"$error":"#N/A"},{"$error":"#N/A"},{"$error":"#N/A"},{"$error":"#N/A"},{"$error":"#N/A"},{"$error":"#N/A"},{"$error":"#N/A"},{"$error":"#N/A"},{"$error":"#N/A"},{"$error":"#N/A"},{"$error":"#N/A"},{"$error":"#N/A"},{"$error":"#N/A"},{"$error":"#N/A"},{"$error":"#N/A"},{"$error":"#N/A"},{"$error":"#N/A"},{"$error":"#N/A"},{"$error":"#N/A"},{"$error":"#N/A"},{"$error":"#N/A"},{"$error":"#N/A"},{"$error":"#N/A"},{"$error":"#N/A"},{"$error":"#N/A"},{"$error":"#N/A"},{"$error":"#N/A"},{"$error":"#N/A"},{"$error":"#N/A"},{"$error":"#N/A"},{"$error":"#N/A"},{"$error":"#N/A"},{"$error":"#N/A"},{"$error":"#N/A"},{"$error":"#N/A"},{"$error":"#N/A"},{"$error":"#N/A"},{"$error":"#N/A"},{"$error":"#N/A"},{"$error":"#N/A"},{"$error":"#N/A"},{"$error":"#N/A"},{"$error":"#N/A"},{"$error":"#N/A"},{"$error":"#N/A"},{"$error":"#N/A"},{"$error":"#N/A"},{"$error":"#N/A"},{"$error":"#N/A"},{"$error":"#N/A"},{"$error":"#N/A"},{"$error":"#N/A"},{"$error":"#N/A"},{"$error":"#N/A"},{"$error":"#N/A"},{"$error":"#N/A"},{"$error":"#N/A"},{"$error":"#N/A"},{"$error":"#N/A"},{"$error":"#N/A"},{"$error":"#N/A"},{"$error":"#N/A"},{"$error":"#N/A"},{"$error":"#N/A"},{"$error":"#N/A"},{"$error":"#N/A"},{"$error":"#N/A"},{"$error":"#N/A"},{"$error":"#N/A"},{"$error":"#N/A"},{"$error":"#N/A"},{"$error":"#N/A"},{"$error":"#N/A"},{"$error":"#N/A"},{"$error":"#N/A"},{"$error":"#N/A"},{"$error":"#N/A"},{"$error":"#N/A"},{"$error":"#N/A"},{"$error":"#N/A"},{"$error":"#N/A"},{"$error":"#N/A"}]
[17,"Mayfield Grammar, Phase 1",{"$error":"#N/A"},{"$error":"#N/A"},{"$error":"#N/A"},{"$error":"#N/A"},{"$error":"#N/A"},{"$error":"#N/A"},{"$error":"#N/A"},{"$error":"#N/A"},{"$error":"#N/A"},{"$error":"#N/A"},{"$error":"#N/A"},{"$error":"#N/A"},{"$error":"#N/A"},{"$error":"#N/A"},{"$error":"#N/A"},{"$error":"#N/A"},{"$error":"#N/A"},{"$error":"#N/A"},{"$error":"#N/A"},{"$error":"#N/A"},{"$error":"#N/A"},{"$error":"#N/A"},{"$error":"#N/A"},{"$error":"#N/A"},{"$error":"#N/A"},{"$error":"#N/A"},{"$error":"#N/A"},{"$error":"#N/A"},{"$error":"#N/A"},{"$error":"#N/A"},{"$error":"#N/A"},{"$error":"#N/A"},{"$error":"#N/A"},{"$error":"#N/A"},{"$error":"#N/A"},{"$error":"#N/A"},{"$error":"#N/A"},{"$error":"#N/A"},{"$error":"#N/A"},{"$error":"#N/A"},{"$error":"#N/A"},{"$error":"#N/A"},{"$error":"#N/A"},{"$error":"#N/A"},{"$error":"#N/A"},{"$error":"#N/A"},{"$error":"#N/A"},{"$error":"#N/A"},{"$error":"#N/A"},{"$error":"#N/A"},{"$error":"#N/A"},{"$error":"#N/A"},{"$error":"#N/A"},{"$error":"#N/A"},{"$error":"#N/A"},{"$error":"#N/A"},{"$error":"#N/A"},{"$error":"#N/A"},{"$error":"#N/A"},{"$error":"#N/A"},{"$error":"#N/A"},{"$error":"#N/A"},{"$error":"#N/A"},{"$error":"#N/A"},{"$error":"#N/A"},{"$error":"#N/A"},{"$error":"#N/A"},{"$error":"#N/A"},{"$error":"#N/A"},{"$error":"#N/A"},{"$error":"#N/A"},{"$error":"#N/A"},{"$error":"#N/A"},{"$error":"#N/A"},{"$error":"#N/A"},{"$error":"#N/A"},{"$error":"#N/A"},{"$error":"#N/A"},{"$error":"#N/A"},{"$error":"#N/A"},{"$error":"#N/A"},{"$error":"#N/A"},{"$error":"#N/A"},{"$error":"#N/A"},{"$error":"#N/A"}]
[18,"Mayfield Grammar, Phase 2",{"$error":"#N/A"},{"$error":"#N/A"},{"$error":"#N/A"},{"$error":"#N/A"},{"$error":"#N/A"},{"$error":"#N/A"},{"$error":"#N/A"},{"$error":"#N/A"},{"$error":"#N/A"},{"$error":"#N/A"},{"$error":"#N/A"},{"$error":"#N/A"},{"$error":"#N/A"},{"$error":"#N/A"},{"$error":"#N/A"},{"$error":"#N/A"},{"$error":"#N/A"},{"$error":"#N/A"},{"$error":"#N/A"},{"$error":"#N/A"},{"$error":"#N/A"},{"$error":"#N/A"},{"$error":"#N/A"},{"$error":"#N/A"},{"$error":"#N/A"},{"$error":"#N/A"},{"$error":"#N/A"},{"$error":"#N/A"},{"$error":"#N/A"},{"$error":"#N/A"},{"$error":"#N/A"},{"$error":"#N/A"},{"$error":"#N/A"},{"$error":"#N/A"},{"$error":"#N/A"},{"$error":"#N/A"},{"$error":"#N/A"},{"$error":"#N/A"},{"$error":"#N/A"},{"$error":"#N/A"},{"$error":"#N/A"},{"$error":"#N/A"},{"$error":"#N/A"},{"$error":"#N/A"},{"$error":"#N/A"},{"$error":"#N/A"},{"$error":"#N/A"},{"$error":"#N/A"},{"$error":"#N/A"},{"$error":"#N/A"},{"$error":"#N/A"},{"$error":"#N/A"},{"$error":"#N/A"},{"$error":"#N/A"},{"$error":"#N/A"},{"$error":"#N/A"},{"$error":"#N/A"},{"$error":"#N/A"},{"$error":"#N/A"},{"$error":"#N/A"},{"$error":"#N/A"},{"$error":"#N/A"},{"$error":"#N/A"},{"$error":"#N/A"},{"$error":"#N/A"},{"$error":"#N/A"},{"$error":"#N/A"},{"$error":"#N/A"},{"$error":"#N/A"},{"$error":"#N/A"},{"$error":"#N/A"},{"$error":"#N/A"},{"$error":"#N/A"},{"$error":"#N/A"},{"$error":"#N/A"},{"$error":"#N/A"},{"$error":"#N/A"},{"$error":"#N/A"},{"$error":"#N/A"},{"$error":"#N/A"},{"$error":"#N/A"},{"$error":"#N/A"},{"$error":"#N/A"},{"$error":"#N/A"},{"$error":"#N/A"}]
[19,"Mayfield Grammar, Phase 3",{"$error":"#N/A"},{"$error":"#N/A"},{"$error":"#N/A"},{"$error":"#N/A"},{"$error":"#N/A"},{"$error":"#N/A"},{"$error":"#N/A"},{"$error":"#N/A"},{"$error":"#N/A"},{"$error":"#N/A"},{"$error":"#N/A"},{"$error":"#N/A"},{"$error":"#N/A"},{"$error":"#N/A"},{"$error":"#N/A"},{"$error":"#N/A"},{"$error":"#N/A"},{"$error":"#N/A"},{"$error":"#N/A"},{"$error":"#N/A"},{"$error":"#N/A"},{"$error":"#N/A"},{"$error":"#N/A"},{"$error":"#N/A"},{"$error":"#N/A"},{"$error":"#N/A"},{"$error":"#N/A"},{"$error":"#N/A"},{"$error":"#N/A"},{"$error":"#N/A"},{"$error":"#N/A"},{"$error":"#N/A"},{"$error":"#N/A"},{"$error":"#N/A"},{"$error":"#N/A"},{"$error":"#N/A"},{"$error":"#N/A"},{"$error":"#N/A"},{"$error":"#N/A"},{"$error":"#N/A"},{"$error":"#N/A"},{"$error":"#N/A"},{"$error":"#N/A"},{"$error":"#N/A"},{"$error":"#N/A"},{"$error":"#N/A"},{"$error":"#N/A"},{"$error":"#N/A"},{"$error":"#N/A"},{"$error":"#N/A"},{"$error":"#N/A"},{"$error":"#N/A"},{"$error":"#N/A"},{"$error":"#N/A"},{"$error":"#N/A"},{"$error":"#N/A"},{"$error":"#N/A"},{"$error":"#N/A"},{"$error":"#N/A"},{"$error":"#N/A"},{"$error":"#N/A"},{"$error":"#N/A"},{"$error":"#N/A"},{"$error":"#N/A"},{"$error":"#N/A"},{"$error":"#N/A"},{"$error":"#N/A"},{"$error":"#N/A"},{"$error":"#N/A"},{"$error":"#N/A"},{"$error":"#N/A"},{"$error":"#N/A"},{"$error":"#N/A"},{"$error":"#N/A"},{"$error":"#N/A"},{"$error":"#N/A"},{"$error":"#N/A"},{"$error":"#N/A"},{"$error":"#N/A"},{"$error":"#N/A"},{"$error":"#N/A"},{"$error":"#N/A"},{"$error":"#N/A"},{"$error":"#N/A"},{"$error":"#N/A"}]
[20,"Mayfield Grammar, Phase 4",{"$error":"#N/A"},{"$error":"#N/A"},{"$error":"#N/A"},{"$error":"#N/A"},{"$error":"#N/A"},{"$error":"#N/A"},{"$error":"#N/A"},{"$error":"#N/A"},{"$error":"#N/A"},{"$error":"#N/A"},{"$error":"#N/A"},{"$error":"#N/A"},{"$error":"#N/A"},{"$error":"#N/A"},{"$error":"#N/A"},{"$error":"#N/A"},{"$error":"#N/A"},{"$error":"#N/A"},{"$error":"#N/A"},{"$error":"#N/A"},{"$error":"#N/A"},{"$error":"#N/A"},{"$error":"#N/A"},{"$error":"#N/A"},{"$error":"#N/A"},{"$error":"#N/A"},{"$error":"#N/A"},{"$error":"#N/A"},{"$error":"#N/A"},{"$error":"#N/A"},{"$error":"#N/A"},{"$error":"#N/A"},{"$error":"#N/A"},{"$error":"#N/A"},{"$error":"#N/A"},{"$error":"#N/A"},{"$error":"#N/A"},{"$error":"#N/A"},{"$error":"#N/A"},{"$error":"#N/A"},{"$error":"#N/A"},{"$error":"#N/A"},{"$error":"#N/A"},{"$error":"#N/A"},{"$error":"#N/A"},{"$error":"#N/A"},{"$error":"#N/A"},{"$error":"#N/A"},{"$error":"#N/A"},{"$error":"#N/A"},{"$error":"#N/A"},{"$error":"#N/A"},{"$error":"#N/A"},{"$error":"#N/A"},{"$error":"#N/A"},{"$error":"#N/A"},{"$error":"#N/A"},{"$error":"#N/A"},{"$error":"#N/A"},{"$error":"#N/A"},{"$error":"#N/A"},{"$error":"#N/A"},{"$error":"#N/A"},{"$error":"#N/A"},{"$error":"#N/A"},{"$error":"#N/A"},{"$error":"#N/A"},{"$error":"#N/A"},{"$error":"#N/A"},{"$error":"#N/A"},{"$error":"#N/A"},{"$error":"#N/A"},{"$error":"#N/A"},{"$error":"#N/A"},{"$error":"#N/A"},{"$error":"#N/A"},{"$error":"#N/A"},{"$error":"#N/A"},{"$error":"#N/A"},{"$error":"#N/A"},{"$error":"#N/A"},{"$error":"#N/A"},{"$error":"#N/A"},{"$error":"#N/A"},{"$error":"#N/A"}]
[21,"Mayfield Grammar, Phase 5",{"$error":"#N/A"},{"$error":"#N/A"},{"$error":"#N/A"},{"$error":"#N/A"},{"$error":"#N/A"},{"$error":"#N/A"},{"$error":"#N/A"},{"$error":"#N/A"},{"$error":"#N/A"},{"$error":"#N/A"},{"$error":"#N/A"},{"$error":"#N/A"},{"$error":"#N/A"},{"$error":"#N/A"},{"$error":"#N/A"},{"$error":"#N/A"},{"$error":"#N/A"},{"$error":"#N/A"},{"$error":"#N/A"},{"$error":"#N/A"},{"$error":"#N/A"},{"$error":"#N/A"},{"$error":"#N/A"},{"$error":"#N/A"},{"$error":"#N/A"},{"$error":"#N/A"},{"$error":"#N/A"},{"$error":"#N/A"},{"$error":"#N/A"},{"$error":"#N/A"},{"$error":"#N/A"},{"$error":"#N/A"},{"$error":"#N/A"},{"$error":"#N/A"},{"$error":"#N/A"},{"$error":"#N/A"},{"$error":"#N/A"},{"$error":"#N/A"},{"$error":"#N/A"},{"$error":"#N/A"},{"$error":"#N/A"},{"$error":"#N/A"},{"$error":"#N/A"},{"$error":"#N/A"},{"$error":"#N/A"},{"$error":"#N/A"},{"$error":"#N/A"},{"$error":"#N/A"},{"$error":"#N/A"},{"$error":"#N/A"},{"$error":"#N/A"},{"$error":"#N/A"},{"$error":"#N/A"},{"$error":"#N/A"},{"$error":"#N/A"},{"$error":"#N/A"},{"$error":"#N/A"},{"$error":"#N/A"},{"$error":"#N/A"},{"$error":"#N/A"},{"$error":"#N/A"},{"$error":"#N/A"},{"$error":"#N/A"},{"$error":"#N/A"},{"$error":"#N/A"},{"$error":"#N/A"},{"$error":"#N/A"},{"$error":"#N/A"},{"$error":"#N/A"},{"$error":"#N/A"},{"$error":"#N/A"},{"$error":"#N/A"},{"$error":"#N/A"},{"$error":"#N/A"},{"$error":"#N/A"},{"$error":"#N/A"},{"$error":"#N/A"},{"$error":"#N/A"},{"$error":"#N/A"},{"$error":"#N/A"},{"$error":"#N/A"},{"$error":"#N/A"},{"$error":"#N/A"},{"$error":"#N/A"},{"$error":"#N/A"}]
[22,"Mayfield Grammar, Phase 6",{"$error":"#N/A"},{"$error":"#N/A"},{"$error":"#N/A"},{"$error":"#N/A"},{"$error":"#N/A"},{"$error":"#N/A"},{"$error":"#N/A"},{"$error":"#N/A"},{"$error":"#N/A"},{"$error":"#N/A"},{"$error":"#N/A"},{"$error":"#N/A"},{"$error":"#N/A"},{"$error":"#N/A"},{"$error":"#N/A"},{"$error":"#N/A"},{"$error":"#N/A"},{"$error":"#N/A"},{"$error":"#N/A"},{"$error":"#N/A"},{"$error":"#N/A"},{"$error":"#N/A"},{"$error":"#N/A"},{"$error":"#N/A"},{"$error":"#N/A"},{"$error":"#N/A"},{"$error":"#N/A"},{"$error":"#N/A"},{"$error":"#N/A"},{"$error":"#N/A"},{"$error":"#N/A"},{"$error":"#N/A"},{"$error":"#N/A"},{"$error":"#N/A"},{"$error":"#N/A"},{"$error":"#N/A"},{"$error":"#N/A"},{"$error":"#N/A"},{"$error":"#N/A"},{"$error":"#N/A"},{"$error":"#N/A"},{"$error":"#N/A"},{"$error":"#N/A"},{"$error":"#N/A"},{"$error":"#N/A"},{"$error":"#N/A"},{"$error":"#N/A"},{"$error":"#N/A"},{"$error":"#N/A"},{"$error":"#N/A"},{"$error":"#N/A"},{"$error":"#N/A"},{"$error":"#N/A"},{"$error":"#N/A"},{"$error":"#N/A"},{"$error":"#N/A"},{"$error":"#N/A"},{"$error":"#N/A"},{"$error":"#N/A"},{"$error":"#N/A"},{"$error":"#N/A"},{"$error":"#N/A"},{"$error":"#N/A"},{"$error":"#N/A"},{"$error":"#N/A"},{"$error":"#N/A"},{"$error":"#N/A"},{"$error":"#N/A"},{"$error":"#N/A"},{"$error":"#N/A"},{"$error":"#N/A"},{"$error":"#N/A"},{"$error":"#N/A"},{"$error":"#N/A"},{"$error":"#N/A"},{"$error":"#N/A"},{"$error":"#N/A"},{"$error":"#N/A"},{"$error":"#N/A"},{"$error":"#N/A"},{"$error":"#N/A"},{"$error":"#N/A"},{"$error":"#N/A"},{"$error":"#N/A"},{"$error":"#N/A"}]
[23,"Brent PS","North","1FE - multiple phase expansion",4600000,4323325.6900000004,{"$error":"#REF!"},{"$error":"#REF!"},{"$error":"#REF!"},{"$error":"#REF!"},{"$error":"#REF!"},{"$error":"#REF!"},{"$error":"#REF!"},{"$error":"#REF!"},{"$error":"#REF!"},{"$error":"#REF!"},{"$error":"#REF!"},{"$error":"#REF!"},{"$error":"#REF!"},{"$error":"#REF!"},{"$error":"#REF!"},{"$error":"#REF!"},{"$error":"#REF!"},{"$error":"#REF!"},{"$error":"#REF!"},{"$error":"#REF!"},{"$error":"#REF!"},{"$error":"#REF!"},{"$error":"#REF!"},{"$error":"#REF!"},{"$error":"#REF!"},{"$error":"#REF!"},{"$error":"#REF!"},{"$error":"#REF!"},{"$error":"#REF!"},{"$error":"#REF!"},{"$error":"#REF!"},{"$error":"#REF!"},{"$error":"#REF!"},{"$error":"#REF!"},{"$error":"#REF!"},{"$error":"#REF!"},{"$error":"#REF!"},{"$error":"#REF!"},{"$error":"#REF!"},{"$error":"#REF!"},{"$error":"#REF!"},{"$error":"#REF!"},{"$error":"#REF!"},{"$error":"#REF!"},{"$error":"#REF!"},{"$error":"#REF!"},{"$error":"#REF!"},{"$error":"#REF!"},{"$error":"#REF!"},{"$error":"#REF!"},{"$error":"#REF!"},{"$error":"#REF!"},{"$error":"#REF!"},{"$error":"#REF!"},{"$error":"#REF!"},{"$error":"#REF!"},{"$error":"#REF!"},{"$error":"#REF!"},{"$error":"#REF!"},{"$error":"#REF!"},{"$error":"#REF!"},{"$error":"#REF!"},{"$error":"#REF!"},{"$error":"#REF!"},{"$error":"#REF!"},{"$error":"#REF!"},{"$error":"#REF!"},{"$error":"#REF!"},{"$error":"#REF!"},{"$error":"#REF!"},{"$error":"#REF!"},{"$error":"#REF!"},{"$error":"#REF!"},{"$error":"#REF!"},{"$error":"#REF!"},{"$error":"#REF!"},{"$error":"#REF!"},{"$error":"#REF!"},{"$error":"#REF!"},{"$error":"#REF!"},{"$error":"#REF!"}]
[24,"Edenbridge PS",{"$error":"#N/A"},{"$error":"#N/A"},{"$error":"#N/A"},{"$error":"#N/A"},{"$error":"#N/A"},{"$error":"#N/A"},{"$error":"#N/A"},{"$error":"#N/A"},{"$error":"#N/A"},{"$error":"#N/A"},{"$error":"#N/A"},{"$error":"#N/A"},{"$error":"#N/A"},{"$error":"#N/A"},{"$error":"#N/A"},{"$error":"#N/A"},{"$error":"#N/A"},{"$error":"#N/A"},{"$error":"#N/A"},{"$error":"#N/A"},{"$error":"#N/A"},{"$error":"#N/A"},{"$error":"#N/A"},{"$error":"#N/A"},{"$error":"#N/A"},{"$error":"#N/A"},{"$error":"#N/A"},{"$error":"#N/A"},{"$error":"#N/A"},{"$error":"#N/A"},{"$error":"#N/A"},{"$error":"#N/A"},{"$error":"#N/A"},{"$error":"#N/A"},{"$error":"#N/A"},{"$error":"#N/A"},{"$error":"#N/A"},{"$error":"#N/A"},{"$error":"#N/A"},{"$error":"#N/A"},{"$error":"#N/A"},{"$error":"#N/A"},{"$error":"#N/A"},{"$error":"#N/A"},{"$error":"#N/A"},{"$error":"#N/A"},{"$error":"#N/A"},{"$error":"#N/A"},{"$error":"#N/A"},{"$error":"#N/A"},{"$error":"#N/A"},{"$error":"#N/A"},{"$error":"#N/A"},{"$error":"#N/A"},{"$error":"#N/A"},{"$error":"#N/A"},{"$error":"#N/A"},{"$error":"#N/A"},{"$error":"#N/A"},{"$error":"#N/A"},{"$error":"#N/A"},{"$error":"#N/A"},{"$error":"#N/A"},{"$error":"#N/A"},{"$error":"#N/A"},{"$error":"#N/A"},{"$error":"#N/A"},{"$error":"#N/A"},{"$error":"#N/A"},{"$error":"#N/A"},{"$error":"#N/A"},{"$error":"#N/A"},{"$error":"#N/A"},{"$error":"#N/A"},{"$error":"#N/A"},{"$error":"#N/A"},{"$error":"#N/A"},{"$error":"#N/A"},{"$error":"#N/A"},{"$error":"#N/A"},{"$error":"#N/A"},{"$error":"#N/A"},{"$error":"#N/A"},{"$error":"#N/A"},{"$error":"#N/A"}]
[25,"Seal CoE PS","North","1FE expansion with ancillory facilities plus replacement of exisitng mobile accommodation and car park upgrade to Seal Parish Council ",2980000,4700000,{"$error":"#REF!"},{"$error":"#REF!"},{"$error":"#REF!"},{"$error":"#REF!"},{"$error":"#REF!"},{"$error":"#REF!"},{"$error":"#REF!"},{"$error":"#REF!"},{"$error":"#REF!"},{"$error":"#REF!"},{"$error":"#REF!"},{"$error":"#REF!"},{"$error":"#REF!"},{"$error":"#REF!"},{"$error":"#REF!"},{"$error":"#REF!"},{"$error":"#REF!"},{"$error":"#REF!"},{"$error":"#REF!"},{"$error":"#REF!"},{"$error":"#REF!"},{"$error":"#REF!"},{"$error":"#REF!"},{"$error":"#REF!"},{"$error":"#REF!"},{"$error":"#REF!"},{"$error":"#REF!"},{"$error":"#REF!"},{"$error":"#REF!"},{"$error":"#REF!"},{"$error":"#REF!"},{"$error":"#REF!"},{"$error":"#REF!"},{"$error":"#REF!"},{"$error":"#REF!"},{"$error":"#REF!"},{"$error":"#REF!"},{"$error":"#REF!"},{"$error":"#REF!"},{"$error":"#REF!"},{"$error":"#REF!"},{"$error":"#REF!"},{"$error":"#REF!"},{"$error":"#REF!"},{"$error":"#REF!"},{"$error":"#REF!"},{"$error":"#REF!"},{"$error":"#REF!"},{"$error":"#REF!"},{"$error":"#REF!"},{"$error":"#REF!"},{"$error":"#REF!"},{"$error":"#REF!"},{"$error":"#REF!"},{"$error":"#REF!"},{"$error":"#REF!"},{"$error":"#REF!"},{"$error":"#REF!"},{"$error":"#REF!"},{"$error":"#REF!"},{"$error":"#REF!"},{"$error":"#REF!"},{"$error":"#REF!"},{"$error":"#REF!"},{"$error":"#REF!"},{"$error":"#REF!"},{"$error":"#REF!"},{"$error":"#REF!"},{"$error":"#REF!"},{"$error":"#REF!"},{"$error":"#REF!"},{"$error":"#REF!"},{"$error":"#REF!"},{"$error":"#REF!"},{"$error":"#REF!"},{"$error":"#REF!"},{"$error":"#REF!"},{"$error":"#REF!"},{"$error":"#REF!"},{"$error":"#REF!"},{"$error":"#REF!"}]
[26,"Temple Hill PS",{"$error":"#N/A"},{"$error":"#N/A"},{"$error":"#N/A"},{"$error":"#N/A"},{"$error":"#N/A"},{"$error":"#N/A"},{"$error":"#N/A"},{"$error":"#N/A"},{"$error":"#N/A"},{"$error":"#N/A"},{"$error":"#N/A"},{"$error":"#N/A"},{"$error":"#N/A"},{"$error":"#N/A"},{"$error":"#N/A"},{"$error":"#N/A"},{"$error":"#N/A"},{"$error":"#N/A"},{"$error":"#N/A"},{"$error":"#N/A"},{"$error":"#N/A"},{"$error":"#N/A"},{"$error":"#N/A"},{"$error":"#N/A"},{"$error":"#N/A"},{"$error":"#N/A"},{"$error":"#N/A"},{"$error":"#N/A"},{"$error":"#N/A"},{"$error":"#N/A"},{"$error":"#N/A"},{"$error":"#N/A"},{"$error":"#N/A"},{"$error":"#N/A"},{"$error":"#N/A"},{"$error":"#N/A"},{"$error":"#N/A"},{"$error":"#N/A"},{"$error":"#N/A"},{"$error":"#N/A"},{"$error":"#N/A"},{"$error":"#N/A"},{"$error":"#N/A"},{"$error":"#N/A"},{"$error":"#N/A"},{"$error":"#N/A"},{"$error":"#N/A"},{"$error":"#N/A"},{"$error":"#N/A"},{"$error":"#N/A"},{"$error":"#N/A"},{"$error":"#N/A"},{"$error":"#N/A"},{"$error":"#N/A"},{"$error":"#N/A"},{"$error":"#N/A"},{"$error":"#N/A"},{"$error":"#N/A"},{"$error":"#N/A"},{"$error":"#N/A"},{"$error":"#N/A"},{"$error":"#N/A"},{"$error":"#N/A"},{"$error":"#N/A"},{"$error":"#N/A"},{"$error":"#N/A"},{"$error":"#N/A"},{"$error":"#N/A"},{"$error":"#N/A"},{"$error":"#N/A"},{"$error":"#N/A"},{"$error":"#N/A"},{"$error":"#N/A"},{"$error":"#N/A"},{"$error":"#N/A"},{"$error":"#N/A"},{"$error":"#N/A"},{"$error":"#N/A"},{"$error":"#N/A"},{"$error":"#N/A"},{"$error":"#N/A"},{"$error":"#N/A"},{"$error":"#N/A"},{"$error":"#N/A"},{"$error":"#N/A"}]
[27,"Northfleet School for Girls","North","1FE expansion",4000000,3991812.38,{"$error":"#REF!"},{"$error":"#REF!"},{"$error":"#REF!"},{"$error":"#REF!"},{"$error":"#REF!"},{"$error":"#REF!"},{"$error":"#REF!"},{"$error":"#REF!"},{"$error":"#REF!"},{"$error":"#REF!"},{"$error":"#REF!"},{"$error":"#REF!"},{"$error":"#REF!"},{"$error":"#REF!"},{"$error":"#REF!"},{"$error":"#REF!"},{"$error":"#REF!"},{"$error":"#REF!"},{"$error":"#REF!"},{"$error":"#REF!"},{"$error":"#REF!"},{"$error":"#REF!"},{"$error":"#REF!"},{"$error":"#REF!"},{"$error":"#REF!"},{"$error":"#REF!"},{"$error":"#REF!"},{"$error":"#REF!"},{"$error":"#REF!"},{"$error":"#REF!"},{"$error":"#REF!"},{"$error":"#REF!"},{"$error":"#REF!"},{"$error":"#REF!"},{"$error":"#REF!"},{"$error":"#REF!"},{"$error":"#REF!"},{"$error":"#REF!"},{"$error":"#REF!"},{"$error":"#REF!"},{"$error":"#REF!"},{"$error":"#REF!"},{"$error":"#REF!"},{"$error":"#REF!"},{"$error":"#REF!"},{"$error":"#REF!"},{"$error":"#REF!"},{"$error":"#REF!"},{"$error":"#REF!"},{"$error":"#REF!"},{"$error":"#REF!"},{"$error":"#REF!"},{"$error":"#REF!"},{"$error":"#REF!"},{"$error":"#REF!"},{"$error":"#REF!"},{"$error":"#REF!"},{"$error":"#REF!"},{"$error":"#REF!"},{"$error":"#REF!"},{"$error":"#REF!"},{"$error":"#REF!"},{"$error":"#REF!"},{"$error":"#REF!"},{"$error":"#REF!"},{"$error":"#REF!"},{"$error":"#REF!"},{"$error":"#REF!"},{"$error":"#REF!"},{"$error":"#REF!"},{"$error":"#REF!"},{"$error":"#REF!"},{"$error":"#REF!"},{"$error":"#REF!"},{"$error":"#REF!"},{"$error":"#REF!"},{"$error":"#REF!"},{"$error":"#REF!"},{"$error":"#REF!"},{"$error":"#REF!"},{"$error":"#REF!"}]
[28,"Craylands School, Phase 3",{"$error":"#N/A"},{"$error":"#N/A"},{"$error":"#N/A"},{"$error":"#N/A"},{"$error":"#N/A"},{"$error":"#N/A"},{"$error":"#N/A"},{"$error":"#N/A"},{"$error":"#N/A"},{"$error":"#N/A"},{"$error":"#N/A"},{"$error":"#N/A"},{"$error":"#N/A"},{"$error":"#N/A"},{"$error":"#N/A"},{"$error":"#N/A"},{"$error":"#N/A"},{"$error":"#N/A"},{"$error":"#N/A"},{"$error":"#N/A"},{"$error":"#N/A"},{"$error":"#N/A"},{"$error":"#N/A"},{"$error":"#N/A"},{"$error":"#N/A"},{"$error":"#N/A"},{"$error":"#N/A"},{"$error":"#N/A"},{"$error":"#N/A"},{"$error":"#N/A"},{"$error":"#N/A"},{"$error":"#N/A"},{"$error":"#N/A"},{"$error":"#N/A"},{"$error":"#N/A"},{"$error":"#N/A"},{"$error":"#N/A"},{"$error":"#N/A"},{"$error":"#N/A"},{"$error":"#N/A"},{"$error":"#N/A"},{"$error":"#N/A"},{"$error":"#N/A"},{"$error":"#N/A"},{"$error":"#N/A"},{"$error":"#N/A"},{"$error":"#N/A"},{"$error":"#N/A"},{"$error":"#N/A"},{"$error":"#N/A"},{"$error":"#N/A"},{"$error":"#N/A"},{"$error":"#N/A"},{"$error":"#N/A"},{"$error":"#N/A"},{"$error":"#N/A"},{"$error":"#N/A"},{"$error":"#N/A"},{"$error":"#N/A"},{"$error":"#N/A"},{"$error":"#N/A"},{"$error":"#N/A"},{"$error":"#N/A"},{"$error":"#N/A"},{"$error":"#N/A"},{"$error":"#N/A"},{"$error":"#N/A"},{"$error":"#N/A"},{"$error":"#N/A"},{"$error":"#N/A"},{"$error":"#N/A"},{"$error":"#N/A"},{"$error":"#N/A"},{"$error":"#N/A"},{"$error":"#N/A"},{"$error":"#N/A"},{"$error":"#N/A"},{"$error":"#N/A"},{"$error":"#N/A"},{"$error":"#N/A"},{"$error":"#N/A"},{"$error":"#N/A"},{"$error":"#N/A"},{"$error":"#N/A"},{"$error":"#N/A"}]
[29,"Craylands School, Phase 5",{"$error":"#N/A"},{"$error":"#N/A"},{"$error":"#N/A"},{"$error":"#N/A"},{"$error":"#N/A"},{"$error":"#N/A"},{"$error":"#N/A"},{"$error":"#N/A"},{"$error":"#N/A"},{"$error":"#N/A"},{"$error":"#N/A"},{"$error":"#N/A"},{"$error":"#N/A"},{"$error":"#N/A"},{"$error":"#N/A"},{"$error":"#N/A"},{"$error":"#N/A"},{"$error":"#N/A"},{"$error":"#N/A"},{"$error":"#N/A"},{"$error":"#N/A"},{"$error":"#N/A"},{"$error":"#N/A"},{"$error":"#N/A"},{"$error":"#N/A"},{"$error":"#N/A"},{"$error":"#N/A"},{"$error":"#N/A"},{"$error":"#N/A"},{"$error":"#N/A"},{"$error":"#N/A"},{"$error":"#N/A"},{"$error":"#N/A"},{"$error":"#N/A"},{"$error":"#N/A"},{"$error":"#N/A"},{"$error":"#N/A"},{"$error":"#N/A"},{"$error":"#N/A"},{"$error":"#N/A"},{"$error":"#N/A"},{"$error":"#N/A"},{"$error":"#N/A"},{"$error":"#N/A"},{"$error":"#N/A"},{"$error":"#N/A"},{"$error":"#N/A"},{"$error":"#N/A"},{"$error":"#N/A"},{"$error":"#N/A"},{"$error":"#N/A"},{"$error":"#N/A"},{"$error":"#N/A"},{"$error":"#N/A"},{"$error":"#N/A"},{"$error":"#N/A"},{"$error":"#N/A"},{"$error":"#N/A"},{"$error":"#N/A"},{"$error":"#N/A"},{"$error":"#N/A"},{"$error":"#N/A"},{"$error":"#N/A"},{"$error":"#N/A"},{"$error":"#N/A"},{"$error":"#N/A"},{"$error":"#N/A"},{"$error":"#N/A"},{"$error":"#N/A"},{"$error":"#N/A"},{"$error":"#N/A"},{"$error":"#N/A"},{"$error":"#N/A"},{"$error":"#N/A"},{"$error":"#N/A"},{"$error":"#N/A"},{"$error":"#N/A"},{"$error":"#N/A"},{"$error":"#N/A"},{"$error":"#N/A"},{"$error":"#N/A"},{"$error":"#N/A"},{"$error":"#N/A"},{"$error":"#N/A"},{"$error":"#N/A"}]
[30,"Craylands School, Phsae 6",{"$error":"#N/A"},{"$error":"#N/A"},{"$error":"#N/A"},{"$error":"#N/A"},{"$error":"#N/A"},{"$error":"#N/A"},{"$error":"#N/A"},{"$error":"#N/A"},{"$error":"#N/A"},{"$error":"#N/A"},{"$error":"#N/A"},{"$error":"#N/A"},{"$error":"#N/A"},{"$error":"#N/A"},{"$error":"#N/A"},{"$error":"#N/A"},{"$error":"#N/A"},{"$error":"#N/A"},{"$error":"#N/A"},{"$error":"#N/A"},{"$error":"#N/A"},{"$error":"#N/A"},{"$error":"#N/A"},{"$error":"#N/A"},{"$error":"#N/A"},{"$error":"#N/A"},{"$error":"#N/A"},{"$error":"#N/A"},{"$error":"#N/A"},{"$error":"#N/A"},{"$error":"#N/A"},{"$error":"#N/A"},{"$error":"#N/A"},{"$error":"#N/A"},{"$error":"#N/A"},{"$error":"#N/A"},{"$error":"#N/A"},{"$error":"#N/A"},{"$error":"#N/A"},{"$error":"#N/A"},{"$error":"#N/A"},{"$error":"#N/A"},{"$error":"#N/A"},{"$error":"#N/A"},{"$error":"#N/A"},{"$error":"#N/A"},{"$error":"#N/A"},{"$error":"#N/A"},{"$error":"#N/A"},{"$error":"#N/A"},{"$error":"#N/A"},{"$error":"#N/A"},{"$error":"#N/A"},{"$error":"#N/A"},{"$error":"#N/A"},{"$error":"#N/A"},{"$error":"#N/A"},{"$error":"#N/A"},{"$error":"#N/A"},{"$error":"#N/A"},{"$error":"#N/A"},{"$error":"#N/A"},{"$error":"#N/A"},{"$error":"#N/A"},{"$error":"#N/A"},{"$error":"#N/A"},{"$error":"#N/A"},{"$error":"#N/A"},{"$error":"#N/A"},{"$error":"#N/A"},{"$error":"#N/A"},{"$error":"#N/A"},{"$error":"#N/A"},{"$error":"#N/A"},{"$error":"#N/A"},{"$error":"#N/A"},{"$error":"#N/A"},{"$error":"#N/A"},{"$error":"#N/A"},{"$error":"#N/A"},{"$error":"#N/A"},{"$error":"#N/A"},{"$error":"#N/A"},{"$error":"#N/A"},{"$error":"#N/A"}]
[31,"Trinity Free School, Phase 1",{"$error":"#N/A"},{"$error":"#N/A"},{"$error":"#N/A"},{"$error":"#N/A"},{"$error":"#N/A"},{"$error":"#N/A"},{"$error":"#N/A"},{"$error":"#N/A"},{"$error":"#N/A"},{"$error":"#N/A"},{"$error":"#N/A"},{"$error":"#N/A"},{"$error":"#N/A"},{"$error":"#N/A"},{"$error":"#N/A"},{"$error":"#N/A"},{"$error":"#N/A"},{"$error":"#N/A"},{"$error":"#N/A"},{"$error":"#N/A"},{"$error":"#N/A"},{"$error":"#N/A"},{"$error":"#N/A"},{"$error":"#N/A"},{"$error":"#N/A"},{"$error":"#N/A"},{"$error":"#N/A"},{"$error":"#N/A"},{"$error":"#N/A"},{"$error":"#N/A"},{"$error":"#N/A"},{"$error":"#N/A"},{"$error":"#N/A"},{"$error":"#N/A"},{"$error":"#N/A"},{"$error":"#N/A"},{"$error":"#N/A"},{"$error":"#N/A"},{"$error":"#N/A"},{"$error":"#N/A"},{"$error":"#N/A"},{"$error":"#N/A"},{"$error":"#N/A"},{"$error":"#N/A"},{"$error":"#N/A"},{"$error":"#N/A"},{"$error":"#N/A"},{"$error":"#N/A"},{"$error":"#N/A"},{"$error":"#N/A"},{"$error":"#N/A"},{"$error":"#N/A"},{"$error":"#N/A"},{"$error":"#N/A"},{"$error":"#N/A"},{"$error":"#N/A"},{"$error":"#N/A"},{"$error":"#N/A"},{"$error":"#N/A"},{"$error":"#N/A"},{"$error":"#N/A"},{"$error":"#N/A"},{"$error":"#N/A"},{"$error":"#N/A"},{"$error":"#N/A"},{"$error":"#N/A"},{"$error":"#N/A"},{"$error":"#N/A"},{"$error":"#N/A"},{"$error":"#N/A"},{"$error":"#N/A"},{"$error":"#N/A"},{"$error":"#N/A"},{"$error":"#N/A"},{"$error":"#N/A"},{"$error":"#N/A"},{"$error":"#N/A"},{"$error":"#N/A"},{"$error":"#N/A"},{"$error":"#N/A"},{"$error":"#N/A"},{"$error":"#N/A"},{"$error":"#N/A"},{"$error":"#N/A"},{"$error":"#N/A"}]
[32,"Trinity Free School, Phase 2",{"$error":"#N/A"},{"$error":"#N/A"},{"$error":"#N/A"},{"$error":"#N/A"},{"$error":"#N/A"},{"$error":"#N/A"},{"$error":"#N/A"},{"$error":"#N/A"},{"$error":"#N/A"},{"$error":"#N/A"},{"$error":"#N/A"},{"$error":"#N/A"},{"$error":"#N/A"},{"$error":"#N/A"},{"$error":"#N/A"},{"$error":"#N/A"},{"$error":"#N/A"},{"$error":"#N/A"},{"$error":"#N/A"},{"$error":"#N/A"},{"$error":"#N/A"},{"$error":"#N/A"},{"$error":"#N/A"},{"$error":"#N/A"},{"$error":"#N/A"},{"$error":"#N/A"},{"$error":"#N/A"},{"$error":"#N/A"},{"$error":"#N/A"},{"$error":"#N/A"},{"$error":"#N/A"},{"$error":"#N/A"},{"$error":"#N/A"},{"$error":"#N/A"},{"$error":"#N/A"},{"$error":"#N/A"},{"$error":"#N/A"},{"$error":"#N/A"},{"$error":"#N/A"},{"$error":"#N/A"},{"$error":"#N/A"},{"$error":"#N/A"},{"$error":"#N/A"},{"$error":"#N/A"},{"$error":"#N/A"},{"$error":"#N/A"},{"$error":"#N/A"},{"$error":"#N/A"},{"$error":"#N/A"},{"$error":"#N/A"},{"$error":"#N/A"},{"$error":"#N/A"},{"$error":"#N/A"},{"$error":"#N/A"},{"$error":"#N/A"},{"$error":"#N/A"},{"$error":"#N/A"},{"$error":"#N/A"},{"$error":"#N/A"},{"$error":"#N/A"},{"$error":"#N/A"},{"$error":"#N/A"},{"$error":"#N/A"},{"$error":"#N/A"},{"$error":"#N/A"},{"$error":"#N/A"},{"$error":"#N/A"},{"$error":"#N/A"},{"$error":"#N/A"},{"$error":"#N/A"},{"$error":"#N/A"},{"$error":"#N/A"},{"$error":"#N/A"},{"$error":"#N/A"},{"$error":"#N/A"},{"$error":"#N/A"},{"$error":"#N/A"},{"$error":"#N/A"},{"$error":"#N/A"},{"$error":"#N/A"},{"$error":"#N/A"},{"$error":"#N/A"},{"$error":"#N/A"},{"$error":"#N/A"},{"$error":"#N/A"}]
[33,"Trinity Free School, Phase 3",{"$f":"VLOOKUP($B39,MASTER_DATABASE,2,0)","v":{"$error":"#N/A"}},{"$f":"VLOOKUP($B39,MASTER_DATABASE,3,0)","v":{"$error":"#N/A"}},{"$f":"VLOOKUP($B39,MASTER_DATABASE,4,0)","v":{"$error":"#N/A"}},{"$f":"VLOOKUP($B39,MASTER_DATABASE,5,0)","v":{"$error":"#N/A"}},{"$f":"VLOOKUP($B39,MASTER_DATABASE,6,0)","v":{"$error":"#N/A"}},{"$f":"VLOOKUP($B39,MASTER_DATABASE,7,0)","v":{"$error":"#N/A"}},{"$f":"VLOOKUP($B39,MASTER_DATABASE,8,0)","v":{"$error":"#N/A"}},{"$f":"VLOOKUP($B39,MASTER_DATABASE,9,0)","v":{"$error":"#N/A"}},{"$f":"VLOOKUP($B39,MASTER_DATABASE,10,0)","v":{"$error":"#N/A"}},{"$f":"VLOOKUP($B39,MASTER_DATABASE,11,0)","v":{"$error":"#N/A"}},{"$f":"VLOOKUP($B39,MASTER_DATABASE,12,0)","v":{"$error":"#N/A"}},{"$f":"VLOOKUP($B39,MASTER_DATABASE,13,0)","v":{"$error":"#N/A"}},{"$f":"VLOOKUP($B39,MASTER_DATABASE,14,0)","v":{"$error":"#N/A"}},{"$f":"VLOOKUP($B39,MASTER_DATABASE,15,0)","v":{"$error":"#N/A"}},{"$f":"VLOOKUP($B39,MASTER_DATABASE,16,0)","v":{"$error":"#N/A"}},{"$f":"VLOOKUP($B39,MASTER_DATABASE,17,0)","v":{"$error":"#N/A"}},{"$f":"VLOOKUP($B39,MASTER_DATABASE,18,0)","v":{"$error":"#N/A"}},{"$f":"VLOOKUP($B39,MASTER_DATABASE,19,0)","v":{"$error":"#N/A"}},{"$f":"VLOOKUP($B39,MASTER_DATABASE,20,0)","v":{"$error":"#N/A"}},{"$f":"VLOOKUP($B39,MASTER_DATABASE,21,0)","v":{"$error":"#N/A"}},{"$f":"VLOOKUP($B39,MASTER_DATABASE,22,0)","v":{"$error":"#N/A"}},{"$f":"VLOOKUP($B39,MASTER_DATABASE,23,0)","v":{"$error":"#N/A"}},{"$f":"VLOOKUP($B39,MASTER_DATABASE,24,0)","v":{"$error":"#N/A"}},{"$f":"VLOOKUP($B39,MASTER_DATABASE,25,0)","v":{"$error":"#N/A"}},{"$f":"VLOOKUP($B39,MASTER_DATABASE,26,0)","v":{"$error":"#N/A"}},{"$f":"VLOOKUP($B39,MASTER_DATABASE,27,0)","v":{"$error":"#N/A"}},{"$f":"VLOOKUP($B39,MASTER_DATABASE,28,0)","v":{"$error":"#N/A"}},{"$f":"VLOOKUP($B39,MASTER_DATABASE,29,0)","v":{"$error":"#N/A"}},{"$f":"VLOOKUP($B39,MASTER_DATABASE,30,0)","v":{"$error":"#N/A"}},{"$f":"VLOOKUP($B39,MASTER_DATABASE,31,0)","v":{"$error":"#N/A"}},{"$f":"VLOOKUP($B39,MASTER_DATABASE,32,0)","v":{"$error":"#N/A"}},{"$f":"VLOOKUP($B39,MASTER_DATABASE,33,0)","v":{"$error":"#N/A"}},{"$f":"VLOOKUP($B39,MASTER_DATABASE,34,0)","v":{"$error":"#N/A"}},{"$f":"VLOOKUP($B39,MASTER_DATABASE,35,0)","v":{"$error":"#N/A"}},{"$f":"VLOOKUP($B39,MASTER_DATABASE,36,0)","v":{"$error":"#N/A"}},{"$f":"VLOOKUP($B39,MASTER_DATABASE,37,0)","v":{"$error":"#N/A"}},{"$f":"VLOOKUP($B39,MASTER_DATABASE,38,0)","v":{"$error":"#N/A"}},{"$f":"VLOOKUP($B39,MASTER_DATABASE,39,0)","v":{"$error":"#N/A"}},{"$f":"VLOOKUP($B39,MASTER_DATABASE,40,0)","v":{"$error":"#N/A"}},{"$f":"VLOOKUP($B39,MASTER_DATABASE,41,0)","v":{"$error":"#N/A"}},{"$f":"VLOOKUP($B39,MASTER_DATABASE,42,0)","v":{"$error":"#N/A"}},{"$f":"VLOOKUP($B39,MASTER_DATABASE,43,0)","v":{"$error":"#N/A"}},{"$f":"VLOOKUP($B39,MASTER_DATABASE,44,0)","v":{"$error":"#N/A"}},{"$f":"VLOOKUP($B39,MASTER_DATABASE,45,0)","v":{"$error":"#N/A"}},{"$f":"VLOOKUP($B39,MASTER_DATABASE,46,0)","v":{"$error":"#N/A"}},{"$f":"VLOOKUP($B39,MASTER_DATABASE,47,0)","v":{"$error":"#N/A"}},{"$f":"VLOOKUP($B39,MASTER_DATABASE,48,0)","v":{"$error":"#N/A"}},{"$f":"VLOOKUP($B39,MASTER_DATABASE,49,0)","v":{"$error":"#N/A"}},{"$f":"VLOOKUP($B39,MASTER_DATABASE,50,0)","v":{"$error":"#N/A"}},{"$f":"VLOOKUP($B39,MASTER_DATABASE,51,0)","v":{"$error":"#N/A"}},{"$f":"VLOOKUP($B39,MASTER_DATABASE,52,0)","v":{"$error":"#N/A"}},{"$f":"VLOOKUP($B39,MASTER_DATABASE,53,0)","v":{"$error":"#N/A"}},{"$f":"VLOOKUP($B39,MASTER_DATABASE,54,0)","v":{"$error":"#N/A"}},{"$f":"VLOOKUP($B39,MASTER_DATABASE,55,0)","v":{"$error":"#N/A"}},{"$f":"VLOOKUP($B39,MASTER_DATABASE,56,0)","v":{"$error":"#N/A"}},{"$f":"VLOOKUP($B39,MASTER_DATABASE,57,0)","v":{"$error":"#N/A"}},{"$f":"VLOOKUP($B39,MASTER_DATABASE,58,0)","v":{"$error":"#N/A"}},{"$f":"VLOOKUP($B39,MASTER_DATABASE,59,0)","v":{"$error":"#N/A"}},{"$f":"VLOOKUP($B39,MASTER_DATABASE,60,0)","v":{"$error":"#N/A"}},{"$f":"VLOOKUP($B39,MASTER_DATABASE,61,0)","v":{"$error":"#N/A"}},{"$f":"VLOOKUP($B39,MASTER_DATABASE,62,0)","v":{"$error":"#N/A"}},{"$f":"VLOOKUP($B39,MASTER_DATABASE,63,0)","v":{"$error":"#N/A"}},{"$f":"VLOOKUP($B39,MASTER_DATABASE,64,0)","v":{"$error":"#N/A"}},{"$f":"VLOOKUP($B39,MASTER_DATABASE,65,0)","v":{"$error":"#N/A"}},{"$f":"VLOOKUP($B39,MASTER_DATABASE,66,0)","v":{"$error":"#N/A"}},{"$f":"VLOOKUP($B39,MASTER_DATABASE,67,0)","v":{"$error":"#N/A"}},{"$f":"VLOOKUP($B39,MASTER_DATABASE,68,0)","v":{"$error":"#N/A"}},{"$f":"VLOOKUP($B39,MASTER_DATABASE,69,0)","v":{"$error":"#N/A"}},{"$f":"VLOOKUP($B39,MASTER_DATABASE,70,0)","v":{"$error":"#N/A"}},{"$f":"VLOOKUP($B39,MASTER_DATABASE,71,0)","v":{"$error":"#N/A"}},{"$f":"VLOOKUP($B39,MASTER_DATABASE,72,0)","v":{"$error":"#N/A"}},{"$f":"VLOOKUP($B39,MASTER_DATABASE,73,0)","v":{"$error":"#N/A"}},{"$f":"VLOOKUP($B39,MASTER_DATABASE,74,0)","v":{"$error":"#N/A"}},{"$f":"VLOOKUP($B39,MASTER_DATABASE,75,0)","v":{"$error":"#N/A"}},{"$f":"VLOOKUP($B39,MASTER_DATABASE,76,0)","v":{"$error":"#N/A"}},{"$f":"VLOOKUP($B39,MASTER_DATABASE,77,0)","v":{"$error":"#N/A"}},{"$f":"VLOOKUP($B39,MASTER_DATABASE,78,0)","v":{"$error":"#N/A"}},{"$f":"VLOOKUP($B39,MASTER_DATABASE,79,0)","v":{"$error":"#N/A"}},{"$f":"VLOOKUP($B39,MASTER_DATABASE,80,0)","v":{"$error":"#N/A"}},{"$f":"VLOOKUP($B39,MASTER_DATABASE,81,0)","v":{"$error":"#N/A"}},{"$f":"VLOOKUP($B39,MASTER_DATABASE,82,0)","v":{"$error":"#N/A"}},{"$f":"VLOOKUP($B39,MASTER_DATABASE,83,0)","v":{"$error":"#N/A"}},{"$f":"VLOOKUP($B39,MASTER_DATABASE,84,0)","v":{"$error":"#N/A"}},{"$f":"VLOOKUP($B39,MASTER_DATABASE,85,0)","v":{"$error":"#N/A"}},{"$f":"VLOOKUP($B39,MASTER_DATABASE,86,0)","v":{"$error":"#N/A"}}]
[34,"Trinity Free School, Phase 4",{"$error":"#N/A"},{"$error":"#N/A"},{"$error":"#N/A"},{"$error":"#N/A"},{"$error":"#N/A"},{"$error":"#N/A"},{"$error":"#N/A"},{"$error":"#N/A"},{"$error":"#N/A"},{"$error":"#N/A"},{"$error":"#N/A"},{"$error":"#N/A"},{"$error":"#N/A"},{"$error":"#N/A"},{"$error":"#N/A"},{"$error":"#N/A"},{"$error":"#N/A"},{"$error":"#N/A"},{"$error":"#N/A"},{"$error":"#N/A"},{"$error":"#N/A"},{"$error":"#N/A"},{"$error":"#N/A"},{"$error":"#N/A"},{"$error":"#N/A"},{"$error":"#N/A"},{"$error":"#N/A"},{"$error":"#N/A"},{"$error":"#N/A"},{"$error":"#N/A"},{"$error":"#N/A"},{"$error":"#N/A"},{"$error":"#N/A"},{"$error":"#N/A"},{"$error":"#N/A"},{"$error":"#N/A"},{"$error":"#N/A"},{"$error":"#N/A"},{"$error":"#N/A"},{"$error":"#N/A"},{"$error":"#N/A"},{"$error":"#N/A"},{"$error":"#N/A"},{"$error":"#N/A"},{"$error":"#N/A"},{"$error":"#N/A"},{"$error":"#N/A"},{"$error":"#N/A"},{"$error":"#N/A"},{"$error":"#N/A"},{"$error":"#N/A"},{"$error":"#N/A"},{"$error":"#N/A"},{"$error":"#N/A"},{"$error":"#N/A"},{"$error":"#N/A"},{"$error":"#N/A"},{"$error":"#N/A"},{"$error":"#N/A"},{"$error":"#N/A"},{"$error":"#N/A"},{"$error":"#N/A"},{"$error":"#N/A"},{"$error":"#N/A"},{"$error":"#N/A"},{"$error":"#N/A"},{"$error":"#N/A"},{"$error":"#N/A"},{"$error":"#N/A"},{"$error":"#N/A"},{"$error":"#N/A"},{"$error":"#N/A"},{"$error":"#N/A"},{"$error":"#N/A"},{"$error":"#N/A"},{"$error":"#N/A"},{"$error":"#N/A"},{"$error":"#N/A"},{"$error":"#N/A"},{"$error":"#N/A"},{"$error":"#N/A"},{"$error":"#N/A"},{"$error":"#N/A"},{"$error":"#N/A"},{"$error":"#N/A"}]
[35,"Trinity Free School, Phase 5",{"$error":"#N/A"},{"$error":"#N/A"},{"$error":"#N/A"},{"$error":"#N/A"},{"$error":"#N/A"},{"$error":"#N/A"},{"$error":"#N/A"},{"$error":"#N/A"},{"$error":"#N/A"},{"$error":"#N/A"},{"$error":"#N/A"},{"$error":"#N/A"},{"$error":"#N/A"},{"$error":"#N/A"},{"$error":"#N/A"},{"$error":"#N/A"},{"$error":"#N/A"},{"$error":"#N/A"},{"$error":"#N/A"},{"$error":"#N/A"},{"$error":"#N/A"},{"$error":"#N/A"},{"$error":"#N/A"},{"$error":"#N/A"},{"$error":"#N/A"},{"$error":"#N/A"},{"$error":"#N/A"},{"$error":"#N/A"},{"$error":"#N/A"},{"$error":"#N/A"},{"$error":"#N/A"},{"$error":"#N/A"},{"$error":"#N/A"},{"$error":"#N/A"},{"$error":"#N/A"},{"$error":"#N/A"},{"$error":"#N/A"},{"$error":"#N/A"},{"$error":"#N/A"},{"$error":"#N/A"},{"$error":"#N/A"},{"$error":"#N/A"},{"$error":"#N/A"},{"$error":"#N/A"},{"$error":"#N/A"},{"$error":"#N/A"},{"$error":"#N/A"},{"$error":"#N/A"},{"$error":"#N/A"},{"$error":"#N/A"},{"$error":"#N/A"},{"$error":"#N/A"},{"$error":"#N/A"},{"$error":"#N/A"},{"$error":"#N/A"},{"$error":"#N/A"},{"$error":"#N/A"},{"$error":"#N/A"},{"$error":"#N/A"},{"$error":"#N/A"},{"$error":"#N/A"},{"$error":"#N/A"},{"$error":"#N/A"},{"$error":"#N/A"},{"$error":"#N/A"},{"$error":"#N/A"},{"$error":"#N/A"},{"$error":"#N/A"},{"$error":"#N/A"},{"$error":"#N/A"},{"$error":"#N/A"},{"$error":"#N/A"},{"$error":"#N/A"},{"$error":"#N/A"},{"$error":"#N/A"},{"$error":"#N/A"},{"$error":"#N/A"},{"$error":"#N/A"},{"$error":"#N/A"},{"$error":"#N/A"},{"$error":"#N/A"},{"$error":"#N/A"},{"$error":"#N/A"},{"$error":"#N/A"},{"$error":"#N/A"}]
[36,"Chilmington Green PS","South","New 2FE Primary School",7200000,8400000,{"$error":"#REF!"},{"$error":"#REF!"},{"$error":"#REF!"},{"$error":"#REF!"},{"$error":"#REF!"},{"$error":"#REF!"},{"$error":"#REF!"},{"$error":"#REF!"},{"$error":"#REF!"},{"$error":"#REF!"},{"$error":"#REF!"},{"$error":"#REF!"},{"$error":"#REF!"},{"$error":"#REF!"},{"$error":"#REF!"},{"$error":"#REF!"},{"$error":"#REF!"},{"$error":"#REF!"},{"$error":"#REF!"},{"$error":"#REF!"},{"$error":"#REF!"},{"$error":"#REF!"},{"$error":"#REF!"},{"$error":"#REF!"},{"$error":"#REF!"},{"$error":"#REF!"},{"$error":"#REF!"},{"$error":"#REF!"},{"$error":"#REF!"},{"$error":"#REF!"},{"$error":"#REF!"},{"$error":"#REF!"},{"$error":"#REF!"},{"$error":"#REF!"},{"$error":"#REF!"},{"$error":"#REF!"},{"$error":"#REF!"},{"$error":"#REF!"},{"$error":"#REF!"},{"$error":"#REF!"},{"$error":"#REF!"},{"$error":"#REF!"},{"$error":"#REF!"},{"$error":"#REF!"},{"$error":"#REF!"},{"$error":"#REF!"},{"$error":"#REF!"},{"$error":"#REF!"},{"$error":"#REF!"},{"$error":"#REF!"},{"$error":"#REF!"},{"$error":"#REF!"},{"$error":"#REF!"},{"$error":"#REF!"},{"$error":"#REF!"},{"$error":"#REF!"},{"$error":"#REF!"},{"$error":"#REF!"},{"$error":"#REF!"},{"$error":"#REF!"},{"$error":"#REF!"},{"$error":"#REF!"},{"$error":"#REF!"},{"$error":"#REF!"},{"$error":"#REF!"},{"$error":"#REF!"},{"$error":"#REF!"},{"$error":"#REF!"},{"$error":"#REF!"},{"$error":"#REF!"},{"$error":"#REF!"},{"$error":"#REF!"},{"$error":"#REF!"},{"$error":"#REF!"},{"$error":"#REF!"},{"$error":"#REF!"},{"$error":"#REF!"},{"$error":"#REF!"},{"$error":"#REF!"},{"$error":"#REF!"},{"$error":"#REF!"}]
[37,"Preston PS","South","1 classroom extension with associated WC's.",310000,261362.9,{"$error":"#REF!"},{"$error":"#REF!"},{"$error":"#REF!"},{"$error":"#REF!"},{"$error":"#REF!"},{"$error":"#REF!"},{"$error":"#REF!"},{"$error":"#REF!"},{"$error":"#REF!"},{"$error":"#REF!"},{"$error":"#REF!"},{"$error":"#REF!"},{"$error":"#REF!"},{"$error":"#REF!"},{"$error":"#REF!"},{"$error":"#REF!"},{"$error":"#REF!"},{"$error":"#REF!"},{"$error":"#REF!"},{"$error":"#REF!"},{"$error":"#REF!"},{"$error":"#REF!"},{"$error":"#REF!"},{"$error":"#REF!"},{"$error":"#REF!"},{"$error":"#REF!"},{"$error":"#REF!"},{"$error":"#REF!"},{"$error":"#REF!"},{"$error":"#REF!"},{"$error":"#REF!"},{"$error":"#REF!"},{"$error":"#REF!"},{"$error":"#REF!"},{"$error":"#REF!"},{"$error":"#REF!"},{"$error":"#REF!"},{"$error":"#REF!"},{"$error":"#REF!"},{"$error":"#REF!"},{"$error":"#REF!"},{"$error":"#REF!"},{"$error":"#REF!"},{"$error":"#REF!"},{"$error":"#REF!"},{"$error":"#REF!"},{"$error":"#REF!"},{"$error":"#REF!"},{"$error":"#REF!"},{"$error":"#REF!"},{"$error":"#REF!"},{"$error":"#REF!"},{"$error":"#REF!"},{"$error":"#REF!"},{"$error":"#REF!"},{"$error":"#REF!"},{"$error":"#REF!"},{"$error":"#REF!"},{"$error":"#REF!"},{"$error":"#REF!"},{"$error":"#REF!"},{"$error":"#REF!"},{"$error":"#REF!"},{"$error":"#REF!"},{"$error":"#REF!"},{"$error":"#REF!"},{"$error":"#REF!"},{"$error":"#REF!"},{"$error":"#REF!"},{"$error":"#REF!"},{"$error":"#REF!"},{"$error":"#REF!"},{"$error":"#REF!"},{"$error":"#REF!"},{"$error":"#REF!"},{"$error":"#REF!"},{"$error":"#REF!"},{"$error":"#REF!"},{"$error":"#REF!"},{"$error":"#REF!"},{"$error":"#REF!"}]
[38,"Whitfield Aspen School","South","2FE New Mainstream and SEN school",7990000,7447500,{"$error":"#REF!"},{"$error":"#REF!"},{"$error":"#REF!"},{"$error":"#REF!"},{"$error":"#REF!"},{"$error":"#REF!"},{"$error":"#REF!"},{"$error":"#REF!"},{"$error":"#REF!"},{"$error":"#REF!"},{"$error":"#REF!"},{"$error":"#REF!"},{"$error":"#REF!"},{"$error":"#REF!"},{"$error":"#REF!"},{"$error":"#REF!"},{"$error":"#REF!"},{"$error":"#REF!"},{"$error":"#REF!"},{"$error":"#REF!"},{"$error":"#REF!"},{"$error":"#REF!"},{"$error":"#REF!"},{"$error":"#REF!"},{"$error":"#REF!"},{"$error":"#REF!"},{"$error":"#REF!"},{"$error":"#REF!"},{"$error":"#REF!"},{"$error":"#REF!"},{"$error":"#REF!"},{"$error":"#REF!"},{"$error":"#REF!"},{"$error":"#REF!"},{"$error":"#REF!"},{"$error":"#REF!"},{"$error":"#REF!"},{"$error":"#REF!"},{"$error":"#REF!"},{"$error":"#REF!"},{"$error":"#REF!"},{"$error":"#REF!"},{"$error":"#REF!"},{"$error":"#REF!"},{"$error":"#REF!"},{"$error":"#REF!"},{"$error":"#REF!"},{"$error":"#REF!"},{"$error":"#REF!"},{"$error":"#REF!"},{"$error":"#REF!"},{"$error":"#REF!"},{"$error":"#REF!"},{"$error":"#REF!"},{"$error":"#REF!"},{"$error":"#REF!"},{"$error":"#REF!"},{"$error":"#REF!"},{"$error":"#REF!"},{"$error":"#REF!"},{"$error":"#REF!"},{"$error":"#REF!"},{"$error":"#REF!"},{"$error":"#REF!"},{"$error":"#REF!"},{"$error":"#REF!"},{"$error":"#REF!"},{"$error":"#REF!"},{"$error":"#REF!"},{"$error":"#REF!"},{"$error":"#REF!"},{"$error":"#REF!"},{"$error":"#REF!"},{"$error":"#REF!"},{"$error":"#REF!"},{"$error":"#REF!"},{"$error":"#REF!"},{"$error":"#REF!"},{"$error":"#REF!"},{"$error":"#REF!"},{"$error":"#REF!"}]
[39,"Herne Bay Library",{"$error":"#N/A"},{"$error":"#N/A"},{"$error":"#N/A"},{"$error":"#N/A"},{"$error":"#N/A"},{"$error":"#N/A"},{"$error":"#N/A"},{"$error":"#N/A"},{"$error":"#N/A"},{"$error":"#N/A"},{"$error":"#N/A"},{"$error":"#N/A"},{"$error":"#N/A"},{"$error":"#N/A"},{"$error":"#N/A"},{"$error":"#N/A"},{"$error":"#N/A"},{"$error":"#N/A"},{"$error":"#N/A"},{"$error":"#N/A"},{"$error":"#N/A"},{"$error":"#N/A"},{"$error":"#N/A"},{"$error":"#N/A"},{"$error":"#N/A"},{"$error":"#N/A"},{"$error":"#N/A"},{"$error":"#N/A"},{"$error":"#N/A"},{"$error":"#N/A"},{"$error":"#N/A"},{"$error":"#N/A"},{"$error":"#N/A"},{"$error":"#N/A"},{"$error":"#N/A"},{"$error":"#N/A"},{"$error":"#N/A"},{"$error":"#N/A"},{"$error":"#N/A"},{"$error":"#N/A"},{"$error":"#N/A"},{"$error":"#N/A"},{"$error":"#N/A"},{"$error":"#N/A"},{"$error":"#N/A"},{"$error":"#N/A"},{"$error":"#N/A"},{"$error":"#N/A"},{"$error":"#N/A"},{"$error":"#N/A"},{"$error":"#N/A"},{"$error":"#N/A"},{"$error":"#N/A"},{"$error":"#N/A"},{"$error":"#N/A"},{"$error":"#N/A"},{"$error":"#N/A"},{"$error":"#N/A"},{"$error":"#N/A"},{"$error":"#N/A"},{"$error":"#N/A"},{"$error":"#N/A"},{"$error":"#N/A"},{"$error":"#N/A"},{"$error":"#N/A"},{"$error":"#N/A"},{"$error":"#N/A"},{"$error":"#N/A"},{"$error":"#N/A"},{"$error":"#N/A"},{"$error":"#N/A"},{"$error":"#N/A"},{"$error":"#N/A"},{"$error":"#N/A"},{"$error":"#N/A"},{"$error":"#N/A"},{"$error":"#N/A"},{"$error":"#N/A"},{"$error":"#N/A"},{"$error":"#N/A"},{"$error":"#N/A"},{"$error":"#N/A"},{"$error":"#N/A"},{"$error":"#N/A"},{"$error":"#N/A"}]
[40,"Palmarsh PS","South","1FE expansion. Note, forecast cost is for part accommodation",2200000,1267008,{"$error":"#REF!"},{"$error":"#REF!"},{"$error":"#REF!"},{"$error":"#REF!"},{"$error":"#REF!"},{"$error":"#REF!"},{"$error":"#REF!"},{"$error":"#REF!"},{"$error":"#REF!"},{"$error":"#REF!"},{"$error":"#REF!"},{"$error":"#REF!"},{"$error":"#REF!"},{"$error":"#REF!"},{"$error":"#REF!"},{"$error":"#REF!"},{"$error":"#REF!"},{"$error":"#REF!"},{"$error":"#REF!"},{"$error":"#REF!"},{"$error":"#REF!"},{"$error":"#REF!"},{"$error":"#REF!"},{"$error":"#REF!"},{"$error":"#REF!"},{"$error":"#REF!"},{"$error":"#REF!"},{"$error":"#REF!"},{"$error":"#REF!"},{"$error":"#REF!"},{"$error":"#REF!"},{"$error":"#REF!"},{"$error":"#REF!"},{"$error":"#REF!"},{"$error":"#REF!"},{"$error":"#REF!"},{"$error":"#REF!"},{"$error":"#REF!"},{"$error":"#REF!"},{"$error":"#REF!"},{"$error":"#REF!"},{"$error":"#REF!"},{"$error":"#REF!"},{"$error":"#REF!"},{"$error":"#REF!"},{"$error":"#REF!"},{"$error":"#REF!"},{"$error":"#REF!"},{"$error":"#REF!"},{"$error":"#REF!"},{"$error":"#REF!"},{"$error":"#REF!"},{"$error":"#REF!"},{"$error":"#REF!"},{"$error":"#REF!"},{"$error":"#REF!"},{"$error":"#REF!"},{"$error":"#REF!"},{"$error":"#REF!"},{"$error":"#REF!"},{"$error":"#REF!"},{"$error":"#REF!"},{"$error":"#REF!"},{"$error":"#REF!"},{"$error":"#REF!"},{"$error":"#REF!"},{"$error":"#REF!"},{"$error":"#REF!"},{"$error":"#REF!"},{"$error":"#REF!"},{"$error":"#REF!"},{"$error":"#REF!"},{"$error":"#REF!"},{"$error":"#REF!"},{"$error":"#REF!"},{"$error":"#REF!"},{"$error":"#REF!"},{"$error":"#REF!"},{"$error":"#REF!"},{"$error":"#REF!"},{"$error":"#REF!"}]
[41,"Meadowfield School","East","1 FE expansion",4792000,4610000,{"$error":"#REF!"},{"$error":"#REF!"},{"$error":"#REF!"},{"$error":"#REF!"},{"$error":"#REF!"},{"$error":"#REF!"},{"$error":"#REF!"},{"$error":"#REF!"},{"$error":"#REF!"},{"$error":"#REF!"},{"$error":"#REF!"},{"$error":"#REF!"},{"$error":"#REF!"},{"$error":"#REF!"},{"$error":"#REF!"},{"$error":"#REF!"},{"$error":"#REF!"},{"$error":"#REF!"},{"$error":"#REF!"},{"$error":"#REF!"},{"$error":"#REF!"},{"$error":"#REF!"},{"$error":"#REF!"},{"$error":"#REF!"},{"$error":"#REF!"},{"$error":"#REF!"},{"$error":"#REF!"},{"$error":"#REF!"},{"$error":"#REF!"},{"$error":"#REF!"},{"$error":"#REF!"},{"$error":"#REF!"},{"$error":"#REF!"},{"$error":"#REF!"},{"$error":"#REF!"},{"$error":"#REF!"},{"$error":"#REF!"},{"$error":"#REF!"},{"$error":"#REF!"},{"$error":"#REF!"},{"$error":"#REF!"},{"$error":"#REF!"},{"$error":"#REF!"},{"$error":"#REF!"},{"$error":"#REF!"},{"$error":"#REF!"},{"$error":"#REF!"},{"$error":"#REF!"},{"$error":"#REF!"},{"$error":"#REF!"},{"$error":"#REF!"},{"$error":"#REF!"},{"$error":"#REF!"},{"$error":"#REF!"},{"$error":"#REF!"},{"$error":"#REF!"},{"$error":"#REF!"},{"$error":"#REF!"},{"$error":"#REF!"},{"$error":"#REF!"},{"$error":"#REF!"},{"$error":"#REF!"},{"$error":"#REF!"},{"$error":"#REF!"},{"$error":"#REF!"},{"$error":"#REF!"},{"$error":"#REF!"},{"$error":"#REF!"},{"$error":"#REF!"},{"$error":"#REF!"},{"$error":"#REF!"},{"$error":"#REF!"},{"$error":"#REF!"},{"$error":"#REF!"},{"$error":"#REF!"},{"$error":"#REF!"},{"$error":"#REF!"},{"$error":"#REF!"},{"$error":"#REF!"},{"$error":"#REF!"},{"$error":"#REF!"}]
[42,"Hampton PS","East","New classroom and corridor extension",300000,243470.07,{"$error":"#REF!"},{"$error":"#REF!"},{"$error":"#REF!"},{"$error":"#REF!"},{"$error":"#REF!"},{"$error":"#REF!"},{"$error":"#REF!"},{"$error":"#REF!"},{"$error":"#REF!"},{"$error":"#REF!"},{"$error":"#REF!"},{"$error":"#REF!"},{"$error":"#REF!"},{"$error":"#REF!"},{"$error":"#REF!"},{"$error":"#REF!"},{"$error":"#REF!"},{"$error":"#REF!"},{"$error":"#REF!"},{"$error":"#REF!"},{"$error":"#REF!"},{"$error":"#REF!"},{"$error":"#REF!"},{"$error":"#REF!"},{"$error":"#REF!"},{"$error":"#REF!"},{"$error":"#REF!"},{"$error":"#REF!"},{"$error":"#REF!"},{"$error":"#REF!"},{"$error":"#REF!"},{"$error":"#REF!"},{"$error":"#REF!"},{"$error":"#REF!"},{"$error":"#REF!"},{"$error":"#REF!"},{"$error":"#REF!"},{"$error":"#REF!"},{"$error":"#REF!"},{"$error":"#REF!"},{"$error":"#REF!"},{"$error":"#REF!"},{"$error":"#REF!"},{"$error":"#REF!"},{"$error":"#REF!"},{"$error":"#REF!"},{"$error":"#REF!"},{"$error":"#REF!"},{"$error":"#REF!"},{"$error":"#REF!"},{"$error":"#REF!"},{"$error":"#REF!"},{"$error":"#REF!"},{"$error":"#REF!"},{"$error":"#REF!"},{"$error":"#REF!"},{"$error":"#REF!"},{"$error":"#REF!"},{"$error":"#REF!"},{"$error":"#REF!"},{"$error":"#REF!"},{"$error":"#REF!"},{"$error":"#REF!"},{"$error":"#REF!"},{"$error":"#REF!"},{"$error":"#REF!"},{"$error":"#REF!"},{"$error":"#REF!"},{"$error":"#REF!"},{"$error":"#REF!"},{"$error":"#REF!"},{"$error":"#REF!"},{"$error":"#REF!"},{"$error":"#REF!"},{"$error":"#REF!"},{"$error":"#REF!"},{"$error":"#REF!"},{"$error":"#REF!"},{"$error":"#REF!"},{"$error":"#REF!"},{"$error":"#REF!"}]
[43,"Bysing Wood PS",{"$error":"#N/A"},{"$error":"#N/A"},{"$error":"#N/A"},{"$error":"#N/A"},{"$error":"#N/A"},{"$error":"#N/A"},{"$error":"#N/A"},{"$error":"#N/A"},{"$error":"#N/A"},{"$error":"#N/A"},{"$error":"#N/A"},{"$error":"#N/A"},{"$error":"#N/A"},{"$error":"#N/A"},{"$error":"#N/A"},{"$error":"#N/A"},{"$error":"#N/A"},{"$error":"#N/A"},{"$error":"#N/A"},{"$error":"#N/A"},{"$error":"#N/A"},{"$error":"#N/A"},{"$error":"#N/A"},{"$error":"#N/A"},{"$error":"#N/A"},{"$error":"#N/A"},{"$error":"#N/A"},{"$error":"#N/A"},{"$error":"#N/A"},{"$error":"#N/A"},{"$error":"#N/A"},{"$error":"#N/A"},{"$error":"#N/A"},{"$error":"#N/A"},{"$error":"#N/A"},{"$error":"#N/A"},{"$error":"#N/A"},{"$error":"#N/A"},{"$error":"#N/A"},{"$error":"#N/A"},{"$error":"#N/A"},{"$error":"#N/A"},{"$error":"#N/A"},{"$error":"#N/A"},{"$error":"#N/A"},{"$error":"#N/A"},{"$error":"#N/A"},{"$error":"#N/A"},{"$error":"#N/A"},{"$error":"#N/A"},{"$error":"#N/A"},{"$error":"#N/A"},{"$error":"#N/A"},{"$error":"#N/A"},{"$error":"#N/A"},{"$error":"#N/A"},{"$error":"#N/A"},{"$error":"#N/A"},{"$error":"#N/A"},{"$error":"#N/A"},{"$error":"#N/A"},{"$error":"#N/A"},{"$error":"#N/A"},{"$error":"#N/A"},{"$error":"#N/A"},{"$error":"#N/A"},{"$error":"#N/A"},{"$error":"#N/A"},{"$error":"#N/A"},{"$error":"#N/A"},{"$error":"#N/A"},{"$error":"#N/A"},{"$error":"#N/A"},{"$error":"#N/A"},{"$error":"#N/A"},{"$error":"#N/A"},{"$error":"#N/A"},{"$error":"#N/A"},{"$error":"#N/A"},{"$error":"#N/A"},{"$error":"#N/A"},{"$error":"#N/A"},{"$error":"#N/A"},{"$error":"#N/A"},{"$error":"#N/A"}]
[44,"St George's CoE Foundation PS","East","1FE expansion",2600000,2499829.17,{"$error":"#REF!"},{"$error":"#REF!"},{"$error":"#REF!"},{"$error":"#REF!"},{"$error":"#REF!"},{"$error":"#REF!"},{"$error":"#REF!"},{"$error":"#REF!"},{"$error":"#REF!"},{"$error":"#REF!"},{"$error":"#REF!"},{"$error":"#REF!"},{"$error":"#REF!"},{"$error":"#REF!"},{"$error":"#REF!"},{"$error":"#REF!"},{"$error":"#REF!"},{"$error":"#REF!"},{"$error":"#REF!"},{"$error":"#REF!"},{"$error":"#REF!"},{"$error":"#REF!"},{"$error":"#REF!"},{"$error":"#REF!"},{"$error":"#REF!"},{"$error":"#REF!"},{"$error":"#REF!"},{"$error":"#REF!"},{"$error":"#REF!"},{"$error":"#REF!"},{"$error":"#REF!"},{"$error":"#REF!"},{"$error":"#REF!"},{"$error":"#REF!"},{"$error":"#REF!"},{"$error":"#REF!"},{"$error":"#REF!"},{"$error":"#REF!"},{"$error":"#REF!"},{"$error":"#REF!"},{"$error":"#REF!"},{"$error":"#REF!"},{"$error":"#REF!"},{"$error":"#REF!"},{"$error":"#REF!"},{"$error":"#REF!"},{"$error":"#REF!"},{"$error":"#REF!"},{"$error":"#REF!"},{"$error":"#REF!"},{"$error":"#REF!"},{"$error":"#REF!"},{"$error":"#REF!"},{"$error":"#REF!"},{"$error":"#REF!"},{"$error":"#REF!"},{"$error":"#REF!"},{"$error":"#REF!"},{"$error":"#REF!"},{"$error":"#REF!"},{"$error":"#REF!"},{"$error":"#REF!"},{"$error":"#REF!"},{"$error":"#REF!"},{"$error":"#REF!"},{"$error":"#REF!"},{"$error":"#REF!"},{"$error":"#REF!"},{"$error":"#REF!"},{"$error":"#REF!"},{"$error":"#REF!"},{"$error":"#REF!"},{"$error":"#REF!"},{"$error":"#REF!"},{"$error":"#REF!"},{"$error":"#REF!"},{"$error":"#REF!"},{"$error":"#REF!"},{"$error":"#REF!"},{"$error":"#REF!"},{"$error":"#REF!"}]
[45,"Regis Manor PS","East","1FE expansion",3300000,2881910,{"$error":"#REF!"},{"$error":"#REF!"},{"$error":"#REF!"},{"$error":"#REF!"},{"$error":"#REF!"},{"$error":"#REF!"},{"$error":"#REF!"},{"$error":"#REF!"},{"$error":"#REF!"},{"$error":"#REF!"},{"$error":"#REF!"},{"$error":"#REF!"},{"$error":"#REF!"},{"$error":"#REF!"},{"$error":"#REF!"},{"$error":"#REF!"},{"$error":"#REF!"},{"$error":"#REF!"},{"$error":"#REF!"},{"$error":"#REF!"},{"$error":"#REF!"},{"$error":"#REF!"},{"$error":"#REF!"},{"$error":"#REF!"},{"$error":"#REF!"},{"$error":"#REF!"},{"$error":"#REF!"},{"$error":"#REF!"},{"$error":"#REF!"},{"$error":"#REF!"},{"$error":"#REF!"},{"$error":"#REF!"},{"$error":"#REF!"},{"$error":"#REF!"},{"$error":"#REF!"},{"$error":"#REF!"},{"$error":"#REF!"},{"$error":"#REF!"},{"$error":"#REF!"},{"$error":"#REF!"},{"$error":"#REF!"},{"$error":"#REF!"},{"$error":"#REF!"},{"$error":"#REF!"},{"$error":"#REF!"},{"$error":"#REF!"},{"$error":"#REF!"},{"$error":"#REF!"},{"$error":"#REF!"},{"$error":"#REF!"},{"$error":"#REF!"},{"$error":"#REF!"},{"$error":"#REF!"},{"$error":"#REF!"},{"$error":"#REF!"},{"$error":"#REF!"},{"$error":"#REF!"},{"$error":"#REF!"},{"$error":"#REF!"},{"$error":"#REF!"},{"$error":"#REF!"},{"$error":"#REF!"},{"$error":"#REF!"},{"$error":"#REF!"},{"$error":"#REF!"},{"$error":"#REF!"},{"$error":"#REF!"},{"$error":"#REF!"},{"$error":"#REF!"},{"$error":"#REF!"},{"$error":"#REF!"},{"$error":"#REF!"},{"$error":"#REF!"},{"$error":"#REF!"},{"$error":"#REF!"},{"$error":"#REF!"},{"$error":"#REF!"},{"$error":"#REF!"},{"$error":"#REF!"},{"$error":"#REF!"},{"$error":"#REF!"}]
[46,"Sittingbourne CC","East","2FE expansion",6000000,6542597.6799999997,{"$error":"#REF!"},{"$error":"#REF!"},{"$error":"#REF!"},{"$error":"#REF!"},{"$error":"#REF!"},{"$error":"#REF!"},{"$error":"#REF!"},{"$error":"#REF!"},{"$error":"#REF!"},{"$error":"#REF!"},{"$error":"#REF!"},{"$error":"#REF!"},{"$error":"#REF!"},{"$error":"#REF!"},{"$error":"#REF!"},{"$error":"#REF!"},{"$error":"#REF!"},{"$error":"#REF!"},{"$error":"#REF!"},{"$error":"#REF!"},{"$error":"#REF!"},{"$error":"#REF!"},{"$error":"#REF!"},{"$error":"#REF!"},{"$error":"#REF!"},{"$error":"#REF!"},{"$error":"#REF!"},{"$error":"#REF!"},{"$error":"#REF!"},{"$error":"#REF!"},{"$error":"#REF!"},{"$error":"#REF!"},{"$error":"#REF!"},{"$error":"#REF!"},{"$error":"#REF!"},{"$error":"#REF!"},{"$error":"#REF!"},{"$error":"#REF!"},{"$error":"#REF!"},{"$error":"#REF!"},{"$error":"#REF!"},{"$error":"#REF!"},{"$error":"#REF!"},{"$error":"#REF!"},{"$error":"#REF!"},{"$error":"#REF!"},{"$error":"#REF!"},{"$error":"#REF!"},{"$error":"#REF!"},{"$error":"#REF!"},{"$error":"#REF!"},{"$error":"#REF!"},{"$error":"#REF!"},{"$error":"#REF!"},{"$error":"#REF!"},{"$error":"#REF!"},{"$error":"#REF!"},{"$error":"#REF!"},{"$error":"#REF!"},{"$error":"#REF!"},{"$error":"#REF!"},{"$error":"#REF!"},{"$error":"#REF!"},{"$error":"#REF!"},{"$error":"#REF!"},{"$error":"#REF!"},{"$error":"#REF!"},{"$error":"#REF!"},{"$error":"#REF!"},{"$error":"#REF!"},{"$error":"#REF!"},{"$error":"#REF!"},{"$error":"#REF!"},{"$error":"#REF!"},{"$error":"#REF!"},{"$error":"#REF!"},{"$error":"#REF!"},{"$error":"#REF!"},{"$error":"#REF!"},{"$error":"#REF!"},{"$error":"#REF!"}]
[47,"Maplesden Noakes Secondary Expansion, bulge",{"$error":"#N/A"},{"$error":"#N/A"},{"$error":"#N/A"},{"$error":"#N/A"},{"$error":"#N/A"},{"$error":"#N/A"},{"$error":"#N/A"},{"$error":"#N/A"},{"$error":"#N/A"},{"$error":"#N/A"},{"$error":"#N/A"},{"$error":"#N/A"},{"$error":"#N/A"},{"$error":"#N/A"},{"$error":"#N/A"},{"$error":"#N/A"},{"$error":"#N/A"},{"$error":"#N/A"},{"$error":"#N/A"},{"$error":"#N/A"},{"$error":"#N/A"},{"$error":"#N/A"},{"$error":"#N/A"},{"$error":"#N/A"},{"$error":"#N/A"},{"$error":"#N/A"},{"$error":"#N/A"},{"$error":"#N/A"},{"$error":"#N/A"},{"$error":"#N/A"},{"$error":"#N/A"},{"$error":"#N/A"},{"$error":"#N/A"},{"$error":"#N/A"},{"$error":"#N/A"},{"$error":"#N/A"},{"$error":"#N/A"},{"$error":"#N/A"},{"$error":"#N/A"},{"$error":"#N/A"},{"$error":"#N/A"},{"$error":"#N/A"},{"$error":"#N/A"},{"$error":"#N/A"},{"$error":"#N/A"},{"$error":"#N/A"},{"$error":"#N/A"},{"$error":"#N/A"},{"$error":"#N/A"},{"$error":"#N/A"},{"$error":"#N/A"},{"$error":"#N/A"},{"$error":"#N/A"},{"$error":"#N/A"},{"$error":"#N/A"},{"$error":"#N/A"},{"$error":"#N/A"},{"$error":"#N/A"},{"$error":"#N/A"},{"$error":"#N/A"},{"$error":"#N/A"},{"$error":"#N/A"},{"$error":"#N/A"},{"$error":"#N/A"},{"$error":"#N/A"},{"$error":"#N/A"},{"$error":"#N/A"},{"$error":"#N/A"},{"$error":"#N/A"},{"$error":"#N/A"},{"$error":"#N/A"},{"$error":"#N/A"},{"$error":"#N/A"},{"$error":"#N/A"},{"$error":"#N/A"},{"$error":"#N/A"},{"$error":"#N/A"},{"$error":"#N/A"},{"$error":"#N/A"},{"$error":"#N/A"},{"$error":"#N/A"},{"$error":"#N/A"},{"$error":"#N/A"},{"$error":"#N/A"},{"$error":"#N/A"}]
[48,"Langley Park PS","West","1 FE expansion",2600000,2577621.7400000002,{"$error":"#REF!"},{"$error":"#REF!"},{"$error":"#REF!"},{"$error":"#REF!"},{"$error":"#REF!"},{"$error":"#REF!"},{"$error":"#REF!"},{"$error":"#REF!"},{"$error":"#REF!"},{"$error":"#REF!"},{"$error":"#REF!"},{"$error":"#REF!"},{"$error":"#REF!"},{"$error":"#REF!"},{"$error":"#REF!"},{"$error":"#REF!"},{"$error":"#REF!"},{"$error":"#REF!"},{"$error":"#REF!"},{"$error":"#REF!"},{"$error":"#REF!"},{"$error":"#REF!"},{"$error":"#REF!"},{"$error":"#REF!"},{"$error":"#REF!"},{"$error":"#REF!"},{"$error":"#REF!"},{"$error":"#REF!"},{"$error":"#REF!"},{"$error":"#REF!"},{"$error":"#REF!"},{"$error":"#REF!"},{"$error":"#REF!"},{"$error":"#REF!"},{"$error":"#REF!"},{"$error":"#REF!"},{"$error":"#REF!"},{"$error":"#REF!"},{"$error":"#REF!"},{"$error":"#REF!"},{"$error":"#REF!"},{"$error":"#REF!"},{"$error":"#REF!"},{"$error":"#REF!"},{"$error":"#REF!"},{"$error":"#REF!"},{"$error":"#REF!"},{"$error":"#REF!"},{"$error":"#REF!"},{"$error":"#REF!"},{"$error":"#REF!"},{"$error":"#REF!"},{"$error":"#REF!"},{"$error":"#REF!"},{"$error":"#REF!"},{"$error":"#REF!"},{"$error":"#REF!"},{"$error":"#REF!"},{"$error":"#REF!"},{"$error":"#REF!"},{"$error":"#REF!"},{"$error":"#REF!"},{"$error":"#REF!"},{"$error":"#REF!"},{"$error":"#REF!"},{"$error":"#REF!"},{"$error":"#REF!"},{"$error":"#REF!"},{"$error":"#REF!"},{"$error":"#REF!"},{"$error":"#REF!"},{"$error":"#REF!"},{"$error":"#REF!"},{"$error":"#REF!"},{"$error":"#REF!"},{"$error":"#REF!"},{"$error":"#REF!"},{"$error":"#REF!"},{"$error":"#REF!"},{"$error":"#REF!"},{"$error":"#REF!"}]
[49,"Park Way PS","West","2 teaching space expansion",400000,286737,{"$error":"#REF!"},{"$error":"#REF!"},{"$error":"#REF!"},{"$error":"#REF!"},{"$error":"#REF!"},{"$error":"#REF!"},{"$error":"#REF!"},{"$error":"#REF!"},{"$error":"#REF!"},{"$error":"#REF!"},{"$error":"#REF!"},{"$error":"#REF!"},{"$error":"#REF!"},{"$error":"#REF!"},{"$error":"#REF!"},{"$error":"#REF!"},{"$error":"#REF!"},{"$error":"#REF!"},{"$error":"#REF!"},{"$error":"#REF!"},{"$error":"#REF!"},{"$error":"#REF!"},{"$error":"#REF!"},{"$error":"#REF!"},{"$error":"#REF!"},{"$error":"#REF!"},{"$error":"#REF!"},{"$error":"#REF!"},{"$error":"#REF!"},{"$error":"#REF!"},{"$error":"#REF!"},{"$error":"#REF!"},{"$error":"#REF!"},{"$error":"#REF!"},{"$error":"#REF!"},{"$error":"#REF!"},{"$error":"#REF!"},{"$error":"#REF!"},{"$error":"#REF!"},{"$error":"#REF!"},{"$error":"#REF!"},{"$error":"#REF!"},{"$error":"#REF!"},{"$error":"#REF!"},{"$error":"#REF!"},{"$error":"#REF!"},{"$error":"#REF!"},{"$error":"#REF!"},{"$error":"#REF!"},{"$error":"#REF!"},{"$error":"#REF!"},{"$error":"#REF!"},{"$error":"#REF!"},{"$error":"#REF!"},{"$error":"#REF!"},{"$error":"#REF!"},{"$error":"#REF!"},{"$error":"#REF!"},{"$error":"#REF!"},{"$error":"#REF!"},{"$error":"#REF!"},{"$error":"#REF!"},{"$error":"#REF!"},{"$error":"#REF!"},{"$error":"#REF!"},{"$error":"#REF!"},{"$error":"#REF!"},{"$error":"#REF!"},{"$error":"#REF!"},{"$error":"#REF!"},{"$error":"#REF!"},{"$error":"#REF!"},{"$error":"#REF!"},{"$error":"#REF!"},{"$error":"#REF!"},{"$error":"#REF!"},{"$error":"#REF!"},{"$error":"#REF!"},{"$error":"#REF!"},{"$error":"#REF!"},{"$error":"#REF!"}]
[50,"Harrietsham PS","West","1FE expansion",3000000,3600000,{"$error":"#REF!"},{"$error":"#REF!"},{"$error":"#REF!"},{"$error":"#REF!"},{"$error":"#REF!"},{"$error":"#REF!"},{"$error":"#REF!"},{"$error":"#REF!"},{"$error":"#REF!"},{"$error":"#REF!"},{"$error":"#REF!"},{"$error":"#REF!"},{"$error":"#REF!"},{"$error":"#REF!"},{"$error":"#REF!"},{"$error":"#REF!"},{"$error":"#REF!"},{"$error":"#REF!"},{"$error":"#REF!"},{"$error":"#REF!"},{"$error":"#REF!"},{"$error":"#REF!"},{"$error":"#REF!"},{"$error":"#REF!"},{"$error":"#REF!"},{"$error":"#REF!"},{"$error":"#REF!"},{"$error":"#REF!"},{"$error":"#REF!"},{"$error":"#REF!"},{"$error":"#REF!"},{"$error":"#REF!"},{"$error":"#REF!"},{"$error":"#REF!"},{"$error":"#REF!"},{"$error":"#REF!"},{"$error":"#REF!"},{"$error":"#REF!"},{"$error":"#REF!"},{"$error":"#REF!"},{"$error":"#REF!"},{"$error":"#REF!"},{"$error":"#REF!"},{"$error":"#REF!"},{"$error":"#REF!"},{"$error":"#REF!"},{"$error":"#REF!"},{"$error":"#REF!"},{"$error":"#REF!"},{"$error":"#REF!"},{"$error":"#REF!"},{"$error":"#REF!"},{"$error":"#REF!"},{"$error":"#REF!"},{"$error":"#REF!"},{"$error":"#REF!"},{"$error":"#REF!"},{"$error":"#REF!"},{"$error":"#REF!"},{"$error":"#REF!"},{"$error":"#REF!"},{"$error":"#REF!"},{"$error":"#REF!"},{"$error":"#REF!"},{"$error":"#REF!"},{"$error":"#REF!"},{"$error":"#REF!"},{"$error":"#REF!"},{"$error":"#REF!"},{"$error":"#REF!"},{"$error":"#REF!"},{"$error":"#REF!"},{"$error":"#REF!"},{"$error":"#REF!"},{"$error":"#REF!"},{"$error":"#REF!"},{"$error":"#REF!"},{"$error":"#REF!"},{"$error":"#REF!"},{"$error":"#REF!"},{"$error":"#REF!"}]
[51,"St Peters Tunbridge Wells PS (Hawkenbury)","West","New 1FE School",6900000,7900000,{"$error":"#REF!"},{"$error":"#REF!"},{"$error":"#REF!"},{"$error":"#REF!"},{"$error":"#REF!"},{"$error":"#REF!"},{"$error":"#REF!"},{"$error":"#REF!"},{"$error":"#REF!"},{"$error":"#REF!"},{"$error":"#REF!"},{"$error":"#REF!"},{"$error":"#REF!"},{"$error":"#REF!"},{"$error":"#REF!"},{"$error":"#REF!"},{"$error":"#REF!"},{"$error":"#REF!"},{"$error":"#REF!"},{"$error":"#REF!"},{"$error":"#REF!"},{"$error":"#REF!"},{"$error":"#REF!"},{"$error":"#REF!"},{"$error":"#REF!"},{"$error":"#REF!"},{"$error":"#REF!"},{"$error":"#REF!"},{"$error":"#REF!"},{"$error":"#REF!"},{"$error":"#REF!"},{"$error":"#REF!"},{"$error":"#REF!"},{"$error":"#REF!"},{"$error":"#REF!"},{"$error":"#REF!"},{"$error":"#REF!"},{"$error":"#REF!"},{"$error":"#REF!"},{"$error":"#REF!"},{"$error":"#REF!"},{"$error":"#REF!"},{"$error":"#REF!"},{"$error":"#REF!"},{"$error":"#REF!"},{"$error":"#REF!"},{"$error":"#REF!"},{"$error":"#REF!"},{"$error":"#REF!"},{"$error":"#REF!"},{"$error":"#REF!"},{"$error":"#REF!"},{"$error":"#REF!"},{"$error":"#REF!"},{"$error":"#REF!"},{"$error":"#REF!"},{"$error":"#REF!"},{"$error":"#REF!"},{"$error":"#REF!"},{"$error":"#REF!"},{"$error":"#REF!"},{"$error":"#REF!"},{"$error":"#REF!"},{"$error":"#REF!"},{"$error":"#REF!"},{"$error":"#REF!"},{"$error":"#REF!"},{"$error":"#REF!"},{"$error":"#REF!"},{"$error":"#REF!"},{"$error":"#REF!"},{"$error":"#REF!"},{"$error":"#REF!"},{"$error":"#REF!"},{"$error":"#REF!"},{"$error":"#REF!"},{"$error":"#REF!"},{"$error":"#REF!"},{"$error":"#REF!"},{"$error":"#REF!"},{"$error":"#REF!"}]
[52,"Benenden PS",{"$error":"#N/A"},{"$error":"#N/A"},{"$error":"#N/A"},{"$error":"#N/A"},{"$error":"#N/A"},{"$error":"#N/A"},{"$error":"#N/A"},{"$error":"#N/A"},{"$error":"#N/A"},{"$error":"#N/A"},{"$error":"#N/A"},{"$error":"#N/A"},{"$error":"#N/A"},{"$error":"#N/A"},{"$error":"#N/A"},{"$error":"#N/A"},{"$error":"#N/A"},{"$error":"#N/A"},{"$error":"#N/A"},{"$error":"#N/A"},{"$error":"#N/A"},{"$error":"#N/A"},{"$error":"#N/A"},{"$error":"#N/A"},{"$error":"#N/A"},{"$error":"#N/A"},{"$error":"#N/A"},{"$error":"#N/A"},{"$error":"#N/A"},{"$error":"#N/A"},{"$error":"#N/A"},{"$error":"#N/A"},{"$error":"#N/A"},{"$error":"#N/A"},{"$error":"#N/A"},{"$error":"#N/A"},{"$error":"#N/A"},{"$error":"#N/A"},{"$error":"#N/A"},{"$error":"#N/A"},{"$error":"#N/A"},{"$error":"#N/A"},{"$error":"#N/A"},{"$error":"#N/A"},{"$error":"#N/A"},{"$error":"#N/A"},{"$error":"#N/A"},{"$error":"#N/A"},{"$error":"#N/A"},{"$error":"#N/A"},{"$error":"#N/A"},{"$error":"#N/A"},{"$error":"#N/A"},{"$error":"#N/A"},{"$error":"#N/A"},{"$error":"#N/A"},{"$error":"#N/A"},{"$error":"#N/A"},{"$error":"#N/A"},{"$error":"#N/A"},{"$error":"#N/A"},{"$error":"#N/A"},{"$error":"#N/A"},{"$error":"#N/A"},{"$error":"#N/A"},{"$error":"#N/A"},{"$error":"#N/A"},{"$error":"#N/A"},{"$error":"#N/A"},{"$error":"#N/A"},{"$error":"#N/A"},{"$error":"#N/A"},{"$error":"#N/A"},{"$error":"#N/A"},{"$error":"#N/A"},{"$error":"#N/A"},{"$error":"#N/A"},{"$error":"#N/A"},{"$error":"#N/A"},{"$error":"#N/A"},{"$error":"#N/A"},{"$error":"#N/A"},{"$error":"#N/A"},{"$error":"#N/A"},{"$error":"#N/A"}]
[53,"Platt PS",{"$error":"#N/A"},{"$error":"#N/A"},{"$error":"#N/A"},{"$error":"#N/A"},{"$error":"#N/A"},{"$error":"#N/A"},{"$error":"#N/A"},{"$error":"#N/A"},{"$error":"#N/A"},{"$error":"#N/A"},{"$error":"#N/A"},{"$error":"#N/A"},{"$error":"#N/A"},{"$error":"#N/A"},{"$error":"#N/A"},{"$error":"#N/A"},{"$error":"#N/A"},{"$error":"#N/A"},{"$error":"#N/A"},{"$error":"#N/A"},{"$error":"#N/A"},{"$error":"#N/A"},{"$error":"#N/A"},{"$error":"#N/A"},{"$error":"#N/A"},{"$error":"#N/A"},{"$error":"#N/A"},{"$error":"#N/A"},{"$error":"#N/A"},{"$error":"#N/A"},{"$error":"#N/A"},{"$error":"#N/A"},{"$error":"#N/A"},{"$error":"#N/A"},{"$error":"#N/A"},{"$error":"#N/A"},{"$error":"#N/A"},{"$error":"#N/A"},{"$error":"#N/A"},{"$error":"#N/A"},{"$error":"#N/A"},{"$error":"#N/A"},{"$error":"#N/A"},{"$error":"#N/A"},{"$error":"#N/A"},{"$error":"#N/A"},{"$error":"#N/A"},{"$error":"#N/A"},{"$error":"#N/A"},{"$error":"#N/A"},{"$error":"#N/A"},{"$error":"#N/A"},{"$error":"#N/A"},{"$error":"#N/A"},{"$error":"#N/A"},{"$error":"#N/A"},{"$error":"#N/A"},{"$error":"#N/A"},{"$error":"#N/A"},{"$error":"#N/A"},{"$error":"#N/A"},{"$error":"#N/A"},{"$error":"#N/A"},{"$error":"#N/A"},{"$error":"#N/A"},{"$error":"#N/A"},{"$error":"#N/A"},{"$error":"#N/A"},{"$error":"#N/A"},{"$error":"#N/A"},{"$error":"#N/A"},{"$error":"#N/A"},{"$error":"#N/A"},{"$error":"#N/A"},{"$error":"#N/A"},{"$error":"#N/A"},{"$error":"#N/A"},{"$error":"#N/A"},{"$error":"#N/A"},{"$error":"#N/A"},{"$error":"#N/A"},{"$error":"#N/A"},{"$error":"#N/A"},{"$error":"#N/A"},{"$error":"#N/A"}]
[54,"Northfleet Tech College (PFI)","North","1FE expansion required for Sept 2021. ",4500000,4320167,{"$error":"#REF!"},{"$error":"#REF!"},{"$error":"#REF!"},{"$error":"#REF!"},{"$error":"#REF!"},{"$error":"#REF!"},{"$error":"#REF!"},{"$error":"#REF!"},{"$error":"#REF!"},{"$error":"#REF!"},{"$error":"#REF!"},{"$error":"#REF!"},{"$error":"#REF!"},{"$error":"#REF!"},{"$error":"#REF!"},{"$error":"#REF!"},{"$error":"#REF!"},{"$error":"#REF!"},{"$error":"#REF!"},{"$error":"#REF!"},{"$error":"#REF!"},{"$error":"#REF!"},{"$error":"#REF!"},{"$error":"#REF!"},{"$error":"#REF!"},{"$error":"#REF!"},{"$error":"#REF!"},{"$error":"#REF!"},{"$error":"#REF!"},{"$error":"#REF!"},{"$error":"#REF!"},{"$error":"#REF!"},{"$error":"#REF!"},{"$error":"#REF!"},{"$error":"#REF!"},{"$error":"#REF!"},{"$error":"#REF!"},{"$error":"#REF!"},{"$error":"#REF!"},{"$error":"#REF!"},{"$error":"#REF!"},{"$error":"#REF!"},{"$error":"#REF!"},{"$error":"#REF!"},{"$error":"#REF!"},{"$error":"#REF!"},{"$error":"#REF!"},{"$error":"#REF!"},{"$error":"#REF!"},{"$error":"#REF!"},{"$error":"#REF!"},{"$error":"#REF!"},{"$error":"#REF!"},{"$error":"#REF!"},{"$error":"#REF!"},{"$error":"#REF!"},{"$error":"#REF!"},{"$error":"#REF!"},{"$error":"#REF!"},{"$error":"#REF!"},{"$error":"#REF!"},{"$error":"#REF!"},{"$error":"#REF!"},{"$error":"#REF!"},{"$error":"#REF!"},{"$error":"#REF!"},{"$error":"#REF!"},{"$error":"#REF!"},{"$error":"#REF!"},{"$error":"#REF!"},{"$error":"#REF!"},{"$error":"#REF!"},{"$error":"#REF!"},{"$error":"#REF!"},{"$error":"#REF!"},{"$error":"#REF!"},{"$error":"#REF!"},{"$error":"#REF!"},{"$error":"#REF!"},{"$error":"#REF!"},{"$error":"#REF!"}]
[55,"St John's Secondary School (PFI), Phase 1",{"$error":"#N/A"},{"$error":"#N/A"},{"$error":"#N/A"},{"$error":"#N/A"},{"$error":"#N/A"},{"$error":"#N/A"},{"$error":"#N/A"},{"$error":"#N/A"},{"$error":"#N/A"},{"$error":"#N/A"},{"$error":"#N/A"},{"$error":"#N/A"},{"$error":"#N/A"},{"$error":"#N/A"},{"$error":"#N/A"},{"$error":"#N/A"},{"$error":"#N/A"},{"$error":"#N/A"},{"$error":"#N/A"},{"$error":"#N/A"},{"$error":"#N/A"},{"$error":"#N/A"},{"$error":"#N/A"},{"$error":"#N/A"},{"$error":"#N/A"},{"$error":"#N/A"},{"$error":"#N/A"},{"$error":"#N/A"},{"$error":"#N/A"},{"$error":"#N/A"},{"$error":"#N/A"},{"$error":"#N/A"},{"$error":"#N/A"},{"$error":"#N/A"},{"$error":"#N/A"},{"$error":"#N/A"},{"$error":"#N/A"},{"$error":"#N/A"},{"$error":"#N/A"},{"$error":"#N/A"},{"$error":"#N/A"},{"$error":"#N/A"},{"$error":"#N/A"},{"$error":"#N/A"},{"$error":"#N/A"},{"$error":"#N/A"},{"$error":"#N/A"},{"$error":"#N/A"},{"$error":"#N/A"},{"$error":"#N/A"},{"$error":"#N/A"},{"$error":"#N/A"},{"$error":"#N/A"},{"$error":"#N/A"},{"$error":"#N/A"},{"$error":"#N/A"},{"$error":"#N/A"},{"$error":"#N/A"},{"$error":"#N/A"},{"$error":"#N/A"},{"$error":"#N/A"},{"$error":"#N/A"},{"$error":"#N/A"},{"$error":"#N/A"},{"$error":"#N/A"},{"$error":"#N/A"},{"$error":"#N/A"},{"$error":"#N/A"},{"$error":"#N/A"},{"$error":"#N/A"},{"$error":"#N/A"},{"$error":"#N/A"},{"$error":"#N/A"},{"$error":"#N/A"},{"$error":"#N/A"},{"$error":"#N/A"},{"$error":"#N/A"},{"$error":"#N/A"},{"$error":"#N/A"},{"$error":"#N/A"},{"$error":"#N/A"},{"$error":"#N/A"},{"$error":"#N/A"},{"$error":"#N/A"},{"$error":"#N/A"}]
[56,"St John's Secondary School (PFI), Phase 2",{"$error":"#N/A"},{"$error":"#N/A"},{"$error":"#N/A"},{"$error":"#N/A"},{"$error":"#N/A"},{"$error":"#N/A"},{"$error":"#N/A"},{"$error":"#N/A"},{"$error":"#N/A"},{"$error":"#N/A"},{"$error":"#N/A"},{"$error":"#N/A"},{"$error":"#N/A"},{"$error":"#N/A"},{"$error":"#N/A"},{"$error":"#N/A"},{"$error":"#N/A"},{"$error":"#N/A"},{"$error":"#N/A"},{"$error":"#N/A"},{"$error":"#N/A"},{"$error":"#N/A"},{"$error":"#N/A"},{"$error":"#N/A"},{"$error":"#N/A"},{"$error":"#N/A"},{"$error":"#N/A"},{"$error":"#N/A"},{"$error":"#N/A"},{"$error":"#N/A"},{"$error":"#N/A"},{"$error":"#N/A"},{"$error":"#N/A"},{"$error":"#N/A"},{"$error":"#N/A"},{"$error":"#N/A"},{"$error":"#N/A"},{"$error":"#N/A"},{"$error":"#N/A"},{"$error":"#N/A"},{"$error":"#N/A"},{"$error":"#N/A"},{"$error":"#N/A"},{"$error":"#N/A"},{"$error":"#N/A"},{"$error":"#N/A"},{"$error":"#N/A"},{"$error":"#N/A"},{"$error":"#N/A"},{"$error":"#N/A"},{"$error":"#N/A"},{"$error":"#N/A"},{"$error":"#N/A"},{"$error":"#N/A"},{"$error":"#N/A"},{"$error":"#N/A"},{"$error":"#N/A"},{"$error":"#N/A"},{"$error":"#N/A"},{"$error":"#N/A"},{"$error":"#N/A"},{"$error":"#N/A"},{"$error":"#N/A"},{"$error":"#N/A"},{"$error":"#N/A"},{"$error":"#N/A"},{"$error":"#N/A"},{"$error":"#N/A"},{"$error":"#N/A"},{"$error":"#N/A"},{"$error":"#N/A"},{"$error":"#N/A"},{"$error":"#N/A"},{"$error":"#N/A"},{"$error":"#N/A"},{"$error":"#N/A"},{"$error":"#N/A"},{"$error":"#N/A"},{"$error":"#N/A"},{"$error":"#N/A"},{"$error":"#N/A"},{"$error":"#N/A"},{"$error":"#N/A"},{"$error":"#N/A"},{"$error":"#N/A"}]
[57,"Thamesview School (PFI), Phase 1",{"$error":"#N/A"},{"$error":"#N/A"},{"$error":"#N/A"},{"$error":"#N/A"},{"$error":"#N/A"},{"$error":"#N/A"},{"$error":"#N/A"},{"$error":"#N/A"},{"$error":"#N/A"},{"$error":"#N/A"},{"$error":"#N/A"},{"$error":"#N/A"},{"$error":"#N/A"},{"$error":"#N/A"},{"$error":"#N/A"},{"$error":"#N/A"},{"$error":"#N/A"},{"$error":"#N/A"},{"$error":"#N/A"},{"$error":"#N/A"},{"$error":"#N/A"},{"$error":"#N/A"},{"$error":"#N/A"},{"$error":"#N/A"},{"$error":"#N/A"},{"$error":"#N/A"},{"$error":"#N/A"},{"$error":"#N/A"},{"$error":"#N/A"},{"$error":"#N/A"},{"$error":"#N/A"},{"$error":"#N/A"},{"$error":"#N/A"},{"$error":"#N/A"},{"$error":"#N/A"},{"$error":"#N/A"},{"$error":"#N/A"},{"$error":"#N/A"},{"$error":"#N/A"},{"$error":"#N/A"},{"$error":"#N/A"},{"$error":"#N/A"},{"$error":"#N/A"},{"$error":"#N/A"},{"$error":"#N/A"},{"$error":"#N/A"},{"$error":"#N/A"},{"$error":"#N/A"},{"$error":"#N/A"},{"$error":"#N/A"},{"$error":"#N/A"},{"$error":"#N/A"},{"$error":"#N/A"},{"$error":"#N/A"},{"$error":"#N/A"},{"$error":"#N/A"},{"$error":"#N/A"},{"$error":"#N/A"},{"$error":"#N/A"},{"$error":"#N/A"},{"$error":"#N/A"},{"$error":"#N/A"},{"$error":"#N/A"},{"$error":"#N/A"},{"$error":"#N/A"},{"$error":"#N/A"},{"$error":"#N/A"},{"$error":"#N/A"},{"$error":"#N/A"},{"$error":"#N/A"},{"$error":"#N/A"},{"$error":"#N/A"},{"$error":"#N/A"},{"$error":"#N/A"},{"$error":"#N/A"},{"$error":"#N/A"},{"$error":"#N/A"},{"$error":"#N/A"},{"$error":"#N/A"},{"$error":"#N/A"},{"$error":"#N/A"},{"$error":"#N/A"},{"$error":"#N/A"},{"$error":"#N/A"},{"$error":"#N/A"}]
[58,"Thamesview School (PFI), Phase 2",{"$error":"#N/A"},{"$error":"#N/A"},{"$error":"#N/A"},{"$error":"#N/A"},{"$error":"#N/A"},{"$error":"#N/A"},{"$error":"#N/A"},{"$error":"#N/A"},{"$error":"#N/A"},{"$error":"#N/A"},{"$error":"#N/A"},{"$error":"#N/A"},{"$error":"#N/A"},{"$error":"#N/A"},{"$error":"#N/A"},{"$error":"#N/A"},{"$error":"#N/A"},{"$error":"#N/A"},{"$error":"#N/A"},{"$error":"#N/A"},{"$error":"#N/A"},{"$error":"#N/A"},{"$error":"#N/A"},{"$error":"#N/A"},{"$error":"#N/A"},{"$error":"#N/A"},{"$error":"#N/A"},{"$error":"#N/A"},{"$error":"#N/A"},{"$error":"#N/A"},{"$error":"#N/A"},{"$error":"#N/A"},{"$error":"#N/A"},{"$error":"#N/A"},{"$error":"#N/A"},{"$error":"#N/A"},{"$error":"#N/A"},{"$error":"#N/A"},{"$error":"#N/A"},{"$error":"#N/A"},{"$error":"#N/A"},{"$error":"#N/A"},{"$error":"#N/A"},{"$error":"#N/A"},{"$error":"#N/A"},{"$error":"#N/A"},{"$error":"#N/A"},{"$error":"#N/A"},{"$error":"#N/A"},{"$error":"#N/A"},{"$error":"#N/A"},{"$error":"#N/A"},{"$error":"#N/A"},{"$error":"#N/A"},{"$error":"#N/A"},{"$error":"#N/A"},{"$error":"#N/A"},{"$error":"#N/A"},{"$error":"#N/A"},{"$error":"#N/A"},{"$error":"#N/A"},{"$error":"#N/A"},{"$error":"#N/A"},{"$error":"#N/A"},{"$error":"#N/A"},{"$error":"#N/A"},{"$error":"#N/A"},{"$error":"#N/A"},{"$error":"#N/A"},{"$error":"#N/A"},{"$error":"#N/A"},{"$error":"#N/A"},{"$error":"#N/A"},{"$error":"#N/A"},{"$error":"#N/A"},{"$error":"#N/A"},{"$error":"#N/A"},{"$error":"#N/A"},{"$error":"#N/A"},{"$error":"#N/A"},{"$error":"#N/A"},{"$error":"#N/A"},{"$error":"#N/A"},{"$error":"#N/A"},{"$error":"#N/A"}]
[59,"Ursuline College, Phase 1",{"$error":"#N/A"},{"$error":"#N/A"},{"$error":"#N/A"},{"$error":"#N/A"},{"$error":"#N/A"},{"$error":"#N/A"},{"$error":"#N/A"},{"$error":"#N/A"},{"$error":"#N/A"},{"$error":"#N/A"},{"$error":"#N/A"},{"$error":"#N/A"},{"$error":"#N/A"},{"$error":"#N/A"},{"$error":"#N/A"},{"$error":"#N/A"},{"$error":"#N/A"},{"$error":"#N/A"},{"$error":"#N/A"},{"$error":"#N/A"},{"$error":"#N/A"},{"$error":"#N/A"},{"$error":"#N/A"},{"$error":"#N/A"},{"$error":"#N/A"},{"$error":"#N/A"},{"$error":"#N/A"},{"$error":"#N/A"},{"$error":"#N/A"},{"$error":"#N/A"},{"$error":"#N/A"},{"$error":"#N/A"},{"$error":"#N/A"},{"$error":"#N/A"},{"$error":"#N/A"},{"$error":"#N/A"},{"$error":"#N/A"},{"$error":"#N/A"},{"$error":"#N/A"},{"$error":"#N/A"},{"$error":"#N/A"},{"$error":"#N/A"},{"$error":"#N/A"},{"$error":"#N/A"},{"$error":"#N/A"},{"$error":"#N/A"},{"$error":"#N/A"},{"$error":"#N/A"},{"$error":"#N/A"},{"$error":"#N/A"},{"$error":"#N/A"},{"$error":"#N/A"},{"$error":"#N/A"},{"$error":"#N/A"},{"$error":"#N/A"},{"$error":"#N/A"},{"$error":"#N/A"},{"$error":"#N/A"},{"$error":"#N/A"},{"$error":"#N/A"},{"$error":"#N/A"},{"$error":"#N/A"},{"$error":"#N/A"},{"$error":"#N/A"},{"$error":"#N/A"},{"$error":"#N/A"},{"$error":"#N/A"},{"$error":"#N/A"},{"$error":"#N/A"},{"$error":"#N/A"},{"$error":"#N/A"},{"$error":"#N/A"},{"$error":"#N/A"},{"$error":"#N/A"},{"$error":"#N/A"},{"$error":"#N/A"},{"$error":"#N/A"},{"$error":"#N/A"},{"$error":"#N/A"},{"$error":"#N/A"},{"$error":"#N/A"},{"$error":"#N/A"},{"$error":"#N/A"},{"$error":"#N/A"},{"$error":"#N/A"}]
[60,"Ursuline College, Phase 2",{"$error":"#N/A"},{"$error":"#N/A"},{"$error":"#N/A"},{"$error":"#N/A"},{"$error":"#N/A"},{"$error":"#N/A"},{"$error":"#N/A"},{"$error":"#N/A"},{"$error":"#N/A"},{"$error":"#N/A"},{"$error":"#N/A"},{"$error":"#N/A"},{"$error":"#N/A"},{"$error":"#N/A"},{"$error":"#N/A"},{"$error":"#N/A"},{"$error":"#N/A"},{"$error":"#N/A"},{"$error":"#N/A"},{"$error":"#N/A"},{"$error":"#N/A"},{"$error":"#N/A"},{"$error":"#N/A"},{"$error":"#N/A"},{"$error":"#N/A"},{"$error":"#N/A"},{"$error":"#N/A"},{"$error":"#N/A"},{"$error":"#N/A"},{"$error":"#N/A"},{"$error":"#N/A"},{"$error":"#N/A"},{"$error":"#N/A"},{"$error":"#N/A"},{"$error":"#N/A"},{"$error":"#N/A"},{"$error":"#N/A"},{"$error":"#N/A"},{"$error":"#N/A"},{"$error":"#N/A"},{"$error":"#N/A"},{"$error":"#N/A"},{"$error":"#N/A"},{"$error":"#N/A"},{"$error":"#N/A"},{"$error":"#N/A"},{"$error":"#N/A"},{"$error":"#N/A"},{"$error":"#N/A"},{"$error":"#N/A"},{"$error":"#N/A"},{"$error":"#N/A"},{"$error":"#N/A"},{"$error":"#N/A"},{"$error":"#N/A"},{"$error":"#N/A"},{"$error":"#N/A"},{"$error":"#N/A"},{"$error":"#N/A"},{"$error":"#N/A"},{"$error":"#N/A"},{"$error":"#N/A"},{"$error":"#N/A"},{"$error":"#N/A"},{"$error":"#N/A"},{"$error":"#N/A"},{"$error":"#N/A"},{"$error":"#N/A"},{"$error":"#N/A"},{"$error":"#N/A"},{"$error":"#N/A"},{"$error":"#N/A"},{"$error":"#N/A"},{"$error":"#N/A"},{"$error":"#N/A"},{"$error":"#N/A"},{"$error":"#N/A"},{"$error":"#N/A"},{"$error":"#N/A"},{"$error":"#N/A"},{"$error":"#N/A"},{"$error":"#N/A"},{"$error":"#N/A"},{"$error":"#N/A"},{"$error":"#N/A"}]
[61,"Judd School, RS classroom",{"$error":"#N/A"},{"$error":"#N/A"},{"$error":"#N/A"},{"$error":"#N/A"},{"$error":"#N/A"},{"$error":"#N/A"},{"$error":"#N/A"},{"$error":"#N/A"},{"$error":"#N/A"},{"$error":"#N/A"},{"$error":"#N/A"},{"$error":"#N/A"},{"$error":"#N/A"},{"$error":"#N/A"},{"$error":"#N/A"},{"$error":"#N/A"},{"$error":"#N/A"},{"$error":"#N/A"},{"$error":"#N/A"},{"$error":"#N/A"},{"$error":"#N/A"},{"$error":"#N/A"},{"$error":"#N/A"},{"$error":"#N/A"},{"$error":"#N/A"},{"$error":"#N/A"},{"$error":"#N/A"},{"$error":"#N/A"},{"$error":"#N/A"},{"$error":"#N/A"},{"$error":"#N/A"},{"$error":"#N/A"},{"$error":"#N/A"},{"$error":"#N/A"},{"$error":"#N/A"},{"$error":"#N/A"},{"$error":"#N/A"},{"$error":"#N/A"},{"$error":"#N/A"},{"$error":"#N/A"},{"$error":"#N/A"},{"$error":"#N/A"},{"$error":"#N/A"},{"$error":"#N/A"},{"$error":"#N/A"},{"$error":"#N/A"},{"$error":"#N/A"},{"$error":"#N/A"},{"$error":"#N/A"},{"$error":"#N/A"},{"$error":"#N/A"},{"$error":"#N/A"},{"$error":"#N/A"},{"$error":"#N/A"},{"$error":"#N/A"},{"$error":"#N/A"},{"$error":"#N/A"},{"$error":"#N/A"},{"$error":"#N/A"},{"$error":"#N/A"},{"$error":"#N/A"},{"$error":"#N/A"},{"$error":"#N/A"},{"$error":"#N/A"},{"$error":"#N/A"},{"$error":"#N/A"},{"$error":"#N/A"},{"$error":"#N/A"},{"$error":"#N/A"},{"$error":"#N/A"},{"$error":"#N/A"},{"$error":"#N/A"},{"$error":"#N/A"},{"$error":"#N/A"},{"$error":"#N/A"},{"$error":"#N/A"},{"$error":"#N/A"},{"$error":"#N/A"},{"$error":"#N/A"},{"$error":"#N/A"},{"$error":"#N/A"},{"$error":"#N/A"},{"$error":"#N/A"},{"$error":"#N/A"},{"$error":"#N/A"}]
[62,"Judd School, remodelling",{"$error":"#N/A"},{"$error":"#N/A"},{"$error":"#N/A"},{"$error":"#N/A"},{"$error":"#N/A"},{"$error":"#N/A"},{"$error":"#N/A"},{"$error":"#N/A"},{"$error":"#N/A"},{"$error":"#N/A"},{"$error":"#N/A"},{"$error":"#N/A"},{"$error":"#N/A"},{"$error":"#N/A"},{"$error":"#N/A"},{"$error":"#N/A"},{"$error":"#N/A"},{"$error":"#N/A"},{"$error":"#N/A"},{"$error":"#N/A"},{"$error":"#N/A"},{"$error":"#N/A"},{"$error":"#N/A"},{"$error":"#N/A"},{"$error":"#N/A"},{"$error":"#N/A"},{"$error":"#N/A"},{"$error":"#N/A"},{"$error":"#N/A"},{"$error":"#N/A"},{"$error":"#N/A"},{"$error":"#N/A"},{"$error":"#N/A"},{"$error":"#N/A"},{"$error":"#N/A"},{"$error":"#N/A"},{"$error":"#N/A"},{"$error":"#N/A"},{"$error":"#N/A"},{"$error":"#N/A"},{"$error":"#N/A"},{"$error":"#N/A"},{"$error":"#N/A"},{"$error":"#N/A"},{"$error":"#N/A"},{"$error":"#N/A"},{"$error":"#N/A"},{"$error":"#N/A"},{"$error":"#N/A"},{"$error":"#N/A"},{"$error":"#N/A"},{"$error":"#N/A"},{"$error":"#N/A"},{"$error":"#N/A"},{"$error":"#N/A"},{"$error":"#N/A"},{"$error":"#N/A"},{"$error":"#N/A"},{"$error":"#N/A"},{"$error":"#N/A"},{"$error":"#N/A"},{"$error":"#N/A"},{"$error":"#N/A"},{"$error":"#N/A"},{"$error":"#N/A"},{"$error":"#N/A"},{"$error":"#N/A"},{"$error":"#N/A"},{"$error":"#N/A"},{"$error":"#N/A"},{"$error":"#N/A"},{"$error":"#N/A"},{"$error":"#N/A"},{"$error":"#N/A"},{"$error":"#N/A"},{"$error":"#N/A"},{"$error":"#N/A"},{"$error":"#N/A"},{"$error":"#N/A"},{"$error":"#N/A"},{"$error":"#N/A"},{"$error":"#N/A"},{"$error":"#N/A"},{"$error":"#N/A"},{"$error":"#N/A"}]
[63,"Bennett Memorial School","West","2FE Expansion ",6500000,7500000,{"$error":"#REF!"},{"$error":"#REF!"},{"$error":"#REF!"},{"$error":"#REF!"},{"$error":"#REF!"},{"$error":"#REF!"},{"$error":"#REF!"},{"$error":"#REF!"},{"$error":"#REF!"},{"$error":"#REF!"},{"$error":"#REF!"},{"$error":"#REF!"},{"$error":"#REF!"},{"$error":"#REF!"},{"$error":"#REF!"},{"$error":"#REF!"},{"$error":"#REF!"},{"$error":"#REF!"},{"$error":"#REF!"},{"$error":"#REF!"},{"$error":"#REF!"},{"$error":"#REF!"},{"$error":"#REF!"},{"$error":"#REF!"},{"$error":"#REF!"},{"$error":"#REF!"},{"$error":"#REF!"},{"$error":"#REF!"},{"$error":"#REF!"},{"$error":"#REF!"},{"$error":"#REF!"},{"$error":"#REF!"},{"$error":"#REF!"},{"$error":"#REF!"},{"$error":"#REF!"},{"$error":"#REF!"},{"$error":"#REF!"},{"$error":"#REF!"},{"$error":"#REF!"},{"$error":"#REF!"},{"$error":"#REF!"},{"$error":"#REF!"},{"$error":"#REF!"},{"$error":"#REF!"},{"$error":"#REF!"},{"$error":"#REF!"},{"$error":"#REF!"},{"$error":"#REF!"},{"$error":"#REF!"},{"$error":"#REF!"},{"$error":"#REF!"},{"$error":"#REF!"},{"$error":"#REF!"},{"$error":"#REF!"},{"$error":"#REF!"},{"$error":"#REF!"},{"$error":"#REF!"},{"$error":"#REF!"},{"$error":"#REF!"},{"$error":"#REF!"},{"$error":"#REF!"},{"$error":"#REF!"},{"$error":"#REF!"},{"$error":"#REF!"},{"$error":"#REF!"},{"$error":"#REF!"},{"$error":"#REF!"},{"$error":"#REF!"},{"$error":"#REF!"},{"$error":"#REF!"},{"$error":"#REF!"},{"$error":"#REF!"},{"$error":"#REF!"},{"$error":"#REF!"},{"$error":"#REF!"},{"$error":"#REF!"},{"$error":"#REF!"},{"$error":"#REF!"},{"$error":"#REF!"},{"$error":"#REF!"},{"$error":"#REF!"}]
[64,"Headcorn PS","West","1FE expansion",2700000,2924328,{"$error":"#REF!"},{"$error":"#REF!"},{"$error":"#REF!"},{"$error":"#REF!"},{"$error":"#REF!"},{"$error":"#REF!"},{"$error":"#REF!"},{"$error":"#REF!"},{"$error":"#REF!"},{"$error":"#REF!"},{"$error":"#REF!"},{"$error":"#REF!"},{"$error":"#REF!"},{"$error":"#REF!"},{"$error":"#REF!"},{"$error":"#REF!"},{"$error":"#REF!"},{"$error":"#REF!"},{"$error":"#REF!"},{"$error":"#REF!"},{"$error":"#REF!"},{"$error":"#REF!"},{"$error":"#REF!"},{"$error":"#REF!"},{"$error":"#REF!"},{"$error":"#REF!"},{"$error":"#REF!"},{"$error":"#REF!"},{"$error":"#REF!"},{"$error":"#REF!"},{"$error":"#REF!"},{"$error":"#REF!"},{"$error":"#REF!"},{"$error":"#REF!"},{"$error":"#REF!"},{"$error":"#REF!"},{"$error":"#REF!"},{"$error":"#REF!"},{"$error":"#REF!"},{"$error":"#REF!"},{"$error":"#REF!"},{"$error":"#REF!"},{"$error":"#REF!"},{"$error":"#REF!"},{"$error":"#REF!"},{"$error":"#REF!"},{"$error":"#REF!"},{"$error":"#REF!"},{"$error":"#REF!"},{"$error":"#REF!"},{"$error":"#REF!"},{"$error":"#REF!"},{"$error":"#REF!"},{"$error":"#REF!"},{"$error":"#REF!"},{"$error":"#REF!"},{"$error":"#REF!"},{"$error":"#REF!"},{"$error":"#REF!"},{"$error":"#REF!"},{"$error":"#REF!"},{"$error":"#REF!"},{"$error":"#REF!"},{"$error":"#REF!"},{"$error":"#REF!"},{"$error":"#REF!"},{"$error":"#REF!"},{"$error":"#REF!"},{"$error":"#REF!"},{"$error":"#REF!"},{"$error":"#REF!"},{"$error":"#REF!"},{"$error":"#REF!"},{"$error":"#REF!"},{"$error":"#REF!"},{"$error":"#REF!"},{"$error":"#REF!"},{"$error":"#REF!"},{"$error":"#REF!"},{"$error":"#REF!"},{"$error":"#REF!"}]
[65,"The Wyvern School",{"$f":"VLOOKUP($B71,MASTER_DATABASE,2,0)","v":"South"},{"$f":"VLOOKUP($B71,MASTER_DATABASE,3,0)","v":"1FE Expansion"},{"$f":"VLOOKUP($B71,MASTER_DATABASE,4,0)","v":4700000},{"$f":"VLOOKUP($B71,MASTER_DATABASE,5,0)","v":3164396},{"$f":"VLOOKUP($B71,MASTER_DATABASE,6,0)","v":{"$error":"#REF!"}},{"$f":"VLOOKUP($B71,MASTER_DATABASE,7,0)","v":{"$error":"#REF!"}},{"$f":"VLOOKUP($B71,MASTER_DATABASE,8,0)","v":{"$error":"#REF!"}},{"$f":"VLOOKUP($B71,MASTER_DATABASE,9,0)","v":{"$error":"#REF!"}},{"$f":"VLOOKUP($B71,MASTER_DATABASE,10,0)","v":{"$error":"#REF!"}},{"$f":"VLOOKUP($B71,MASTER_DATABASE,11,0)","v":{"$error":"#REF!"}},{"$f":"VLOOKUP($B71,MASTER_DATABASE,12,0)","v":{"$error":"#REF!"}},{"$f":"VLOOKUP($B71,MASTER_DATABASE,13,0)","v":{"$error":"#REF!"}},{"$f":"VLOOKUP($B71,MASTER_DATABASE,14,0)","v":{"$error":"#REF!"}},{"$f":"VLOOKUP($B71,MASTER_DATABASE,15,0)","v":{"$error":"#REF!"}},{"$f":"VLOOKUP($B71,MASTER_DATABASE,16,0)","v":{"$error":"#REF!"}},{"$f":"VLOOKUP($B71,MASTER_DATABASE,17,0)","v":{"$error":"#REF!"}},{"$f":"VLOOKUP($B71,MASTER_DATABASE,18,0)","v":{"$error":"#REF!"}},{"$f":"VLOOKUP($B71,MASTER_DATABASE,19,0)","v":{"$error":"#REF!"}},{"$f":"VLOOKUP($B71,MASTER_DATABASE,20,0)","v":{"$error":"#REF!"}},{"$f":"VLOOKUP($B71,MASTER_DATABASE,21,0)","v":{"$error":"#REF!"}},{"$f":"VLOOKUP($B71,MASTER_DATABASE,22,0)","v":{"$error":"#REF!"}},{"$f":"VLOOKUP($B71,MASTER_DATABASE,23,0)","v":{"$error":"#REF!"}},{"$f":"VLOOKUP($B71,MASTER_DATABASE,24,0)","v":{"$error":"#REF!"}},{"$f":"VLOOKUP($B71,MASTER_DATABASE,25,0)","v":{"$error":"#REF!"}},{"$f":"VLOOKUP($B71,MASTER_DATABASE,26,0)","v":{"$error":"#REF!"}},{"$f":"VLOOKUP($B71,MASTER_DATABASE,27,0)","v":{"$error":"#REF!"}},{"$f":"VLOOKUP($B71,MASTER_DATABASE,28,0)","v":{"$error":"#REF!"}},{"$f":"VLOOKUP($B71,MASTER_DATABASE,29,0)","v":{"$error":"#REF!"}},{"$f":"VLOOKUP($B71,MASTER_DATABASE,30,0)","v":{"$error":"#REF!"}},{"$f":"VLOOKUP($B71,MASTER_DATABASE,31,0)","v":{"$error":"#REF!"}},{"$f":"VLOOKUP($B71,MASTER_DATABASE,32,0)","v":{"$error":"#REF!"}},{"$f":"VLOOKUP($B71,MASTER_DATABASE,33,0)","v":{"$error":"#REF!"}},{"$f":"VLOOKUP($B71,MASTER_DATABASE,34,0)","v":{"$error":"#REF!"}},{"$f":"VLOOKUP($B71,MASTER_DATABASE,35,0)","v":{"$error":"#REF!"}},{"$f":"VLOOKUP($B71,MASTER_DATABASE,36,0)","v":{"$error":"#REF!"}},{"$f":"VLOOKUP($B71,MASTER_DATABASE,37,0)","v":{"$error":"#REF!"}},{"$f":"VLOOKUP($B71,MASTER_DATABASE,38,0)","v":{"$error":"#REF!"}},{"$f":"VLOOKUP($B71,MASTER_DATABASE,39,0)","v":{"$error":"#REF!"}},{"$f":"VLOOKUP($B71,MASTER_DATABASE,40,0)","v":{"$error":"#REF!"}},{"$f":"VLOOKUP($B71,MASTER_DATABASE,41,0)","v":{"$error":"#REF!"}},{"$f":"VLOOKUP($B71,MASTER_DATABASE,42,0)","v":{"$error":"#REF!"}},{"$f":"VLOOKUP($B71,MASTER_DATABASE,43,0)","v":{"$error":"#REF!"}},{"$f":"VLOOKUP($B71,MASTER_DATABASE,44,0)","v":{"$error":"#REF!"}},{"$f":"VLOOKUP($B71,MASTER_DATABASE,45,0)","v":{"$error":"#REF!"}},{"$f":"VLOOKUP($B71,MASTER_DATABASE,46,0)","v":{"$error":"#REF!"}},{"$f":"VLOOKUP($B71,MASTER_DATABASE,47,0)","v":{"$error":"#REF!"}},{"$f":"VLOOKUP($B71,MASTER_DATABASE,48,0)","v":{"$error":"#REF!"}},{"$f":"VLOOKUP($B71,MASTER_DATABASE,49,0)","v":{"$error":"#REF!"}},{"$f":"VLOOKUP($B71,MASTER_DATABASE,50,0)","v":{"$error":"#REF!"}},{"$f":"VLOOKUP($B71,MASTER_DATABASE,51,0)","v":{"$error":"#REF!"}},{"$f":"VLOOKUP($B71,MASTER_DATABASE,52,0)","v":{"$error":"#REF!"}},{"$f":"VLOOKUP($B71,MASTER_DATABASE,53,0)","v":{"$error":"#REF!"}},{"$f":"VLOOKUP($B71,MASTER_DATABASE,54,0)","v":{"$error":"#REF!"}},{"$f":"VLOOKUP($B71,MASTER_DATABASE,55,0)","v":{"$error":"#REF!"}},{"$f":"VLOOKUP($B71,MASTER_DATABASE,56,0)","v":{"$error":"#REF!"}},{"$f":"VLOOKUP($B71,MASTER_DATABASE,57,0)","v":{"$error":"#REF!"}},{"$f":"VLOOKUP($B71,MASTER_DATABASE,58,0)","v":{"$error":"#REF!"}},{"$f":"VLOOKUP($B71,MASTER_DATABASE,59,0)","v":{"$error":"#REF!"}},{"$f":"VLOOKUP($B71,MASTER_DATABASE,60,0)","v":{"$error":"#REF!"}},{"$f":"VLOOKUP($B71,MASTER_DATABASE,61,0)","v":{"$error":"#REF!"}},{"$f":"VLOOKUP($B71,MASTER_DATABASE,62,0)","v":{"$error":"#REF!"}},{"$f":"VLOOKUP($B71,MASTER_DATABASE,63,0)","v":{"$error":"#REF!"}},{"$f":"VLOOKUP($B71,MASTER_DATABASE,64,0)","v":{"$error":"#REF!"}},{"$f":"VLOOKUP($B71,MASTER_DATABASE,65,0)","v":{"$error":"#REF!"}},{"$f":"VLOOKUP($B71,MASTER_DATABASE,66,0)","v":{"$error":"#REF!"}},{"$f":"VLOOKUP($B71,MASTER_DATABASE,67,0)","v":{"$error":"#REF!"}},{"$f":"VLOOKUP($B71,MASTER_DATABASE,68,0)","v":{"$error":"#REF!"}},{"$f":"VLOOKUP($B71,MASTER_DATABASE,69,0)","v":{"$error":"#REF!"}},{"$f":"VLOOKUP($B71,MASTER_DATABASE,70,0)","v":{"$error":"#REF!"}},{"$f":"VLOOKUP($B71,MASTER_DATABASE,71,0)","v":{"$error":"#REF!"}},{"$f":"VLOOKUP($B71,MASTER_DATABASE,72,0)","v":{"$error":"#REF!"}},{"$f":"VLOOKUP($B71,MASTER_DATABASE,73,0)","v":{"$error":"#REF!"}},{"$f":"VLOOKUP($B71,MASTER_DATABASE,74,0)","v":{"$error":"#REF!"}},{"$f":"VLOOKUP($B71,MASTER_DATABASE,75,0)","v":{"$error":"#REF!"}},{"$f":"VLOOKUP($B71,MASTER_DATABASE,76,0)","v":{"$error":"#REF!"}},{"$f":"VLOOKUP($B71,MASTER_DATABASE,77,0)","v":{"$error":"#REF!"}},{"$f":"VLOOKUP($B71,MASTER_DATABASE,78,0)","v":{"$error":"#REF!"}},{"$f":"VLOOKUP($B71,MASTER_DATABASE,79,0)","v":{"$error":"#REF!"}},{"$f":"VLOOKUP($B71,MASTER_DATABASE,80,0)","v":{"$error":"#REF!"}},{"$f":"VLOOKUP($B71,MASTER_DATABASE,81,0)","v":{"$error":"#REF!"}},{"$f":"VLOOKUP($B71,MASTER_DATABASE,82,0)","v":{"$error":"#REF!"}},{"$f":"VLOOKUP($B71,MASTER_DATABASE,83,0)","v":{"$error":"#REF!"}},{"$f":"VLOOKUP($B71,MASTER_DATABASE,84,0)","v":{"$error":"#REF!"}},{"$f":"VLOOKUP($B71,MASTER_DATABASE,85,0)","v":{"$error":"#REF!"}},{"$f":"VLOOKUP($B71,MASTER_DATABASE,86,0)","v":{"$error":"#REF!"}}]
[66,"Swadelands/The Lenham School",{"$error":"#N/A"},{"$error":"#N/A"},{"$error":"#N/A"},{"$error":"#N/A"},{"$error":"#N/A"},{"$error":"#N/A"},{"$error":"#N/A"},{"$error":"#N/A"},{"$error":"#N/A"},{"$error":"#N/A"},{"$error":"#N/A"},{"$error":"#N/A"},{"$error":"#N/A"},{"$error":"#N/A"},{"$error":"#N/A"},{"$error":"#N/A"},{"$error":"#N/A"},{"$error":"#N/A"},{"$error":"#N/A"},{"$error":"#N/A"},{"$error":"#N/A"},{"$error":"#N/A"},{"$error":"#N/A"},{"$error":"#N/A"},{"$error":"#N/A"},{"$error":"#N/A"},{"$error":"#N/A"},{"$error":"#N/A"},{"$error":"#N/A"},{"$error":"#N/A"},{"$error":"#N/A"},{"$error":"#N/A"},{"$error":"#N/A"},{"$error":"#N/A"},{"$error":"#N/A"},{"$error":"#N/A"},{"$error":"#N/A"},{"$error":"#N/A"},{"$error":"#N/A"},{"$error":"#N/A"},{"$error":"#N/A"},{"$error":"#N/A"},{"$error":"#N/A"},{"$error":"#N/A"},{"$error":"#N/A"},{"$error":"#N/A"},{"$error":"#N/A"},{"$error":"#N/A"},{"$error":"#N/A"},{"$error":"#N/A"},{"$error":"#N/A"},{"$error":"#N/A"},{"$error":"#N/A"},{"$error":"#N/A"},{"$error":"#N/A"},{"$error":"#N/A"},{"$error":"#N/A"},{"$error":"#N/A"},{"$error":"#N/A"},{"$error":"#N/A"},{"$error":"#N/A"},{"$error":"#N/A"},{"$error":"#N/A"},{"$error":"#N/A"},{"$error":"#N/A"},{"$error":"#N/A"},{"$error":"#N/A"},{"$error":"#N/A"},{"$error":"#N/A"},{"$error":"#N/A"},{"$error":"#N/A"},{"$error":"#N/A"},{"$error":"#N/A"},{"$error":"#N/A"},{"$error":"#N/A"},{"$error":"#N/A"},{"$error":"#N/A"},{"$error":"#N/A"},{"$error":"#N/A"},{"$error":"#N/A"},{"$error":"#N/A"},{"$error":"#N/A"},{"$error":"#N/A"},{"$error":"#N/A"},{"$error":"#N/A"}]
[67,"Spires, Phase 1",{"$error":"#N/A"},{"$error":"#N/A"},{"$error":"#N/A"},{"$error":"#N/A"},{"$error":"#N/A"},{"$error":"#N/A"},{"$error":"#N/A"},{"$error":"#N/A"},{"$error":"#N/A"},{"$error":"#N/A"},{"$error":"#N/A"},{"$error":"#N/A"},{"$error":"#N/A"},{"$error":"#N/A"},{"$error":"#N/A"},{"$error":"#N/A"},{"$error":"#N/A"},{"$error":"#N/A"},{"$error":"#N/A"},{"$error":"#N/A"},{"$error":"#N/A"},{"$error":"#N/A"},{"$error":"#N/A"},{"$error":"#N/A"},{"$error":"#N/A"},{"$error":"#N/A"},{"$error":"#N/A"},{"$error":"#N/A"},{"$error":"#N/A"},{"$error":"#N/A"},{"$error":"#N/A"},{"$error":"#N/A"},{"$error":"#N/A"},{"$error":"#N/A"},{"$error":"#N/A"},{"$error":"#N/A"},{"$error":"#N/A"},{"$error":"#N/A"},{"$error":"#N/A"},{"$error":"#N/A"},{"$error":"#N/A"},{"$error":"#N/A"},{"$error":"#N/A"},{"$error":"#N/A"},{"$error":"#N/A"},{"$error":"#N/A"},{"$error":"#N/A"},{"$error":"#N/A"},{"$error":"#N/A"},{"$error":"#N/A"},{"$error":"#N/A"},{"$error":"#N/A"},{"$error":"#N/A"},{"$error":"#N/A"},{"$error":"#N/A"},{"$error":"#N/A"},{"$error":"#N/A"},{"$error":"#N/A"},{"$error":"#N/A"},{"$error":"#N/A"},{"$error":"#N/A"},{"$error":"#N/A"},{"$error":"#N/A"},{"$error":"#N/A"},{"$error":"#N/A"},{"$error":"#N/A"},{"$error":"#N/A"},{"$error":"#N/A"},{"$error":"#N/A"},{"$error":"#N/A"},{"$error":"#N/A"},{"$error":"#N/A"},{"$error":"#N/A"},{"$error":"#N/A"},{"$error":"#N/A"},{"$error":"#N/A"},{"$error":"#N/A"},{"$error":"#N/A"},{"$error":"#N/A"},{"$error":"#N/A"},{"$error":"#N/A"},{"$error":"#N/A"},{"$error":"#N/A"},{"$error":"#N/A"},{"$error":"#N/A"}]
[68,"Spires, Phase 2",{"$error":"#N/A"},{"$error":"#N/A"},{"$error":"#N/A"},{"$error":"#N/A"},{"$error":"#N/A"},{"$error":"#N/A"},{"$error":"#N/A"},{"$error":"#N/A"},{"$error":"#N/A"},{"$error":"#N/A"},{"$error":"#N/A"},{"$error":"#N/A"},{"$error":"#N/A"},{"$error":"#N/A"},{"$error":"#N/A"},{"$error":"#N/A"},{"$error":"#N/A"},{"$error":"#N/A"},{"$error":"#N/A"},{"$error":"#N/A"},{"$error":"#N/A"},{"$error":"#N/A"},{"$error":"#N/A"},{"$error":"#N/A"},{"$error":"#N/A"},{"$error":"#N/A"},{"$error":"#N/A"},{"$error":"#N/A"},{"$error":"#N/A"},{"$error":"#N/A"},{"$error":"#N/A"},{"$error":"#N/A"},{"$error":"#N/A"},{"$error":"#N/A"},{"$error":"#N/A"},{"$error":"#N/A"},{"$error":"#N/A"},{"$error":"#N/A"},{"$error":"#N/A"},{"$error":"#N/A"},{"$error":"#N/A"},{"$error":"#N/A"},{"$error":"#N/A"},{"$error":"#N/A"},{"$error":"#N/A"},{"$error":"#N/A"},{"$error":"#N/A"},{"$error":"#N/A"},{"$error":"#N/A"},{"$error":"#N/A"},{"$error":"#N/A"},{"$error":"#N/A"},{"$error":"#N/A"},{"$error":"#N/A"},{"$error":"#N/A"},{"$error":"#N/A"},{"$error":"#N/A"},{"$error":"#N/A"},{"$error":"#N/A"},{"$error":"#N/A"},{"$error":"#N/A"},{"$error":"#N/A"},{"$error":"#N/A"},{"$error":"#N/A"},{"$error":"#N/A"},{"$error":"#N/A"},{"$error":"#N/A"},{"$error":"#N/A"},{"$error":"#N/A"},{"$error":"#N/A"},{"$error":"#N/A"},{"$error":"#N/A"},{"$error":"#N/A"},{"$error":"#N/A"},{"$error":"#N/A"},{"$error":"#N/A"},{"$error":"#N/A"},{"$error":"#N/A"},{"$error":"#N/A"},{"$error":"#N/A"},{"$error":"#N/A"},{"$error":"#N/A"},{"$error":"#N/A"},{"$error":"#N/A"},{"$error":"#N/A"}]
[69,"Spires, Phase 3",{"$error":"#N/A"},{"$error":"#N/A"},{"$error":"#N/A"},{"$error":"#N/A"},{"$error":"#N/A"},{"$error":"#N/A"},{"$error":"#N/A"},{"$error":"#N/A"},{"$error":"#N/A"},{"$error":"#N/A"},{"$error":"#N/A"},{"$error":"#N/A"},{"$error":"#N/A"},{"$error":"#N/A"},{"$error":"#N/A"},{"$error":"#N/A"},{"$error":"#N/A"},{"$error":"#N/A"},{"$error":"#N/A"},{"$error":"#N/A"},{"$error":"#N/A"},{"$error":"#N/A"},{"$error":"#N/A"},{"$error":"#N/A"},{"$error":"#N/A"},{"$error":"#N/A"},{"$error":"#N/A"},{"$error":"#N/A"},{"$error":"#N/A"},{"$error":"#N/A"},{"$error":"#N/A"},{"$error":"#N/A"},{"$error":"#N/A"},{"$error":"#N/A"},{"$error":"#N/A"},{"$error":"#N/A"},{"$error":"#N/A"},{"$error":"#N/A"},{"$error":"#N/A"},{"$error":"#N/A"},{"$error":"#N/A"},{"$error":"#N/A"},{"$error":"#N/A"},{"$error":"#N/A"},{"$error":"#N/A"},{"$error":"#N/A"},{"$error":"#N/A"},{"$error":"#N/A"},{"$error":"#N/A"},{"$error":"#N/A"},{"$error":"#N/A"},{"$error":"#N/A"},{"$error":"#N/A"},{"$error":"#N/A"},{"$error":"#N/A"},{"$error":"#N/A"},{"$error":"#N/A"},{"$error":"#N/A"},{"$error":"#N/A"},{"$error":"#N/A"},{"$error":"#N/A"},{"$error":"#N/A"},{"$error":"#N/A"},{"$error":"#N/A"},{"$error":"#N/A"},{"$error":"#N/A"},{"$error":"#N/A"},{"$error":"#N/A"},{"$error":"#N/A"},{"$error":"#N/A"},{"$error":"#N/A"},{"$error":"#N/A"},{"$error":"#N/A"},{"$error":"#N/A"},{"$error":"#N/A"},{"$error":"#N/A"},{"$error":"#N/A"},{"$error":"#N/A"},{"$error":"#N/A"},{"$error":"#N/A"},{"$error":"#N/A"},{"$error":"#N/A"},{"$error":"#N/A"},{"$error":"#N/A"},{"$error":"#N/A"}]
[70,"Spires, Phase 4",{"$error":"#N/A"},{"$error":"#N/A"},{"$error":"#N/A"},{"$error":"#N/A"},{"$error":"#N/A"},{"$error":"#N/A"},{"$error":"#N/A"},{"$error":"#N/A"},{"$error":"#N/A"},{"$error":"#N/A"},{"$error":"#N/A"},{"$error":"#N/A"},{"$error":"#N/A"},{"$error":"#N/A"},{"$error":"#N/A"},{"$error":"#N/A"},{"$error":"#N/A"},{"$error":"#N/A"},{"$error":"#N/A"},{"$error":"#N/A"},{"$error":"#N/A"},{"$error":"#N/A"},{"$error":"#N/A"},{"$error":"#N/A"},{"$error":"#N/A"},{"$error":"#N/A"},{"$error":"#N/A"},{"$error":"#N/A"},{"$error":"#N/A"},{"$error":"#N/A"},{"$error":"#N/A"},{"$error":"#N/A"},{"$error":"#N/A"},{"$error":"#N/A"},{"$error":"#N/A"},{"$error":"#N/A"},{"$error":"#N/A"},{"$error":"#N/A"},{"$error":"#N/A"},{"$error":"#N/A"},{"$error":"#N/A"},{"$error":"#N/A"},{"$error":"#N/A"},{"$error":"#N/A"},{"$error":"#N/A"},{"$error":"#N/A"},{"$error":"#N/A"},{"$error":"#N/A"},{"$error":"#N/A"},{"$error":"#N/A"},{"$error":"#N/A"},{"$error":"#N/A"},{"$error":"#N/A"},{"$error":"#N/A"},{"$error":"#N/A"},{"$error":"#N/A"},{"$error":"#N/A"},{"$error":"#N/A"},{"$error":"#N/A"},{"$error":"#N/A"},{"$error":"#N/A"},{"$error":"#N/A"},{"$error":"#N/A"},{"$error":"#N/A"},{"$error":"#N/A"},{"$error":"#N/A"},{"$error":"#N/A"},{"$error":"#N/A"},{"$error":"#N/A"},{"$error":"#N/A"},{"$error":"#N/A"},{"$error":"#N/A"},{"$error":"#N/A"},{"$error":"#N/A"},{"$error":"#N/A"},{"$error":"#N/A"},{"$error":"#N/A"},{"$error":"#N/A"},{"$error":"#N/A"},{"$error":"#N/A"},{"$error":"#N/A"},{"$error":"#N/A"},{"$error":"#N/A"},{"$error":"#N/A"},{"$error":"#N/A"}]
[71,"The Archbishops School",{"$error":"#N/A"},{"$error":"#N/A"},{"$error":"#N/A"},{"$error":"#N/A"},{"$error":"#N/A"},{"$error":"#N/A"},{"$error":"#N/A"},{"$error":"#N/A"},{"$error":"#N/A"},{"$error":"#N/A"},{"$error":"#N/A"},{"$error":"#N/A"},{"$error":"#N/A"},{"$error":"#N/A"},{"$error":"#N/A"},{"$error":"#N/A"},{"$error":"#N/A"},{"$error":"#N/A"},{"$error":"#N/A"},{"$error":"#N/A"},{"$error":"#N/A"},{"$error":"#N/A"},{"$error":"#N/A"},{"$error":"#N/A"},{"$error":"#N/A"},{"$error":"#N/A"},{"$error":"#N/A"},{"$error":"#N/A"},{"$error":"#N/A"},{"$error":"#N/A"},{"$error":"#N/A"},{"$error":"#N/A"},{"$error":"#N/A"},{"$error":"#N/A"},{"$error":"#N/A"},{"$error":"#N/A"},{"$error":"#N/A"},{"$error":"#N/A"},{"$error":"#N/A"},{"$error":"#N/A"},{"$error":"#N/A"},{"$error":"#N/A"},{"$error":"#N/A"},{"$error":"#N/A"},{"$error":"#N/A"},{"$error":"#N/A"},{"$error":"#N/A"},{"$error":"#N/A"},{"$error":"#N/A"},{"$error":"#N/A"},{"$error":"#N/A"},{"$error":"#N/A"},{"$error":"#N/A"},{"$error":"#N/A"},{"$error":"#N/A"},{"$error":"#N/A"},{"$error":"#N/A"},{"$error":"#N/A"},{"$error":"#N/A"},{"$error":"#N/A"},{"$error":"#N/A"},{"$error":"#N/A"},{"$error":"#N/A"},{"$error":"#N/A"},{"$error":"#N/A"},{"$error":"#N/A"},{"$error":"#N/A"},{"$error":"#N/A"},{"$error":"#N/A"},{"$error":"#N/A"},{"$error":"#N/A"},{"$error":"#N/A"},{"$error":"#N/A"},{"$error":"#N/A"},{"$error":"#N/A"},{"$error":"#N/A"},{"$error":"#N/A"},{"$error":"#N/A"},{"$error":"#N/A"},{"$error":"#N/A"},{"$error":"#N/A"},{"$error":"#N/A"},{"$error":"#N/A"},{"$error":"#N/A"},{"$error":"#N/A"}]
[72,"Darenth Community Primary School",{"$error":"#N/A"},{"$error":"#N/A"},{"$error":"#N/A"},{"$error":"#N/A"},{"$error":"#N/A"},{"$error":"#N/A"},{"$error":"#N/A"},{"$error":"#N/A"},{"$error":"#N/A"},{"$error":"#N/A"},{"$error":"#N/A"},{"$error":"#N/A"},{"$error":"#N/A"},{"$error":"#N/A"},{"$error":"#N/A"},{"$error":"#N/A"},{"$error":"#N/A"},{"$error":"#N/A"},{"$error":"#N/A"},{"$error":"#N/A"},{"$error":"#N/A"},{"$error":"#N/A"},{"$error":"#N/A"},{"$error":"#N/A"},{"$error":"#N/A"},{"$error":"#N/A"},{"$error":"#N/A"},{"$error":"#N/A"},{"$error":"#N/A"},{"$error":"#N/A"},{"$error":"#N/A"},{"$error":"#N/A"},{"$error":"#N/A"},{"$error":"#N/A"},{"$error":"#N/A"},{"$error":"#N/A"},{"$error":"#N/A"},{"$error":"#N/A"},{"$error":"#N/A"},{"$error":"#N/A"},{"$error":"#N/A"},{"$error":"#N/A"},{"$error":"#N/A"},{"$error":"#N/A"},{"$error":"#N/A"},{"$error":"#N/A"},{"$error":"#N/A"},{"$error":"#N/A"},{"$error":"#N/A"},{"$error":"#N/A"},{"$error":"#N/A"},{"$error":"#N/A"},{"$error":"#N/A"},{"$error":"#N/A"},{"$error":"#N/A"},{"$error":"#N/A"},{"$error":"#N/A"},{"$error":"#N/A"},{"$error":"#N/A"},{"$error":"#N/A"},{"$error":"#N/A"},{"$error":"#N/A"},{"$error":"#N/A"},{"$error":"#N/A"},{"$error":"#N/A"},{"$error":"#N/A"},{"$error":"#N/A"},{"$error":"#N/A"},{"$error":"#N/A"},{"$error":"#N/A"},{"$error":"#N/A"},{"$error":"#N/A"},{"$error":"#N/A"},{"$error":"#N/A"},{"$error":"#N/A"},{"$error":"#N/A"},{"$error":"#N/A"},{"$error":"#N/A"},{"$error":"#N/A"},{"$error":"#N/A"},{"$error":"#N/A"},{"$error":"#N/A"},{"$error":"#N/A"},{"$error":"#N/A"},{"$error":"#N/A"}]
[73,"Faversham Library ",{"$error":"#N/A"},{"$error":"#N/A"},{"$error":"#N/A"},{"$error":"#N/A"},{"$error":"#N/A"},{"$error":"#N/A"},{"$error":"#N/A"},{"$error":"#N/A"},{"$error":"#N/A"},{"$error":"#N/A"},{"$error":"#N/A"},{"$error":"#N/A"},{"$error":"#N/A"},{"$error":"#N/A"},{"$error":"#N/A"},{"$error":"#N/A"},{"$error":"#N/A"},{"$error":"#N/A"},{"$error":"#N/A"},{"$error":"#N/A"},{"$error":"#N/A"},{"$error":"#N/A"},{"$error":"#N/A"},{"$error":"#N/A"},{"$error":"#N/A"},{"$error":"#N/A"},{"$error":"#N/A"},{"$error":"#N/A"},{"$error":"#N/A"},{"$error":"#N/A"},{"$error":"#N/A"},{"$error":"#N/A"},{"$error":"#N/A"},{"$error":"#N/A"},{"$error":"#N/A"},{"$error":"#N/A"},{"$error":"#N/A"},{"$error":"#N/A"},{"$error":"#N/A"},{"$error":"#N/A"},{"$error":"#N/A"},{"$error":"#N/A"},{"$error":"#N/A"},{"$error":"#N/A"},{"$error":"#N/A"},{"$error":"#N/A"},{"$error":"#N/A"},{"$error":"#N/A"},{"$error":"#N/A"},{"$error":"#N/A"},{"$error":"#N/A"},{"$error":"#N/A"},{"$error":"#N/A"},{"$error":"#N/A"},{"$error":"#N/A"},{"$error":"#N/A"},{"$error":"#N/A"},{"$error":"#N/A"},{"$error":"#N/A"},{"$error":"#N/A"},{"$error":"#N/A"},{"$error":"#N/A"},{"$error":"#N/A"},{"$error":"#N/A"},{"$error":"#N/A"},{"$error":"#N/A"},{"$error":"#N/A"},{"$error":"#N/A"},{"$error":"#N/A"},{"$error":"#N/A"},{"$error":"#N/A"},{"$error":"#N/A"},{"$error":"#N/A"},{"$error":"#N/A"},{"$error":"#N/A"},{"$error":"#N/A"},{"$error":"#N/A"},{"$error":"#N/A"},{"$error":"#N/A"},{"$error":"#N/A"},{"$error":"#N/A"},{"$error":"#N/A"},{"$error":"#N/A"},{"$error":"#N/A"},{"$error":"#N/A"}]
[74,"Dartford Sexual Health Clinic",{"$error":"#N/A"},{"$error":"#N/A"},{"$error":"#N/A"},{"$error":"#N/A"},{"$error":"#N/A"},{"$error":"#N/A"},{"$error":"#N/A"},{"$error":"#N/A"},{"$error":"#N/A"},{"$error":"#N/A"},{"$error":"#N/A"},{"$error":"#N/A"},{"$error":"#N/A"},{"$error":"#N/A"},{"$error":"#N/A"},{"$error":"#N/A"},{"$error":"#N/A"},{"$error":"#N/A"},{"$error":"#N/A"},{"$error":"#N/A"},{"$error":"#N/A"},{"$error":"#N/A"},{"$error":"#N/A"},{"$error":"#N/A"},{"$error":"#N/A"},{"$error":"#N/A"},{"$error":"#N/A"},{"$error":"#N/A"},{"$error":"#N/A"},{"$error":"#N/A"},{"$error":"#N/A"},{"$error":"#N/A"},{"$error":"#N/A"},{"$error":"#N/A"},{"$error":"#N/A"},{"$error":"#N/A"},{"$error":"#N/A"},{"$error":"#N/A"},{"$error":"#N/A"},{"$error":"#N/A"},{"$error":"#N/A"},{"$error":"#N/A"},{"$error":"#N/A"},{"$error":"#N/A"},{"$error":"#N/A"},{"$error":"#N/A"},{"$error":"#N/A"},{"$error":"#N/A"},{"$error":"#N/A"},{"$error":"#N/A"},{"$error":"#N/A"},{"$error":"#N/A"},{"$error":"#N/A"},{"$error":"#N/A"},{"$error":"#N/A"},{"$error":"#N/A"},{"$error":"#N/A"},{"$error":"#N/A"},{"$error":"#N/A"},{"$error":"#N/A"},{"$error":"#N/A"},{"$error":"#N/A"},{"$error":"#N/A"},{"$error":"#N/A"},{"$error":"#N/A"},{"$error":"#N/A"},{"$error":"#N/A"},{"$error":"#N/A"},{"$error":"#N/A"},{"$error":"#N/A"},{"$error":"#N/A"},{"$error":"#N/A"},{"$error":"#N/A"},{"$error":"#N/A"},{"$error":"#N/A"},{"$error":"#N/A"},{"$error":"#N/A"},{"$error":"#N/A"},{"$error":"#N/A"},{"$error":"#N/A"},{"$error":"#N/A"},{"$error":"#N/A"},{"$error":"#N/A"},{"$error":"#N/A"},{"$error":"#N/A"}]
[75,"Pent Valley - Sharman Block",{"$error":"#N/A"},{"$error":"#N/A"},{"$error":"#N/A"},{"$error":"#N/A"},{"$error":"#N/A"},{"$error":"#N/A"},{"$error":"#N/A"},{"$error":"#N/A"},{"$error":"#N/A"},{"$error":"#N/A"},{"$error":"#N/A"},{"$error":"#N/A"},{"$error":"#N/A"},{"$error":"#N/A"},{"$error":"#N/A"},{"$error":"#N/A"},{"$error":"#N/A"},{"$error":"#N/A"},{"$error":"#N/A"},{"$error":"#N/A"},{"$error":"#N/A"},{"$error":"#N/A"},{"$error":"#N/A"},{"$error":"#N/A"},{"$error":"#N/A"},{"$error":"#N/A"},{"$error":"#N/A"},{"$error":"#N/A"},{"$error":"#N/A"},{"$error":"#N/A"},{"$error":"#N/A"},{"$error":"#N/A"},{"$error":"#N/A"},{"$error":"#N/A"},{"$error":"#N/A"},{"$error":"#N/A"},{"$error":"#N/A"},{"$error":"#N/A"},{"$error":"#N/A"},{"$error":"#N/A"},{"$error":"#N/A"},{"$error":"#N/A"},{"$error":"#N/A"},{"$error":"#N/A"},{"$error":"#N/A"},{"$error":"#N/A"},{"$error":"#N/A"},{"$error":"#N/A"},{"$error":"#N/A"},{"$error":"#N/A"},{"$error":"#N/A"},{"$error":"#N/A"},{"$error":"#N/A"},{"$error":"#N/A"},{"$error":"#N/A"},{"$error":"#N/A"},{"$error":"#N/A"},{"$error":"#N/A"},{"$error":"#N/A"},{"$error":"#N/A"},{"$error":"#N/A"},{"$error":"#N/A"},{"$error":"#N/A"},{"$error":"#N/A"},{"$error":"#N/A"},{"$error":"#N/A"},{"$error":"#N/A"},{"$error":"#N/A"},{"$error":"#N/A"},{"$error":"#N/A"},{"$error":"#N/A"},{"$error":"#N/A"},{"$error":"#N/A"},{"$error":"#N/A"},{"$error":"#N/A"},{"$error":"#N/A"},{"$error":"#N/A"},{"$error":"#N/A"},{"$error":"#N/A"},{"$error":"#N/A"},{"$error":"#N/A"},{"$error":"#N/A"},{"$error":"#N/A"},{"$error":"#N/A"},{"$error":"#N/A"}]
[76,"Invicta Car Park",{"$error":"#N/A"},{"$error":"#N/A"},{"$error":"#N/A"},{"$error":"#N/A"},{"$error":"#N/A"},{"$error":"#N/A"},{"$error":"#N/A"},{"$error":"#N/A"},{"$error":"#N/A"},{"$error":"#N/A"},{"$error":"#N/A"},{"$error":"#N/A"},{"$error":"#N/A"},{"$error":"#N/A"},{"$error":"#N/A"},{"$error":"#N/A"},{"$error":"#N/A"},{"$error":"#N/A"},{"$error":"#N/A"},{"$error":"#N/A"},{"$error":"#N/A"},{"$error":"#N/A"},{"$error":"#N/A"},{"$error":"#N/A"},{"$error":"#N/A"},{"$error":"#N/A"},{"$error":"#N/A"},{"$error":"#N/A"},{"$error":"#N/A"},{"$error":"#N/A"},{"$error":"#N/A"},{"$error":"#N/A"},{"$error":"#N/A"},{"$error":"#N/A"},{"$error":"#N/A"},{"$error":"#N/A"},{"$error":"#N/A"},{"$error":"#N/A"},{"$error":"#N/A"},{"$error":"#N/A"},{"$error":"#N/A"},{"$error":"#N/A"},{"$error":"#N/A"},{"$error":"#N/A"},{"$error":"#N/A"},{"$error":"#N/A"},{"$error":"#N/A"},{"$error":"#N/A"},{"$error":"#N/A"},{"$error":"#N/A"},{"$error":"#N/A"},{"$error":"#N/A"},{"$error":"#N/A"},{"$error":"#N/A"},{"$error":"#N/A"},{"$error":"#N/A"},{"$error":"#N/A"},{"$error":"#N/A"},{"$error":"#N/A"},{"$error":"#N/A"},{"$error":"#N/A"},{"$error":"#N/A"},{"$error":"#N/A"},{"$error":"#N/A"},{"$error":"#N/A"},{"$error":"#N/A"},{"$error":"#N/A"},{"$error":"#N/A"},{"$error":"#N/A"},{"$error":"#N/A"},{"$error":"#N/A"},{"$error":"#N/A"},{"$error":"#N/A"},{"$error":"#N/A"},{"$error":"#N/A"},{"$error":"#N/A"},{"$error":"#N/A"},{"$error":"#N/A"},{"$error":"#N/A"},{"$error":"#N/A"},{"$error":"#N/A"},{"$error":"#N/A"},{"$error":"#N/A"},{"$error":"#N/A"},{"$error":"#N/A"}]
[77,"Kent History and Library Centre",{"$error":"#N/A"},{"$error":"#N/A"},{"$error":"#N/A"},{"$error":"#N/A"},{"$error":"#N/A"},{"$error":"#N/A"},{"$error":"#N/A"},{"$error":"#N/A"},{"$error":"#N/A"},{"$error":"#N/A"},{"$error":"#N/A"},{"$error":"#N/A"},{"$error":"#N/A"},{"$error":"#N/A"},{"$error":"#N/A"},{"$error":"#N/A"},{"$error":"#N/A"},{"$error":"#N/A"},{"$error":"#N/A"},{"$error":"#N/A"},{"$error":"#N/A"},{"$error":"#N/A"},{"$error":"#N/A"},{"$error":"#N/A"},{"$error":"#N/A"},{"$error":"#N/A"},{"$error":"#N/A"},{"$error":"#N/A"},{"$error":"#N/A"},{"$error":"#N/A"},{"$error":"#N/A"},{"$error":"#N/A"},{"$error":"#N/A"},{"$error":"#N/A"},{"$error":"#N/A"},{"$error":"#N/A"},{"$error":"#N/A"},{"$error":"#N/A"},{"$error":"#N/A"},{"$error":"#N/A"},{"$error":"#N/A"},{"$error":"#N/A"},{"$error":"#N/A"},{"$error":"#N/A"},{"$error":"#N/A"},{"$error":"#N/A"},{"$error":"#N/A"},{"$error":"#N/A"},{"$error":"#N/A"},{"$error":"#N/A"},{"$error":"#N/A"},{"$error":"#N/A"},{"$error":"#N/A"},{"$error":"#N/A"},{"$error":"#N/A"},{"$error":"#N/A"},{"$error":"#N/A"},{"$error":"#N/A"},{"$error":"#N/A"},{"$error":"#N/A"},{"$error":"#N/A"},{"$error":"#N/A"},{"$error":"#N/A"},{"$error":"#N/A"},{"$error":"#N/A"},{"$error":"#N/A"},{"$error":"#N/A"},{"$error":"#N/A"},{"$error":"#N/A"},{"$error":"#N/A"},{"$error":"#N/A"},{"$error":"#N/A"},{"$error":"#N/A"},{"$error":"#N/A"},{"$error":"#N/A"},{"$error":"#N/A"},{"$error":"#N/A"},{"$error":"#N/A"},{"$error":"#N/A"},{"$error":"#N/A"},{"$error":"#N/A"},{"$error":"#N/A"},{"$error":"#N/A"},{"$error":"#N/A"},{"$error":"#N/A"}]
[78,"St Peter's House",{"$error":"#N/A"},{"$error":"#N/A"},{"$error":"#N/A"},{"$error":"#N/A"},{"$error":"#N/A"},{"$error":"#N/A"},{"$error":"#N/A"},{"$error":"#N/A"},{"$error":"#N/A"},{"$error":"#N/A"},{"$error":"#N/A"},{"$error":"#N/A"},{"$error":"#N/A"},{"$error":"#N/A"},{"$error":"#N/A"},{"$error":"#N/A"},{"$error":"#N/A"},{"$error":"#N/A"},{"$error":"#N/A"},{"$error":"#N/A"},{"$error":"#N/A"},{"$error":"#N/A"},{"$error":"#N/A"},{"$error":"#N/A"},{"$error":"#N/A"},{"$error":"#N/A"},{"$error":"#N/A"},{"$error":"#N/A"},{"$error":"#N/A"},{"$error":"#N/A"},{"$error":"#N/A"},{"$error":"#N/A"},{"$error":"#N/A"},{"$error":"#N/A"},{"$error":"#N/A"},{"$error":"#N/A"},{"$error":"#N/A"},{"$error":"#N/A"},{"$error":"#N/A"},{"$error":"#N/A"},{"$error":"#N/A"},{"$error":"#N/A"},{"$error":"#N/A"},{"$error":"#N/A"},{"$error":"#N/A"},{"$error":"#N/A"},{"$error":"#N/A"},{"$error":"#N/A"},{"$error":"#N/A"},{"$error":"#N/A"},{"$error":"#N/A"},{"$error":"#N/A"},{"$error":"#N/A"},{"$error":"#N/A"},{"$error":"#N/A"},{"$error":"#N/A"},{"$error":"#N/A"},{"$error":"#N/A"},{"$error":"#N/A"},{"$error":"#N/A"},{"$error":"#N/A"},{"$error":"#N/A"},{"$error":"#N/A"},{"$error":"#N/A"},{"$error":"#N/A"},{"$error":"#N/A"},{"$error":"#N/A"},{"$error":"#N/A"},{"$error":"#N/A"},{"$error":"#N/A"},{"$error":"#N/A"},{"$error":"#N/A"},{"$error":"#N/A"},{"$error":"#N/A"},{"$error":"#N/A"},{"$error":"#N/A"},{"$error":"#N/A"},{"$error":"#N/A"},{"$error":"#N/A"},{"$error":"#N/A"},{"$error":"#N/A"},{"$error":"#N/A"},{"$error":"#N/A"},{"$error":"#N/A"},{"$error":"#N/A"}]
[79,"West Borough PS","West","New Staff Room",195000,204105,{"$error":"#REF!"},{"$error":"#REF!"},{"$error":"#REF!"},{"$error":"#REF!"},{"$error":"#REF!"},{"$error":"#REF!"},{"$error":"#REF!"},{"$error":"#REF!"},{"$error":"#REF!"},{"$error":"#REF!"},{"$error":"#REF!"},{"$error":"#REF!"},{"$error":"#REF!"},{"$error":"#REF!"},{"$error":"#REF!"},{"$error":"#REF!"},{"$error":"#REF!"},{"$error":"#REF!"},{"$error":"#REF!"},{"$error":"#REF!"},{"$error":"#REF!"},{"$error":"#REF!"},{"$error":"#REF!"},{"$error":"#REF!"},{"$error":"#REF!"},{"$error":"#REF!"},{"$error":"#REF!"},{"$error":"#REF!"},{"$error":"#REF!"},{"$error":"#REF!"},{"$error":"#REF!"},{"$error":"#REF!"},{"$error":"#REF!"},{"$error":"#REF!"},{"$error":"#REF!"},{"$error":"#REF!"},{"$error":"#REF!"},{"$error":"#REF!"},{"$error":"#REF!"},{"$error":"#REF!"},{"$error":"#REF!"},{"$error":"#REF!"},{"$error":"#REF!"},{"$error":"#REF!"},{"$error":"#REF!"},{"$error":"#REF!"},{"$error":"#REF!"},{"$error":"#REF!"},{"$error":"#REF!"},{"$error":"#REF!"},{"$error":"#REF!"},{"$error":"#REF!"},{"$error":"#REF!"},{"$error":"#REF!"},{"$error":"#REF!"},{"$error":"#REF!"},{"$error":"#REF!"},{"$error":"#REF!"},{"$error":"#REF!"},{"$error":"#REF!"},{"$error":"#REF!"},{"$error":"#REF!"},{"$error":"#REF!"},{"$error":"#REF!"},{"$error":"#REF!"},{"$error":"#REF!"},{"$error":"#REF!"},{"$error":"#REF!"},{"$error":"#REF!"},{"$error":"#REF!"},{"$error":"#REF!"},{"$error":"#REF!"},{"$error":"#REF!"},{"$error":"#REF!"},{"$error":"#REF!"},{"$error":"#REF!"},{"$error":"#REF!"},{"$error":"#REF!"},{"$error":"#REF!"},{"$error":"#REF!"},{"$error":"#REF!"}]
[80,"Weald PS","North","Small classroom extension",481313,505458,{"$error":"#REF!"},{"$error":"#REF!"},{"$error":"#REF!"},{"$error":"#REF!"},{"$error":"#REF!"},{"$error":"#REF!"},{"$error":"#REF!"},{"$error":"#REF!"},{"$error":"#REF!"},{"$error":"#REF!"},{"$error":"#REF!"},{"$error":"#REF!"},{"$error":"#REF!"},{"$error":"#REF!"},{"$error":"#REF!"},{"$error":"#REF!"},{"$error":"#REF!"},{"$error":"#REF!"},{"$error":"#REF!"},{"$error":"#REF!"},{"$error":"#REF!"},{"$error":"#REF!"},{"$error":"#REF!"},{"$error":"#REF!"},{"$error":"#REF!"},{"$error":"#REF!"},{"$error":"#REF!"},{"$error":"#REF!"},{"$error":"#REF!"},{"$error":"#REF!"},{"$error":"#REF!"},{"$error":"#REF!"},{"$error":"#REF!"},{"$error":"#REF!"},{"$error":"#REF!"},{"$error":"#REF!"},{"$error":"#REF!"},{"$error":"#REF!"},{"$error":"#REF!"},{"$error":"#REF!"},{"$error":"#REF!"},{"$error":"#REF!"},{"$error":"#REF!"},{"$error":"#REF!"},{"$error":"#REF!"},{"$error":"#REF!"},{"$error":"#REF!"},{"$error":"#REF!"},{"$error":"#REF!"},{"$error":"#REF!"},{"$error":"#REF!"},{"$error":"#REF!"},{"$error":"#REF!"},{"$error":"#REF!"},{"$error":"#REF!"},{"$error":"#REF!"},{"$error":"#REF!"},{"$error":"#REF!"},{"$error":"#REF!"},{"$error":"#REF!"},{"$error":"#REF!"},{"$error":"#REF!"},{"$error":"#REF!"},{"$error":"#REF!"},{"$error":"#REF!"},{"$error":"#REF!"},{"$error":"#REF!"},{"$error":"#REF!"},{"$error":"#REF!"},{"$error":"#REF!"},{"$error":"#REF!"},{"$error":"#REF!"},{"$error":"#REF!"},{"$error":"#REF!"},{"$error":"#REF!"},{"$error":"#REF!"},{"$error":"#REF!"},{"$error":"#REF!"},{"$error":"#REF!"},{"$error":"#REF!"},{"$error":"#REF!"}]
[81,"North Farm WTS",{"$error":"#N/A"},{"$error":"#N/A"},{"$error":"#N/A"},{"$error":"#N/A"},{"$error":"#N/A"},{"$error":"#N/A"},{"$error":"#N/A"},{"$error":"#N/A"},{"$error":"#N/A"},{"$error":"#N/A"},{"$error":"#N/A"},{"$error":"#N/A"},{"$error":"#N/A"},{"$error":"#N/A"},{"$error":"#N/A"},{"$error":"#N/A"},{"$error":"#N/A"},{"$error":"#N/A"},{"$error":"#N/A"},{"$error":"#N/A"},{"$error":"#N/A"},{"$error":"#N/A"},{"$error":"#N/A"},{"$error":"#N/A"},{"$error":"#N/A"},{"$error":"#N/A"},{"$error":"#N/A"},{"$error":"#N/A"},{"$error":"#N/A"},{"$error":"#N/A"},{"$error":"#N/A"},{"$error":"#N/A"},{"$error":"#N/A"},{"$error":"#N/A"},{"$error":"#N/A"},{"$error":"#N/A"},{"$error":"#N/A"},{"$error":"#N/A"},{"$error":"#N/A"},{"$error":"#N/A"},{"$error":"#N/A"},{"$error":"#N/A"},{"$error":"#N/A"},{"$error":"#N/A"},{"$error":"#N/A"},{"$error":"#N/A"},{"$error":"#N/A"},{"$error":"#N/A"},{"$error":"#N/A"},{"$error":"#N/A"},{"$error":"#N/A"},{"$error":"#N/A"},{"$error":"#N/A"},{"$error":"#N/A"},{"$error":"#N/A"},{"$error":"#N/A"},{"$error":"#N/A"},{"$error":"#N/A"},{"$error":"#N/A"},{"$error":"#N/A"},{"$error":"#N/A"},{"$error":"#N/A"},{"$error":"#N/A"},{"$error":"#N/A"},{"$error":"#N/A"},{"$error":"#N/A"},{"$error":"#N/A"},{"$error":"#N/A"},{"$error":"#N/A"},{"$error":"#N/A"},{"$error":"#N/A"},{"$error":"#N/A"},{"$error":"#N/A"},{"$error":"#N/A"},{"$error":"#N/A"},{"$error":"#N/A"},{"$error":"#N/A"},{"$error":"#N/A"},{"$error":"#N/A"},{"$error":"#N/A"},{"$error":"#N/A"},{"$error":"#N/A"},{"$error":"#N/A"},{"$error":"#N/A"},{"$error":"#N/A"}]
[82,"Ryarsh PS",{"$error":"#N/A"},{"$error":"#N/A"},{"$error":"#N/A"},{"$error":"#N/A"},{"$error":"#N/A"},{"$error":"#N/A"},{"$error":"#N/A"},{"$error":"#N/A"},{"$error":"#N/A"},{"$error":"#N/A"},{"$error":"#N/A"},{"$error":"#N/A"},{"$error":"#N/A"},{"$error":"#N/A"},{"$error":"#N/A"},{"$error":"#N/A"},{"$error":"#N/A"},{"$error":"#N/A"},{"$error":"#N/A"},{"$error":"#N/A"},{"$error":"#N/A"},{"$error":"#N/A"},{"$error":"#N/A"},{"$error":"#N/A"},{"$error":"#N/A"},{"$error":"#N/A"},{"$error":"#N/A"},{"$error":"#N/A"},{"$error":"#N/A"},{"$error":"#N/A"},{"$error":"#N/A"},{"$error":"#N/A"},{"$error":"#N/A"},{"$error":"#N/A"},{"$error":"#N/A"},{"$error":"#N/A"},{"$error":"#N/A"},{"$error":"#N/A"},{"$error":"#N/A"},{"$error":"#N/A"},{"$error":"#N/A"},{"$error":"#N/A"},{"$error":"#N/A"},{"$error":"#N/A"},{"$error":"#N/A"},{"$error":"#N/A"},{"$error":"#N/A"},{"$error":"#N/A"},{"$error":"#N/A"},{"$error":"#N/A"},{"$error":"#N/A"},{"$error":"#N/A"},{"$error":"#N/A"},{"$error":"#N/A"},{"$error":"#N/A"},{"$error":"#N/A"},{"$error":"#N/A"},{"$error":"#N/A"},{"$error":"#N/A"},{"$error":"#N/A"},{"$error":"#N/A"},{"$error":"#N/A"},{"$error":"#N/A"},{"$error":"#N/A"},{"$error":"#N/A"},{"$error":"#N/A"},{"$error":"#N/A"},{"$error":"#N/A"},{"$error":"#N/A"},{"$error":"#N/A"},{"$error":"#N/A"},{"$error":"#N/A"},{"$error":"#N/A"},{"$error":"#N/A"},{"$error":"#N/A"},{"$error":"#N/A"},{"$error":"#N/A"},{"$error":"#N/A"},{"$error":"#N/A"},{"$error":"#N/A"},{"$error":"#N/A"},{"$error":"#N/A"},{"$error":"#N/A"},{"$error":"#N/A"},{"$error":"#N/A"}]
[83,"Joy Lane Primary School Phase 2","East","1FE expansion",3500000,3647217.6,{"$error":"#REF!"},{"$error":"#REF!"},{"$error":"#REF!"},{"$error":"#REF!"},{"$error":"#REF!"},{"$error":"#REF!"},{"$error":"#REF!"},{"$error":"#REF!"},{"$error":"#REF!"},{"$error":"#REF!"},{"$error":"#REF!"},{"$error":"#REF!"},{"$error":"#REF!"},{"$error":"#REF!"},{"$error":"#REF!"},{"$error":"#REF!"},{"$error":"#REF!"},{"$error":"#REF!"},{"$error":"#REF!"},{"$error":"#REF!"},{"$error":"#REF!"},{"$error":"#REF!"},{"$error":"#REF!"},{"$error":"#REF!"},{"$error":"#REF!"},{"$error":"#REF!"},{"$error":"#REF!"},{"$error":"#REF!"},{"$error":"#REF!"},{"$error":"#REF!"},{"$error":"#REF!"},{"$error":"#REF!"},{"$error":"#REF!"},{"$error":"#REF!"},{"$error":"#REF!"},{"$error":"#REF!"},{"$error":"#REF!"},{"$error":"#REF!"},{"$error":"#REF!"},{"$error":"#REF!"},{"$error":"#REF!"},{"$error":"#REF!"},{"$error":"#REF!"},{"$error":"#REF!"},{"$error":"#REF!"},{"$error":"#REF!"},{"$error":"#REF!"},{"$error":"#REF!"},{"$error":"#REF!"},{"$error":"#REF!"},{"$error":"#REF!"},{"$error":"#REF!"},{"$error":"#REF!"},{"$error":"#REF!"},{"$error":"#REF!"},{"$error":"#REF!"},{"$error":"#REF!"},{"$error":"#REF!"},{"$error":"#REF!"},{"$error":"#REF!"},{"$error":"#REF!"},{"$error":"#REF!"},{"$error":"#REF!"},{"$error":"#REF!"},{"$error":"#REF!"},{"$error":"#REF!"},{"$error":"#REF!"},{"$error":"#REF!"},{"$error":"#REF!"},{"$error":"#REF!"},{"$error":"#REF!"},{"$error":"#REF!"},{"$error":"#REF!"},{"$error":"#REF!"},{"$error":"#REF!"},{"$error":"#REF!"},{"$error":"#REF!"},{"$error":"#REF!"},{"$error":"#REF!"},{"$error":"#REF!"},{"$error":"#REF!"}]
[84,"Avenue of Remembrance",{"$error":"#N/A"},{"$error":"#N/A"},{"$error":"#N/A"},{"$error":"#N/A"},{"$error":"#N/A"},{"$error":"#N/A"},{"$error":"#N/A"},{"$error":"#N/A"},{"$error":"#N/A"},{"$error":"#N/A"},{"$error":"#N/A"},{"$error":"#N/A"},{"$error":"#N/A"},{"$error":"#N/A"},{"$error":"#N/A"},{"$error":"#N/A"},{"$error":"#N/A"},{"$error":"#N/A"},{"$error":"#N/A"},{"$error":"#N/A"},{"$error":"#N/A"},{"$error":"#N/A"},{"$error":"#N/A"},{"$error":"#N/A"},{"$error":"#N/A"},{"$error":"#N/A"},{"$error":"#N/A"},{"$error":"#N/A"},{"$error":"#N/A"},{"$error":"#N/A"},{"$error":"#N/A"},{"$error":"#N/A"},{"$error":"#N/A"},{"$error":"#N/A"},{"$error":"#N/A"},{"$error":"#N/A"},{"$error":"#N/A"},{"$error":"#N/A"},{"$error":"#N/A"},{"$error":"#N/A"},{"$error":"#N/A"},{"$error":"#N/A"},{"$error":"#N/A"},{"$error":"#N/A"},{"$error":"#N/A"},{"$error":"#N/A"},{"$error":"#N/A"},{"$error":"#N/A"},{"$error":"#N/A"},{"$error":"#N/A"},{"$error":"#N/A"},{"$error":"#N/A"},{"$error":"#N/A"},{"$error":"#N/A"},{"$error":"#N/A"},{"$error":"#N/A"},{"$error":"#N/A"},{"$error":"#N/A"},{"$error":"#N/A"},{"$error":"#N/A"},{"$error":"#N/A"},{"$error":"#N/A"},{"$error":"#N/A"},{"$error":"#N/A"},{"$error":"#N/A"},{"$error":"#N/A"},{"$error":"#N/A"},{"$error":"#N/A"},{"$error":"#N/A"},{"$error":"#N/A"},{"$error":"#N/A"},{"$error":"#N/A"},{"$error":"#N/A"},{"$error":"#N/A"},{"$error":"#N/A"},{"$error":"#N/A"},{"$error":"#N/A"},{"$error":"#N/A"},{"$error":"#N/A"},{"$error":"#N/A"},{"$error":"#N/A"},{"$error":"#N/A"},{"$error":"#N/A"},{"$error":"#N/A"},{"$error":"#N/A"}]
[85,"Coxheath Primary School","West","Two classrooms ",600000,578455,{"$error":"#REF!"},{"$error":"#REF!"},{"$error":"#REF!"},{"$error":"#REF!"},{"$error":"#REF!"},{"$error":"#REF!"},{"$error":"#REF!"},{"$error":"#REF!"},{"$error":"#REF!"},{"$error":"#REF!"},{"$error":"#REF!"},{"$error":"#REF!"},{"$error":"#REF!"},{"$error":"#REF!"},{"$error":"#REF!"},{"$error":"#REF!"},{"$error":"#REF!"},{"$error":"#REF!"},{"$error":"#REF!"},{"$error":"#REF!"},{"$error":"#REF!"},{"$error":"#REF!"},{"$error":"#REF!"},{"$error":"#REF!"},{"$error":"#REF!"},{"$error":"#REF!"},{"$error":"#REF!"},{"$error":"#REF!"},{"$error":"#REF!"},{"$error":"#REF!"},{"$error":"#REF!"},{"$error":"#REF!"},{"$error":"#REF!"},{"$error":"#REF!"},{"$error":"#REF!"},{"$error":"#REF!"},{"$error":"#REF!"},{"$error":"#REF!"},{"$error":"#REF!"},{"$error":"#REF!"},{"$error":"#REF!"},{"$error":"#REF!"},{"$error":"#REF!"},{"$error":"#REF!"},{"$error":"#REF!"},{"$error":"#REF!"},{"$error":"#REF!"},{"$error":"#REF!"},{"$error":"#REF!"},{"$error":"#REF!"},{"$error":"#REF!"},{"$error":"#REF!"},{"$error":"#REF!"},{"$error":"#REF!"},{"$error":"#REF!"},{"$error":"#REF!"},{"$error":"#REF!"},{"$error":"#REF!"},{"$error":"#REF!"},{"$error":"#REF!"},{"$error":"#REF!"},{"$error":"#REF!"},{"$error":"#REF!"},{"$error":"#REF!"},{"$error":"#REF!"},{"$error":"#REF!"},{"$error":"#REF!"},{"$error":"#REF!"},{"$error":"#REF!"},{"$error":"#REF!"},{"$error":"#REF!"},{"$error":"#REF!"},{"$error":"#REF!"},{"$error":"#REF!"},{"$error":"#REF!"},{"$error":"#REF!"},{"$error":"#REF!"},{"$error":"#REF!"},{"$error":"#REF!"},{"$error":"#REF!"},{"$error":"#REF!"}]
[86,"Wouldham PS",{"$error":"#N/A"},{"$error":"#N/A"},{"$error":"#N/A"},{"$error":"#N/A"},{"$error":"#N/A"},{"$error":"#N/A"},{"$error":"#N/A"},{"$error":"#N/A"},{"$error":"#N/A"},{"$error":"#N/A"},{"$error":"#N/A"},{"$error":"#N/A"},{"$error":"#N/A"},{"$error":"#N/A"},{"$error":"#N/A"},{"$error":"#N/A"},{"$error":"#N/A"},{"$error":"#N/A"},{"$error":"#N/A"},{"$error":"#N/A"},{"$error":"#N/A"},{"$error":"#N/A"},{"$error":"#N/A"},{"$error":"#N/A"},{"$error":"#N/A"},{"$error":"#N/A"},{"$error":"#N/A"},{"$error":"#N/A"},{"$error":"#N/A"},{"$error":"#N/A"},{"$error":"#N/A"},{"$error":"#N/A"},{"$error":"#N/A"},{"$error":"#N/A"},{"$error":"#N/A"},{"$error":"#N/A"},{"$error":"#N/A"},{"$error":"#N/A"},{"$error":"#N/A"},{"$error":"#N/A"},{"$error":"#N/A"},{"$error":"#N/A"},{"$error":"#N/A"},{"$error":"#N/A"},{"$error":"#N/A"},{"$error":"#N/A"},{"$error":"#N/A"},{"$error":"#N/A"},{"$error":"#N/A"},{"$error":"#N/A"},{"$error":"#N/A"},{"$error":"#N/A"},{"$error":"#N/A"},{"$error":"#N/A"},{"$error":"#N/A"},{"$error":"#N/A"},{"$error":"#N/A"},{"$error":"#N/A"},{"$error":"#N/A"},{"$error":"#N/A"},{"$error":"#N/A"},{"$error":"#N/A"},{"$error":"#N/A"},{"$error":"#N/A"},{"$error":"#N/A"},{"$error":"#N/A"},{"$error":"#N/A"},{"$error":"#N/A"},{"$error":"#N/A"},{"$error":"#N/A"},{"$error":"#N/A"},{"$error":"#N/A"},{"$error":"#N/A"},{"$error":"#N/A"},{"$error":"#N/A"},{"$error":"#N/A"},{"$error":"#N/A"},{"$error":"#N/A"},{"$error":"#N/A"},{"$error":"#N/A"},{"$error":"#N/A"},{"$error":"#N/A"},{"$error":"#N/A"},{"$error":"#N/A"},{"$error":"#N/A"}]
[87,"Wentworth PS","North","1FE expansion",2600000,2346000,{"$error":"#REF!"},{"$error":"#REF!"},{"$error":"#REF!"},{"$error":"#REF!"},{"$error":"#REF!"},{"$error":"#REF!"},{"$error":"#REF!"},{"$error":"#REF!"},{"$error":"#REF!"},{"$error":"#REF!"},{"$error":"#REF!"},{"$error":"#REF!"},{"$error":"#REF!"},{"$error":"#REF!"},{"$error":"#REF!"},{"$error":"#REF!"},{"$error":"#REF!"},{"$error":"#REF!"},{"$error":"#REF!"},{"$error":"#REF!"},{"$error":"#REF!"},{"$error":"#REF!"},{"$error":"#REF!"},{"$error":"#REF!"},{"$error":"#REF!"},{"$error":"#REF!"},{"$error":"#REF!"},{"$error":"#REF!"},{"$error":"#REF!"},{"$error":"#REF!"},{"$error":"#REF!"},{"$error":"#REF!"},{"$error":"#REF!"},{"$error":"#REF!"},{"$error":"#REF!"},{"$error":"#REF!"},{"$error":"#REF!"},{"$error":"#REF!"},{"$error":"#REF!"},{"$error":"#REF!"},{"$error":"#REF!"},{"$error":"#REF!"},{"$error":"#REF!"},{"$error":"#REF!"},{"$error":"#REF!"},{"$error":"#REF!"},{"$error":"#REF!"},{"$error":"#REF!"},{"$error":"#REF!"},{"$error":"#REF!"},{"$error":"#REF!"},{"$error":"#REF!"},{"$error":"#REF!"},{"$error":"#REF!"},{"$error":"#REF!"},{"$error":"#REF!"},{"$error":"#REF!"},{"$error":"#REF!"},{"$error":"#REF!"},{"$error":"#REF!"},{"$error":"#REF!"},{"$error":"#REF!"},{"$error":"#REF!"},{"$error":"#REF!"},{"$error":"#REF!"},{"$error":"#REF!"},{"$error":"#REF!"},{"$error":"#REF!"},{"$error":"#REF!"},{"$error":"#REF!"},{"$error":"#REF!"},{"$error":"#REF!"},{"$error":"#REF!"},{"$error":"#REF!"},{"$error":"#REF!"},{"$error":"#REF!"},{"$error":"#REF!"},{"$error":"#REF!"},{"$error":"#REF!"},{"$error":"#REF!"},{"$error":"#REF!"}]
[88,"Ridgeview School",{"$error":"#N/A"},{"$error":"#N/A"},{"$error":"#N/A"},{"$error":"#N/A"},{"$error":"#N/A"},{"$error":"#N/A"},{"$error":"#N/A"},{"$error":"#N/A"},{"$error":"#N/A"},{"$error":"#N/A"},{"$error":"#N/A"},{"$error":"#N/A"},{"$error":"#N/A"},{"$error":"#N/A"},{"$error":"#N/A"},{"$error":"#N/A"},{"$error":"#N/A"},{"$error":"#N/A"},{"$error":"#N/A"},{"$error":"#N/A"},{"$error":"#N/A"},{"$error":"#N/A"},{"$error":"#N/A"},{"$error":"#N/A"},{"$error":"#N/A"},{"$error":"#N/A"},{"$error":"#N/A"},{"$error":"#N/A"},{"$error":"#N/A"},{"$error":"#N/A"},{"$error":"#N/A"},{"$error":"#N/A"},{"$error":"#N/A"},{"$error":"#N/A"},{"$error":"#N/A"},{"$error":"#N/A"},{"$error":"#N/A"},{"$error":"#N/A"},{"$error":"#N/A"},{"$error":"#N/A"},{"$error":"#N/A"},{"$error":"#N/A"},{"$error":"#N/A"},{"$error":"#N/A"},{"$error":"#N/A"},{"$error":"#N/A"},{"$error":"#N/A"},{"$error":"#N/A"},{"$error":"#N/A"},{"$error":"#N/A"},{"$error":"#N/A"},{"$error":"#N/A"},{"$error":"#N/A"},{"$error":"#N/A"},{"$error":"#N/A"},{"$error":"#N/A"},{"$error":"#N/A"},{"$error":"#N/A"},{"$error":"#N/A"},{"$error":"#N/A"},{"$error":"#N/A"},{"$error":"#N/A"},{"$error":"#N/A"},{"$error":"#N/A"},{"$error":"#N/A"},{"$error":"#N/A"},{"$error":"#N/A"},{"$error":"#N/A"},{"$error":"#N/A"},{"$error":"#N/A"},{"$error":"#N/A"},{"$error":"#N/A"},{"$error":"#N/A"},{"$error":"#N/A"},{"$error":"#N/A"},{"$error":"#N/A"},{"$error":"#N/A"},{"$error":"#N/A"},{"$error":"#N/A"},{"$error":"#N/A"},{"$error":"#N/A"},{"$error":"#N/A"},{"$error":"#N/A"},{"$error":"#N/A"},{"$error":"#N/A"}]
[89,"Weald of Kent Grammar",{"$error":"#N/A"},{"$error":"#N/A"},{"$error":"#N/A"},{"$error":"#N/A"},{"$error":"#N/A"},{"$error":"#N/A"},{"$error":"#N/A"},{"$error":"#N/A"},{"$error":"#N/A"},{"$error":"#N/A"},{"$error":"#N/A"},{"$error":"#N/A"},{"$error":"#N/A"},{"$error":"#N/A"},{"$error":"#N/A"},{"$error":"#N/A"},{"$error":"#N/A"},{"$error":"#N/A"},{"$error":"#N/A"},{"$error":"#N/A"},{"$error":"#N/A"},{"$error":"#N/A"},{"$error":"#N/A"},{"$error":"#N/A"},{"$error":"#N/A"},{"$error":"#N/A"},{"$error":"#N/A"},{"$error":"#N/A"},{"$error":"#N/A"},{"$error":"#N/A"},{"$error":"#N/A"},{"$error":"#N/A"},{"$error":"#N/A"},{"$error":"#N/A"},{"$error":"#N/A"},{"$error":"#N/A"},{"$error":"#N/A"},{"$error":"#N/A"},{"$error":"#N/A"},{"$error":"#N/A"},{"$error":"#N/A"},{"$error":"#N/A"},{"$error":"#N/A"},{"$error":"#N/A"},{"$error":"#N/A"},{"$error":"#N/A"},{"$error":"#N/A"},{"$error":"#N/A"},{"$error":"#N/A"},{"$error":"#N/A"},{"$error":"#N/A"},{"$error":"#N/A"},{"$error":"#N/A"},{"$error":"#N/A"},{"$error":"#N/A"},{"$error":"#N/A"},{"$error":"#N/A"},{"$error":"#N/A"},{"$error":"#N/A"},{"$error":"#N/A"},{"$error":"#N/A"},{"$error":"#N/A"},{"$error":"#N/A"},{"$error":"#N/A"},{"$error":"#N/A"},{"$error":"#N/A"},{"$error":"#N/A"},{"$error":"#N/A"},{"$error":"#N/A"},{"$error":"#N/A"},{"$error":"#N/A"},{"$error":"#N/A"},{"$error":"#N/A"},{"$error":"#N/A"},{"$error":"#N/A"},{"$error":"#N/A"},{"$error":"#N/A"},{"$error":"#N/A"},{"$error":"#N/A"},{"$error":"#N/A"},{"$error":"#N/A"},{"$error":"#N/A"},{"$error":"#N/A"},{"$error":"#N/A"},{"$error":"#N/A"}]
[90,"Finberry PS, New PS",{"$error":"#N/A"},{"$error":"#N/A"},{"$error":"#N/A"},{"$error":"#N/A"},{"$error":"#N/A"},{"$error":"#N/A"},{"$error":"#N/A"},{"$error":"#N/A"},{"$error":"#N/A"},{"$error":"#N/A"},{"$error":"#N/A"},{"$error":"#N/A"},{"$error":"#N/A"},{"$error":"#N/A"},{"$error":"#N/A"},{"$error":"#N/A"},{"$error":"#N/A"},{"$error":"#N/A"},{"$error":"#N/A"},{"$error":"#N/A"},{"$error":"#N/A"},{"$error":"#N/A"},{"$error":"#N/A"},{"$error":"#N/A"},{"$error":"#N/A"},{"$error":"#N/A"},{"$error":"#N/A"},{"$error":"#N/A"},{"$error":"#N/A"},{"$error":"#N/A"},{"$error":"#N/A"},{"$error":"#N/A"},{"$error":"#N/A"},{"$error":"#N/A"},{"$error":"#N/A"},{"$error":"#N/A"},{"$error":"#N/A"},{"$error":"#N/A"},{"$error":"#N/A"},{"$error":"#N/A"},{"$error":"#N/A"},{"$error":"#N/A"},{"$error":"#N/A"},{"$error":"#N/A"},{"$error":"#N/A"},{"$error":"#N/A"},{"$error":"#N/A"},{"$error":"#N/A"},{"$error":"#N/A"},{"$error":"#N/A"},{"$error":"#N/A"},{"$error":"#N/A"},{"$error":"#N/A"},{"$error":"#N/A"},{"$error":"#N/A"},{"$error":"#N/A"},{"$error":"#N/A"},{"$error":"#N/A"},{"$error":"#N/A"},{"$error":"#N/A"},{"$error":"#N/A"},{"$error":"#N/A"},{"$error":"#N/A"},{"$error":"#N/A"},{"$error":"#N/A"},{"$error":"#N/A"},{"$error":"#N/A"},{"$error":"#N/A"},{"$error":"#N/A"},{"$error":"#N/A"},{"$error":"#N/A"},{"$error":"#N/A"},{"$error":"#N/A"},{"$error":"#N/A"},{"$error":"#N/A"},{"$error":"#N/A"},{"$error":"#N/A"},{"$error":"#N/A"},{"$error":"#N/A"},{"$error":"#N/A"},{"$error":"#N/A"},{"$error":"#N/A"},{"$error":"#N/A"},{"$error":"#N/A"},{"$error":"#N/A"}]
[91,"Birchington PS","East","New two storey teaching block.",2750000,2438962.92,{"$error":"#REF!"},{"$error":"#REF!"},{"$error":"#REF!"},{"$error":"#REF!"},{"$error":"#REF!"},{"$error":"#REF!"},{"$error":"#REF!"},{"$error":"#REF!"},{"$error":"#REF!"},{"$error":"#REF!"},{"$error":"#REF!"},{"$error":"#REF!"},{"$error":"#REF!"},{"$error":"#REF!"},{"$error":"#REF!"},{"$error":"#REF!"},{"$error":"#REF!"},{"$error":"#REF!"},{"$error":"#REF!"},{"$error":"#REF!"},{"$error":"#REF!"},{"$error":"#REF!"},{"$error":"#REF!"},{"$error":"#REF!"},{"$error":"#REF!"},{"$error":"#REF!"},{"$error":"#REF!"},{"$error":"#REF!"},{"$error":"#REF!"},{"$error":"#REF!"},{"$error":"#REF!"},{"$error":"#REF!"},{"$error":"#REF!"},{"$error":"#REF!"},{"$error":"#REF!"},{"$error":"#REF!"},{"$error":"#REF!"},{"$error":"#REF!"},{"$error":"#REF!"},{"$error":"#REF!"},{"$error":"#REF!"},{"$error":"#REF!"},{"$error":"#REF!"},{"$error":"#REF!"},{"$error":"#REF!"},{"$error":"#REF!"},{"$error":"#REF!"},{"$error":"#REF!"},{"$error":"#REF!"},{"$error":"#REF!"},{"$error":"#REF!"},{"$error":"#REF!"},{"$error":"#REF!"},{"$error":"#REF!"},{"$error":"#REF!"},{"$error":"#REF!"},{"$error":"#REF!"},{"$error":"#REF!"},{"$error":"#REF!"},{"$error":"#REF!"},{"$error":"#REF!"},{"$error":"#REF!"},{"$error":"#REF!"},{"$error":"#REF!"},{"$error":"#REF!"},{"$error":"#REF!"},{"$error":"#REF!"},{"$error":"#REF!"},{"$error":"#REF!"},{"$error":"#REF!"},{"$error":"#REF!"},{"$error":"#REF!"},{"$error":"#REF!"},{"$error":"#REF!"},{"$error":"#REF!"},{"$error":"#REF!"},{"$error":"#REF!"},{"$error":"#REF!"},{"$error":"#REF!"},{"$error":"#REF!"},{"$error":"#REF!"}]
[92,"South Borough PS","West","Two storey building with six classrooms.",2600000,2169009.86,{"$error":"#REF!"},{"$error":"#REF!"},{"$error":"#REF!"},{"$error":"#REF!"},{"$error":"#REF!"},{"$error":"#REF!"},{"$error":"#REF!"},{"$error":"#REF!"},{"$error":"#REF!"},{"$error":"#REF!"},{"$error":"#REF!"},{"$error":"#REF!"},{"$error":"#REF!"},{"$error":"#REF!"},{"$error":"#REF!"},{"$error":"#REF!"},{"$error":"#REF!"},{"$error":"#REF!"},{"$error":"#REF!"},{"$error":"#REF!"},{"$error":"#REF!"},{"$error":"#REF!"},{"$error":"#REF!"},{"$error":"#REF!"},{"$error":"#REF!"},{"$error":"#REF!"},{"$error":"#REF!"},{"$error":"#REF!"},{"$error":"#REF!"},{"$error":"#REF!"},{"$error":"#REF!"},{"$error":"#REF!"},{"$error":"#REF!"},{"$error":"#REF!"},{"$error":"#REF!"},{"$error":"#REF!"},{"$error":"#REF!"},{"$error":"#REF!"},{"$error":"#REF!"},{"$error":"#REF!"},{"$error":"#REF!"},{"$error":"#REF!"},{"$error":"#REF!"},{"$error":"#REF!"},{"$error":"#REF!"},{"$error":"#REF!"},{"$error":"#REF!"},{"$error":"#REF!"},{"$error":"#REF!"},{"$error":"#REF!"},{"$error":"#REF!"},{"$error":"#REF!"},{"$error":"#REF!"},{"$error":"#REF!"},{"$error":"#REF!"},{"$error":"#REF!"},{"$error":"#REF!"},{"$error":"#REF!"},{"$error":"#REF!"},{"$error":"#REF!"},{"$error":"#REF!"},{"$error":"#REF!"},{"$error":"#REF!"},{"$error":"#REF!"},{"$error":"#REF!"},{"$error":"#REF!"},{"$error":"#REF!"},{"$error":"#REF!"},{"$error":"#REF!"},{"$error":"#REF!"},{"$error":"#REF!"},{"$error":"#REF!"},{"$error":"#REF!"},{"$error":"#REF!"},{"$error":"#REF!"},{"$error":"#REF!"},{"$error":"#REF!"},{"$error":"#REF!"},{"$error":"#REF!"},{"$error":"#REF!"},{"$error":"#REF!"}]
[93,"Oakley PS (Nursery)","West","New SEN nursery provision.",995000,962199.18,{"$error":"#REF!"},{"$error":"#REF!"},{"$error":"#REF!"},{"$error":"#REF!"},{"$error":"#REF!"},{"$error":"#REF!"},{"$error":"#REF!"},{"$error":"#REF!"},{"$error":"#REF!"},{"$error":"#REF!"},{"$error":"#REF!"},{"$error":"#REF!"},{"$error":"#REF!"},{"$error":"#REF!"},{"$error":"#REF!"},{"$error":"#REF!"},{"$error":"#REF!"},{"$error":"#REF!"},{"$error":"#REF!"},{"$error":"#REF!"},{"$error":"#REF!"},{"$error":"#REF!"},{"$error":"#REF!"},{"$error":"#REF!"},{"$error":"#REF!"},{"$error":"#REF!"},{"$error":"#REF!"},{"$error":"#REF!"},{"$error":"#REF!"},{"$error":"#REF!"},{"$error":"#REF!"},{"$error":"#REF!"},{"$error":"#REF!"},{"$error":"#REF!"},{"$error":"#REF!"},{"$error":"#REF!"},{"$error":"#REF!"},{"$error":"#REF!"},{"$error":"#REF!"},{"$error":"#REF!"},{"$error":"#REF!"},{"$error":"#REF!"},{"$error":"#REF!"},{"$error":"#REF!"},{"$error":"#REF!"},{"$error":"#REF!"},{"$error":"#REF!"},{"$error":"#REF!"},{"$error":"#REF!"},{"$error":"#REF!"},{"$error":"#REF!"},{"$error":"#REF!"},{"$error":"#REF!"},{"$error":"#REF!"},{"$error":"#REF!"},{"$error":"#REF!"},{"$error":"#REF!"},{"$error":"#REF!"},{"$error":"#REF!"},{"$error":"#REF!"},{"$error":"#REF!"},{"$error":"#REF!"},{"$error":"#REF!"},{"$error":"#REF!"},{"$error":"#REF!"},{"$error":"#REF!"},{"$error":"#REF!"},{"$error":"#REF!"},{"$error":"#REF!"},{"$error":"#REF!"},{"$error":"#REF!"},{"$error":"#REF!"},{"$error":"#REF!"},{"$error":"#REF!"},{"$error":"#REF!"},{"$error":"#REF!"},{"$error":"#REF!"},{"$error":"#REF!"},{"$error":"#REF!"},{"$error":"#REF!"},{"$error":"#REF!"}]
[94,"Southborough Hub",{"$error":"#N/A"},{"$error":"#N/A"},{"$error":"#N/A"},{"$error":"#N/A"},{"$error":"#N/A"},{"$error":"#N/A"},{"$error":"#N/A"},{"$error":"#N/A"},{"$error":"#N/A"},{"$error":"#N/A"},{"$error":"#N/A"},{"$error":"#N/A"},{"$error":"#N/A"},{"$error":"#N/A"},{"$error":"#N/A"},{"$error":"#N/A"},{"$error":"#N/A"},{"$error":"#N/A"},{"$error":"#N/A"},{"$error":"#N/A"},{"$error":"#N/A"},{"$error":"#N/A"},{"$error":"#N/A"},{"$error":"#N/A"},{"$error":"#N/A"},{"$error":"#N/A"},{"$error":"#N/A"},{"$error":"#N/A"},{"$error":"#N/A"},{"$error":"#N/A"},{"$error":"#N/A"},{"$error":"#N/A"},{"$error":"#N/A"},{"$error":"#N/A"},{"$error":"#N/A"},{"$error":"#N/A"},{"$error":"#N/A"},{"$error":"#N/A"},{"$error":"#N/A"},{"$error":"#N/A"},{"$error":"#N/A"},{"$error":"#N/A"},{"$error":"#N/A"},{"$error":"#N/A"},{"$error":"#N/A"},{"$error":"#N/A"},{"$error":"#N/A"},{"$error":"#N/A"},{"$error":"#N/A"},{"$error":"#N/A"},{"$error":"#N/A"},{"$error":"#N/A"},{"$error":"#N/A"},{"$error":"#N/A"},{"$error":"#N/A"},{"$error":"#N/A"},{"$error":"#N/A"},{"$error":"#N/A"},{"$error":"#N/A"},{"$error":"#N/A"},{"$error":"#N/A"},{"$error":"#N/A"},{"$error":"#N/A"},{"$error":"#N/A"},{"$error":"#N/A"},{"$error":"#N/A"},{"$error":"#N/A"},{"$error":"#N/A"},{"$error":"#N/A"},{"$error":"#N/A"},{"$error":"#N/A"},{"$error":"#N/A"},{"$error":"#N/A"},{"$error":"#N/A"},{"$error":"#N/A"},{"$error":"#N/A"},{"$error":"#N/A"},{"$error":"#N/A"},{"$error":"#N/A"},{"$error":"#N/A"},{"$error":"#N/A"},{"$error":"#N/A"},{"$error":"#N/A"},{"$error":"#N/A"},{"$error":"#N/A"}]
[95,"Dover Discovery Centre",{"$error":"#N/A"},{"$error":"#N/A"},{"$error":"#N/A"},{"$error":"#N/A"},{"$error":"#N/A"},{"$error":"#N/A"},{"$error":"#N/A"},{"$error":"#N/A"},{"$error":"#N/A"},{"$error":"#N/A"},{"$error":"#N/A"},{"$error":"#N/A"},{"$error":"#N/A"},{"$error":"#N/A"},{"$error":"#N/A"},{"$error":"#N/A"},{"$error":"#N/A"},{"$error":"#N/A"},{"$error":"#N/A"},{"$error":"#N/A"},{"$error":"#N/A"},{"$error":"#N/A"},{"$error":"#N/A"},{"$error":"#N/A"},{"$error":"#N/A"},{"$error":"#N/A"},{"$error":"#N/A"},{"$error":"#N/A"},{"$error":"#N/A"},{"$error":"#N/A"},{"$error":"#N/A"},{"$error":"#N/A"},{"$error":"#N/A"},{"$error":"#N/A"},{"$error":"#N/A"},{"$error":"#N/A"},{"$error":"#N/A"},{"$error":"#N/A"},{"$error":"#N/A"},{"$error":"#N/A"},{"$error":"#N/A"},{"$error":"#N/A"},{"$error":"#N/A"},{"$error":"#N/A"},{"$error":"#N/A"},{"$error":"#N/A"},{"$error":"#N/A"},{"$error":"#N/A"},{"$error":"#N/A"},{"$error":"#N/A"},{"$error":"#N/A"},{"$error":"#N/A"},{"$error":"#N/A"},{"$error":"#N/A"},{"$error":"#N/A"},{"$error":"#N/A"},{"$error":"#N/A"},{"$error":"#N/A"},{"$error":"#N/A"},{"$error":"#N/A"},{"$error":"#N/A"},{"$error":"#N/A"},{"$error":"#N/A"},{"$error":"#N/A"},{"$error":"#N/A"},{"$error":"#N/A"},{"$error":"#N/A"},{"$error":"#N/A"},{"$error":"#N/A"},{"$error":"#N/A"},{"$error":"#N/A"},{"$error":"#N/A"},{"$error":"#N/A"},{"$error":"#N/A"},{"$error":"#N/A"},{"$error":"#N/A"},{"$error":"#N/A"},{"$error":"#N/A"},{"$error":"#N/A"},{"$error":"#N/A"},{"$error":"#N/A"},{"$error":"#N/A"},{"$error":"#N/A"},{"$error":"#N/A"},{"$error":"#N/A"}]
[96,"Queen's House Folkestone to Cheriton House",{"$error":"#N/A"},{"$error":"#N/A"},{"$error":"#N/A"},{"$error":"#N/A"},{"$error":"#N/A"},{"$error":"#N/A"},{"$error":"#N/A"},{"$error":"#N/A"},{"$error":"#N/A"},{"$error":"#N/A"},{"$error":"#N/A"},{"$error":"#N/A"},{"$error":"#N/A"},{"$error":"#N/A"},{"$error":"#N/A"},{"$error":"#N/A"},{"$error":"#N/A"},{"$error":"#N/A"},{"$error":"#N/A"},{"$error":"#N/A"},{"$error":"#N/A"},{"$error":"#N/A"},{"$error":"#N/A"},{"$error":"#N/A"},{"$error":"#N/A"},{"$error":"#N/A"},{"$error":"#N/A"},{"$error":"#N/A"},{"$error":"#N/A"},{"$error":"#N/A"},{"$error":"#N/A"},{"$error":"#N/A"},{"$error":"#N/A"},{"$error":"#N/A"},{"$error":"#N/A"},{"$error":"#N/A"},{"$error":"#N/A"},{"$error":"#N/A"},{"$error":"#N/A"},{"$error":"#N/A"},{"$error":"#N/A"},{"$error":"#N/A"},{"$error":"#N/A"},{"$error":"#N/A"},{"$error":"#N/A"},{"$error":"#N/A"},{"$error":"#N/A"},{"$error":"#N/A"},{"$error":"#N/A"},{"$error":"#N/A"},{"$error":"#N/A"},{"$error":"#N/A"},{"$error":"#N/A"},{"$error":"#N/A"},{"$error":"#N/A"},{"$error":"#N/A"},{"$error":"#N/A"},{"$error":"#N/A"},{"$error":"#N/A"},{"$error":"#N/A"},{"$error":"#N/A"},{"$error":"#N/A"},{"$error":"#N/A"},{"$error":"#N/A"},{"$error":"#N/A"},{"$error":"#N/A"},{"$error":"#N/A"},{"$error":"#N/A"},{"$error":"#N/A"},{"$error":"#N/A"},{"$error":"#N/A"},{"$error":"#N/A"},{"$error":"#N/A"},{"$error":"#N/A"},{"$error":"#N/A"},{"$error":"#N/A"},{"$error":"#N/A"},{"$error":"#N/A"},{"$error":"#N/A"},{"$error":"#N/A"},{"$error":"#N/A"},{"$error":"#N/A"},{"$error":"#N/A"},{"$error":"#N/A"},{"$error":"#N/A"}]
[97,"Coroners Phase 2",{"$f":"VLOOKUP($B103,MASTER_DATABASE,2,0)","v":{"$error":"#N/A"}},{"$f":"VLOOKUP($B103,MASTER_DATABASE,3,0)","v":{"$error":"#N/A"}},{"$f":"VLOOKUP($B103,MASTER_DATABASE,4,0)","v":{"$error":"#N/A"}},{"$f":"VLOOKUP($B103,MASTER_DATABASE,5,0)","v":{"$error":"#N/A"}},{"$f":"VLOOKUP($B103,MASTER_DATABASE,6,0)","v":{"$error":"#N/A"}},{"$f":"VLOOKUP($B103,MASTER_DATABASE,7,0)","v":{"$error":"#N/A"}},{"$f":"VLOOKUP($B103,MASTER_DATABASE,8,0)","v":{"$error":"#N/A"}},{"$f":"VLOOKUP($B103,MASTER_DATABASE,9,0)","v":{"$error":"#N/A"}},{"$f":"VLOOKUP($B103,MASTER_DATABASE,10,0)","v":{"$error":"#N/A"}},{"$f":"VLOOKUP($B103,MASTER_DATABASE,11,0)","v":{"$error":"#N/A"}},{"$f":"VLOOKUP($B103,MASTER_DATABASE,12,0)","v":{"$error":"#N/A"}},{"$f":"VLOOKUP($B103,MASTER_DATABASE,13,0)","v":{"$error":"#N/A"}},{"$f":"VLOOKUP($B103,MASTER_DATABASE,14,0)","v":{"$error":"#N/A"}},{"$f":"VLOOKUP($B103,MASTER_DATABASE,15,0)","v":{"$error":"#N/A"}},{"$f":"VLOOKUP($B103,MASTER_DATABASE,16,0)","v":{"$error":"#N/A"}},{"$f":"VLOOKUP($B103,MASTER_DATABASE,17,0)","v":{"$error":"#N/A"}},{"$f":"VLOOKUP($B103,MASTER_DATABASE,18,0)","v":{"$error":"#N/A"}},{"$f":"VLOOKUP($B103,MASTER_DATABASE,19,0)","v":{"$error":"#N/A"}},{"$f":"VLOOKUP($B103,MASTER_DATABASE,20,0)","v":{"$error":"#N/A"}},{"$f":"VLOOKUP($B103,MASTER_DATABASE,21,0)","v":{"$error":"#N/A"}},{"$f":"VLOOKUP($B103,MASTER_DATABASE,22,0)","v":{"$error":"#N/A"}},{"$f":"VLOOKUP($B103,MASTER_DATABASE,23,0)","v":{"$error":"#N/A"}},{"$f":"VLOOKUP($B103,MASTER_DATABASE,24,0)","v":{"$error":"#N/A"}},{"$f":"VLOOKUP($B103,MASTER_DATABASE,25,0)","v":{"$error":"#N/A"}},{"$f":"VLOOKUP($B103,MASTER_DATABASE,26,0)","v":{"$error":"#N/A"}},{"$f":"VLOOKUP($B103,MASTER_DATABASE,27,0)","v":{"$error":"#N/A"}},{"$f":"VLOOKUP($B103,MASTER_DATABASE,28,0)","v":{"$error":"#N/A"}},{"$f":"VLOOKUP($B103,MASTER_DATABASE,29,0)","v":{"$error":"#N/A"}},{"$f":"VLOOKUP($B103,MASTER_DATABASE,30,0)","v":{"$error":"#N/A"}},{"$f":"VLOOKUP($B103,MASTER_DATABASE,31,0)","v":{"$error":"#N/A"}},{"$f":"VLOOKUP($B103,MASTER_DATABASE,32,0)","v":{"$error":"#N/A"}},{"$f":"VLOOKUP($B103,MASTER_DATABASE,33,0)","v":{"$error":"#N/A"}},{"$f":"VLOOKUP($B103,MASTER_DATABASE,34,0)","v":{"$error":"#N/A"}},{"$f":"VLOOKUP($B103,MASTER_DATABASE,35,0)","v":{"$error":"#N/A"}},{"$f":"VLOOKUP($B103,MASTER_DATABASE,36,0)","v":{"$error":"#N/A"}},{"$f":"VLOOKUP($B103,MASTER_DATABASE,37,0)","v":{"$error":"#N/A"}},{"$f":"VLOOKUP($B103,MASTER_DATABASE,38,0)","v":{"$error":"#N/A"}},{"$f":"VLOOKUP($B103,MASTER_DATABASE,39,0)","v":{"$error":"#N/A"}},{"$f":"VLOOKUP($B103,MASTER_DATABASE,40,0)","v":{"$error":"#N/A"}},{"$f":"VLOOKUP($B103,MASTER_DATABASE,41,0)","v":{"$error":"#N/A"}},{"$f":"VLOOKUP($B103,MASTER_DATABASE,42,0)","v":{"$error":"#N/A"}},{"$f":"VLOOKUP($B103,MASTER_DATABASE,43,0)","v":{"$error":"#N/A"}},{"$f":"VLOOKUP($B103,MASTER_DATABASE,44,0)","v":{"$error":"#N/A"}},{"$f":"VLOOKUP($B103,MASTER_DATABASE,45,0)","v":{"$error":"#N/A"}},{"$f":"VLOOKUP($B103,MASTER_DATABASE,46,0)","v":{"$error":"#N/A"}},{"$f":"VLOOKUP($B103,MASTER_DATABASE,47,0)","v":{"$error":"#N/A"}},{"$f":"VLOOKUP($B103,MASTER_DATABASE,48,0)","v":{"$error":"#N/A"}},{"$f":"VLOOKUP($B103,MASTER_DATABASE,49,0)","v":{"$error":"#N/A"}},{"$f":"VLOOKUP($B103,MASTER_DATABASE,50,0)","v":{"$error":"#N/A"}},{"$f":"VLOOKUP($B103,MASTER_DATABASE,51,0)","v":{"$error":"#N/A"}},{"$f":"VLOOKUP($B103,MASTER_DATABASE,52,0)","v":{"$error":"#N/A"}},{"$f":"VLOOKUP($B103,MASTER_DATABASE,53,0)","v":{"$error":"#N/A"}},{"$f":"VLOOKUP($B103,MASTER_DATABASE,54,0)","v":{"$error":"#N/A"}},{"$f":"VLOOKUP($B103,MASTER_DATABASE,55,0)","v":{"$error":"#N/A"}},{"$f":"VLOOKUP($B103,MASTER_DATABASE,56,0)","v":{"$error":"#N/A"}},{"$f":"VLOOKUP($B103,MASTER_DATABASE,57,0)","v":{"$error":"#N/A"}},{"$f":"VLOOKUP($B103,MASTER_DATABASE,58,0)","v":{"$error":"#N/A"}},{"$f":"VLOOKUP($B103,MASTER_DATABASE,59,0)","v":{"$error":"#N/A"}},{"$f":"VLOOKUP($B103,MASTER_DATABASE,60,0)","v":{"$error":"#N/A"}},{"$f":"VLOOKUP($B103,MASTER_DATABASE,61,0)","v":{"$error":"#N/A"}},{"$f":"VLOOKUP($B103,MASTER_DATABASE,62,0)","v":{"$error":"#N/A"}},{"$f":"VLOOKUP($B103,MASTER_DATABASE,63,0)","v":{"$error":"#N/A"}},{"$f":"VLOOKUP($B103,MASTER_DATABASE,64,0)","v":{"$error":"#N/A"}},{"$f":"VLOOKUP($B103,MASTER_DATABASE,65,0)","v":{"$error":"#N/A"}},{"$f":"VLOOKUP($B103,MASTER_DATABASE,66,0)","v":{"$error":"#N/A"}},{"$f":"VLOOKUP($B103,MASTER_DATABASE,67,0)","v":{"$error":"#N/A"}},{"$f":"VLOOKUP($B103,MASTER_DATABASE,68,0)","v":{"$error":"#N/A"}},{"$f":"VLOOKUP($B103,MASTER_DATABASE,69,0)","v":{"$error":"#N/A"}},{"$f":"VLOOKUP($B103,MASTER_DATABASE,70,0)","v":{"$error":"#N/A"}},{"$f":"VLOOKUP($B103,MASTER_DATABASE,71,0)","v":{"$error":"#N/A"}},{"$f":"VLOOKUP($B103,MASTER_DATABASE,72,0)","v":{"$error":"#N/A"}},{"$f":"VLOOKUP($B103,MASTER_DATABASE,73,0)","v":{"$error":"#N/A"}},{"$f":"VLOOKUP($B103,MASTER_DATABASE,74,0)","v":{"$error":"#N/A"}},{"$f":"VLOOKUP($B103,MASTER_DATABASE,75,0)","v":{"$error":"#N/A"}},{"$f":"VLOOKUP($B103,MASTER_DATABASE,76,0)","v":{"$error":"#N/A"}},{"$f":"VLOOKUP($B103,MASTER_DATABASE,77,0)","v":{"$error":"#N/A"}},{"$f":"VLOOKUP($B103,MASTER_DATABASE,78,0)","v":{"$error":"#N/A"}},{"$f":"VLOOKUP($B103,MASTER_DATABASE,79,0)","v":{"$error":"#N/A"}},{"$f":"VLOOKUP($B103,MASTER_DATABASE,80,0)","v":{"$error":"#N/A"}},{"$f":"VLOOKUP($B103,MASTER_DATABASE,81,0)","v":{"$error":"#N/A"}},{"$f":"VLOOKUP($B103,MASTER_DATABASE,82,0)","v":{"$error":"#N/A"}},{"$f":"VLOOKUP($B103,MASTER_DATABASE,83,0)","v":{"$error":"#N/A"}},{"$f":"VLOOKUP($B103,MASTER_DATABASE,84,0)","v":{"$error":"#N/A"}},{"$f":"VLOOKUP($B103,MASTER_DATABASE,85,0)","v":{"$error":"#N/A"}},{"$f":"VLOOKUP($B103,MASTER_DATABASE,86,0)","v":{"$error":"#N/A"}}]
[98,"Barton Court Free School","East","New 5FE school",24790856,24790856,{"$error":"#REF!"},{"$error":"#REF!"},{"$error":"#REF!"},{"$error":"#REF!"},{"$error":"#REF!"},{"$error":"#REF!"},{"$error":"#REF!"},{"$error":"#REF!"},{"$error":"#REF!"},{"$error":"#REF!"},{"$error":"#REF!"},{"$error":"#REF!"},{"$error":"#REF!"},{"$error":"#REF!"},{"$error":"#REF!"},{"$error":"#REF!"},{"$error":"#REF!"},{"$error":"#REF!"},{"$error":"#REF!"},{"$error":"#REF!"},{"$error":"#REF!"},{"$error":"#REF!"},{"$error":"#REF!"},{"$error":"#REF!"},{"$error":"#REF!"},{"$error":"#REF!"},{"$error":"#REF!"},{"$error":"#REF!"},{"$error":"#REF!"},{"$error":"#REF!"},{"$error":"#REF!"},{"$error":"#REF!"},{"$error":"#REF!"},{"$error":"#REF!"},{"$error":"#REF!"},{"$error":"#REF!"},{"$error":"#REF!"},{"$error":"#REF!"},{"$error":"#REF!"},{"$error":"#REF!"},{"$error":"#REF!"},{"$error":"#REF!"},{"$error":"#REF!"},{"$error":"#REF!"},{"$error":"#REF!"},{"$error":"#REF!"},{"$error":"#REF!"},{"$error":"#REF!"},{"$error":"#REF!"},{"$error":"#REF!"},{"$error":"#REF!"},{"$error":"#REF!"},{"$error":"#REF!"},{"$error":"#REF!"},{"$error":"#REF!"},{"$error":"#REF!"},{"$error":"#REF!"},{"$error":"#REF!"},{"$error":"#REF!"},{"$error":"#REF!"},{"$error":"#REF!"},{"$error":"#REF!"},{"$error":"#REF!"},{"$error":"#REF!"},{"$error":"#REF!"},{"$error":"#REF!"},{"$error":"#REF!"},{"$error":"#REF!"},{"$error":"#REF!"},{"$error":"#REF!"},{"$error":"#REF!"},{"$error":"#REF!"},{"$error":"#REF!"},{"$error":"#REF!"},{"$error":"#REF!"},{"$error":"#REF!"},{"$error":"#REF!"},{"$error":"#REF!"},{"$error":"#REF!"},{"$error":"#REF!"},{"$error":"#REF!"}]
[99,"St Andrew's PS","West","New 2FE school",8561038,8561038,{"$error":"#REF!"},{"$error":"#REF!"},{"$error":"#REF!"},{"$error":"#REF!"},{"$error":"#REF!"},{"$error":"#REF!"},{"$error":"#REF!"},{"$error":"#REF!"},{"$error":"#REF!"},{"$error":"#REF!"},{"$error":"#REF!"},{"$error":"#REF!"},{"$error":"#REF!"},{"$error":"#REF!"},{"$error":"#REF!"},{"$error":"#REF!"},{"$error":"#REF!"},{"$error":"#REF!"},{"$error":"#REF!"},{"$error":"#REF!"},{"$error":"#REF!"},{"$error":"#REF!"},{"$error":"#REF!"},{"$error":"#REF!"},{"$error":"#REF!"},{"$error":"#REF!"},{"$error":"#REF!"},{"$error":"#REF!"},{"$error":"#REF!"},{"$error":"#REF!"},{"$error":"#REF!"},{"$error":"#REF!"},{"$error":"#REF!"},{"$error":"#REF!"},{"$error":"#REF!"},{"$error":"#REF!"},{"$error":"#REF!"},{"$error":"#REF!"},{"$error":"#REF!"},{"$error":"#REF!"},{"$error":"#REF!"},{"$error":"#REF!"},{"$error":"#REF!"},{"$error":"#REF!"},{"$error":"#REF!"},{"$error":"#REF!"},{"$error":"#REF!"},{"$error":"#REF!"},{"$error":"#REF!"},{"$error":"#REF!"},{"$error":"#REF!"},{"$error":"#REF!"},{"$error":"#REF!"},{"$error":"#REF!"},{"$error":"#REF!"},{"$error":"#REF!"},{"$error":"#REF!"},{"$error":"#REF!"},{"$error":"#REF!"},{"$error":"#REF!"},{"$error":"#REF!"},{"$error":"#REF!"},{"$error":"#REF!"},{"$error":"#REF!"},{"$error":"#REF!"},{"$error":"#REF!"},{"$error":"#REF!"},{"$error":"#REF!"},{"$error":"#REF!"},{"$error":"#REF!"},{"$error":"#REF!"},{"$error":"#REF!"},{"$error":"#REF!"},{"$error":"#REF!"},{"$error":"#REF!"},{"$error":"#REF!"},{"$error":"#REF!"},{"$error":"#REF!"},{"$error":"#REF!"},{"$error":"#REF!"},{"$error":"#REF!"}]
[100,"Dover Girls Grammar",{"$error":"#N/A"},{"$error":"#N/A"},{"$error":"#N/A"},{"$error":"#N/A"},{"$error":"#N/A"},{"$error":"#N/A"},{"$error":"#N/A"},{"$error":"#N/A"},{"$error":"#N/A"},{"$error":"#N/A"},{"$error":"#N/A"},{"$error":"#N/A"},{"$error":"#N/A"},{"$error":"#N/A"},{"$error":"#N/A"},{"$error":"#N/A"},{"$error":"#N/A"},{"$error":"#N/A"},{"$error":"#N/A"},{"$error":"#N/A"},{"$error":"#N/A"},{"$error":"#N/A"},{"$error":"#N/A"},{"$error":"#N/A"},{"$error":"#N/A"},{"$error":"#N/A"},{"$error":"#N/A"},{"$error":"#N/A"},{"$error":"#N/A"},{"$error":"#N/A"},{"$error":"#N/A"},{"$error":"#N/A"},{"$error":"#N/A"},{"$error":"#N/A"},{"$error":"#N/A"},{"$error":"#N/A"},{"$error":"#N/A"},{"$error":"#N/A"},{"$error":"#N/A"},{"$error":"#N/A"},{"$error":"#N/A"},{"$error":"#N/A"},{"$error":"#N/A"},{"$error":"#N/A"},{"$error":"#N/A"},{"$error":"#N/A"},{"$error":"#N/A"},{"$error":"#N/A"},{"$error":"#N/A"},{"$error":"#N/A"},{"$error":"#N/A"},{"$error":"#N/A"},{"$error":"#N/A"},{"$error":"#N/A"},{"$error":"#N/A"},{"$error":"#N/A"},{"$error":"#N/A"},{"$error":"#N/A"},{"$error":"#N/A"},{"$error":"#N/A"},{"$error":"#N/A"},{"$error":"#N/A"},{"$error":"#N/A"},{"$error":"#N/A"},{"$error":"#N/A"},{"$error":"#N/A"},{"$error":"#N/A"},{"$error":"#N/A"},{"$error":"#N/A"},{"$error":"#N/A"},{"$error":"#N/A"},{"$error":"#N/A"},{"$error":"#N/A"},{"$error":"#N/A"},{"$error":"#N/A"},{"$error":"#N/A"},{"$error":"#N/A"},{"$error":"#N/A"},{"$error":"#N/A"},{"$error":"#N/A"},{"$error":"#N/A"},{"$error":"#N/A"},{"$error":"#N/A"},{"$error":"#N/A"},{"$error":"#N/A"}]
[101,"St George's (Gravesend)","North","1FE expansion",2700000,2600000,{"$error":"#REF!"},{"$error":"#REF!"},{"$error":"#REF!"},{"$error":"#REF!"},{"$error":"#REF!"},{"$error":"#REF!"},{"$error":"#REF!"},{"$error":"#REF!"},{"$error":"#REF!"},{"$error":"#REF!"},{"$error":"#REF!"},{"$error":"#REF!"},{"$error":"#REF!"},{"$error":"#REF!"},{"$error":"#REF!"},{"$error":"#REF!"},{"$error":"#REF!"},{"$error":"#REF!"},{"$error":"#REF!"},{"$error":"#REF!"},{"$error":"#REF!"},{"$error":"#REF!"},{"$error":"#REF!"},{"$error":"#REF!"},{"$error":"#REF!"},{"$error":"#REF!"},{"$error":"#REF!"},{"$error":"#REF!"},{"$error":"#REF!"},{"$error":"#REF!"},{"$error":"#REF!"},{"$error":"#REF!"},{"$error":"#REF!"},{"$error":"#REF!"},{"$error":"#REF!"},{"$error":"#REF!"},{"$error":"#REF!"},{"$error":"#REF!"},{"$error":"#REF!"},{"$error":"#REF!"},{"$error":"#REF!"},{"$error":"#REF!"},{"$error":"#REF!"},{"$error":"#REF!"},{"$error":"#REF!"},{"$error":"#REF!"},{"$error":"#REF!"},{"$error":"#REF!"},{"$error":"#REF!"},{"$error":"#REF!"},{"$error":"#REF!"},{"$error":"#REF!"},{"$error":"#REF!"},{"$error":"#REF!"},{"$error":"#REF!"},{"$error":"#REF!"},{"$error":"#REF!"},{"$error":"#REF!"},{"$error":"#REF!"},{"$error":"#REF!"},{"$error":"#REF!"},{"$error":"#REF!"},{"$error":"#REF!"},{"$error":"#REF!"},{"$error":"#REF!"},{"$error":"#REF!"},{"$error":"#REF!"},{"$error":"#REF!"},{"$error":"#REF!"},{"$error":"#REF!"},{"$error":"#REF!"},{"$error":"#REF!"},{"$error":"#REF!"},{"$error":"#REF!"},{"$error":"#REF!"},{"$error":"#REF!"},{"$error":"#REF!"},{"$error":"#REF!"},{"$error":"#REF!"},{"$error":"#REF!"},{"$error":"#REF!"}]
[102,"Wickhambreaux","East","School managed - additonal taching and admin space",127952,127952,{"$error":"#REF!"},{"$error":"#REF!"},{"$error":"#REF!"},{"$error":"#REF!"},{"$error":"#REF!"},{"$error":"#REF!"},{"$error":"#REF!"},{"$error":"#REF!"},{"$error":"#REF!"},{"$error":"#REF!"},{"$error":"#REF!"},{"$error":"#REF!"},{"$error":"#REF!"},{"$error":"#REF!"},{"$error":"#REF!"},{"$error":"#REF!"},{"$error":"#REF!"},{"$error":"#REF!"},{"$error":"#REF!"},{"$error":"#REF!"},{"$error":"#REF!"},{"$error":"#REF!"},{"$error":"#REF!"},{"$error":"#REF!"},{"$error":"#REF!"},{"$error":"#REF!"},{"$error":"#REF!"},{"$error":"#REF!"},{"$error":"#REF!"},{"$error":"#REF!"},{"$error":"#REF!"},{"$error":"#REF!"},{"$error":"#REF!"},{"$error":"#REF!"},{"$error":"#REF!"},{"$error":"#REF!"},{"$error":"#REF!"},{"$error":"#REF!"},{"$error":"#REF!"},{"$error":"#REF!"},{"$error":"#REF!"},{"$error":"#REF!"},{"$error":"#REF!"},{"$error":"#REF!"},{"$error":"#REF!"},{"$error":"#REF!"},{"$error":"#REF!"},{"$error":"#REF!"},{"$error":"#REF!"},{"$error":"#REF!"},{"$error":"#REF!"},{"$error":"#REF!"},{"$error":"#REF!"},{"$error":"#REF!"},{"$error":"#REF!"},{"$error":"#REF!"},{"$error":"#REF!"},{"$error":"#REF!"},{"$error":"#REF!"},{"$error":"#REF!"},{"$error":"#REF!"},{"$error":"#REF!"},{"$error":"#REF!"},{"$error":"#REF!"},{"$error":"#REF!"},{"$error":"#REF!"},{"$error":"#REF!"},{"$error":"#REF!"},{"$error":"#REF!"},{"$error":"#REF!"},{"$error":"#REF!"},{"$error":"#REF!"},{"$error":"#REF!"},{"$error":"#REF!"},{"$error":"#REF!"},{"$error":"#REF!"},{"$error":"#REF!"},{"$error":"#REF!"},{"$error":"#REF!"},{"$error":"#REF!"},{"$error":"#REF!"}]
[103,"Stone Bay School","East","Additonal classroom",100000,30000,{"$error":"#REF!"},{"$error":"#REF!"},{"$error":"#REF!"},{"$error":"#REF!"},{"$error":"#REF!"},{"$error":"#REF!"},{"$error":"#REF!"},{"$error":"#REF!"},{"$error":"#REF!"},{"$error":"#REF!"},{"$error":"#REF!"},{"$error":"#REF!"},{"$error":"#REF!"},{"$error":"#REF!"},{"$error":"#REF!"},{"$error":"#REF!"},{"$error":"#REF!"},{"$error":"#REF!"},{"$error":"#REF!"},{"$error":"#REF!"},{"$error":"#REF!"},{"$error":"#REF!"},{"$error":"#REF!"},{"$error":"#REF!"},{"$error":"#REF!"},{"$error":"#REF!"},{"$error":"#REF!"},{"$error":"#REF!"},{"$error":"#REF!"},{"$error":"#REF!"},{"$error":"#REF!"},{"$error":"#REF!"},{"$error":"#REF!"},{"$error":"#REF!"},{"$error":"#REF!"},{"$error":"#REF!"},{"$error":"#REF!"},{"$error":"#REF!"},{"$error":"#REF!"},{"$error":"#REF!"},{"$error":"#REF!"},{"$error":"#REF!"},{"$error":"#REF!"},{"$error":"#REF!"},{"$error":"#REF!"},{"$error":"#REF!"},{"$error":"#REF!"},{"$error":"#REF!"},{"$error":"#REF!"},{"$error":"#REF!"},{"$error":"#REF!"},{"$error":"#REF!"},{"$error":"#REF!"},{"$error":"#REF!"},{"$error":"#REF!"},{"$error":"#REF!"},{"$error":"#REF!"},{"$error":"#REF!"},{"$error":"#REF!"},{"$error":"#REF!"},{"$error":"#REF!"},{"$error":"#REF!"},{"$error":"#REF!"},{"$error":"#REF!"},{"$error":"#REF!"},{"$error":"#REF!"},{"$error":"#REF!"},{"$error":"#REF!"},{"$error":"#REF!"},{"$error":"#REF!"},{"$error":"#REF!"},{"$error":"#REF!"},{"$error":"#REF!"},{"$error":"#REF!"},{"$error":"#REF!"},{"$error":"#REF!"},{"$error":"#REF!"},{"$error":"#REF!"},{"$error":"#REF!"},{"$error":"#REF!"},{"$error":"#REF!"}]
[104,"Maidstone Boys Grammar","West","School managed - additonal taching",3580000,3580000,{"$error":"#REF!"},{"$error":"#REF!"},{"$error":"#REF!"},{"$error":"#REF!"},{"$error":"#REF!"},{"$error":"#REF!"},{"$error":"#REF!"},{"$error":"#REF!"},{"$error":"#REF!"},{"$error":"#REF!"},{"$error":"#REF!"},{"$error":"#REF!"},{"$error":"#REF!"},{"$error":"#REF!"},{"$error":"#REF!"},{"$error":"#REF!"},{"$error":"#REF!"},{"$error":"#REF!"},{"$error":"#REF!"},{"$error":"#REF!"},{"$error":"#REF!"},{"$error":"#REF!"},{"$error":"#REF!"},{"$error":"#REF!"},{"$error":"#REF!"},{"$error":"#REF!"},{"$error":"#REF!"},{"$error":"#REF!"},{"$error":"#REF!"},{"$error":"#REF!"},{"$error":"#REF!"},{"$error":"#REF!"},{"$error":"#REF!"},{"$error":"#REF!"},{"$error":"#REF!"},{"$error":"#REF!"},{"$error":"#REF!"},{"$error":"#REF!"},{"$error":"#REF!"},{"$error":"#REF!"},{"$error":"#REF!"},{"$error":"#REF!"},{"$error":"#REF!"},{"$error":"#REF!"},{"$error":"#REF!"},{"$error":"#REF!"},{"$error":"#REF!"},{"$error":"#REF!"},{"$error":"#REF!"},{"$error":"#REF!"},{"$error":"#REF!"},{"$error":"#REF!"},{"$error":"#REF!"},{"$error":"#REF!"},{"$error":"#REF!"},{"$error":"#REF!"},{"$error":"#REF!"},{"$error":"#REF!"},{"$error":"#REF!"},{"$error":"#REF!"},{"$error":"#REF!"},{"$error":"#REF!"},{"$error":"#REF!"},{"$error":"#REF!"},{"$error":"#REF!"},{"$error":"#REF!"},{"$error":"#REF!"},{"$error":"#REF!"},{"$error":"#REF!"},{"$error":"#REF!"},{"$error":"#REF!"},{"$error":"#REF!"},{"$error":"#REF!"},{"$error":"#REF!"},{"$error":"#REF!"},{"$error":"#REF!"},{"$error":"#REF!"},{"$error":"#REF!"},{"$error":"#REF!"},{"$error":"#REF!"},{"$error":"#REF!"}]
[105,"Lawn PS","North","1FE - only pre-con work",19663,19663,{"$error":"#REF!"},{"$error":"#REF!"},{"$error":"#REF!"},{"$error":"#REF!"},{"$error":"#REF!"},{"$error":"#REF!"},{"$error":"#REF!"},{"$error":"#REF!"},{"$error":"#REF!"},{"$error":"#REF!"},{"$error":"#REF!"},{"$error":"#REF!"},{"$error":"#REF!"},{"$error":"#REF!"},{"$error":"#REF!"},{"$error":"#REF!"},{"$error":"#REF!"},{"$error":"#REF!"},{"$error":"#REF!"},{"$error":"#REF!"},{"$error":"#REF!"},{"$error":"#REF!"},{"$error":"#REF!"},{"$error":"#REF!"},{"$error":"#REF!"},{"$error":"#REF!"},{"$error":"#REF!"},{"$error":"#REF!"},{"$error":"#REF!"},{"$error":"#REF!"},{"$error":"#REF!"},{"$error":"#REF!"},{"$error":"#REF!"},{"$error":"#REF!"},{"$error":"#REF!"},{"$error":"#REF!"},{"$error":"#REF!"},{"$error":"#REF!"},{"$error":"#REF!"},{"$error":"#REF!"},{"$error":"#REF!"},{"$error":"#REF!"},{"$error":"#REF!"},{"$error":"#REF!"},{"$error":"#REF!"},{"$error":"#REF!"},{"$error":"#REF!"},{"$error":"#REF!"},{"$error":"#REF!"},{"$error":"#REF!"},{"$error":"#REF!"},{"$error":"#REF!"},{"$error":"#REF!"},{"$error":"#REF!"},{"$error":"#REF!"},{"$error":"#REF!"},{"$error":"#REF!"},{"$error":"#REF!"},{"$error":"#REF!"},{"$error":"#REF!"},{"$error":"#REF!"},{"$error":"#REF!"},{"$error":"#REF!"},{"$error":"#REF!"},{"$error":"#REF!"},{"$error":"#REF!"},{"$error":"#REF!"},{"$error":"#REF!"},{"$error":"#REF!"},{"$error":"#REF!"},{"$error":"#REF!"},{"$error":"#REF!"},{"$error":"#REF!"},{"$error":"#REF!"},{"$error":"#REF!"},{"$error":"#REF!"},{"$error":"#REF!"},{"$error":"#REF!"},{"$error":"#REF!"},{"$error":"#REF!"},{"$error":"#REF!"}]
[106,"Dunton Green PS","North","1FE - only pre-con work",81121,81121,{"$error":"#REF!"},{"$error":"#REF!"},{"$error":"#REF!"},{"$error":"#REF!"},{"$error":"#REF!"},{"$error":"#REF!"},{"$error":"#REF!"},{"$error":"#REF!"},{"$error":"#REF!"},{"$error":"#REF!"},{"$error":"#REF!"},{"$error":"#REF!"},{"$error":"#REF!"},{"$error":"#REF!"},{"$error":"#REF!"},{"$error":"#REF!"},{"$error":"#REF!"},{"$error":"#REF!"},{"$error":"#REF!"},{"$error":"#REF!"},{"$error":"#REF!"},{"$error":"#REF!"},{"$error":"#REF!"},{"$error":"#REF!"},{"$error":"#REF!"},{"$error":"#REF!"},{"$error":"#REF!"},{"$error":"#REF!"},{"$error":"#REF!"},{"$error":"#REF!"},{"$error":"#REF!"},{"$error":"#REF!"},{"$error":"#REF!"},{"$error":"#REF!"},{"$error":"#REF!"},{"$error":"#REF!"},{"$error":"#REF!"},{"$error":"#REF!"},{"$error":"#REF!"},{"$error":"#REF!"},{"$error":"#REF!"},{"$error":"#REF!"},{"$error":"#REF!"},{"$error":"#REF!"},{"$error":"#REF!"},{"$error":"#REF!"},{"$error":"#REF!"},{"$error":"#REF!"},{"$error":"#REF!"},{"$error":"#REF!"},{"$error":"#REF!"},{"$error":"#REF!"},{"$error":"#REF!"},{"$error":"#REF!"},{"$error":"#REF!"},{"$error":"#REF!"},{"$error":"#REF!"},{"$error":"#REF!"},{"$error":"#REF!"},{"$error":"#REF!"},{"$error":"#REF!"},{"$error":"#REF!"},{"$error":"#REF!"},{"$error":"#REF!"},{"$error":"#REF!"},{"$error":"#REF!"},{"$error":"#REF!"},{"$error":"#REF!"},{"$error":"#REF!"},{"$error":"#REF!"},{"$error":"#REF!"},{"$error":"#REF!"},{"$error":"#REF!"},{"$error":"#REF!"},{"$error":"#REF!"},{"$error":"#REF!"},{"$error":"#REF!"},{"$error":"#REF!"},{"$error":"#REF!"},{"$error":"#REF!"},{"$error":"#REF!"}]
[107,"Copperfield Academy","North","1FE - only pre-con work",53655,53655,{"$error":"#REF!"},{"$error":"#REF!"},{"$error":"#REF!"},{"$error":"#REF!"},{"$error":"#REF!"},{"$error":"#REF!"},{"$error":"#REF!"},{"$error":"#REF!"},{"$error":"#REF!"},{"$error":"#REF!"},{"$error":"#REF!"},{"$error":"#REF!"},{"$error":"#REF!"},{"$error":"#REF!"},{"$error":"#REF!"},{"$error":"#REF!"},{"$error":"#REF!"},{"$error":"#REF!"},{"$error":"#REF!"},{"$error":"#REF!"},{"$error":"#REF!"},{"$error":"#REF!"},{"$error":"#REF!"},{"$error":"#REF!"},{"$error":"#REF!"},{"$error":"#REF!"},{"$error":"#REF!"},{"$error":"#REF!"},{"$error":"#REF!"},{"$error":"#REF!"},{"$error":"#REF!"},{"$error":"#REF!"},{"$error":"#REF!"},{"$error":"#REF!"},{"$error":"#REF!"},{"$error":"#REF!"},{"$error":"#REF!"},{"$error":"#REF!"},{"$error":"#REF!"},{"$error":"#REF!"},{"$error":"#REF!"},{"$error":"#REF!"},{"$error":"#REF!"},{"$error":"#REF!"},{"$error":"#REF!"},{"$error":"#REF!"},{"$error":"#REF!"},{"$error":"#REF!"},{"$error":"#REF!"},{"$error":"#REF!"},{"$error":"#REF!"},{"$error":"#REF!"},{"$error":"#REF!"},{"$error":"#REF!"},{"$error":"#REF!"},{"$error":"#REF!"},{"$error":"#REF!"},{"$error":"#REF!"},{"$error":"#REF!"},{"$error":"#REF!"},{"$error":"#REF!"},{"$error":"#REF!"},{"$error":"#REF!"},{"$error":"#REF!"},{"$error":"#REF!"},{"$error":"#REF!"},{"$error":"#REF!"},{"$error":"#REF!"},{"$error":"#REF!"},{"$error":"#REF!"},{"$error":"#REF!"},{"$error":"#REF!"},{"$error":"#REF!"},{"$error":"#REF!"},{"$error":"#REF!"},{"$error":"#REF!"},{"$error":"#REF!"},{"$error":"#REF!"},{"$error":"#REF!"},{"$error":"#REF!"},{"$error":"#REF!"}]
[108,"Deal Parochial PS","South","Bulge class",15700,15700,{"$error":"#REF!"},{"$error":"#REF!"},{"$error":"#REF!"},{"$error":"#REF!"},{"$error":"#REF!"},{"$error":"#REF!"},{"$error":"#REF!"},{"$error":"#REF!"},{"$error":"#REF!"},{"$error":"#REF!"},{"$error":"#REF!"},{"$error":"#REF!"},{"$error":"#REF!"},{"$error":"#REF!"},{"$error":"#REF!"},{"$error":"#REF!"},{"$error":"#REF!"},{"$error":"#REF!"},{"$error":"#REF!"},{"$error":"#REF!"},{"$error":"#REF!"},{"$error":"#REF!"},{"$error":"#REF!"},{"$error":"#REF!"},{"$error":"#REF!"},{"$error":"#REF!"},{"$error":"#REF!"},{"$error":"#REF!"},{"$error":"#REF!"},{"$error":"#REF!"},{"$error":"#REF!"},{"$error":"#REF!"},{"$error":"#REF!"},{"$error":"#REF!"},{"$error":"#REF!"},{"$error":"#REF!"},{"$error":"#REF!"},{"$error":"#REF!"},{"$error":"#REF!"},{"$error":"#REF!"},{"$error":"#REF!"},{"$error":"#REF!"},{"$error":"#REF!"},{"$error":"#REF!"},{"$error":"#REF!"},{"$error":"#REF!"},{"$error":"#REF!"},{"$error":"#REF!"},{"$error":"#REF!"},{"$error":"#REF!"},{"$error":"#REF!"},{"$error":"#REF!"},{"$error":"#REF!"},{"$error":"#REF!"},{"$error":"#REF!"},{"$error":"#REF!"},{"$error":"#REF!"},{"$error":"#REF!"},{"$error":"#REF!"},{"$error":"#REF!"},{"$error":"#REF!"},{"$error":"#REF!"},{"$error":"#REF!"},{"$error":"#REF!"},{"$error":"#REF!"},{"$error":"#REF!"},{"$error":"#REF!"},{"$error":"#REF!"},{"$error":"#REF!"},{"$error":"#REF!"},{"$error":"#REF!"},{"$error":"#REF!"},{"$error":"#REF!"},{"$error":"#REF!"},{"$error":"#REF!"},{"$error":"#REF!"},{"$error":"#REF!"},{"$error":"#REF!"},{"$error":"#REF!"},{"$error":"#REF!"},{"$error":"#REF!"}]
[109,"Marden PS","West","Expansion to 2FE",1400000,1440871,{"$error":"#REF!"},{"$error":"#REF!"},{"$error":"#REF!"},{"$error":"#REF!"},{"$error":"#REF!"},{"$error":"#REF!"},{"$error":"#REF!"},{"$error":"#REF!"},{"$error":"#REF!"},{"$error":"#REF!"},{"$error":"#REF!"},{"$error":"#REF!"},{"$error":"#REF!"},{"$error":"#REF!"},{"$error":"#REF!"},{"$error":"#REF!"},{"$error":"#REF!"},{"$error":"#REF!"},{"$error":"#REF!"},{"$error":"#REF!"},{"$error":"#REF!"},{"$error":"#REF!"},{"$error":"#REF!"},{"$error":"#REF!"},{"$error":"#REF!"},{"$error":"#REF!"},{"$error":"#REF!"},{"$error":"#REF!"},{"$error":"#REF!"},{"$error":"#REF!"},{"$error":"#REF!"},{"$error":"#REF!"},{"$error":"#REF!"},{"$error":"#REF!"},{"$error":"#REF!"},{"$error":"#REF!"},{"$error":"#REF!"},{"$error":"#REF!"},{"$error":"#REF!"},{"$error":"#REF!"},{"$error":"#REF!"},{"$error":"#REF!"},{"$error":"#REF!"},{"$error":"#REF!"},{"$error":"#REF!"},{"$error":"#REF!"},{"$error":"#REF!"},{"$error":"#REF!"},{"$error":"#REF!"},{"$error":"#REF!"},{"$error":"#REF!"},{"$error":"#REF!"},{"$error":"#REF!"},{"$error":"#REF!"},{"$error":"#REF!"},{"$error":"#REF!"},{"$error":"#REF!"},{"$error":"#REF!"},{"$error":"#REF!"},{"$error":"#REF!"},{"$error":"#REF!"},{"$error":"#REF!"},{"$error":"#REF!"},{"$error":"#REF!"},{"$error":"#REF!"},{"$error":"#REF!"},{"$error":"#REF!"},{"$error":"#REF!"},{"$error":"#REF!"},{"$error":"#REF!"},{"$error":"#REF!"},{"$error":"#REF!"},{"$error":"#REF!"},{"$error":"#REF!"},{"$error":"#REF!"},{"$error":"#REF!"},{"$error":"#REF!"},{"$error":"#REF!"},{"$error":"#REF!"},{"$error":"#REF!"},{"$error":"#REF!"}]
[110,"Lady Joanna Thornhill PS","South","Only pre-con work",6434,6434,{"$error":"#REF!"},{"$error":"#REF!"},{"$error":"#REF!"},{"$error":"#REF!"},{"$error":"#REF!"},{"$error":"#REF!"},{"$error":"#REF!"},{"$error":"#REF!"},{"$error":"#REF!"},{"$error":"#REF!"},{"$error":"#REF!"},{"$error":"#REF!"},{"$error":"#REF!"},{"$error":"#REF!"},{"$error":"#REF!"},{"$error":"#REF!"},{"$error":"#REF!"},{"$error":"#REF!"},{"$error":"#REF!"},{"$error":"#REF!"},{"$error":"#REF!"},{"$error":"#REF!"},{"$error":"#REF!"},{"$error":"#REF!"},{"$error":"#REF!"},{"$error":"#REF!"},{"$error":"#REF!"},{"$error":"#REF!"},{"$error":"#REF!"},{"$error":"#REF!"},{"$error":"#REF!"},{"$error":"#REF!"},{"$error":"#REF!"},{"$error":"#REF!"},{"$error":"#REF!"},{"$error":"#REF!"},{"$error":"#REF!"},{"$error":"#REF!"},{"$error":"#REF!"},{"$error":"#REF!"},{"$error":"#REF!"},{"$error":"#REF!"},{"$error":"#REF!"},{"$error":"#REF!"},{"$error":"#REF!"},{"$error":"#REF!"},{"$error":"#REF!"},{"$error":"#REF!"},{"$error":"#REF!"},{"$error":"#REF!"},{"$error":"#REF!"},{"$error":"#REF!"},{"$error":"#REF!"},{"$error":"#REF!"},{"$error":"#REF!"},{"$error":"#REF!"},{"$error":"#REF!"},{"$error":"#REF!"},{"$error":"#REF!"},{"$error":"#REF!"},{"$error":"#REF!"},{"$error":"#REF!"},{"$error":"#REF!"},{"$error":"#REF!"},{"$error":"#REF!"},{"$error":"#REF!"},{"$error":"#REF!"},{"$error":"#REF!"},{"$error":"#REF!"},{"$error":"#REF!"},{"$error":"#REF!"},{"$error":"#REF!"},{"$error":"#REF!"},{"$error":"#REF!"},{"$error":"#REF!"},{"$error":"#REF!"},{"$error":"#REF!"},{"$error":"#REF!"},{"$error":"#REF!"},{"$error":"#REF!"},{"$error":"#REF!"}]
[111,"Sellindge PS","South","3 classroom new block and car park",1400000,1400000,{"$error":"#REF!"},{"$error":"#REF!"},{"$error":"#REF!"},{"$error":"#REF!"},{"$error":"#REF!"},{"$error":"#REF!"},{"$error":"#REF!"},{"$error":"#REF!"},{"$error":"#REF!"},{"$error":"#REF!"},{"$error":"#REF!"},{"$error":"#REF!"},{"$error":"#REF!"},{"$error":"#REF!"},{"$error":"#REF!"},{"$error":"#REF!"},{"$error":"#REF!"},{"$error":"#REF!"},{"$error":"#REF!"},{"$error":"#REF!"},{"$error":"#REF!"},{"$error":"#REF!"},{"$error":"#REF!"},{"$error":"#REF!"},{"$error":"#REF!"},{"$error":"#REF!"},{"$error":"#REF!"},{"$error":"#REF!"},{"$error":"#REF!"},{"$error":"#REF!"},{"$error":"#REF!"},{"$error":"#REF!"},{"$error":"#REF!"},{"$error":"#REF!"},{"$error":"#REF!"},{"$error":"#REF!"},{"$error":"#REF!"},{"$error":"#REF!"},{"$error":"#REF!"},{"$error":"#REF!"},{"$error":"#REF!"},{"$error":"#REF!"},{"$error":"#REF!"},{"$error":"#REF!"},{"$error":"#REF!"},{"$error":"#REF!"},{"$error":"#REF!"},{"$error":"#REF!"},{"$error":"#REF!"},{"$error":"#REF!"},{"$error":"#REF!"},{"$error":"#REF!"},{"$error":"#REF!"},{"$error":"#REF!"},{"$error":"#REF!"},{"$error":"#REF!"},{"$error":"#REF!"},{"$error":"#REF!"},{"$error":"#REF!"},{"$error":"#REF!"},{"$error":"#REF!"},{"$error":"#REF!"},{"$error":"#REF!"},{"$error":"#REF!"},{"$error":"#REF!"},{"$error":"#REF!"},{"$error":"#REF!"},{"$error":"#REF!"},{"$error":"#REF!"},{"$error":"#REF!"},{"$error":"#REF!"},{"$error":"#REF!"},{"$error":"#REF!"},{"$error":"#REF!"},{"$error":"#REF!"},{"$error":"#REF!"},{"$error":"#REF!"},{"$error":"#REF!"},{"$error":"#REF!"},{"$error":"#REF!"},{"$error":"#REF!"}]
[112,"Martello Primary",{"$error":"#N/A"},{"$error":"#N/A"},{"$error":"#N/A"},{"$error":"#N/A"},{"$error":"#N/A"},{"$error":"#N/A"},{"$error":"#N/A"},{"$error":"#N/A"},{"$error":"#N/A"},{"$error":"#N/A"},{"$error":"#N/A"},{"$error":"#N/A"},{"$error":"#N/A"},{"$error":"#N/A"},{"$error":"#N/A"},{"$error":"#N/A"},{"$error":"#N/A"},{"$error":"#N/A"},{"$error":"#N/A"},{"$error":"#N/A"},{"$error":"#N/A"},{"$error":"#N/A"},{"$error":"#N/A"},{"$error":"#N/A"},{"$error":"#N/A"},{"$error":"#N/A"},{"$error":"#N/A"},{"$error":"#N/A"},{"$error":"#N/A"},{"$error":"#N/A"},{"$error":"#N/A"},{"$error":"#N/A"},{"$error":"#N/A"},{"$error":"#N/A"},{"$error":"#N/A"},{"$error":"#N/A"},{"$error":"#N/A"},{"$error":"#N/A"},{"$error":"#N/A"},{"$error":"#N/A"},{"$error":"#N/A"},{"$error":"#N/A"},{"$error":"#N/A"},{"$error":"#N/A"},{"$error":"#N/A"},{"$error":"#N/A"},{"$error":"#N/A"},{"$error":"#N/A"},{"$error":"#N/A"},{"$error":"#N/A"},{"$error":"#N/A"},{"$error":"#N/A"},{"$error":"#N/A"},{"$error":"#N/A"},{"$error":"#N/A"},{"$error":"#N/A"},{"$error":"#N/A"},{"$error":"#N/A"},{"$error":"#N/A"},{"$error":"#N/A"},{"$error":"#N/A"},{"$error":"#N/A"},{"$error":"#N/A"},{"$error":"#N/A"},{"$error":"#N/A"},{"$error":"#N/A"},{"$error":"#N/A"},{"$error":"#N/A"},{"$error":"#N/A"},{"$error":"#N/A"},{"$error":"#N/A"},{"$error":"#N/A"},{"$error":"#N/A"},{"$error":"#N/A"},{"$error":"#N/A"},{"$error":"#N/A"},{"$error":"#N/A"},{"$error":"#N/A"},{"$error":"#N/A"},{"$error":"#N/A"},{"$error":"#N/A"},{"$error":"#N/A"},{"$error":"#N/A"},{"$error":"#N/A"},{"$error":"#N/A"}]
[113,"Brockhill Park",{"$error":"#N/A"},{"$error":"#N/A"},{"$error":"#N/A"},{"$error":"#N/A"},{"$error":"#N/A"},{"$error":"#N/A"},{"$error":"#N/A"},{"$error":"#N/A"},{"$error":"#N/A"},{"$error":"#N/A"},{"$error":"#N/A"},{"$error":"#N/A"},{"$error":"#N/A"},{"$error":"#N/A"},{"$error":"#N/A"},{"$error":"#N/A"},{"$error":"#N/A"},{"$error":"#N/A"},{"$error":"#N/A"},{"$error":"#N/A"},{"$error":"#N/A"},{"$error":"#N/A"},{"$error":"#N/A"},{"$error":"#N/A"},{"$error":"#N/A"},{"$error":"#N/A"},{"$error":"#N/A"},{"$error":"#N/A"},{"$error":"#N/A"},{"$error":"#N/A"},{"$error":"#N/A"},{"$error":"#N/A"},{"$error":"#N/A"},{"$error":"#N/A"},{"$error":"#N/A"},{"$error":"#N/A"},{"$error":"#N/A"},{"$error":"#N/A"},{"$error":"#N/A"},{"$error":"#N/A"},{"$error":"#N/A"},{"$error":"#N/A"},{"$error":"#N/A"},{"$error":"#N/A"},{"$error":"#N/A"},{"$error":"#N/A"},{"$error":"#N/A"},{"$error":"#N/A"},{"$error":"#N/A"},{"$error":"#N/A"},{"$error":"#N/A"},{"$error":"#N/A"},{"$error":"#N/A"},{"$error":"#N/A"},{"$error":"#N/A"},{"$error":"#N/A"},{"$error":"#N/A"},{"$error":"#N/A"},{"$error":"#N/A"},{"$error":"#N/A"},{"$error":"#N/A"},{"$error":"#N/A"},{"$error":"#N/A"},{"$error":"#N/A"},{"$error":"#N/A"},{"$error":"#N/A"},{"$error":"#N/A"},{"$error":"#N/A"},{"$error":"#N/A"},{"$error":"#N/A"},{"$error":"#N/A"},{"$error":"#N/A"},{"$error":"#N/A"},{"$error":"#N/A"},{"$error":"#N/A"},{"$error":"#N/A"},{"$error":"#N/A"},{"$error":"#N/A"},{"$error":"#N/A"},{"$error":"#N/A"},{"$error":"#N/A"},{"$error":"#N/A"},{"$error":"#N/A"},{"$error":"#N/A"},{"$error":"#N/A"}]
[114,"Bromstone Primary",{"$error":"#N/A"},{"$error":"#N/A"},{"$error":"#N/A"},{"$error":"#N/A"},{"$error":"#N/A"},{"$error":"#N/A"},{"$error":"#N/A"},{"$error":"#N/A"},{"$error":"#N/A"},{"$error":"#N/A"},{"$error":"#N/A"},{"$error":"#N/A"},{"$error":"#N/A"},{"$error":"#N/A"},{"$error":"#N/A"},{"$error":"#N/A"},{"$error":"#N/A"},{"$error":"#N/A"},{"$error":"#N/A"},{"$error":"#N/A"},{"$error":"#N/A"},{"$error":"#N/A"},{"$error":"#N/A"},{"$error":"#N/A"},{"$error":"#N/A"},{"$error":"#N/A"},{"$error":"#N/A"},{"$error":"#N/A"},{"$error":"#N/A"},{"$error":"#N/A"},{"$error":"#N/A"},{"$error":"#N/A"},{"$error":"#N/A"},{"$error":"#N/A"},{"$error":"#N/A"},{"$error":"#N/A"},{"$error":"#N/A"},{"$error":"#N/A"},{"$error":"#N/A"},{"$error":"#N/A"},{"$error":"#N/A"},{"$error":"#N/A"},{"$error":"#N/A"},{"$error":"#N/A"},{"$error":"#N/A"},{"$error":"#N/A"},{"$error":"#N/A"},{"$error":"#N/A"},{"$error":"#N/A"},{"$error":"#N/A"},{"$error":"#N/A"},{"$error":"#N/A"},{"$error":"#N/A"},{"$error":"#N/A"},{"$error":"#N/A"},{"$error":"#N/A"},{"$error":"#N/A"},{"$error":"#N/A"},{"$error":"#N/A"},{"$error":"#N/A"},{"$error":"#N/A"},{"$error":"#N/A"},{"$error":"#N/A"},{"$error":"#N/A"},{"$error":"#N/A"},{"$error":"#N/A"},{"$error":"#N/A"},{"$error":"#N/A"},{"$error":"#N/A"},{"$error":"#N/A"},{"$error":"#N/A"},{"$error":"#N/A"},{"$error":"#N/A"},{"$error":"#N/A"},{"$error":"#N/A"},{"$error":"#N/A"},{"$error":"#N/A"},{"$error":"#N/A"},{"$error":"#N/A"},{"$error":"#N/A"},{"$error":"#N/A"},{"$error":"#N/A"},{"$error":"#N/A"},{"$error":"#N/A"},{"$error":"#N/A"}]
[115,"Churchill C",{"$error":"#N/A"},{"$error":"#N/A"},{"$error":"#N/A"},{"$error":"#N/A"},{"$error":"#N/A"},{"$error":"#N/A"},{"$error":"#N/A"},{"$error":"#N/A"},{"$error":"#N/A"},{"$error":"#N/A"},{"$error":"#N/A"},{"$error":"#N/A"},{"$error":"#N/A"},{"$error":"#N/A"},{"$error":"#N/A"},{"$error":"#N/A"},{"$error":"#N/A"},{"$error":"#N/A"},{"$error":"#N/A"},{"$error":"#N/A"},{"$error":"#N/A"},{"$error":"#N/A"},{"$error":"#N/A"},{"$error":"#N/A"},{"$error":"#N/A"},{"$error":"#N/A"},{"$error":"#N/A"},{"$error":"#N/A"},{"$error":"#N/A"},{"$error":"#N/A"},{"$error":"#N/A"},{"$error":"#N/A"},{"$error":"#N/A"},{"$error":"#N/A"},{"$error":"#N/A"},{"$error":"#N/A"},{"$error":"#N/A"},{"$error":"#N/A"},{"$error":"#N/A"},{"$error":"#N/A"},{"$error":"#N/A"},{"$error":"#N/A"},{"$error":"#N/A"},{"$error":"#N/A"},{"$error":"#N/A"},{"$error":"#N/A"},{"$error":"#N/A"},{"$error":"#N/A"},{"$error":"#N/A"},{"$error":"#N/A"},{"$error":"#N/A"},{"$error":"#N/A"},{"$error":"#N/A"},{"$error":"#N/A"},{"$error":"#N/A"},{"$error":"#N/A"},{"$error":"#N/A"},{"$error":"#N/A"},{"$error":"#N/A"},{"$error":"#N/A"},{"$error":"#N/A"},{"$error":"#N/A"},{"$error":"#N/A"},{"$error":"#N/A"},{"$error":"#N/A"},{"$error":"#N/A"},{"$error":"#N/A"},{"$error":"#N/A"},{"$error":"#N/A"},{"$error":"#N/A"},{"$error":"#N/A"},{"$error":"#N/A"},{"$error":"#N/A"},{"$error":"#N/A"},{"$error":"#N/A"},{"$error":"#N/A"},{"$error":"#N/A"},{"$error":"#N/A"},{"$error":"#N/A"},{"$error":"#N/A"},{"$error":"#N/A"},{"$error":"#N/A"},{"$error":"#N/A"},{"$error":"#N/A"},{"$error":"#N/A"}]
[116,"Former Ashford",{"$error":"#N/A"},{"$error":"#N/A"},{"$error":"#N/A"},{"$error":"#N/A"},{"$error":"#N/A"},{"$error":"#N/A"},{"$error":"#N/A"},{"$error":"#N/A"},{"$error":"#N/A"},{"$error":"#N/A"},{"$error":"#N/A"},{"$error":"#N/A"},{"$error":"#N/A"},{"$error":"#N/A"},{"$error":"#N/A"},{"$error":"#N/A"},{"$error":"#N/A"},{"$error":"#N/A"},{"$error":"#N/A"},{"$error":"#N/A"},{"$error":"#N/A"},{"$error":"#N/A"},{"$error":"#N/A"},{"$error":"#N/A"},{"$error":"#N/A"},{"$error":"#N/A"},{"$error":"#N/A"},{"$error":"#N/A"},{"$error":"#N/A"},{"$error":"#N/A"},{"$error":"#N/A"},{"$error":"#N/A"},{"$error":"#N/A"},{"$error":"#N/A"},{"$error":"#N/A"},{"$error":"#N/A"},{"$error":"#N/A"},{"$error":"#N/A"},{"$error":"#N/A"},{"$error":"#N/A"},{"$error":"#N/A"},{"$error":"#N/A"},{"$error":"#N/A"},{"$error":"#N/A"},{"$error":"#N/A"},{"$error":"#N/A"},{"$error":"#N/A"},{"$error":"#N/A"},{"$error":"#N/A"},{"$error":"#N/A"},{"$error":"#N/A"},{"$error":"#N/A"},{"$error":"#N/A"},{"$error":"#N/A"},{"$error":"#N/A"},{"$error":"#N/A"},{"$error":"#N/A"},{"$error":"#N/A"},{"$error":"#N/A"},{"$error":"#N/A"},{"$error":"#N/A"},{"$error":"#N/A"},{"$error":"#N/A"},{"$error":"#N/A"},{"$error":"#N/A"},{"$error":"#N/A"},{"$error":"#N/A"},{"$error":"#N/A"},{"$error":"#N/A"},{"$error":"#N/A"},{"$error":"#N/A"},{"$error":"#N/A"},{"$error":"#N/A"},{"$error":"#N/A"},{"$error":"#N/A"},{"$error":"#N/A"},{"$error":"#N/A"},{"$error":"#N/A"},{"$error":"#N/A"},{"$error":"#N/A"},{"$error":"#N/A"},{"$error":"#N/A"},{"$error":"#N/A"},{"$error":"#N/A"},{"$error":"#N/A"}]
[117,"Hextable Primary",{"$error":"#N/A"},{"$error":"#N/A"},{"$error":"#N/A"},{"$error":"#N/A"},{"$error":"#N/A"},{"$error":"#N/A"},{"$error":"#N/A"},{"$error":"#N/A"},{"$error":"#N/A"},{"$error":"#N/A"},{"$error":"#N/A"},{"$error":"#N/A"},{"$error":"#N/A"},{"$error":"#N/A"},{"$error":"#N/A"},{"$error":"#N/A"},{"$error":"#N/A"},{"$error":"#N/A"},{"$error":"#N/A"},{"$error":"#N/A"},{"$error":"#N/A"},{"$error":"#N/A"},{"$error":"#N/A"},{"$error":"#N/A"},{"$error":"#N/A"},{"$error":"#N/A"},{"$error":"#N/A"},{"$error":"#N/A"},{"$error":"#N/A"},{"$error":"#N/A"},{"$error":"#N/A"},{"$error":"#N/A"},{"$error":"#N/A"},{"$error":"#N/A"},{"$error":"#N/A"},{"$error":"#N/A"},{"$error":"#N/A"},{"$error":"#N/A"},{"$error":"#N/A"},{"$error":"#N/A"},{"$error":"#N/A"},{"$error":"#N/A"},{"$error":"#N/A"},{"$error":"#N/A"},{"$error":"#N/A"},{"$error":"#N/A"},{"$error":"#N/A"},{"$error":"#N/A"},{"$error":"#N/A"},{"$error":"#N/A"},{"$error":"#N/A"},{"$error":"#N/A"},{"$error":"#N/A"},{"$error":"#N/A"},{"$error":"#N/A"},{"$error":"#N/A"},{"$error":"#N/A"},{"$error":"#N/A"},{"$error":"#N/A"},{"$error":"#N/A"},{"$error":"#N/A"},{"$error":"#N/A"},{"$error":"#N/A"},{"$error":"#N/A"},{"$error":"#N/A"},{"$error":"#N/A"},{"$error":"#N/A"},{"$error":"#N/A"},{"$error":"#N/A"},{"$error":"#N/A"},{"$error":"#N/A"},{"$error":"#N/A"},{"$error":"#N/A"},{"$error":"#N/A"},{"$error":"#N/A"},{"$error":"#N/A"},{"$error":"#N/A"},{"$error":"#N/A"},{"$error":"#N/A"},{"$error":"#N/A"},{"$error":"#N/A"},{"$error":"#N/A"},{"$error":"#N/A"},{"$error":"#N/A"},{"$error":"#N/A"}]
[118,"Langley Park",{"$error":"#N/A"},{"$error":"#N/A"},{"$error":"#N/A"},{"$error":"#N/A"},{"$error":"#N/A"},{"$error":"#N/A"},{"$error":"#N/A"},{"$error":"#N/A"},{"$error":"#N/A"},{"$error":"#N/A"},{"$error":"#N/A"},{"$error":"#N/A"},{"$error":"#N/A"},{"$error":"#N/A"},{"$error":"#N/A"},{"$error":"#N/A"},{"$error":"#N/A"},{"$error":"#N/A"},{"$error":"#N/A"},{"$error":"#N/A"},{"$error":"#N/A"},{"$error":"#N/A"},{"$error":"#N/A"},{"$error":"#N/A"},{"$error":"#N/A"},{"$error":"#N/A"},{"$error":"#N/A"},{"$error":"#N/A"},{"$error":"#N/A"},{"$error":"#N/A"},{"$error":"#N/A"},{"$error":"#N/A"},{"$error":"#N/A"},{"$error":"#N/A"},{"$error":"#N/A"},{"$error":"#N/A"},{"$error":"#N/A"},{"$error":"#N/A"},{"$error":"#N/A"},{"$error":"#N/A"},{"$error":"#N/A"},{"$error":"#N/A"},{"$error":"#N/A"},{"$error":"#N/A"},{"$error":"#N/A"},{"$error":"#N/A"},{"$error":"#N/A"},{"$error":"#N/A"},{"$error":"#N/A"},{"$error":"#N/A"},{"$error":"#N/A"},{"$error":"#N/A"},{"$error":"#N/A"},{"$error":"#N/A"},{"$error":"#N/A"},{"$error":"#N/A"},{"$error":"#N/A"},{"$error":"#N/A"},{"$error":"#N/A"},{"$error":"#N/A"},{"$error":"#N/A"},{"$error":"#N/A"},{"$error":"#N/A"},{"$error":"#N/A"},{"$error":"#N/A"},{"$error":"#N/A"},{"$error":"#N/A"},{"$error":"#N/A"},{"$error":"#N/A"},{"$error":"#N/A"},{"$error":"#N/A"},{"$error":"#N/A"},{"$error":"#N/A"},{"$error":"#N/A"},{"$error":"#N/A"},{"$error":"#N/A"},{"$error":"#N/A"},{"$error":"#N/A"},{"$error":"#N/A"},{"$error":"#N/A"},{"$error":"#N/A"},{"$error":"#N/A"},{"$error":"#N/A"},{"$error":"#N/A"},{"$error":"#N/A"}]
[119,"Lansdowne Primary",{"$error":"#N/A"},{"$error":"#N/A"},{"$error":"#N/A"},{"$error":"#N/A"},{"$error":"#N/A"},{"$error":"#N/A"},{"$error":"#N/A"},{"$error":"#N/A"},{"$error":"#N/A"},{"$error":"#N/A"},{"$error":"#N/A"},{"$error":"#N/A"},{"$error":"#N/A"},{"$error":"#N/A"},{"$error":"#N/A"},{"$error":"#N/A"},{"$error":"#N/A"},{"$error":"#N/A"},{"$error":"#N/A"},{"$error":"#N/A"},{"$error":"#N/A"},{"$error":"#N/A"},{"$error":"#N/A"},{"$error":"#N/A"},{"$error":"#N/A"},{"$error":"#N/A"},{"$error":"#N/A"},{"$error":"#N/A"},{"$error":"#N/A"},{"$error":"#N/A"},{"$error":"#N/A"},{"$error":"#N/A"},{"$error":"#N/A"},{"$error":"#N/A"},{"$error":"#N/A"},{"$error":"#N/A"},{"$error":"#N/A"},{"$error":"#N/A"},{"$error":"#N/A"},{"$error":"#N/A"},{"$error":"#N/A"},{"$error":"#N/A"},{"$error":"#N/A"},{"$error":"#N/A"},{"$error":"#N/A"},{"$error":"#N/A"},{"$error":"#N/A"},{"$error":"#N/A"},{"$error":"#N/A"},{"$error":"#N/A"},{"$error":"#N/A"},{"$error":"#N/A"},{"$error":"#N/A"},{"$error":"#N/A"},{"$error":"#N/A"},{"$error":"#N/A"},{"$error":"#N/A"},{"$error":"#N/A"},{"$error":"#N/A"},{"$error":"#N/A"},{"$error":"#N/A"},{"$error":"#N/A"},{"$error":"#N/A"},{"$error":"#N/A"},{"$error":"#N/A"},{"$error":"#N/A"},{"$error":"#N/A"},{"$error":"#N/A"},{"$error":"#N/A"},{"$error":"#N/A"},{"$error":"#N/A"},{"$error":"#N/A"},{"$error":"#N/A"},{"$error":"#N/A"},{"$error":"#N/A"},{"$error":"#N/A"},{"$error":"#N/A"},{"$error":"#N/A"},{"$error":"#N/A"},{"$error":"#N/A"},{"$error":"#N/A"},{"$error":"#N/A"},{"$error":"#N/A"},{"$error":"#N/A"},{"$error":"#N/A"}]
[120,"Maidstone St",{"$error":"#N/A"},{"$error":"#N/A"},{"$error":"#N/A"},{"$error":"#N/A"},{"$error":"#N/A"},{"$error":"#N/A"},{"$error":"#N/A"},{"$error":"#N/A"},{"$error":"#N/A"},{"$error":"#N/A"},{"$error":"#N/A"},{"$error":"#N/A"},{"$error":"#N/A"},{"$error":"#N/A"},{"$error":"#N/A"},{"$error":"#N/A"},{"$error":"#N/A"},{"$error":"#N/A"},{"$error":"#N/A"},{"$error":"#N/A"},{"$error":"#N/A"},{"$error":"#N/A"},{"$error":"#N/A"},{"$error":"#N/A"},{"$error":"#N/A"},{"$error":"#N/A"},{"$error":"#N/A"},{"$error":"#N/A"},{"$error":"#N/A"},{"$error":"#N/A"},{"$error":"#N/A"},{"$error":"#N/A"},{"$error":"#N/A"},{"$error":"#N/A"},{"$error":"#N/A"},{"$error":"#N/A"},{"$error":"#N/A"},{"$error":"#N/A"},{"$error":"#N/A"},{"$error":"#N/A"},{"$error":"#N/A"},{"$error":"#N/A"},{"$error":"#N/A"},{"$error":"#N/A"},{"$error":"#N/A"},{"$error":"#N/A"},{"$error":"#N/A"},{"$error":"#N/A"},{"$error":"#N/A"},{"$error":"#N/A"},{"$error":"#N/A"},{"$error":"#N/A"},{"$error":"#N/A"},{"$error":"#N/A"},{"$error":"#N/A"},{"$error":"#N/A"},{"$error":"#N/A"},{"$error":"#N/A"},{"$error":"#N/A"},{"$error":"#N/A"},{"$error":"#N/A"},{"$error":"#N/A"},{"$error":"#N/A"},{"$error":"#N/A"},{"$error":"#N/A"},{"$error":"#N/A"},{"$error":"#N/A"},{"$error":"#N/A"},{"$error":"#N/A"},{"$error":"#N/A"},{"$error":"#N/A"},{"$error":"#N/A"},{"$error":"#N/A"},{"$error":"#N/A"},{"$error":"#N/A"},{"$error":"#N/A"},{"$error":"#N/A"},{"$error":"#N/A"},{"$error":"#N/A"},{"$error":"#N/A"},{"$error":"#N/A"},{"$error":"#N/A"},{"$error":"#N/A"},{"$error":"#N/A"},{"$error":"#N/A"}]
[121,"Minster in",{"$error":"#N/A"},{"$error":"#N/A"},{"$error":"#N/A"},{"$error":"#N/A"},{"$error":"#N/A"},{"$error":"#N/A"},{"$error":"#N/A"},{"$error":"#N/A"},{"$error":"#N/A"},{"$error":"#N/A"},{"$error":"#N/A"},{"$error":"#N/A"},{"$error":"#N/A"},{"$error":"#N/A"},{"$error":"#N/A"},{"$error":"#N/A"},{"$error":"#N/A"},{"$error":"#N/A"},{"$error":"#N/A"},{"$error":"#N/A"},{"$error":"#N/A"},{"$error":"#N/A"},{"$error":"#N/A"},{"$error":"#N/A"},{"$error":"#N/A"},{"$error":"#N/A"},{"$error":"#N/A"},{"$error":"#N/A"},{"$error":"#N/A"},{"$error":"#N/A"},{"$error":"#N/A"},{"$error":"#N/A"},{"$error":"#N/A"},{"$error":"#N/A"},{"$error":"#N/A"},{"$error":"#N/A"},{"$error":"#N/A"},{"$error":"#N/A"},{"$error":"#N/A"},{"$error":"#N/A"},{"$error":"#N/A"},{"$error":"#N/A"},{"$error":"#N/A"},{"$error":"#N/A"},{"$error":"#N/A"},{"$error":"#N/A"},{"$error":"#N/A"},{"$error":"#N/A"},{"$error":"#N/A"},{"$error":"#N/A"},{"$error":"#N/A"},{"$error":"#N/A"},{"$error":"#N/A"},{"$error":"#N/A"},{"$error":"#N/A"},{"$error":"#N/A"},{"$error":"#N/A"},{"$error":"#N/A"},{"$error":"#N/A"},{"$error":"#N/A"},{"$error":"#N/A"},{"$error":"#N/A"},{"$error":"#N/A"},{"$error":"#N/A"},{"$error":"#N/A"},{"$error":"#N/A"},{"$error":"#N/A"},{"$error":"#N/A"},{"$error":"#N/A"},{"$error":"#N/A"},{"$error":"#N/A"},{"$error":"#N/A"},{"$error":"#N/A"},{"$error":"#N/A"},{"$error":"#N/A"},{"$error":"#N/A"},{"$error":"#N/A"},{"$error":"#N/A"},{"$error":"#N/A"},{"$error":"#N/A"},{"$error":"#N/A"},{"$error":"#N/A"},{"$error":"#N/A"},{"$error":"#N/A"},{"$error":"#N/A"}]
[122,"Queenborough School",{"$error":"#N/A"},{"$error":"#N/A"},{"$error":"#N/A"},{"$error":"#N/A"},{"$error":"#N/A"},{"$error":"#N/A"},{"$error":"#N/A"},{"$error":"#N/A"},{"$error":"#N/A"},{"$error":"#N/A"},{"$error":"#N/A"},{"$error":"#N/A"},{"$error":"#N/A"},{"$error":"#N/A"},{"$error":"#N/A"},{"$error":"#N/A"},{"$error":"#N/A"},{"$error":"#N/A"},{"$error":"#N/A"},{"$error":"#N/A"},{"$error":"#N/A"},{"$error":"#N/A"},{"$error":"#N/A"},{"$error":"#N/A"},{"$error":"#N/A"},{"$error":"#N/A"},{"$error":"#N/A"},{"$error":"#N/A"},{"$error":"#N/A"},{"$error":"#N/A"},{"$error":"#N/A"},{"$error":"#N/A"},{"$error":"#N/A"},{"$error":"#N/A"},{"$error":"#N/A"},{"$error":"#N/A"},{"$error":"#N/A"},{"$error":"#N/A"},{"$error":"#N/A"},{"$error":"#N/A"},{"$error":"#N/A"},{"$error":"#N/A"},{"$error":"#N/A"},{"$error":"#N/A"},{"$error":"#N/A"},{"$error":"#N/A"},{"$error":"#N/A"},{"$error":"#N/A"},{"$error":"#N/A"},{"$error":"#N/A"},{"$error":"#N/A"},{"$error":"#N/A"},{"$error":"#N/A"},{"$error":"#N/A"},{"$error":"#N/A"},{"$error":"#N/A"},{"$error":"#N/A"},{"$error":"#N/A"},{"$error":"#N/A"},{"$error":"#N/A"},{"$error":"#N/A"},{"$error":"#N/A"},{"$error":"#N/A"},{"$error":"#N/A"},{"$error":"#N/A"},{"$error":"#N/A"},{"$error":"#N/A"},{"$error":"#N/A"},{"$error":"#N/A"},{"$error":"#N/A"},{"$error":"#N/A"},{"$error":"#N/A"},{"$error":"#N/A"},{"$error":"#N/A"},{"$error":"#N/A"},{"$error":"#N/A"},{"$error":"#N/A"},{"$error":"#N/A"},{"$error":"#N/A"},{"$error":"#N/A"},{"$error":"#N/A"},{"$error":"#N/A"},{"$error":"#N/A"},{"$error":"#N/A"},{"$error":"#N/A"}]
[123,"Repton Manor",{"$error":"#N/A"},{"$error":"#N/A"},{"$error":"#N/A"},{"$error":"#N/A"},{"$error":"#N/A"},{"$error":"#N/A"},{"$error":"#N/A"},{"$error":"#N/A"},{"$error":"#N/A"},{"$error":"#N/A"},{"$error":"#N/A"},{"$error":"#N/A"},{"$error":"#N/A"},{"$error":"#N/A"},{"$error":"#N/A"},{"$error":"#N/A"},{"$error":"#N/A"},{"$error":"#N/A"},{"$error":"#N/A"},{"$error":"#N/A"},{"$error":"#N/A"},{"$error":"#N/A"},{"$error":"#N/A"},{"$error":"#N/A"},{"$error":"#N/A"},{"$error":"#N/A"},{"$error":"#N/A"},{"$error":"#N/A"},{"$error":"#N/A"},{"$error":"#N/A"},{"$error":"#N/A"},{"$error":"#N/A"},{"$error":"#N/A"},{"$error":"#N/A"},{"$error":"#N/A"},{"$error":"#N/A"},{"$error":"#N/A"},{"$error":"#N/A"},{"$error":"#N/A"},{"$error":"#N/A"},{"$error":"#N/A"},{"$error":"#N/A"},{"$error":"#N/A"},{"$error":"#N/A"},{"$error":"#N/A"},{"$error":"#N/A"},{"$error":"#N/A"},{"$error":"#N/A"},{"$error":"#N/A"},{"$error":"#N/A"},{"$error":"#N/A"},{"$error":"#N/A"},{"$error":"#N/A"},{"$error":"#N/A"},{"$error":"#N/A"},{"$error":"#N/A"},{"$error":"#N/A"},{"$error":"#N/A"},{"$error":"#N/A"},{"$error":"#N/A"},{"$error":"#N/A"},{"$error":"#N/A"},{"$error":"#N/A"},{"$error":"#N/A"},{"$error":"#N/A"},{"$error":"#N/A"},{"$error":"#N/A"},{"$error":"#N/A"},{"$error":"#N/A"},{"$error":"#N/A"},{"$error":"#N/A"},{"$error":"#N/A"},{"$error":"#N/A"},{"$error":"#N/A"},{"$error":"#N/A"},{"$error":"#N/A"},{"$error":"#N/A"},{"$error":"#N/A"},{"$error":"#N/A"},{"$error":"#N/A"},{"$error":"#N/A"},{"$error":"#N/A"},{"$error":"#N/A"},{"$error":"#N/A"},{"$error":"#N/A"}]
[124,"Rose Street",{"$error":"#N/A"},{"$error":"#N/A"},{"$error":"#N/A"},{"$error":"#N/A"},{"$error":"#N/A"},{"$error":"#N/A"},{"$error":"#N/A"},{"$error":"#N/A"},{"$error":"#N/A"},{"$error":"#N/A"},{"$error":"#N/A"},{"$error":"#N/A"},{"$error":"#N/A"},{"$error":"#N/A"},{"$error":"#N/A"},{"$error":"#N/A"},{"$error":"#N/A"},{"$error":"#N/A"},{"$error":"#N/A"},{"$error":"#N/A"},{"$error":"#N/A"},{"$error":"#N/A"},{"$error":"#N/A"},{"$error":"#N/A"},{"$error":"#N/A"},{"$error":"#N/A"},{"$error":"#N/A"},{"$error":"#N/A"},{"$error":"#N/A"},{"$error":"#N/A"},{"$error":"#N/A"},{"$error":"#N/A"},{"$error":"#N/A"},{"$error":"#N/A"},{"$error":"#N/A"},{"$error":"#N/A"},{"$error":"#N/A"},{"$error":"#N/A"},{"$error":"#N/A"},{"$error":"#N/A"},{"$error":"#N/A"},{"$error":"#N/A"},{"$error":"#N/A"},{"$error":"#N/A"},{"$error":"#N/A"},{"$error":"#N/A"},{"$error":"#N/A"},{"$error":"#N/A"},{"$error":"#N/A"},{"$error":"#N/A"},{"$error":"#N/A"},{"$error":"#N/A"},{"$error":"#N/A"},{"$error":"#N/A"},{"$error":"#N/A"},{"$error":"#N/A"},{"$error":"#N/A"},{"$error":"#N/A"},{"$error":"#N/A"},{"$error":"#N/A"},{"$error":"#N/A"},{"$error":"#N/A"},{"$error":"#N/A"},{"$error":"#N/A"},{"$error":"#N/A"},{"$error":"#N/A"},{"$error":"#N/A"},{"$error":"#N/A"},{"$error":"#N/A"},{"$error":"#N/A"},{"$error":"#N/A"},{"$error":"#N/A"},{"$error":"#N/A"},{"$error":"#N/A"},{"$error":"#N/A"},{"$error":"#N/A"},{"$error":"#N/A"},{"$error":"#N/A"},{"$error":"#N/A"},{"$error":"#N/A"},{"$error":"#N/A"},{"$error":"#N/A"},{"$error":"#N/A"},{"$error":"#N/A"},{"$error":"#N/A"}]
[125,"Singlewell Primary",{"$error":"#N/A"},{"$error":"#N/A"},{"$error":"#N/A"},{"$error":"#N/A"},{"$error":"#N/A"},{"$error":"#N/A"},{"$error":"#N/A"},{"$error":"#N/A"},{"$error":"#N/A"},{"$error":"#N/A"},{"$error":"#N/A"},{"$error":"#N/A"},{"$error":"#N/A"},{"$error":"#N/A"},{"$error":"#N/A"},{"$error":"#N/A"},{"$error":"#N/A"},{"$error":"#N/A"},{"$error":"#N/A"},{"$error":"#N/A"},{"$error":"#N/A"},{"$error":"#N/A"},{"$error":"#N/A"},{"$error":"#N/A"},{"$error":"#N/A"},{"$error":"#N/A"},{"$error":"#N/A"},{"$error":"#N/A"},{"$error":"#N/A"},{"$error":"#N/A"},{"$error":"#N/A"},{"$error":"#N/A"},{"$error":"#N/A"},{"$error":"#N/A"},{"$error":"#N/A"},{"$error":"#N/A"},{"$error":"#N/A"},{"$error":"#N/A"},{"$error":"#N/A"},{"$error":"#N/A"},{"$error":"#N/A"},{"$error":"#N/A"},{"$error":"#N/A"},{"$error":"#N/A"},{"$error":"#N/A"},{"$error":"#N/A"},{"$error":"#N/A"},{"$error":"#N/A"},{"$error":"#N/A"},{"$error":"#N/A"},{"$error":"#N/A"},{"$error":"#N/A"},{"$error":"#N/A"},{"$error":"#N/A"},{"$error":"#N/A"},{"$error":"#N/A"},{"$error":"#N/A"},{"$error":"#N/A"},{"$error":"#N/A"},{"$error":"#N/A"},{"$error":"#N/A"},{"$error":"#N/A"},{"$error":"#N/A"},{"$error":"#N/A"},{"$error":"#N/A"},{"$error":"#N/A"},{"$error":"#N/A"},{"$error":"#N/A"},{"$error":"#N/A"},{"$error":"#N/A"},{"$error":"#N/A"},{"$error":"#N/A"},{"$error":"#N/A"},{"$error":"#N/A"},{"$error":"#N/A"},{"$error":"#N/A"},{"$error":"#N/A"},{"$error":"#N/A"},{"$error":"#N/A"},{"$error":"#N/A"},{"$error":"#N/A"},{"$error":"#N/A"},{"$error":"#N/A"},{"$error":"#N/A"},{"$error":"#N/A"}]
[126,"Slade Primary",{"$error":"#N/A"},{"$error":"#N/A"},{"$error":"#N/A"},{"$error":"#N/A"},{"$error":"#N/A"},{"$error":"#N/A"},{"$error":"#N/A"},{"$error":"#N/A"},{"$error":"#N/A"},{"$error":"#N/A"},{"$error":"#N/A"},{"$error":"#N/A"},{"$error":"#N/A"},{"$error":"#N/A"},{"$error":"#N/A"},{"$error":"#N/A"},{"$error":"#N/A"},{"$error":"#N/A"},{"$error":"#N/A"},{"$error":"#N/A"},{"$error":"#N/A"},{"$error":"#N/A"},{"$error":"#N/A"},{"$error":"#N/A"},{"$error":"#N/A"},{"$error":"#N/A"},{"$error":"#N/A"},{"$error":"#N/A"},{"$error":"#N/A"},{"$error":"#N/A"},{"$error":"#N/A"},{"$error":"#N/A"},{"$error":"#N/A"},{"$error":"#N/A"},{"$error":"#N/A"},{"$error":"#N/A"},{"$error":"#N/A"},{"$error":"#N/A"},{"$error":"#N/A"},{"$error":"#N/A"},{"$error":"#N/A"},{"$error":"#N/A"},{"$error":"#N/A"},{"$error":"#N/A"},{"$error":"#N/A"},{"$error":"#N/A"},{"$error":"#N/A"},{"$error":"#N/A"},{"$error":"#N/A"},{"$error":"#N/A"},{"$error":"#N/A"},{"$error":"#N/A"},{"$error":"#N/A"},{"$error":"#N/A"},{"$error":"#N/A"},{"$error":"#N/A"},{"$error":"#N/A"},{"$error":"#N/A"},{"$error":"#N/A"},{"$error":"#N/A"},{"$error":"#N/A"},{"$error":"#N/A"},{"$error":"#N/A"},{"$error":"#N/A"},{"$error":"#N/A"},{"$error":"#N/A"},{"$error":"#N/A"},{"$error":"#N/A"},{"$error":"#N/A"},{"$error":"#N/A"},{"$error":"#N/A"},{"$error":"#N/A"},{"$error":"#N/A"},{"$error":"#N/A"},{"$error":"#N/A"},{"$error":"#N/A"},{"$error":"#N/A"},{"$error":"#N/A"},{"$error":"#N/A"},{"$error":"#N/A"},{"$error":"#N/A"},{"$error":"#N/A"},{"$error":"#N/A"},{"$error":"#N/A"},{"$error":"#N/A"}]
[127,"South Borough",{"$error":"#N/A"},{"$error":"#N/A"},{"$error":"#N/A"},{"$error":"#N/A"},{"$error":"#N/A"},{"$error":"#N/A"},{"$error":"#N/A"},{"$error":"#N/A"},{"$error":"#N/A"},{"$error":"#N/A"},{"$error":"#N/A"},{"$error":"#N/A"},{"$error":"#N/A"},{"$error":"#N/A"},{"$error":"#N/A"},{"$error":"#N/A"},{"$error":"#N/A"},{"$error":"#N/A"},{"$error":"#N/A"},{"$error":"#N/A"},{"$error":"#N/A"},{"$error":"#N/A"},{"$error":"#N/A"},{"$error":"#N/A"},{"$error":"#N/A"},{"$error":"#N/A"},{"$error":"#N/A"},{"$error":"#N/A"},{"$error":"#N/A"},{"$error":"#N/A"},{"$error":"#N/A"},{"$error":"#N/A"},{"$error":"#N/A"},{"$error":"#N/A"},{"$error":"#N/A"},{"$error":"#N/A"},{"$error":"#N/A"},{"$error":"#N/A"},{"$error":"#N/A"},{"$error":"#N/A"},{"$error":"#N/A"},{"$error":"#N/A"},{"$error":"#N/A"},{"$error":"#N/A"},{"$error":"#N/A"},{"$error":"#N/A"},{"$error":"#N/A"},{"$error":"#N/A"},{"$error":"#N/A"},{"$error":"#N/A"},{"$error":"#N/A"},{"$error":"#N/A"},{"$error":"#N/A"},{"$error":"#N/A"},{"$error":"#N/A"},{"$error":"#N/A"},{"$error":"#N/A"},{"$error":"#N/A"},{"$error":"#N/A"},{"$error":"#N/A"},{"$error":"#N/A"},{"$error":"#N/A"},{"$error":"#N/A"},{"$error":"#N/A"},{"$error":"#N/A"},{"$error":"#N/A"},{"$error":"#N/A"},{"$error":"#N/A"},{"$error":"#N/A"},{"$error":"#N/A"},{"$error":"#N/A"},{"$error":"#N/A"},{"$error":"#N/A"},{"$error":"#N/A"},{"$error":"#N/A"},{"$error":"#N/A"},{"$error":"#N/A"},{"$error":"#N/A"},{"$error":"#N/A"},{"$error":"#N/A"},{"$error":"#N/A"},{"$error":"#N/A"},{"$error":"#N/A"},{"$error":"#N/A"},{"$error":"#N/A"}]
[128,"St George's",{"$error":"#N/A"},{"$error":"#N/A"},{"$error":"#N/A"},{"$error":"#N/A"},{"$error":"#N/A"},{"$error":"#N/A"},{"$error":"#N/A"},{"$error":"#N/A"},{"$error":"#N/A"},{"$error":"#N/A"},{"$error":"#N/A"},{"$error":"#N/A"},{"$error":"#N/A"},{"$error":"#N/A"},{"$error":"#N/A"},{"$error":"#N/A"},{"$error":"#N/A"},{"$error":"#N/A"},{"$error":"#N/A"},{"$error":"#N/A"},{"$error":"#N/A"},{"$error":"#N/A"},{"$error":"#N/A"},{"$error":"#N/A"},{"$error":"#N/A"},{"$error":"#N/A"},{"$error":"#N/A"},{"$error":"#N/A"},{"$error":"#N/A"},{"$error":"#N/A"},{"$error":"#N/A"},{"$error":"#N/A"},{"$error":"#N/A"},{"$error":"#N/A"},{"$error":"#N/A"},{"$error":"#N/A"},{"$error":"#N/A"},{"$error":"#N/A"},{"$error":"#N/A"},{"$error":"#N/A"},{"$error":"#N/A"},{"$error":"#N/A"},{"$error":"#N/A"},{"$error":"#N/A"},{"$error":"#N/A"},{"$error":"#N/A"},{"$error":"#N/A"},{"$error":"#N/A"},{"$error":"#N/A"},{"$error":"#N/A"},{"$error":"#N/A"},{"$error":"#N/A"},{"$error":"#N/A"},{"$error":"#N/A"},{"$error":"#N/A"},{"$error":"#N/A"},{"$error":"#N/A"},{"$error":"#N/A"},{"$error":"#N/A"},{"$error":"#N/A"},{"$error":"#N/A"},{"$error":"#N/A"},{"$error":"#N/A"},{"$error":"#N/A"},{"$error":"#N/A"},{"$error":"#N/A"},{"$error":"#N/A"},{"$error":"#N/A"},{"$error":"#N/A"},{"$error":"#N/A"},{"$error":"#N/A"},{"$error":"#N/A"},{"$error":"#N/A"},{"$error":"#N/A"},{"$error":"#N/A"},{"$error":"#N/A"},{"$error":"#N/A"},{"$error":"#N/A"},{"$error":"#N/A"},{"$error":"#N/A"},{"$error":"#N/A"},{"$error":"#N/A"},{"$error":"#N/A"},{"$error":"#N/A"},{"$error":"#N/A"}]
[129,"The Judd",{"$f":"VLOOKUP($B135,MASTER_DATABASE,2,0)","v":{"$error":"#N/A"}},{"$f":"VLOOKUP($B135,MASTER_DATABASE,3,0)","v":{"$error":"#N/A"}},{"$f":"VLOOKUP($B135,MASTER_DATABASE,4,0)","v":{"$error":"#N/A"}},{"$f":"VLOOKUP($B135,MASTER_DATABASE,5,0)","v":{"$error":"#N/A"}},{"$f":"VLOOKUP($B135,MASTER_DATABASE,6,0)","v":{"$error":"#N/A"}},{"$f":"VLOOKUP($B135,MASTER_DATABASE,7,0)","v":{"$error":"#N/A"}},{"$f":"VLOOKUP($B135,MASTER_DATABASE,8,0)","v":{"$error":"#N/A"}},{"$f":"VLOOKUP($B135,MASTER_DATABASE,9,0)","v":{"$error":"#N/A"}},{"$f":"VLOOKUP($B135,MASTER_DATABASE,10,0)","v":{"$error":"#N/A"}},{"$f":"VLOOKUP($B135,MASTER_DATABASE,11,0)","v":{"$error":"#N/A"}},{"$f":"VLOOKUP($B135,MASTER_DATABASE,12,0)","v":{"$error":"#N/A"}},{"$f":"VLOOKUP($B135,MASTER_DATABASE,13,0)","v":{"$error":"#N/A"}},{"$f":"VLOOKUP($B135,MASTER_DATABASE,14,0)","v":{"$error":"#N/A"}},{"$f":"VLOOKUP($B135,MASTER_DATABASE,15,0)","v":{"$error":"#N/A"}},{"$f":"VLOOKUP($B135,MASTER_DATABASE,16,0)","v":{"$error":"#N/A"}},{"$f":"VLOOKUP($B135,MASTER_DATABASE,17,0)","v":{"$error":"#N/A"}},{"$f":"VLOOKUP($B135,MASTER_DATABASE,18,0)","v":{"$error":"#N/A"}},{"$f":"VLOOKUP($B135,MASTER_DATABASE,19,0)","v":{"$error":"#N/A"}},{"$f":"VLOOKUP($B135,MASTER_DATABASE,20,0)","v":{"$error":"#N/A"}},{"$f":"VLOOKUP($B135,MASTER_DATABASE,21,0)","v":{"$error":"#N/A"}},{"$f":"VLOOKUP($B135,MASTER_DATABASE,22,0)","v":{"$error":"#N/A"}},{"$f":"VLOOKUP($B135,MASTER_DATABASE,23,0)","v":{"$error":"#N/A"}},{"$f":"VLOOKUP($B135,MASTER_DATABASE,24,0)","v":{"$error":"#N/A"}},{"$f":"VLOOKUP($B135,MASTER_DATABASE,25,0)","v":{"$error":"#N/A"}},{"$f":"VLOOKUP($B135,MASTER_DATABASE,26,0)","v":{"$error":"#N/A"}},{"$f":"VLOOKUP($B135,MASTER_DATABASE,27,0)","v":{"$error":"#N/A"}},{"$f":"VLOOKUP($B135,MASTER_DATABASE,28,0)","v":{"$error":"#N/A"}},{"$f":"VLOOKUP($B135,MASTER_DATABASE,29,0)","v":{"$error":"#N/A"}},{"$f":"VLOOKUP($B135,MASTER_DATABASE,30,0)","v":{"$error":"#N/A"}},{"$f":"VLOOKUP($B135,MASTER_DATABASE,31,0)","v":{"$error":"#N/A"}},{"$f":"VLOOKUP($B135,MASTER_DATABASE,32,0)","v":{"$error":"#N/A"}},{"$f":"VLOOKUP($B135,MASTER_DATABASE,33,0)","v":{"$error":"#N/A"}},{"$f":"VLOOKUP($B135,MASTER_DATABASE,34,0)","v":{"$error":"#N/A"}},{"$f":"VLOOKUP($B135,MASTER_DATABASE,35,0)","v":{"$error":"#N/A"}},{"$f":"VLOOKUP($B135,MASTER_DATABASE,36,0)","v":{"$error":"#N/A"}},{"$f":"VLOOKUP($B135,MASTER_DATABASE,37,0)","v":{"$error":"#N/A"}},{"$f":"VLOOKUP($B135,MASTER_DATABASE,38,0)","v":{"$error":"#N/A"}},{"$f":"VLOOKUP($B135,MASTER_DATABASE,39,0)","v":{"$error":"#N/A"}},{"$f":"VLOOKUP($B135,MASTER_DATABASE,40,0)","v":{"$error":"#N/A"}},{"$f":"VLOOKUP($B135,MASTER_DATABASE,41,0)","v":{"$error":"#N/A"}},{"$f":"VLOOKUP($B135,MASTER_DATABASE,42,0)","v":{"$error":"#N/A"}},{"$f":"VLOOKUP($B135,MASTER_DATABASE,43,0)","v":{"$error":"#N/A"}},{"$f":"VLOOKUP($B135,MASTER_DATABASE,44,0)","v":{"$error":"#N/A"}},{"$f":"VLOOKUP($B135,MASTER_DATABASE,45,0)","v":{"$error":"#N/A"}},{"$f":"VLOOKUP($B135,MASTER_DATABASE,46,0)","v":{"$error":"#N/A"}},{"$f":"VLOOKUP($B135,MASTER_DATABASE,47,0)","v":{"$error":"#N/A"}},{"$f":"VLOOKUP($B135,MASTER_DATABASE,48,0)","v":{"$error":"#N/A"}},{"$f":"VLOOKUP($B135,MASTER_DATABASE,49,0)","v":{"$error":"#N/A"}},{"$f":"VLOOKUP($B135,MASTER_DATABASE,50,0)","v":{"$error":"#N/A"}},{"$f":"VLOOKUP($B135,MASTER_DATABASE,51,0)","v":{"$error":"#N/A"}},{"$f":"VLOOKUP($B135,MASTER_DATABASE,52,0)","v":{"$error":"#N/A"}},{"$f":"VLOOKUP($B135,MASTER_DATABASE,53,0)","v":{"$error":"#N/A"}},{"$f":"VLOOKUP($B135,MASTER_DATABASE,54,0)","v":{"$error":"#N/A"}},{"$f":"VLOOKUP($B135,MASTER_DATABASE,55,0)","v":{"$error":"#N/A"}},{"$f":"VLOOKUP($B135,MASTER_DATABASE,56,0)","v":{"$error":"#N/A"}},{"$f":"VLOOKUP($B135,MASTER_DATABASE,57,0)","v":{"$error":"#N/A"}},{"$f":"VLOOKUP($B135,MASTER_DATABASE,58,0)","v":{"$error":"#N/A"}},{"$f":"VLOOKUP($B135,MASTER_DATABASE,59,0)","v":{"$error":"#N/A"}},{"$f":"VLOOKUP($B135,MASTER_DATABASE,60,0)","v":{"$error":"#N/A"}},{"$f":"VLOOKUP($B135,MASTER_DATABASE,61,0)","v":{"$error":"#N/A"}},{"$f":"VLOOKUP($B135,MASTER_DATABASE,62,0)","v":{"$error":"#N/A"}},{"$f":"VLOOKUP($B135,MASTER_DATABASE,63,0)","v":{"$error":"#N/A"}},{"$f":"VLOOKUP($B135,MASTER_DATABASE,64,0)","v":{"$error":"#N/A"}},{"$f":"VLOOKUP($B135,MASTER_DATABASE,65,0)","v":{"$error":"#N/A"}},{"$f":"VLOOKUP($B135,MASTER_DATABASE,66,0)","v":{"$error":"#N/A"}},{"$f":"VLOOKUP($B135,MASTER_DATABASE,67,0)","v":{"$error":"#N/A"}},{"$f":"VLOOKUP($B135,MASTER_DATABASE,68,0)","v":{"$error":"#N/A"}},{"$f":"VLOOKUP($B135,MASTER_DATABASE,69,0)","v":{"$error":"#N/A"}},{"$f":"VLOOKUP($B135,MASTER_DATABASE,70,0)","v":{"$error":"#N/A"}},{"$f":"VLOOKUP($B135,MASTER_DATABASE,71,0)","v":{"$error":"#N/A"}},{"$f":"VLOOKUP($B135,MASTER_DATABASE,72,0)","v":{"$error":"#N/A"}},{"$f":"VLOOKUP($B135,MASTER_DATABASE,73,0)","v":{"$error":"#N/A"}},{"$f":"VLOOKUP($B135,MASTER_DATABASE,74,0)","v":{"$error":"#N/A"}},{"$f":"VLOOKUP($B135,MASTER_DATABASE,75,0)","v":{"$error":"#N/A"}},{"$f":"VLOOKUP($B135,MASTER_DATABASE,76,0)","v":{"$error":"#N/A"}},{"$f":"VLOOKUP($B135,MASTER_DATABASE,77,0)","v":{"$error":"#N/A"}},{"$f":"VLOOKUP($B135,MASTER_DATABASE,78,0)","v":{"$error":"#N/A"}},{"$f":"VLOOKUP($B135,MASTER_DATABASE,79,0)","v":{"$error":"#N/A"}},{"$f":"VLOOKUP($B135,MASTER_DATABASE,80,0)","v":{"$error":"#N/A"}},{"$f":"VLOOKUP($B135,MASTER_DATABASE,81,0)","v":{"$error":"#N/A"}},{"$f":"VLOOKUP($B135,MASTER_DATABASE,82,0)","v":{"$error":"#N/A"}},{"$f":"VLOOKUP($B135,MASTER_DATABASE,83,0)","v":{"$error":"#N/A"}},{"$f":"VLOOKUP($B135,MASTER_DATABASE,84,0)","v":{"$error":"#N/A"}},{"$f":"VLOOKUP($B135,MASTER_DATABASE,85,0)","v":{"$error":"#N/A"}},{"$f":"VLOOKUP($B135,MASTER_DATABASE,86,0)","v":{"$error":"#N/A"}}]
[130,"Thistle Hill",{"$error":"#N/A"},{"$error":"#N/A"},{"$error":"#N/A"},{"$error":"#N/A"},{"$error":"#N/A"},{"$error":"#N/A"},{"$error":"#N/A"},{"$error":"#N/A"},{"$error":"#N/A"},{"$error":"#N/A"},{"$error":"#N/A"},{"$error":"#N/A"},{"$error":"#N/A"},{"$error":"#N/A"},{"$error":"#N/A"},{"$error":"#N/A"},{"$error":"#N/A"},{"$error":"#N/A"},{"$error":"#N/A"},{"$error":"#N/A"},{"$error":"#N/A"},{"$error":"#N/A"},{"$error":"#N/A"},{"$error":"#N/A"},{"$error":"#N/A"},{"$error":"#N/A"},{"$error":"#N/A"},{"$error":"#N/A"},{"$error":"#N/A"},{"$error":"#N/A"},{"$error":"#N/A"},{"$error":"#N/A"},{"$error":"#N/A"},{"$error":"#N/A"},{"$error":"#N/A"},{"$error":"#N/A"},{"$error":"#N/A"},{"$error":"#N/A"},{"$error":"#N/A"},{"$error":"#N/A"},{"$error":"#N/A"},{"$error":"#N/A"},{"$error":"#N/A"},{"$error":"#N/A"},{"$error":"#N/A"},{"$error":"#N/A"},{"$error":"#N/A"},{"$error":"#N/A"},{"$error":"#N/A"},{"$error":"#N/A"},{"$error":"#N/A"},{"$error":"#N/A"},{"$error":"#N/A"},{"$error":"#N/A"},{"$error":"#N/A"},{"$error":"#N/A"},{"$error":"#N/A"},{"$error":"#N/A"},{"$error":"#N/A"},{"$error":"#N/A"},{"$error":"#N/A"},{"$error":"#N/A"},{"$error":"#N/A"},{"$error":"#N/A"},{"$error":"#N/A"},{"$error":"#N/A"},{"$error":"#N/A"},{"$error":"#N/A"},{"$error":"#N/A"},{"$error":"#N/A"},{"$error":"#N/A"},{"$error":"#N/A"},{"$error":"#N/A"},{"$error":"#N/A"},{"$error":"#N/A"},{"$error":"#N/A"},{"$error":"#N/A"},{"$error":"#N/A"},{"$error":"#N/A"},{"$error":"#N/A"},{"$error":"#N/A"},{"$error":"#N/A"},{"$error":"#N/A"},{"$error":"#N/A"},{"$error":"#N/A"}]
[131,"Valley Invicta",{"$error":"#N/A"},{"$error":"#N/A"},{"$error":"#N/A"},{"$error":"#N/A"},{"$error":"#N/A"},{"$error":"#N/A"},{"$error":"#N/A"},{"$error":"#N/A"},{"$error":"#N/A"},{"$error":"#N/A"},{"$error":"#N/A"},{"$error":"#N/A"},{"$error":"#N/A"},{"$error":"#N/A"},{"$error":"#N/A"},{"$error":"#N/A"},{"$error":"#N/A"},{"$error":"#N/A"},{"$error":"#N/A"},{"$error":"#N/A"},{"$error":"#N/A"},{"$error":"#N/A"},{"$error":"#N/A"},{"$error":"#N/A"},{"$error":"#N/A"},{"$error":"#N/A"},{"$error":"#N/A"},{"$error":"#N/A"},{"$error":"#N/A"},{"$error":"#N/A"},{"$error":"#N/A"},{"$error":"#N/A"},{"$error":"#N/A"},{"$error":"#N/A"},{"$error":"#N/A"},{"$error":"#N/A"},{"$error":"#N/A"},{"$error":"#N/A"},{"$error":"#N/A"},{"$error":"#N/A"},{"$error":"#N/A"},{"$error":"#N/A"},{"$error":"#N/A"},{"$error":"#N/A"},{"$error":"#N/A"},{"$error":"#N/A"},{"$error":"#N/A"},{"$error":"#N/A"},{"$error":"#N/A"},{"$error":"#N/A"},{"$error":"#N/A"},{"$error":"#N/A"},{"$error":"#N/A"},{"$error":"#N/A"},{"$error":"#N/A"},{"$error":"#N/A"},{"$error":"#N/A"},{"$error":"#N/A"},{"$error":"#N/A"},{"$error":"#N/A"},{"$error":"#N/A"},{"$error":"#N/A"},{"$error":"#N/A"},{"$error":"#N/A"},{"$error":"#N/A"},{"$error":"#N/A"},{"$error":"#N/A"},{"$error":"#N/A"},{"$error":"#N/A"},{"$error":"#N/A"},{"$error":"#N/A"},{"$error":"#N/A"},{"$error":"#N/A"},{"$error":"#N/A"},{"$error":"#N/A"},{"$error":"#N/A"},{"$error":"#N/A"},{"$error":"#N/A"},{"$error":"#N/A"},{"$error":"#N/A"},{"$error":"#N/A"},{"$error":"#N/A"},{"$error":"#N/A"},{"$error":"#N/A"},{"$error":"#N/A"}]
[132,"Weald Community",{"$error":"#N/A"},{"$error":"#N/A"},{"$error":"#N/A"},{"$error":"#N/A"},{"$error":"#N/A"},{"$error":"#N/A"},{"$error":"#N/A"},{"$error":"#N/A"},{"$error":"#N/A"},{"$error":"#N/A"},{"$error":"#N/A"},{"$error":"#N/A"},{"$error":"#N/A"},{"$error":"#N/A"},{"$error":"#N/A"},{"$error":"#N/A"},{"$error":"#N/A"},{"$error":"#N/A"},{"$error":"#N/A"},{"$error":"#N/A"},{"$error":"#N/A"},{"$error":"#N/A"},{"$error":"#N/A"},{"$error":"#N/A"},{"$error":"#N/A"},{"$error":"#N/A"},{"$error":"#N/A"},{"$error":"#N/A"},{"$error":"#N/A"},{"$error":"#N/A"},{"$error":"#N/A"},{"$error":"#N/A"},{"$error":"#N/A"},{"$error":"#N/A"},{"$error":"#N/A"},{"$error":"#N/A"},{"$error":"#N/A"},{"$error":"#N/A"},{"$error":"#N/A"},{"$error":"#N/A"},{"$error":"#N/A"},{"$error":"#N/A"},{"$error":"#N/A"},{"$error":"#N/A"},{"$error":"#N/A"},{"$error":"#N/A"},{"$error":"#N/A"},{"$error":"#N/A"},{"$error":"#N/A"},{"$error":"#N/A"},{"$error":"#N/A"},{"$error":"#N/A"},{"$error":"#N/A"},{"$error":"#N/A"},{"$error":"#N/A"},{"$error":"#N/A"},{"$error":"#N/A"},{"$error":"#N/A"},{"$error":"#N/A"},{"$error":"#N/A"},{"$error":"#N/A"},{"$error":"#N/A"},{"$error":"#N/A"},{"$error":"#N/A"},{"$error":"#N/A"},{"$error":"#N/A"},{"$error":"#N/A"},{"$error":"#N/A"},{"$error":"#N/A"},{"$error":"#N/A"},{"$error":"#N/A"},{"$error":"#N/A"},{"$error":"#N/A"},{"$error":"#N/A"},{"$error":"#N/A"},{"$error":"#N/A"},{"$error":"#N/A"},{"$error":"#N/A"},{"$error":"#N/A"},{"$error":"#N/A"},{"$error":"#N/A"},{"$error":"#N/A"},{"$error":"#N/A"},{"$error":"#N/A"},{"$error":"#N/A"}]
[133,"West Minster",{"$error":"#N/A"},{"$error":"#N/A"},{"$error":"#N/A"},{"$error":"#N/A"},{"$error":"#N/A"},{"$error":"#N/A"},{"$error":"#N/A"},{"$error":"#N/A"},{"$error":"#N/A"},{"$error":"#N/A"},{"$error":"#N/A"},{"$error":"#N/A"},{"$error":"#N/A"},{"$error":"#N/A"},{"$error":"#N/A"},{"$error":"#N/A"},{"$error":"#N/A"},{"$error":"#N/A"},{"$error":"#N/A"},{"$error":"#N/A"},{"$error":"#N/A"},{"$error":"#N/A"},{"$error":"#N/A"},{"$error":"#N/A"},{"$error":"#N/A"},{"$error":"#N/A"},{"$error":"#N/A"},{"$error":"#N/A"},{"$error":"#N/A"},{"$error":"#N/A"},{"$error":"#N/A"},{"$error":"#N/A"},{"$error":"#N/A"},{"$error":"#N/A"},{"$error":"#N/A"},{"$error":"#N/A"},{"$error":"#N/A"},{"$error":"#N/A"},{"$error":"#N/A"},{"$error":"#N/A"},{"$error":"#N/A"},{"$error":"#N/A"},{"$error":"#N/A"},{"$error":"#N/A"},{"$error":"#N/A"},{"$error":"#N/A"},{"$error":"#N/A"},{"$error":"#N/A"},{"$error":"#N/A"},{"$error":"#N/A"},{"$error":"#N/A"},{"$error":"#N/A"},{"$error":"#N/A"},{"$error":"#N/A"},{"$error":"#N/A"},{"$error":"#N/A"},{"$error":"#N/A"},{"$error":"#N/A"},{"$error":"#N/A"},{"$error":"#N/A"},{"$error":"#N/A"},{"$error":"#N/A"},{"$error":"#N/A"},{"$error":"#N/A"},{"$error":"#N/A"},{"$error":"#N/A"},{"$error":"#N/A"},{"$error":"#N/A"},{"$error":"#N/A"},{"$error":"#N/A"},{"$error":"#N/A"},{"$error":"#N/A"},{"$error":"#N/A"},{"$error":"#N/A"},{"$error":"#N/A"},{"$error":"#N/A"},{"$error":"#N/A"},{"$error":"#N/A"},{"$error":"#N/A"},{"$error":"#N/A"},{"$error":"#N/A"},{"$error":"#N/A"},{"$error":"#N/A"},{"$error":"#N/A"},{"$error":"#N/A"}]
[134,"Westcourt Primary",{"$error":"#N/A"},{"$error":"#N/A"},{"$error":"#N/A"},{"$error":"#N/A"},{"$error":"#N/A"},{"$error":"#N/A"},{"$error":"#N/A"},{"$error":"#N/A"},{"$error":"#N/A"},{"$error":"#N/A"},{"$error":"#N/A"},{"$error":"#N/A"},{"$error":"#N/A"},{"$error":"#N/A"},{"$error":"#N/A"},{"$error":"#N/A"},{"$error":"#N/A"},{"$error":"#N/A"},{"$error":"#N/A"},{"$error":"#N/A"},{"$error":"#N/A"},{"$error":"#N/A"},{"$error":"#N/A"},{"$error":"#N/A"},{"$error":"#N/A"},{"$error":"#N/A"},{"$error":"#N/A"},{"$error":"#N/A"},{"$error":"#N/A"},{"$error":"#N/A"},{"$error":"#N/A"},{"$error":"#N/A"},{"$error":"#N/A"},{"$error":"#N/A"},{"$error":"#N/A"},{"$error":"#N/A"},{"$error":"#N/A"},{"$error":"#N/A"},{"$error":"#N/A"},{"$error":"#N/A"},{"$error":"#N/A"},{"$error":"#N/A"},{"$error":"#N/A"},{"$error":"#N/A"},{"$error":"#N/A"},{"$error":"#N/A"},{"$error":"#N/A"},{"$error":"#N/A"},{"$error":"#N/A"},{"$error":"#N/A"},{"$error":"#N/A"},{"$error":"#N/A"},{"$error":"#N/A"},{"$error":"#N/A"},{"$error":"#N/A"},{"$error":"#N/A"},{"$error":"#N/A"},{"$error":"#N/A"},{"$error":"#N/A"},{"$error":"#N/A"},{"$error":"#N/A"},{"$error":"#N/A"},{"$error":"#N/A"},{"$error":"#N/A"},{"$error":"#N/A"},{"$error":"#N/A"},{"$error":"#N/A"},{"$error":"#N/A"},{"$error":"#N/A"},{"$error":"#N/A"},{"$error":"#N/A"},{"$error":"#N/A"},{"$error":"#N/A"},{"$error":"#N/A"},{"$error":"#N/A"},{"$error":"#N/A"},{"$error":"#N/A"},{"$error":"#N/A"},{"$error":"#N/A"},{"$error":"#N/A"},{"$error":"#N/A"},{"$error":"#N/A"},{"$error":"#N/A"},{"$error":"#N/A"},{"$error":"#N/A"}]
[135,"Westcourt Primary",{"$error":"#N/A"},{"$error":"#N/A"},{"$error":"#N/A"},{"$error":"#N/A"},{"$error":"#N/A"},{"$error":"#N/A"},{"$error":"#N/A"},{"$error":"#N/A"},{"$error":"#N/A"},{"$error":"#N/A"},{"$error":"#N/A"},{"$error":"#N/A"},{"$error":"#N/A"},{"$error":"#N/A"},{"$error":"#N/A"},{"$error":"#N/A"},{"$error":"#N/A"},{"$error":"#N/A"},{"$error":"#N/A"},{"$error":"#N/A"},{"$error":"#N/A"},{"$error":"#N/A"},{"$error":"#N/A"},{"$error":"#N/A"},{"$error":"#N/A"},{"$error":"#N/A"},{"$error":"#N/A"},{"$error":"#N/A"},{"$error":"#N/A"},{"$error":"#N/A"},{"$error":"#N/A"},{"$error":"#N/A"},{"$error":"#N/A"},{"$error":"#N/A"},{"$error":"#N/A"},{"$error":"#N/A"},{"$error":"#N/A"},{"$error":"#N/A"},{"$error":"#N/A"},{"$error":"#N/A"},{"$error":"#N/A"},{"$error":"#N/A"},{"$error":"#N/A"},{"$error":"#N/A"},{"$error":"#N/A"},{"$error":"#N/A"},{"$error":"#N/A"},{"$error":"#N/A"},{"$error":"#N/A"},{"$error":"#N/A"},{"$error":"#N/A"},{"$error":"#N/A"},{"$error":"#N/A"},{"$error":"#N/A"},{"$error":"#N/A"},{"$error":"#N/A"},{"$error":"#N/A"},{"$error":"#N/A"},{"$error":"#N/A"},{"$error":"#N/A"},{"$error":"#N/A"},{"$error":"#N/A"},{"$error":"#N/A"},{"$error":"#N/A"},{"$error":"#N/A"},{"$error":"#N/A"},{"$error":"#N/A"},{"$error":"#N/A"},{"$error":"#N/A"},{"$error":"#N/A"},{"$error":"#N/A"},{"$error":"#N/A"},{"$error":"#N/A"},{"$error":"#N/A"},{"$error":"#N/A"},{"$error":"#N/A"},{"$error":"#N/A"},{"$error":"#N/A"},{"$error":"#N/A"},{"$error":"#N/A"},{"$error":"#N/A"},{"$error":"#N/A"},{"$error":"#N/A"},{"$error":"#N/A"},{"$error":"#N/A"}]
[136,"White Cliffs",{"$error":"#N/A"},{"$error":"#N/A"},{"$error":"#N/A"},{"$error":"#N/A"},{"$error":"#N/A"},{"$error":"#N/A"},{"$error":"#N/A"},{"$error":"#N/A"},{"$error":"#N/A"},{"$error":"#N/A"},{"$error":"#N/A"},{"$error":"#N/A"},{"$error":"#N/A"},{"$error":"#N/A"},{"$error":"#N/A"},{"$error":"#N/A"},{"$error":"#N/A"},{"$error":"#N/A"},{"$error":"#N/A"},{"$error":"#N/A"},{"$error":"#N/A"},{"$error":"#N/A"},{"$error":"#N/A"},{"$error":"#N/A"},{"$error":"#N/A"},{"$error":"#N/A"},{"$error":"#N/A"},{"$error":"#N/A"},{"$error":"#N/A"},{"$error":"#N/A"},{"$error":"#N/A"},{"$error":"#N/A"},{"$error":"#N/A"},{"$error":"#N/A"},{"$error":"#N/A"},{"$error":"#N/A"},{"$error":"#N/A"},{"$error":"#N/A"},{"$error":"#N/A"},{"$error":"#N/A"},{"$error":"#N/A"},{"$error":"#N/A"},{"$error":"#N/A"},{"$error":"#N/A"},{"$error":"#N/A"},{"$error":"#N/A"},{"$error":"#N/A"},{"$error":"#N/A"},{"$error":"#N/A"},{"$error":"#N/A"},{"$error":"#N/A"},{"$error":"#N/A"},{"$error":"#N/A"},{"$error":"#N/A"},{"$error":"#N/A"},{"$error":"#N/A"},{"$error":"#N/A"},{"$error":"#N/A"},{"$error":"#N/A"},{"$error":"#N/A"},{"$error":"#N/A"},{"$error":"#N/A"},{"$error":"#N/A"},{"$error":"#N/A"},{"$error":"#N/A"},{"$error":"#N/A"},{"$error":"#N/A"},{"$error":"#N/A"},{"$error":"#N/A"},{"$error":"#N/A"},{"$error":"#N/A"},{"$error":"#N/A"},{"$error":"#N/A"},{"$error":"#N/A"},{"$error":"#N/A"},{"$error":"#N/A"},{"$error":"#N/A"},{"$error":"#N/A"},{"$error":"#N/A"},{"$error":"#N/A"},{"$error":"#N/A"},{"$error":"#N/A"},{"$error":"#N/A"},{"$error":"#N/A"},{"$error":"#N/A"}]
[137,"Whitfield and",{"$error":"#N/A"},{"$error":"#N/A"},{"$error":"#N/A"},{"$error":"#N/A"},{"$error":"#N/A"},{"$error":"#N/A"},{"$error":"#N/A"},{"$error":"#N/A"},{"$error":"#N/A"},{"$error":"#N/A"},{"$error":"#N/A"},{"$error":"#N/A"},{"$error":"#N/A"},{"$error":"#N/A"},{"$error":"#N/A"},{"$error":"#N/A"},{"$error":"#N/A"},{"$error":"#N/A"},{"$error":"#N/A"},{"$error":"#N/A"},{"$error":"#N/A"},{"$error":"#N/A"},{"$error":"#N/A"},{"$error":"#N/A"},{"$error":"#N/A"},{"$error":"#N/A"},{"$error":"#N/A"},{"$error":"#N/A"},{"$error":"#N/A"},{"$error":"#N/A"},{"$error":"#N/A"},{"$error":"#N/A"},{"$error":"#N/A"},{"$error":"#N/A"},{"$error":"#N/A"},{"$error":"#N/A"},{"$error":"#N/A"},{"$error":"#N/A"},{"$error":"#N/A"},{"$error":"#N/A"},{"$error":"#N/A"},{"$error":"#N/A"},{"$error":"#N/A"},{"$error":"#N/A"},{"$error":"#N/A"},{"$error":"#N/A"},{"$error":"#N/A"},{"$error":"#N/A"},{"$error":"#N/A"},{"$error":"#N/A"},{"$error":"#N/A"},{"$error":"#N/A"},{"$error":"#N/A"},{"$error":"#N/A"},{"$error":"#N/A"},{"$error":"#N/A"},{"$error":"#N/A"},{"$error":"#N/A"},{"$error":"#N/A"},{"$error":"#N/A"},{"$error":"#N/A"},{"$error":"#N/A"},{"$error":"#N/A"},{"$error":"#N/A"},{"$error":"#N/A"},{"$error":"#N/A"},{"$error":"#N/A"},{"$error":"#N/A"},{"$error":"#N/A"},{"$error":"#N/A"},{"$error":"#N/A"},{"$error":"#N/A"},{"$error":"#N/A"},{"$error":"#N/A"},{"$error":"#N/A"},{"$error":"#N/A"},{"$error":"#N/A"},{"$error":"#N/A"},{"$error":"#N/A"},{"$error":"#N/A"},{"$error":"#N/A"},{"$error":"#N/A"},{"$error":"#N/A"},{"$error":"#N/A"},{"$error":"#N/A"}]
[138,"Whitstable Junior",{"$error":"#N/A"},{"$error":"#N/A"},{"$error":"#N/A"},{"$error":"#N/A"},{"$error":"#N/A"},{"$error":"#N/A"},{"$error":"#N/A"},{"$error":"#N/A"},{"$error":"#N/A"},{"$error":"#N/A"},{"$error":"#N/A"},{"$error":"#N/A"},{"$error":"#N/A"},{"$error":"#N/A"},{"$error":"#N/A"},{"$error":"#N/A"},{"$error":"#N/A"},{"$error":"#N/A"},{"$error":"#N/A"},{"$error":"#N/A"},{"$error":"#N/A"},{"$error":"#N/A"},{"$error":"#N/A"},{"$error":"#N/A"},{"$error":"#N/A"},{"$error":"#N/A"},{"$error":"#N/A"},{"$error":"#N/A"},{"$error":"#N/A"},{"$error":"#N/A"},{"$error":"#N/A"},{"$error":"#N/A"},{"$error":"#N/A"},{"$error":"#N/A"},{"$error":"#N/A"},{"$error":"#N/A"},{"$error":"#N/A"},{"$error":"#N/A"},{"$error":"#N/A"},{"$error":"#N/A"},{"$error":"#N/A"},{"$error":"#N/A"},{"$error":"#N/A"},{"$error":"#N/A"},{"$error":"#N/A"},{"$error":"#N/A"},{"$error":"#N/A"},{"$error":"#N/A"},{"$error":"#N/A"},{"$error":"#N/A"},{"$error":"#N/A"},{"$error":"#N/A"},{"$error":"#N/A"},{"$error":"#N/A"},{"$error":"#N/A"},{"$error":"#N/A"},{"$error":"#N/A"},{"$error":"#N/A"},{"$error":"#N/A"},{"$error":"#N/A"},{"$error":"#N/A"},{"$error":"#N/A"},{"$error":"#N/A"},{"$error":"#N/A"},{"$error":"#N/A"},{"$error":"#N/A"},{"$error":"#N/A"},{"$error":"#N/A"},{"$error":"#N/A"},{"$error":"#N/A"},{"$error":"#N/A"},{"$error":"#N/A"},{"$error":"#N/A"},{"$error":"#N/A"},{"$error":"#N/A"},{"$error":"#N/A"},{"$error":"#N/A"},{"$error":"#N/A"},{"$error":"#N/A"},{"$error":"#N/A"},{"$error":"#N/A"},{"$error":"#N/A"},{"$error":"#N/A"},{"$error":"#N/A"},{"$error":"#N/A"}]
[139,"Warden House",{"$error":"#N/A"},{"$error":"#N/A"},{"$error":"#N/A"},{"$error":"#N/A"},{"$error":"#N/A"},{"$error":"#N/A"},{"$error":"#N/A"},{"$error":"#N/A"},{"$error":"#N/A"},{"$error":"#N/A"},{"$error":"#N/A"},{"$error":"#N/A"},{"$error":"#N/A"},{"$error":"#N/A"},{"$error":"#N/A"},{"$error":"#N/A"},{"$error":"#N/A"},{"$error":"#N/A"},{"$error":"#N/A"},{"$error":"#N/A"},{"$error":"#N/A"},{"$error":"#N/A"},{"$error":"#N/A"},{"$error":"#N/A"},{"$error":"#N/A"},{"$error":"#N/A"},{"$error":"#N/A"},{"$error":"#N/A"},{"$error":"#N/A"},{"$error":"#N/A"},{"$error":"#N/A"},{"$error":"#N/A"},{"$error":"#N/A"},{"$error":"#N/A"},{"$error":"#N/A"},{"$error":"#N/A"},{"$error":"#N/A"},{"$error":"#N/A"},{"$error":"#N/A"},{"$error":"#N/A"},{"$error":"#N/A"},{"$error":"#N/A"},{"$error":"#N/A"},{"$error":"#N/A"},{"$error":"#N/A"},{"$error":"#N/A"},{"$error":"#N/A"},{"$error":"#N/A"},{"$error":"#N/A"},{"$error":"#N/A"},{"$error":"#N/A"},{"$error":"#N/A"},{"$error":"#N/A"},{"$error":"#N/A"},{"$error":"#N/A"},{"$error":"#N/A"},{"$error":"#N/A"},{"$error":"#N/A"},{"$error":"#N/A"},{"$error":"#N/A"},{"$error":"#N/A"},{"$error":"#N/A"},{"$error":"#N/A"},{"$error":"#N/A"},{"$error":"#N/A"},{"$error":"#N/A"},{"$error":"#N/A"},{"$error":"#N/A"},{"$error":"#N/A"},{"$error":"#N/A"},{"$error":"#N/A"},{"$error":"#N/A"},{"$error":"#N/A"},{"$error":"#N/A"},{"$error":"#N/A"},{"$error":"#N/A"},{"$error":"#N/A"},{"$error":"#N/A"},{"$error":"#N/A"},{"$error":"#N/A"},{"$error":"#N/A"},{"$error":"#N/A"},{"$error":"#N/A"},{"$error":"#N/A"},{"$error":"#N/A"}]
[140,"Westlands Secondary School","East","1FE Expansion",3250000,3250000,{"$error":"#REF!"},{"$error":"#REF!"},{"$error":"#REF!"},{"$error":"#REF!"},{"$error":"#REF!"},{"$error":"#REF!"},{"$error":"#REF!"},{"$error":"#REF!"},{"$error":"#REF!"},{"$error":"#REF!"},{"$error":"#REF!"},{"$error":"#REF!"},{"$error":"#REF!"},{"$error":"#REF!"},{"$error":"#REF!"},{"$error":"#REF!"},{"$error":"#REF!"},{"$error":"#REF!"},{"$error":"#REF!"},{"$error":"#REF!"},{"$error":"#REF!"},{"$error":"#REF!"},{"$error":"#REF!"},{"$error":"#REF!"},{"$error":"#REF!"},{"$error":"#REF!"},{"$error":"#REF!"},{"$error":"#REF!"},{"$error":"#REF!"},{"$error":"#REF!"},{"$error":"#REF!"},{"$error":"#REF!"},{"$error":"#REF!"},{"$error":"#REF!"},{"$error":"#REF!"},{"$error":"#REF!"},{"$error":"#REF!"},{"$error":"#REF!"},{"$error":"#REF!"},{"$error":"#REF!"},{"$error":"#REF!"},{"$error":"#REF!"},{"$error":"#REF!"},{"$error":"#REF!"},{"$error":"#REF!"},{"$error":"#REF!"},{"$error":"#REF!"},{"$error":"#REF!"},{"$error":"#REF!"},{"$error":"#REF!"},{"$error":"#REF!"},{"$error":"#REF!"},{"$error":"#REF!"},{"$error":"#REF!"},{"$error":"#REF!"},{"$error":"#REF!"},{"$error":"#REF!"},{"$error":"#REF!"},{"$error":"#REF!"},{"$error":"#REF!"},{"$error":"#REF!"},{"$error":"#REF!"},{"$error":"#REF!"},{"$error":"#REF!"},{"$error":"#REF!"},{"$error":"#REF!"},{"$error":"#REF!"},{"$error":"#REF!"},{"$error":"#REF!"},{"$error":"#REF!"},{"$error":"#REF!"},{"$error":"#REF!"},{"$error":"#REF!"},{"$error":"#REF!"},{"$error":"#REF!"},{"$error":"#REF!"},{"$error":"#REF!"},{"$error":"#REF!"},{"$error":"#REF!"},{"$error":"#REF!"},{"$error":"#REF!"}]
[141,"Royal Harbour School / Laleham Gap","East","Relocation of STLS to Laleham Gap ",800000,825598.59,{"$error":"#REF!"},{"$error":"#REF!"},{"$error":"#REF!"},{"$error":"#REF!"},{"$error":"#REF!"},{"$error":"#REF!"},{"$error":"#REF!"},{"$error":"#REF!"},{"$error":"#REF!"},{"$error":"#REF!"},{"$error":"#REF!"},{"$error":"#REF!"},{"$error":"#REF!"},{"$error":"#REF!"},{"$error":"#REF!"},{"$error":"#REF!"},{"$error":"#REF!"},{"$error":"#REF!"},{"$error":"#REF!"},{"$error":"#REF!"},{"$error":"#REF!"},{"$error":"#REF!"},{"$error":"#REF!"},{"$error":"#REF!"},{"$error":"#REF!"},{"$error":"#REF!"},{"$error":"#REF!"},{"$error":"#REF!"},{"$error":"#REF!"},{"$error":"#REF!"},{"$error":"#REF!"},{"$error":"#REF!"},{"$error":"#REF!"},{"$error":"#REF!"},{"$error":"#REF!"},{"$error":"#REF!"},{"$error":"#REF!"},{"$error":"#REF!"},{"$error":"#REF!"},{"$error":"#REF!"},{"$error":"#REF!"},{"$error":"#REF!"},{"$error":"#REF!"},{"$error":"#REF!"},{"$error":"#REF!"},{"$error":"#REF!"},{"$error":"#REF!"},{"$error":"#REF!"},{"$error":"#REF!"},{"$error":"#REF!"},{"$error":"#REF!"},{"$error":"#REF!"},{"$error":"#REF!"},{"$error":"#REF!"},{"$error":"#REF!"},{"$error":"#REF!"},{"$error":"#REF!"},{"$error":"#REF!"},{"$error":"#REF!"},{"$error":"#REF!"},{"$error":"#REF!"},{"$error":"#REF!"},{"$error":"#REF!"},{"$error":"#REF!"},{"$error":"#REF!"},{"$error":"#REF!"},{"$error":"#REF!"},{"$error":"#REF!"},{"$error":"#REF!"},{"$error":"#REF!"},{"$error":"#REF!"},{"$error":"#REF!"},{"$error":"#REF!"},{"$error":"#REF!"},{"$error":"#REF!"},{"$error":"#REF!"},{"$error":"#REF!"},{"$error":"#REF!"},{"$error":"#REF!"},{"$error":"#REF!"},{"$error":"#REF!"}]
[142,"St Gregory's Secondary School","West","1FE expansion including new sports hall",6600000,7400000,{"$error":"#REF!"},{"$error":"#REF!"},{"$error":"#REF!"},{"$error":"#REF!"},{"$error":"#REF!"},{"$error":"#REF!"},{"$error":"#REF!"},{"$error":"#REF!"},{"$error":"#REF!"},{"$error":"#REF!"},{"$error":"#REF!"},{"$error":"#REF!"},{"$error":"#REF!"},{"$error":"#REF!"},{"$error":"#REF!"},{"$error":"#REF!"},{"$error":"#REF!"},{"$error":"#REF!"},{"$error":"#REF!"},{"$error":"#REF!"},{"$error":"#REF!"},{"$error":"#REF!"},{"$error":"#REF!"},{"$error":"#REF!"},{"$error":"#REF!"},{"$error":"#REF!"},{"$error":"#REF!"},{"$error":"#REF!"},{"$error":"#REF!"},{"$error":"#REF!"},{"$error":"#REF!"},{"$error":"#REF!"},{"$error":"#REF!"},{"$error":"#REF!"},{"$error":"#REF!"},{"$error":"#REF!"},{"$error":"#REF!"},{"$error":"#REF!"},{"$error":"#REF!"},{"$error":"#REF!"},{"$error":"#REF!"},{"$error":"#REF!"},{"$error":"#REF!"},{"$error":"#REF!"},{"$error":"#REF!"},{"$error":"#REF!"},{"$error":"#REF!"},{"$error":"#REF!"},{"$error":"#REF!"},{"$error":"#REF!"},{"$error":"#REF!"},{"$error":"#REF!"},{"$error":"#REF!"},{"$error":"#REF!"},{"$error":"#REF!"},{"$error":"#REF!"},{"$error":"#REF!"},{"$error":"#REF!"},{"$error":"#REF!"},{"$error":"#REF!"},{"$error":"#REF!"},{"$error":"#REF!"},{"$error":"#REF!"},{"$error":"#REF!"},{"$error":"#REF!"},{"$error":"#REF!"},{"$error":"#REF!"},{"$error":"#REF!"},{"$error":"#REF!"},{"$error":"#REF!"},{"$error":"#REF!"},{"$error":"#REF!"},{"$error":"#REF!"},{"$error":"#REF!"},{"$error":"#REF!"},{"$error":"#REF!"},{"$error":"#REF!"},{"$error":"#REF!"},{"$error":"#REF!"},{"$error":"#REF!"},{"$error":"#REF!"}]
[143,"Tunbridge Wells Boys School","West","1FE expansion including new sports hall and replacement of 4 old mobiles classrooms. ",7700000,8352403,{"$error":"#REF!"},{"$error":"#REF!"},{"$error":"#REF!"},{"$error":"#REF!"},{"$error":"#REF!"},{"$error":"#REF!"},{"$error":"#REF!"},{"$error":"#REF!"},{"$error":"#REF!"},{"$error":"#REF!"},{"$error":"#REF!"},{"$error":"#REF!"},{"$error":"#REF!"},{"$error":"#REF!"},{"$error":"#REF!"},{"$error":"#REF!"},{"$error":"#REF!"},{"$error":"#REF!"},{"$error":"#REF!"},{"$error":"#REF!"},{"$error":"#REF!"},{"$error":"#REF!"},{"$error":"#REF!"},{"$error":"#REF!"},{"$error":"#REF!"},{"$error":"#REF!"},{"$error":"#REF!"},{"$error":"#REF!"},{"$error":"#REF!"},{"$error":"#REF!"},{"$error":"#REF!"},{"$error":"#REF!"},{"$error":"#REF!"},{"$error":"#REF!"},{"$error":"#REF!"},{"$error":"#REF!"},{"$error":"#REF!"},{"$error":"#REF!"},{"$error":"#REF!"},{"$error":"#REF!"},{"$error":"#REF!"},{"$error":"#REF!"},{"$error":"#REF!"},{"$error":"#REF!"},{"$error":"#REF!"},{"$error":"#REF!"},{"$error":"#REF!"},{"$error":"#REF!"},{"$error":"#REF!"},{"$error":"#REF!"},{"$error":"#REF!"},{"$error":"#REF!"},{"$error":"#REF!"},{"$error":"#REF!"},{"$error":"#REF!"},{"$error":"#REF!"},{"$error":"#REF!"},{"$error":"#REF!"},{"$error":"#REF!"},{"$error":"#REF!"},{"$error":"#REF!"},{"$error":"#REF!"},{"$error":"#REF!"},{"$error":"#REF!"},{"$error":"#REF!"},{"$error":"#REF!"},{"$error":"#REF!"},{"$error":"#REF!"},{"$error":"#REF!"},{"$error":"#REF!"},{"$error":"#REF!"},{"$error":"#REF!"},{"$error":"#REF!"},{"$error":"#REF!"},{"$error":"#REF!"},{"$error":"#REF!"},{"$error":"#REF!"},{"$error":"#REF!"},{"$error":"#REF!"},{"$error":"#REF!"},{"$error":"#REF!"}]
[144,"Skinners School Expansion","West","0.3FE Expansion (school managed)",3000000,3000000,{"$error":"#REF!"},{"$error":"#REF!"},{"$error":"#REF!"},{"$error":"#REF!"},{"$error":"#REF!"},{"$error":"#REF!"},{"$error":"#REF!"},{"$error":"#REF!"},{"$error":"#REF!"},{"$error":"#REF!"},{"$error":"#REF!"},{"$error":"#REF!"},{"$error":"#REF!"},{"$error":"#REF!"},{"$error":"#REF!"},{"$error":"#REF!"},{"$error":"#REF!"},{"$error":"#REF!"},{"$error":"#REF!"},{"$error":"#REF!"},{"$error":"#REF!"},{"$error":"#REF!"},{"$error":"#REF!"},{"$error":"#REF!"},{"$error":"#REF!"},{"$error":"#REF!"},{"$error":"#REF!"},{"$error":"#REF!"},{"$error":"#REF!"},{"$error":"#REF!"},{"$error":"#REF!"},{"$error":"#REF!"},{"$error":"#REF!"},{"$error":"#REF!"},{"$error":"#REF!"},{"$error":"#REF!"},{"$error":"#REF!"},{"$error":"#REF!"},{"$error":"#REF!"},{"$error":"#REF!"},{"$error":"#REF!"},{"$error":"#REF!"},{"$error":"#REF!"},{"$error":"#REF!"},{"$error":"#REF!"},{"$error":"#REF!"},{"$error":"#REF!"},{"$error":"#REF!"},{"$error":"#REF!"},{"$error":"#REF!"},{"$error":"#REF!"},{"$error":"#REF!"},{"$error":"#REF!"},{"$error":"#REF!"},{"$error":"#REF!"},{"$error":"#REF!"},{"$error":"#REF!"},{"$error":"#REF!"},{"$error":"#REF!"},{"$error":"#REF!"},{"$error":"#REF!"},{"$error":"#REF!"},{"$error":"#REF!"},{"$error":"#REF!"},{"$error":"#REF!"},{"$error":"#REF!"},{"$error":"#REF!"},{"$error":"#REF!"},{"$error":"#REF!"},{"$error":"#REF!"},{"$error":"#REF!"},{"$error":"#REF!"},{"$error":"#REF!"},{"$error":"#REF!"},{"$error":"#REF!"},{"$error":"#REF!"},{"$error":"#REF!"},{"$error":"#REF!"},{"$error":"#REF!"},{"$error":"#REF!"},{"$error":"#REF!"}]
[145,"Ebbsfleet Green PS","North","New 1FE with 2FE Infrastructure ",6000000,6000000,{"$error":"#REF!"},{"$error":"#REF!"},{"$error":"#REF!"},{"$error":"#REF!"},{"$error":"#REF!"},{"$error":"#REF!"},{"$error":"#REF!"},{"$error":"#REF!"},{"$error":"#REF!"},{"$error":"#REF!"},{"$error":"#REF!"},{"$error":"#REF!"},{"$error":"#REF!"},{"$error":"#REF!"},{"$error":"#REF!"},{"$error":"#REF!"},{"$error":"#REF!"},{"$error":"#REF!"},{"$error":"#REF!"},{"$error":"#REF!"},{"$error":"#REF!"},{"$error":"#REF!"},{"$error":"#REF!"},{"$error":"#REF!"},{"$error":"#REF!"},{"$error":"#REF!"},{"$error":"#REF!"},{"$error":"#REF!"},{"$error":"#REF!"},{"$error":"#REF!"},{"$error":"#REF!"},{"$error":"#REF!"},{"$error":"#REF!"},{"$error":"#REF!"},{"$error":"#REF!"},{"$error":"#REF!"},{"$error":"#REF!"},{"$error":"#REF!"},{"$error":"#REF!"},{"$error":"#REF!"},{"$error":"#REF!"},{"$error":"#REF!"},{"$error":"#REF!"},{"$error":"#REF!"},{"$error":"#REF!"},{"$error":"#REF!"},{"$error":"#REF!"},{"$error":"#REF!"},{"$error":"#REF!"},{"$error":"#REF!"},{"$error":"#REF!"},{"$error":"#REF!"},{"$error":"#REF!"},{"$error":"#REF!"},{"$error":"#REF!"},{"$error":"#REF!"},{"$error":"#REF!"},{"$error":"#REF!"},{"$error":"#REF!"},{"$error":"#REF!"},{"$error":"#REF!"},{"$error":"#REF!"},{"$error":"#REF!"},{"$error":"#REF!"},{"$error":"#REF!"},{"$error":"#REF!"},{"$error":"#REF!"},{"$error":"#REF!"},{"$error":"#REF!"},{"$error":"#REF!"},{"$error":"#REF!"},{"$error":"#REF!"},{"$error":"#REF!"},{"$error":"#REF!"},{"$error":"#REF!"},{"$error":"#REF!"},{"$error":"#REF!"},{"$error":"#REF!"},{"$error":"#REF!"},{"$error":"#REF!"},{"$error":"#REF!"}]
[146,"The Limes / Westcourt Interim",{"$error":"#N/A"},{"$error":"#N/A"},{"$error":"#N/A"},{"$error":"#N/A"},{"$error":"#N/A"},{"$error":"#N/A"},{"$error":"#N/A"},{"$error":"#N/A"},{"$error":"#N/A"},{"$error":"#N/A"},{"$error":"#N/A"},{"$error":"#N/A"},{"$error":"#N/A"},{"$error":"#N/A"},{"$error":"#N/A"},{"$error":"#N/A"},{"$error":"#N/A"},{"$error":"#N/A"},{"$error":"#N/A"},{"$error":"#N/A"},{"$error":"#N/A"},{"$error":"#N/A"},{"$error":"#N/A"},{"$error":"#N/A"},{"$error":"#N/A"},{"$error":"#N/A"},{"$error":"#N/A"},{"$error":"#N/A"},{"$error":"#N/A"},{"$error":"#N/A"},{"$error":"#N/A"},{"$error":"#N/A"},{"$error":"#N/A"},{"$error":"#N/A"},{"$error":"#N/A"},{"$error":"#N/A"},{"$error":"#N/A"},{"$error":"#N/A"},{"$error":"#N/A"},{"$error":"#N/A"},{"$error":"#N/A"},{"$error":"#N/A"},{"$error":"#N/A"},{"$error":"#N/A"},{"$error":"#N/A"},{"$error":"#N/A"},{"$error":"#N/A"},{"$error":"#N/A"},{"$error":"#N/A"},{"$error":"#N/A"},{"$error":"#N/A"},{"$error":"#N/A"},{"$error":"#N/A"},{"$error":"#N/A"},{"$error":"#N/A"},{"$error":"#N/A"},{"$error":"#N/A"},{"$error":"#N/A"},{"$error":"#N/A"},{"$error":"#N/A"},{"$error":"#N/A"},{"$error":"#N/A"},{"$error":"#N/A"},{"$error":"#N/A"},{"$error":"#N/A"},{"$error":"#N/A"},{"$error":"#N/A"},{"$error":"#N/A"},{"$error":"#N/A"},{"$error":"#N/A"},{"$error":"#N/A"},{"$error":"#N/A"},{"$error":"#N/A"},{"$error":"#N/A"},{"$error":"#N/A"},{"$error":"#N/A"},{"$error":"#N/A"},{"$error":"#N/A"},{"$error":"#N/A"},{"$error":"#N/A"},{"$error":"#N/A"},{"$error":"#N/A"},{"$error":"#N/A"},{"$error":"#N/A"},{"$error":"#N/A"}]
[147,"Finberry PS, 1FE",{"$error":"#N/A"},{"$error":"#N/A"},{"$error":"#N/A"},{"$error":"#N/A"},{"$error":"#N/A"},{"$error":"#N/A"},{"$error":"#N/A"},{"$error":"#N/A"},{"$error":"#N/A"},{"$error":"#N/A"},{"$error":"#N/A"},{"$error":"#N/A"},{"$error":"#N/A"},{"$error":"#N/A"},{"$error":"#N/A"},{"$error":"#N/A"},{"$error":"#N/A"},{"$error":"#N/A"},{"$error":"#N/A"},{"$error":"#N/A"},{"$error":"#N/A"},{"$error":"#N/A"},{"$error":"#N/A"},{"$error":"#N/A"},{"$error":"#N/A"},{"$error":"#N/A"},{"$error":"#N/A"},{"$error":"#N/A"},{"$error":"#N/A"},{"$error":"#N/A"},{"$error":"#N/A"},{"$error":"#N/A"},{"$error":"#N/A"},{"$error":"#N/A"},{"$error":"#N/A"},{"$error":"#N/A"},{"$error":"#N/A"},{"$error":"#N/A"},{"$error":"#N/A"},{"$error":"#N/A"},{"$error":"#N/A"},{"$error":"#N/A"},{"$error":"#N/A"},{"$error":"#N/A"},{"$error":"#N/A"},{"$error":"#N/A"},{"$error":"#N/A"},{"$error":"#N/A"},{"$error":"#N/A"},{"$error":"#N/A"},{"$error":"#N/A"},{"$error":"#N/A"},{"$error":"#N/A"},{"$error":"#N/A"},{"$error":"#N/A"},{"$error":"#N/A"},{"$error":"#N/A"},{"$error":"#N/A"},{"$error":"#N/A"},{"$error":"#N/A"},{"$error":"#N/A"},{"$error":"#N/A"},{"$error":"#N/A"},{"$error":"#N/A"},{"$error":"#N/A"},{"$error":"#N/A"},{"$error":"#N/A"},{"$error":"#N/A"},{"$error":"#N/A"},{"$error":"#N/A"},{"$error":"#N/A"},{"$error":"#N/A"},{"$error":"#N/A"},{"$error":"#N/A"},{"$error":"#N/A"},{"$error":"#N/A"},{"$error":"#N/A"},{"$error":"#N/A"},{"$error":"#N/A"},{"$error":"#N/A"},{"$error":"#N/A"},{"$error":"#N/A"},{"$error":"#N/A"},{"$error":"#N/A"},{"$error":"#N/A"}]
[148,"St Nicholas PS","South","30YR7 places ",100000,100000,{"$error":"#REF!"},{"$error":"#REF!"},{"$error":"#REF!"},{"$error":"#REF!"},{"$error":"#REF!"},{"$error":"#REF!"},{"$error":"#REF!"},{"$error":"#REF!"},{"$error":"#REF!"},{"$error":"#REF!"},{"$error":"#REF!"},{"$error":"#REF!"},{"$error":"#REF!"},{"$error":"#REF!"},{"$error":"#REF!"},{"$error":"#REF!"},{"$error":"#REF!"},{"$error":"#REF!"},{"$error":"#REF!"},{"$error":"#REF!"},{"$error":"#REF!"},{"$error":"#REF!"},{"$error":"#REF!"},{"$error":"#REF!"},{"$error":"#REF!"},{"$error":"#REF!"},{"$error":"#REF!"},{"$error":"#REF!"},{"$error":"#REF!"},{"$error":"#REF!"},{"$error":"#REF!"},{"$error":"#REF!"},{"$error":"#REF!"},{"$error":"#REF!"},{"$error":"#REF!"},{"$error":"#REF!"},{"$error":"#REF!"},{"$error":"#REF!"},{"$error":"#REF!"},{"$error":"#REF!"},{"$error":"#REF!"},{"$error":"#REF!"},{"$error":"#REF!"},{"$error":"#REF!"},{"$error":"#REF!"},{"$error":"#REF!"},{"$error":"#REF!"},{"$error":"#REF!"},{"$error":"#REF!"},{"$error":"#REF!"},{"$error":"#REF!"},{"$error":"#REF!"},{"$error":"#REF!"},{"$error":"#REF!"},{"$error":"#REF!"},{"$error":"#REF!"},{"$error":"#REF!"},{"$error":"#REF!"},{"$error":"#REF!"},{"$error":"#REF!"},{"$error":"#REF!"},{"$error":"#REF!"},{"$error":"#REF!"},{"$error":"#REF!"},{"$error":"#REF!"},{"$error":"#REF!"},{"$error":"#REF!"},{"$error":"#REF!"},{"$error":"#REF!"},{"$error":"#REF!"},{"$error":"#REF!"},{"$error":"#REF!"},{"$error":"#REF!"},{"$error":"#REF!"},{"$error":"#REF!"},{"$error":"#REF!"},{"$error":"#REF!"},{"$error":"#REF!"},{"$error":"#REF!"},{"$error":"#REF!"},{"$error":"#REF!"}]
[149,"Towers (North) School","South","0.5FE Expansion",350000,350000,{"$error":"#REF!"},{"$error":"#REF!"},{"$error":"#REF!"},{"$error":"#REF!"},{"$error":"#REF!"},{"$error":"#REF!"},{"$error":"#REF!"},{"$error":"#REF!"},{"$error":"#REF!"},{"$error":"#REF!"},{"$error":"#REF!"},{"$error":"#REF!"},{"$error":"#REF!"},{"$error":"#REF!"},{"$error":"#REF!"},{"$error":"#REF!"},{"$error":"#REF!"},{"$error":"#REF!"},{"$error":"#REF!"},{"$error":"#REF!"},{"$error":"#REF!"},{"$error":"#REF!"},{"$error":"#REF!"},{"$error":"#REF!"},{"$error":"#REF!"},{"$error":"#REF!"},{"$error":"#REF!"},{"$error":"#REF!"},{"$error":"#REF!"},{"$error":"#REF!"},{"$error":"#REF!"},{"$error":"#REF!"},{"$error":"#REF!"},{"$error":"#REF!"},{"$error":"#REF!"},{"$error":"#REF!"},{"$error":"#REF!"},{"$error":"#REF!"},{"$error":"#REF!"},{"$error":"#REF!"},{"$error":"#REF!"},{"$error":"#REF!"},{"$error":"#REF!"},{"$error":"#REF!"},{"$error":"#REF!"},{"$error":"#REF!"},{"$error":"#REF!"},{"$error":"#REF!"},{"$error":"#REF!"},{"$error":"#REF!"},{"$error":"#REF!"},{"$error":"#REF!"},{"$error":"#REF!"},{"$error":"#REF!"},{"$error":"#REF!"},{"$error":"#REF!"},{"$error":"#REF!"},{"$error":"#REF!"},{"$error":"#REF!"},{"$error":"#REF!"},{"$error":"#REF!"},{"$error":"#REF!"},{"$error":"#REF!"},{"$error":"#REF!"},{"$error":"#REF!"},{"$error":"#REF!"},{"$error":"#REF!"},{"$error":"#REF!"},{"$error":"#REF!"},{"$error":"#REF!"},{"$error":"#REF!"},{"$error":"#REF!"},{"$error":"#REF!"},{"$error":"#REF!"},{"$error":"#REF!"},{"$error":"#REF!"},{"$error":"#REF!"},{"$error":"#REF!"},{"$error":"#REF!"},{"$error":"#REF!"},{"$error":"#REF!"}]
[150,"Sunnybank PS","East","0.5FE Expansion plus relocation of Infant block onto the Junior site",3000000,3000000,{"$error":"#REF!"},{"$error":"#REF!"},{"$error":"#REF!"},{"$error":"#REF!"},{"$error":"#REF!"},{"$error":"#REF!"},{"$error":"#REF!"},{"$error":"#REF!"},{"$error":"#REF!"},{"$error":"#REF!"},{"$error":"#REF!"},{"$error":"#REF!"},{"$error":"#REF!"},{"$error":"#REF!"},{"$error":"#REF!"},{"$error":"#REF!"},{"$error":"#REF!"},{"$error":"#REF!"},{"$error":"#REF!"},{"$error":"#REF!"},{"$error":"#REF!"},{"$error":"#REF!"},{"$error":"#REF!"},{"$error":"#REF!"},{"$error":"#REF!"},{"$error":"#REF!"},{"$error":"#REF!"},{"$error":"#REF!"},{"$error":"#REF!"},{"$error":"#REF!"},{"$error":"#REF!"},{"$error":"#REF!"},{"$error":"#REF!"},{"$error":"#REF!"},{"$error":"#REF!"},{"$error":"#REF!"},{"$error":"#REF!"},{"$error":"#REF!"},{"$error":"#REF!"},{"$error":"#REF!"},{"$error":"#REF!"},{"$error":"#REF!"},{"$error":"#REF!"},{"$error":"#REF!"},{"$error":"#REF!"},{"$error":"#REF!"},{"$error":"#REF!"},{"$error":"#REF!"},{"$error":"#REF!"},{"$error":"#REF!"},{"$error":"#REF!"},{"$error":"#REF!"},{"$error":"#REF!"},{"$error":"#REF!"},{"$error":"#REF!"},{"$error":"#REF!"},{"$error":"#REF!"},{"$error":"#REF!"},{"$error":"#REF!"},{"$error":"#REF!"},{"$error":"#REF!"},{"$error":"#REF!"},{"$error":"#REF!"},{"$error":"#REF!"},{"$error":"#REF!"},{"$error":"#REF!"},{"$error":"#REF!"},{"$error":"#REF!"},{"$error":"#REF!"},{"$error":"#REF!"},{"$error":"#REF!"},{"$error":"#REF!"},{"$error":"#REF!"},{"$error":"#REF!"},{"$error":"#REF!"},{"$error":"#REF!"},{"$error":"#REF!"},{"$error":"#REF!"},{"$error":"#REF!"},{"$error":"#REF!"},{"$error":"#REF!"}]
[151,"Former RSD","East","6FE New School. Exlcudes land purchase as separate RoD ",20000000,18000000,{"$error":"#REF!"},{"$error":"#REF!"},{"$error":"#REF!"},{"$error":"#REF!"},{"$error":"#REF!"},{"$error":"#REF!"},{"$error":"#REF!"},{"$error":"#REF!"},{"$error":"#REF!"},{"$error":"#REF!"},{"$error":"#REF!"},{"$error":"#REF!"},{"$error":"#REF!"},{"$error":"#REF!"},{"$error":"#REF!"},{"$error":"#REF!"},{"$error":"#REF!"},{"$error":"#REF!"},{"$error":"#REF!"},{"$error":"#REF!"},{"$error":"#REF!"},{"$error":"#REF!"},{"$error":"#REF!"},{"$error":"#REF!"},{"$error":"#REF!"},{"$error":"#REF!"},{"$error":"#REF!"},{"$error":"#REF!"},{"$error":"#REF!"},{"$error":"#REF!"},{"$error":"#REF!"},{"$error":"#REF!"},{"$error":"#REF!"},{"$error":"#REF!"},{"$error":"#REF!"},{"$error":"#REF!"},{"$error":"#REF!"},{"$error":"#REF!"},{"$error":"#REF!"},{"$error":"#REF!"},{"$error":"#REF!"},{"$error":"#REF!"},{"$error":"#REF!"},{"$error":"#REF!"},{"$error":"#REF!"},{"$error":"#REF!"},{"$error":"#REF!"},{"$error":"#REF!"},{"$error":"#REF!"},{"$error":"#REF!"},{"$error":"#REF!"},{"$error":"#REF!"},{"$error":"#REF!"},{"$error":"#REF!"},{"$error":"#REF!"},{"$error":"#REF!"},{"$error":"#REF!"},{"$error":"#REF!"},{"$error":"#REF!"},{"$error":"#REF!"},{"$error":"#REF!"},{"$error":"#REF!"},{"$error":"#REF!"},{"$error":"#REF!"},{"$error":"#REF!"},{"$error":"#REF!"},{"$error":"#REF!"},{"$error":"#REF!"},{"$error":"#REF!"},{"$error":"#REF!"},{"$error":"#REF!"},{"$error":"#REF!"},{"$error":"#REF!"},{"$error":"#REF!"},{"$error":"#REF!"},{"$error":"#REF!"},{"$error":"#REF!"},{"$error":"#REF!"},{"$error":"#REF!"},{"$error":"#REF!"},{"$error":"#REF!"}]
[152,"Hermitage Lane PS","West","2FE new school",7000000,7000000,{"$error":"#REF!"},{"$error":"#REF!"},{"$error":"#REF!"},{"$error":"#REF!"},{"$error":"#REF!"},{"$error":"#REF!"},{"$error":"#REF!"},{"$error":"#REF!"},{"$error":"#REF!"},{"$error":"#REF!"},{"$error":"#REF!"},{"$error":"#REF!"},{"$error":"#REF!"},{"$error":"#REF!"},{"$error":"#REF!"},{"$error":"#REF!"},{"$error":"#REF!"},{"$error":"#REF!"},{"$error":"#REF!"},{"$error":"#REF!"},{"$error":"#REF!"},{"$error":"#REF!"},{"$error":"#REF!"},{"$error":"#REF!"},{"$error":"#REF!"},{"$error":"#REF!"},{"$error":"#REF!"},{"$error":"#REF!"},{"$error":"#REF!"},{"$error":"#REF!"},{"$error":"#REF!"},{"$error":"#REF!"},{"$error":"#REF!"},{"$error":"#REF!"},{"$error":"#REF!"},{"$error":"#REF!"},{"$error":"#REF!"},{"$error":"#REF!"},{"$error":"#REF!"},{"$error":"#REF!"},{"$error":"#REF!"},{"$error":"#REF!"},{"$error":"#REF!"},{"$error":"#REF!"},{"$error":"#REF!"},{"$error":"#REF!"},{"$error":"#REF!"},{"$error":"#REF!"},{"$error":"#REF!"},{"$error":"#REF!"},{"$error":"#REF!"},{"$error":"#REF!"},{"$error":"#REF!"},{"$error":"#REF!"},{"$error":"#REF!"},{"$error":"#REF!"},{"$error":"#REF!"},{"$error":"#REF!"},{"$error":"#REF!"},{"$error":"#REF!"},{"$error":"#REF!"},{"$error":"#REF!"},{"$error":"#REF!"},{"$error":"#REF!"},{"$error":"#REF!"},{"$error":"#REF!"},{"$error":"#REF!"},{"$error":"#REF!"},{"$error":"#REF!"},{"$error":"#REF!"},{"$error":"#REF!"},{"$error":"#REF!"},{"$error":"#REF!"},{"$error":"#REF!"},{"$error":"#REF!"},{"$error":"#REF!"},{"$error":"#REF!"},{"$error":"#REF!"},{"$error":"#REF!"},{"$error":"#REF!"},{"$error":"#REF!"}]
[153,"Swanley and Hextable PS","North","1FE Expansion",2750000,2750000,{"$error":"#REF!"},{"$error":"#REF!"},{"$error":"#REF!"},{"$error":"#REF!"},{"$error":"#REF!"},{"$error":"#REF!"},{"$error":"#REF!"},{"$error":"#REF!"},{"$error":"#REF!"},{"$error":"#REF!"},{"$error":"#REF!"},{"$error":"#REF!"},{"$error":"#REF!"},{"$error":"#REF!"},{"$error":"#REF!"},{"$error":"#REF!"},{"$error":"#REF!"},{"$error":"#REF!"},{"$error":"#REF!"},{"$error":"#REF!"},{"$error":"#REF!"},{"$error":"#REF!"},{"$error":"#REF!"},{"$error":"#REF!"},{"$error":"#REF!"},{"$error":"#REF!"},{"$error":"#REF!"},{"$error":"#REF!"},{"$error":"#REF!"},{"$error":"#REF!"},{"$error":"#REF!"},{"$error":"#REF!"},{"$error":"#REF!"},{"$error":"#REF!"},{"$error":"#REF!"},{"$error":"#REF!"},{"$error":"#REF!"},{"$error":"#REF!"},{"$error":"#REF!"},{"$error":"#REF!"},{"$error":"#REF!"},{"$error":"#REF!"},{"$error":"#REF!"},{"$error":"#REF!"},{"$error":"#REF!"},{"$error":"#REF!"},{"$error":"#REF!"},{"$error":"#REF!"},{"$error":"#REF!"},{"$error":"#REF!"},{"$error":"#REF!"},{"$error":"#REF!"},{"$error":"#REF!"},{"$error":"#REF!"},{"$error":"#REF!"},{"$error":"#REF!"},{"$error":"#REF!"},{"$error":"#REF!"},{"$error":"#REF!"},{"$error":"#REF!"},{"$error":"#REF!"},{"$error":"#REF!"},{"$error":"#REF!"},{"$error":"#REF!"},{"$error":"#REF!"},{"$error":"#REF!"},{"$error":"#REF!"},{"$error":"#REF!"},{"$error":"#REF!"},{"$error":"#REF!"},{"$error":"#REF!"},{"$error":"#REF!"},{"$error":"#REF!"},{"$error":"#REF!"},{"$error":"#REF!"},{"$error":"#REF!"},{"$error":"#REF!"},{"$error":"#REF!"},{"$error":"#REF!"},{"$error":"#REF!"},{"$error":"#REF!"}]
[154,"St Gregory's PS","East","0.5FE Expansion",1500000,1500000,{"$error":"#REF!"},{"$error":"#REF!"},{"$error":"#REF!"},{"$error":"#REF!"},{"$error":"#REF!"},{"$error":"#REF!"},{"$error":"#REF!"},{"$error":"#REF!"},{"$error":"#REF!"},{"$error":"#REF!"},{"$error":"#REF!"},{"$error":"#REF!"},{"$error":"#REF!"},{"$error":"#REF!"},{"$error":"#REF!"},{"$error":"#REF!"},{"$error":"#REF!"},{"$error":"#REF!"},{"$error":"#REF!"},{"$error":"#REF!"},{"$error":"#REF!"},{"$error":"#REF!"},{"$error":"#REF!"},{"$error":"#REF!"},{"$error":"#REF!"},{"$error":"#REF!"},{"$error":"#REF!"},{"$error":"#REF!"},{"$error":"#REF!"},{"$error":"#REF!"},{"$error":"#REF!"},{"$error":"#REF!"},{"$error":"#REF!"},{"$error":"#REF!"},{"$error":"#REF!"},{"$error":"#REF!"},{"$error":"#REF!"},{"$error":"#REF!"},{"$error":"#REF!"},{"$error":"#REF!"},{"$error":"#REF!"},{"$error":"#REF!"},{"$error":"#REF!"},{"$error":"#REF!"},{"$error":"#REF!"},{"$error":"#REF!"},{"$error":"#REF!"},{"$error":"#REF!"},{"$error":"#REF!"},{"$error":"#REF!"},{"$error":"#REF!"},{"$error":"#REF!"},{"$error":"#REF!"},{"$error":"#REF!"},{"$error":"#REF!"},{"$error":"#REF!"},{"$error":"#REF!"},{"$error":"#REF!"},{"$error":"#REF!"},{"$error":"#REF!"},{"$error":"#REF!"},{"$error":"#REF!"},{"$error":"#REF!"},{"$error":"#REF!"},{"$error":"#REF!"},{"$error":"#REF!"},{"$error":"#REF!"},{"$error":"#REF!"},{"$error":"#REF!"},{"$error":"#REF!"},{"$error":"#REF!"},{"$error":"#REF!"},{"$error":"#REF!"},{"$error":"#REF!"},{"$error":"#REF!"},{"$error":"#REF!"},{"$error":"#REF!"},{"$error":"#REF!"},{"$error":"#REF!"},{"$error":"#REF!"},{"$error":"#REF!"}]
[155,"Quinton Road Secondary School",{"$error":"#N/A"},{"$error":"#N/A"},{"$error":"#N/A"},{"$error":"#N/A"},{"$error":"#N/A"},{"$error":"#N/A"},{"$error":"#N/A"},{"$error":"#N/A"},{"$error":"#N/A"},{"$error":"#N/A"},{"$error":"#N/A"},{"$error":"#N/A"},{"$error":"#N/A"},{"$error":"#N/A"},{"$error":"#N/A"},{"$error":"#N/A"},{"$error":"#N/A"},{"$error":"#N/A"},{"$error":"#N/A"},{"$error":"#N/A"},{"$error":"#N/A"},{"$error":"#N/A"},{"$error":"#N/A"},{"$error":"#N/A"},{"$error":"#N/A"},{"$error":"#N/A"},{"$error":"#N/A"},{"$error":"#N/A"},{"$error":"#N/A"},{"$error":"#N/A"},{"$error":"#N/A"},{"$error":"#N/A"},{"$error":"#N/A"},{"$error":"#N/A"},{"$error":"#N/A"},{"$error":"#N/A"},{"$error":"#N/A"},{"$error":"#N/A"},{"$error":"#N/A"},{"$error":"#N/A"},{"$error":"#N/A"},{"$error":"#N/A"},{"$error":"#N/A"},{"$error":"#N/A"},{"$error":"#N/A"},{"$error":"#N/A"},{"$error":"#N/A"},{"$error":"#N/A"},{"$error":"#N/A"},{"$error":"#N/A"},{"$error":"#N/A"},{"$error":"#N/A"},{"$error":"#N/A"},{"$error":"#N/A"},{"$error":"#N/A"},{"$error":"#N/A"},{"$error":"#N/A"},{"$error":"#N/A"},{"$error":"#N/A"},{"$error":"#N/A"},{"$error":"#N/A"},{"$error":"#N/A"},{"$error":"#N/A"},{"$error":"#N/A"},{"$error":"#N/A"},{"$error":"#N/A"},{"$error":"#N/A"},{"$error":"#N/A"},{"$error":"#N/A"},{"$error":"#N/A"},{"$error":"#N/A"},{"$error":"#N/A"},{"$error":"#N/A"},{"$error":"#N/A"},{"$error":"#N/A"},{"$error":"#N/A"},{"$error":"#N/A"},{"$error":"#N/A"},{"$error":"#N/A"},{"$error":"#N/A"},{"$error":"#N/A"},{"$error":"#N/A"},{"$error":"#N/A"},{"$error":"#N/A"},{"$error":"#N/A"}]
[156,"Skinners Kent Academy","West","6FE Expansion",20000000,20000000,{"$error":"#REF!"},{"$error":"#REF!"},{"$error":"#REF!"},{"$error":"#REF!"},{"$error":"#REF!"},{"$error":"#REF!"},{"$error":"#REF!"},{"$error":"#REF!"},{"$error":"#REF!"},{"$error":"#REF!"},{"$error":"#REF!"},{"$error":"#REF!"},{"$error":"#REF!"},{"$error":"#REF!"},{"$error":"#REF!"},{"$error":"#REF!"},{"$error":"#REF!"},{"$error":"#REF!"},{"$error":"#REF!"},{"$error":"#REF!"},{"$error":"#REF!"},{"$error":"#REF!"},{"$error":"#REF!"},{"$error":"#REF!"},{"$error":"#REF!"},{"$error":"#REF!"},{"$error":"#REF!"},{"$error":"#REF!"},{"$error":"#REF!"},{"$error":"#REF!"},{"$error":"#REF!"},{"$error":"#REF!"},{"$error":"#REF!"},{"$error":"#REF!"},{"$error":"#REF!"},{"$error":"#REF!"},{"$error":"#REF!"},{"$error":"#REF!"},{"$error":"#REF!"},{"$error":"#REF!"},{"$error":"#REF!"},{"$error":"#REF!"},{"$error":"#REF!"},{"$error":"#REF!"},{"$error":"#REF!"},{"$error":"#REF!"},{"$error":"#REF!"},{"$error":"#REF!"},{"$error":"#REF!"},{"$error":"#REF!"},{"$error":"#REF!"},{"$error":"#REF!"},{"$error":"#REF!"},{"$error":"#REF!"},{"$error":"#REF!"},{"$error":"#REF!"},{"$error":"#REF!"},{"$error":"#REF!"},{"$error":"#REF!"},{"$error":"#REF!"},{"$error":"#REF!"},{"$error":"#REF!"},{"$error":"#REF!"},{"$error":"#REF!"},{"$error":"#REF!"},{"$error":"#REF!"},{"$error":"#REF!"},{"$error":"#REF!"},{"$error":"#REF!"},{"$error":"#REF!"},{"$error":"#REF!"},{"$error":"#REF!"},{"$error":"#REF!"},{"$error":"#REF!"},{"$error":"#REF!"},{"$error":"#REF!"},{"$error":"#REF!"},{"$error":"#REF!"},{"$error":"#REF!"},{"$error":"#REF!"},{"$error":"#REF!"}]
[157,"Tonbridge and Malling Area, 3FE",{"$error":"#N/A"},{"$error":"#N/A"},{"$error":"#N/A"},{"$error":"#N/A"},{"$error":"#N/A"},{"$error":"#N/A"},{"$error":"#N/A"},{"$error":"#N/A"},{"$error":"#N/A"},{"$error":"#N/A"},{"$error":"#N/A"},{"$error":"#N/A"},{"$error":"#N/A"},{"$error":"#N/A"},{"$error":"#N/A"},{"$error":"#N/A"},{"$error":"#N/A"},{"$error":"#N/A"},{"$error":"#N/A"},{"$error":"#N/A"},{"$error":"#N/A"},{"$error":"#N/A"},{"$error":"#N/A"},{"$error":"#N/A"},{"$error":"#N/A"},{"$error":"#N/A"},{"$error":"#N/A"},{"$error":"#N/A"},{"$error":"#N/A"},{"$error":"#N/A"},{"$error":"#N/A"},{"$error":"#N/A"},{"$error":"#N/A"},{"$error":"#N/A"},{"$error":"#N/A"},{"$error":"#N/A"},{"$error":"#N/A"},{"$error":"#N/A"},{"$error":"#N/A"},{"$error":"#N/A"},{"$error":"#N/A"},{"$error":"#N/A"},{"$error":"#N/A"},{"$error":"#N/A"},{"$error":"#N/A"},{"$error":"#N/A"},{"$error":"#N/A"},{"$error":"#N/A"},{"$error":"#N/A"},{"$error":"#N/A"},{"$error":"#N/A"},{"$error":"#N/A"},{"$error":"#N/A"},{"$error":"#N/A"},{"$error":"#N/A"},{"$error":"#N/A"},{"$error":"#N/A"},{"$error":"#N/A"},{"$error":"#N/A"},{"$error":"#N/A"},{"$error":"#N/A"},{"$error":"#N/A"},{"$error":"#N/A"},{"$error":"#N/A"},{"$error":"#N/A"},{"$error":"#N/A"},{"$error":"#N/A"},{"$error":"#N/A"},{"$error":"#N/A"},{"$error":"#N/A"},{"$error":"#N/A"},{"$error":"#N/A"},{"$error":"#N/A"},{"$error":"#N/A"},{"$error":"#N/A"},{"$error":"#N/A"},{"$error":"#N/A"},{"$error":"#N/A"},{"$error":"#N/A"},{"$error":"#N/A"},{"$error":"#N/A"},{"$error":"#N/A"},{"$error":"#N/A"},{"$error":"#N/A"},{"$error":"#N/A"}]
[158,"Tonbridge and Malling Area, 2FE",{"$error":"#N/A"},{"$error":"#N/A"},{"$error":"#N/A"},{"$error":"#N/A"},{"$error":"#N/A"},{"$error":"#N/A"},{"$error":"#N/A"},{"$error":"#N/A"},{"$error":"#N/A"},{"$error":"#N/A"},{"$error":"#N/A"},{"$error":"#N/A"},{"$error":"#N/A"},{"$error":"#N/A"},{"$error":"#N/A"},{"$error":"#N/A"},{"$error":"#N/A"},{"$error":"#N/A"},{"$error":"#N/A"},{"$error":"#N/A"},{"$error":"#N/A"},{"$error":"#N/A"},{"$error":"#N/A"},{"$error":"#N/A"},{"$error":"#N/A"},{"$error":"#N/A"},{"$error":"#N/A"},{"$error":"#N/A"},{"$error":"#N/A"},{"$error":"#N/A"},{"$error":"#N/A"},{"$error":"#N/A"},{"$error":"#N/A"},{"$error":"#N/A"},{"$error":"#N/A"},{"$error":"#N/A"},{"$error":"#N/A"},{"$error":"#N/A"},{"$error":"#N/A"},{"$error":"#N/A"},{"$error":"#N/A"},{"$error":"#N/A"},{"$error":"#N/A"},{"$error":"#N/A"},{"$error":"#N/A"},{"$error":"#N/A"},{"$error":"#N/A"},{"$error":"#N/A"},{"$error":"#N/A"},{"$error":"#N/A"},{"$error":"#N/A"},{"$error":"#N/A"},{"$error":"#N/A"},{"$error":"#N/A"},{"$error":"#N/A"},{"$error":"#N/A"},{"$error":"#N/A"},{"$error":"#N/A"},{"$error":"#N/A"},{"$error":"#N/A"},{"$error":"#N/A"},{"$error":"#N/A"},{"$error":"#N/A"},{"$error":"#N/A"},{"$error":"#N/A"},{"$error":"#N/A"},{"$error":"#N/A"},{"$error":"#N/A"},{"$error":"#N/A"},{"$error":"#N/A"},{"$error":"#N/A"},{"$error":"#N/A"},{"$error":"#N/A"},{"$error":"#N/A"},{"$error":"#N/A"},{"$error":"#N/A"},{"$error":"#N/A"},{"$error":"#N/A"},{"$error":"#N/A"},{"$error":"#N/A"},{"$error":"#N/A"},{"$error":"#N/A"},{"$error":"#N/A"},{"$error":"#N/A"},{"$error":"#N/A"}]
[159,"Pent Valley - Demolition",{"$error":"#N/A"},{"$error":"#N/A"},{"$error":"#N/A"},{"$error":"#N/A"},{"$error":"#N/A"},{"$error":"#N/A"},{"$error":"#N/A"},{"$error":"#N/A"},{"$error":"#N/A"},{"$error":"#N/A"},{"$error":"#N/A"},{"$error":"#N/A"},{"$error":"#N/A"},{"$error":"#N/A"},{"$error":"#N/A"},{"$error":"#N/A"},{"$error":"#N/A"},{"$error":"#N/A"},{"$error":"#N/A"},{"$error":"#N/A"},{"$error":"#N/A"},{"$error":"#N/A"},{"$error":"#N/A"},{"$error":"#N/A"},{"$error":"#N/A"},{"$error":"#N/A"},{"$error":"#N/A"},{"$error":"#N/A"},{"$error":"#N/A"},{"$error":"#N/A"},{"$error":"#N/A"},{"$error":"#N/A"},{"$error":"#N/A"},{"$error":"#N/A"},{"$error":"#N/A"},{"$error":"#N/A"},{"$error":"#N/A"},{"$error":"#N/A"},{"$error":"#N/A"},{"$error":"#N/A"},{"$error":"#N/A"},{"$error":"#N/A"},{"$error":"#N/A"},{"$error":"#N/A"},{"$error":"#N/A"},{"$error":"#N/A"},{"$error":"#N/A"},{"$error":"#N/A"},{"$error":"#N/A"},{"$error":"#N/A"},{"$error":"#N/A"},{"$error":"#N/A"},{"$error":"#N/A"},{"$error":"#N/A"},{"$error":"#N/A"},{"$error":"#N/A"},{"$error":"#N/A"},{"$error":"#N/A"},{"$error":"#N/A"},{"$error":"#N/A"},{"$error":"#N/A"},{"$error":"#N/A"},{"$error":"#N/A"},{"$error":"#N/A"},{"$error":"#N/A"},{"$error":"#N/A"},{"$error":"#N/A"},{"$error":"#N/A"},{"$error":"#N/A"},{"$error":"#N/A"},{"$error":"#N/A"},{"$error":"#N/A"},{"$error":"#N/A"},{"$error":"#N/A"},{"$error":"#N/A"},{"$error":"#N/A"},{"$error":"#N/A"},{"$error":"#N/A"},{"$error":"#N/A"},{"$error":"#N/A"},{"$error":"#N/A"},{"$error":"#N/A"},{"$error":"#N/A"},{"$error":"#N/A"},{"$error":"#N/A"}]
[160,"New Ash Green Primary",{"$error":"#N/A"},{"$error":"#N/A"},{"$error":"#N/A"},{"$error":"#N/A"},{"$error":"#N/A"},{"$error":"#N/A"},{"$error":"#N/A"},{"$error":"#N/A"},{"$error":"#N/A"},{"$error":"#N/A"},{"$error":"#N/A"},{"$error":"#N/A"},{"$error":"#N/A"},{"$error":"#N/A"},{"$error":"#N/A"},{"$error":"#N/A"},{"$error":"#N/A"},{"$error":"#N/A"},{"$error":"#N/A"},{"$error":"#N/A"},{"$error":"#N/A"},{"$error":"#N/A"},{"$error":"#N/A"},{"$error":"#N/A"},{"$error":"#N/A"},{"$error":"#N/A"},{"$error":"#N/A"},{"$error":"#N/A"},{"$error":"#N/A"},{"$error":"#N/A"},{"$error":"#N/A"},{"$error":"#N/A"},{"$error":"#N/A"},{"$error":"#N/A"},{"$error":"#N/A"},{"$error":"#N/A"},{"$error":"#N/A"},{"$error":"#N/A"},{"$error":"#N/A"},{"$error":"#N/A"},{"$error":"#N/A"},{"$error":"#N/A"},{"$error":"#N/A"},{"$error":"#N/A"},{"$error":"#N/A"},{"$error":"#N/A"},{"$error":"#N/A"},{"$error":"#N/A"},{"$error":"#N/A"},{"$error":"#N/A"},{"$error":"#N/A"},{"$error":"#N/A"},{"$error":"#N/A"},{"$error":"#N/A"},{"$error":"#N/A"},{"$error":"#N/A"},{"$error":"#N/A"},{"$error":"#N/A"},{"$error":"#N/A"},{"$error":"#N/A"},{"$error":"#N/A"},{"$error":"#N/A"},{"$error":"#N/A"},{"$error":"#N/A"},{"$error":"#N/A"},{"$error":"#N/A"},{"$error":"#N/A"},{"$error":"#N/A"},{"$error":"#N/A"},{"$error":"#N/A"},{"$error":"#N/A"},{"$error":"#N/A"},{"$error":"#N/A"},{"$error":"#N/A"},{"$error":"#N/A"},{"$error":"#N/A"},{"$error":"#N/A"},{"$error":"#N/A"},{"$error":"#N/A"},{"$error":"#N/A"},{"$error":"#N/A"},{"$error":"#N/A"},{"$error":"#N/A"},{"$error":"#N/A"},{"$error":"#N/A"}]
[161,"Simon Langdon Boys",{"$error":"#N/A"},{"$error":"#N/A"},{"$error":"#N/A"},{"$error":"#N/A"},{"$error":"#N/A"},{"$error":"#N/A"},{"$error":"#N/A"},{"$error":"#N/A"},{"$error":"#N/A"},{"$error":"#N/A"},{"$error":"#N/A"},{"$error":"#N/A"},{"$error":"#N/A"},{"$error":"#N/A"},{"$error":"#N/A"},{"$error":"#N/A"},{"$error":"#N/A"},{"$error":"#N/A"},{"$error":"#N/A"},{"$error":"#N/A"},{"$error":"#N/A"},{"$error":"#N/A"},{"$error":"#N/A"},{"$error":"#N/A"},{"$error":"#N/A"},{"$error":"#N/A"},{"$error":"#N/A"},{"$error":"#N/A"},{"$error":"#N/A"},{"$error":"#N/A"},{"$error":"#N/A"},{"$error":"#N/A"},{"$error":"#N/A"},{"$error":"#N/A"},{"$error":"#N/A"},{"$error":"#N/A"},{"$error":"#N/A"},{"$error":"#N/A"},{"$error":"#N/A"},{"$error":"#N/A"},{"$error":"#N/A"},{"$error":"#N/A"},{"$error":"#N/A"},{"$error":"#N/A"},{"$error":"#N/A"},{"$error":"#N/A"},{"$error":"#N/A"},{"$error":"#N/A"},{"$error":"#N/A"},{"$error":"#N/A"},{"$error":"#N/A"},{"$error":"#N/A"},{"$error":"#N/A"},{"$error":"#N/A"},{"$error":"#N/A"},{"$error":"#N/A"},{"$error":"#N/A"},{"$error":"#N/A"},{"$error":"#N/A"},{"$error":"#N/A"},{"$error":"#N/A"},{"$error":"#N/A"},{"$error":"#N/A"},{"$error":"#N/A"},{"$error":"#N/A"},{"$error":"#N/A"},{"$error":"#N/A"},{"$error":"#N/A"},{"$error":"#N/A"},{"$error":"#N/A"},{"$error":"#N/A"},{"$error":"#N/A"},{"$error":"#N/A"},{"$error":"#N/A"},{"$error":"#N/A"},{"$error":"#N/A"},{"$error":"#N/A"},{"$error":"#N/A"},{"$error":"#N/A"},{"$error":"#N/A"},{"$error":"#N/A"},{"$error":"#N/A"},{"$error":"#N/A"},{"$error":"#N/A"},{"$error":"#N/A"}]
[162,"Simon Langdon Girls",{"$error":"#N/A"},{"$error":"#N/A"},{"$error":"#N/A"},{"$error":"#N/A"},{"$error":"#N/A"},{"$error":"#N/A"},{"$error":"#N/A"},{"$error":"#N/A"},{"$error":"#N/A"},{"$error":"#N/A"},{"$error":"#N/A"},{"$error":"#N/A"},{"$error":"#N/A"},{"$error":"#N/A"},{"$error":"#N/A"},{"$error":"#N/A"},{"$error":"#N/A"},{"$error":"#N/A"},{"$error":"#N/A"},{"$error":"#N/A"},{"$error":"#N/A"},{"$error":"#N/A"},{"$error":"#N/A"},{"$error":"#N/A"},{"$error":"#N/A"},{"$error":"#N/A"},{"$error":"#N/A"},{"$error":"#N/A"},{"$error":"#N/A"},{"$error":"#N/A"},{"$error":"#N/A"},{"$error":"#N/A"},{"$error":"#N/A"},{"$error":"#N/A"},{"$error":"#N/A"},{"$error":"#N/A"},{"$error":"#N/A"},{"$error":"#N/A"},{"$error":"#N/A"},{"$error":"#N/A"},{"$error":"#N/A"},{"$error":"#N/A"},{"$error":"#N/A"},{"$error":"#N/A"},{"$error":"#N/A"},{"$error":"#N/A"},{"$error":"#N/A"},{"$error":"#N/A"},{"$error":"#N/A"},{"$error":"#N/A"},{"$error":"#N/A"},{"$error":"#N/A"},{"$error":"#N/A"},{"$error":"#N/A"},{"$error":"#N/A"},{"$error":"#N/A"},{"$error":"#N/A"},{"$error":"#N/A"},{"$error":"#N/A"},{"$error":"#N/A"},{"$error":"#N/A"},{"$error":"#N/A"},{"$error":"#N/A"},{"$error":"#N/A"},{"$error":"#N/A"},{"$error":"#N/A"},{"$error":"#N/A"},{"$error":"#N/A"},{"$error":"#N/A"},{"$error":"#N/A"},{"$error":"#N/A"},{"$error":"#N/A"},{"$error":"#N/A"},{"$error":"#N/A"},{"$error":"#N/A"},{"$error":"#N/A"},{"$error":"#N/A"},{"$error":"#N/A"},{"$error":"#N/A"},{"$error":"#N/A"},{"$error":"#N/A"},{"$error":"#N/A"},{"$error":"#N/A"},{"$error":"#N/A"},{"$error":"#N/A"}]
[163,"Meadowfield School, Dining Room",{"$error":"#N/A"},{"$error":"#N/A"},{"$error":"#N/A"},{"$error":"#N/A"},{"$error":"#N/A"},{"$error":"#N/A"},{"$error":"#N/A"},{"$error":"#N/A"},{"$error":"#N/A"},{"$error":"#N/A"},{"$error":"#N/A"},{"$error":"#N/A"},{"$error":"#N/A"},{"$error":"#N/A"},{"$error":"#N/A"},{"$error":"#N/A"},{"$error":"#N/A"},{"$error":"#N/A"},{"$error":"#N/A"},{"$error":"#N/A"},{"$error":"#N/A"},{"$error":"#N/A"},{"$error":"#N/A"},{"$error":"#N/A"},{"$error":"#N/A"},{"$error":"#N/A"},{"$error":"#N/A"},{"$error":"#N/A"},{"$error":"#N/A"},{"$error":"#N/A"},{"$error":"#N/A"},{"$error":"#N/A"},{"$error":"#N/A"},{"$error":"#N/A"},{"$error":"#N/A"},{"$error":"#N/A"},{"$error":"#N/A"},{"$error":"#N/A"},{"$error":"#N/A"},{"$error":"#N/A"},{"$error":"#N/A"},{"$error":"#N/A"},{"$error":"#N/A"},{"$error":"#N/A"},{"$error":"#N/A"},{"$error":"#N/A"},{"$error":"#N/A"},{"$error":"#N/A"},{"$error":"#N/A"},{"$error":"#N/A"},{"$error":"#N/A"},{"$error":"#N/A"},{"$error":"#N/A"},{"$error":"#N/A"},{"$error":"#N/A"},{"$error":"#N/A"},{"$error":"#N/A"},{"$error":"#N/A"},{"$error":"#N/A"},{"$error":"#N/A"},{"$error":"#N/A"},{"$error":"#N/A"},{"$error":"#N/A"},{"$error":"#N/A"},{"$error":"#N/A"},{"$error":"#N/A"},{"$error":"#N/A"},{"$error":"#N/A"},{"$error":"#N/A"},{"$error":"#N/A"},{"$error":"#N/A"},{"$error":"#N/A"},{"$error":"#N/A"},{"$error":"#N/A"},{"$error":"#N/A"},{"$error":"#N/A"},{"$error":"#N/A"},{"$error":"#N/A"},{"$error":"#N/A"},{"$error":"#N/A"},{"$error":"#N/A"},{"$error":"#N/A"},{"$error":"#N/A"},{"$error":"#N/A"},{"$error":"#N/A"}]
[164,"Deal Special",{"$error":"#N/A"},{"$error":"#N/A"},{"$error":"#N/A"},{"$error":"#N/A"},{"$error":"#N/A"},{"$error":"#N/A"},{"$error":"#N/A"},{"$error":"#N/A"},{"$error":"#N/A"},{"$error":"#N/A"},{"$error":"#N/A"},{"$error":"#N/A"},{"$error":"#N/A"},{"$error":"#N/A"},{"$error":"#N/A"},{"$error":"#N/A"},{"$error":"#N/A"},{"$error":"#N/A"},{"$error":"#N/A"},{"$error":"#N/A"},{"$error":"#N/A"},{"$error":"#N/A"},{"$error":"#N/A"},{"$error":"#N/A"},{"$error":"#N/A"},{"$error":"#N/A"},{"$error":"#N/A"},{"$error":"#N/A"},{"$error":"#N/A"},{"$error":"#N/A"},{"$error":"#N/A"},{"$error":"#N/A"},{"$error":"#N/A"},{"$error":"#N/A"},{"$error":"#N/A"},{"$error":"#N/A"},{"$error":"#N/A"},{"$error":"#N/A"},{"$error":"#N/A"},{"$error":"#N/A"},{"$error":"#N/A"},{"$error":"#N/A"},{"$error":"#N/A"},{"$error":"#N/A"},{"$error":"#N/A"},{"$error":"#N/A"},{"$error":"#N/A"},{"$error":"#N/A"},{"$error":"#N/A"},{"$error":"#N/A"},{"$error":"#N/A"},{"$error":"#N/A"},{"$error":"#N/A"},{"$error":"#N/A"},{"$error":"#N/A"},{"$error":"#N/A"},{"$error":"#N/A"},{"$error":"#N/A"},{"$error":"#N/A"},{"$error":"#N/A"},{"$error":"#N/A"},{"$error":"#N/A"},{"$error":"#N/A"},{"$error":"#N/A"},{"$error":"#N/A"},{"$error":"#N/A"},{"$error":"#N/A"},{"$error":"#N/A"},{"$error":"#N/A"},{"$error":"#N/A"},{"$error":"#N/A"},{"$error":"#N/A"},{"$error":"#N/A"},{"$error":"#N/A"},{"$error":"#N/A"},{"$error":"#N/A"},{"$error":"#N/A"},{"$error":"#N/A"},{"$error":"#N/A"},{"$error":"#N/A"},{"$error":"#N/A"},{"$error":"#N/A"},{"$error":"#N/A"},{"$error":"#N/A"},{"$error":"#N/A"}]
[165,"Sheppey Special",{"$error":"#N/A"},{"$error":"#N/A"},{"$error":"#N/A"},{"$error":"#N/A"},{"$error":"#N/A"},{"$error":"#N/A"},{"$error":"#N/A"},{"$error":"#N/A"},{"$error":"#N/A"},{"$error":"#N/A"},{"$error":"#N/A"},{"$error":"#N/A"},{"$error":"#N/A"},{"$error":"#N/A"},{"$error":"#N/A"},{"$error":"#N/A"},{"$error":"#N/A"},{"$error":"#N/A"},{"$error":"#N/A"},{"$error":"#N/A"},{"$error":"#N/A"},{"$error":"#N/A"},{"$error":"#N/A"},{"$error":"#N/A"},{"$error":"#N/A"},{"$error":"#N/A"},{"$error":"#N/A"},{"$error":"#N/A"},{"$error":"#N/A"},{"$error":"#N/A"},{"$error":"#N/A"},{"$error":"#N/A"},{"$error":"#N/A"},{"$error":"#N/A"},{"$error":"#N/A"},{"$error":"#N/A"},{"$error":"#N/A"},{"$error":"#N/A"},{"$error":"#N/A"},{"$error":"#N/A"},{"$error":"#N/A"},{"$error":"#N/A"},{"$error":"#N/A"},{"$error":"#N/A"},{"$error":"#N/A"},{"$error":"#N/A"},{"$error":"#N/A"},{"$error":"#N/A"},{"$error":"#N/A"},{"$error":"#N/A"},{"$error":"#N/A"},{"$error":"#N/A"},{"$error":"#N/A"},{"$error":"#N/A"},{"$error":"#N/A"},{"$error":"#N/A"},{"$error":"#N/A"},{"$error":"#N/A"},{"$error":"#N/A"},{"$error":"#N/A"},{"$error":"#N/A"},{"$error":"#N/A"},{"$error":"#N/A"},{"$error":"#N/A"},{"$error":"#N/A"},{"$error":"#N/A"},{"$error":"#N/A"},{"$error":"#N/A"},{"$error":"#N/A"},{"$error":"#N/A"},{"$error":"#N/A"},{"$error":"#N/A"},{"$error":"#N/A"},{"$error":"#N/A"},{"$error":"#N/A"},{"$error":"#N/A"},{"$error":"#N/A"},{"$error":"#N/A"},{"$error":"#N/A"},{"$error":"#N/A"},{"$error":"#N/A"},{"$error":"#N/A"},{"$error":"#N/A"},{"$error":"#N/A"},{"$error":"#N/A"}]
[166,"Maplesden Noakes Expansion",{"$error":"#N/A"},{"$error":"#N/A"},{"$error":"#N/A"},{"$error":"#N/A"},{"$error":"#N/A"},{"$error":"#N/A"},{"$error":"#N/A"},{"$error":"#N/A"},{"$error":"#N/A"},{"$error":"#N/A"},{"$error":"#N/A"},{"$error":"#N/A"},{"$error":"#N/A"},{"$error":"#N/A"},{"$error":"#N/A"},{"$error":"#N/A"},{"$error":"#N/A"},{"$error":"#N/A"},{"$error":"#N/A"},{"$error":"#N/A"},{"$error":"#N/A"},{"$error":"#N/A"},{"$error":"#N/A"},{"$error":"#N/A"},{"$error":"#N/A"},{"$error":"#N/A"},{"$error":"#N/A"},{"$error":"#N/A"},{"$error":"#N/A"},{"$error":"#N/A"},{"$error":"#N/A"},{"$error":"#N/A"},{"$error":"#N/A"},{"$error":"#N/A"},{"$error":"#N/A"},{"$error":"#N/A"},{"$error":"#N/A"},{"$error":"#N/A"},{"$error":"#N/A"},{"$error":"#N/A"},{"$error":"#N/A"},{"$error":"#N/A"},{"$error":"#N/A"},{"$error":"#N/A"},{"$error":"#N/A"},{"$error":"#N/A"},{"$error":"#N/A"},{"$error":"#N/A"},{"$error":"#N/A"},{"$error":"#N/A"},{"$error":"#N/A"},{"$error":"#N/A"},{"$error":"#N/A"},{"$error":"#N/A"},{"$error":"#N/A"},{"$error":"#N/A"},{"$error":"#N/A"},{"$error":"#N/A"},{"$error":"#N/A"},{"$error":"#N/A"},{"$error":"#N/A"},{"$error":"#N/A"},{"$error":"#N/A"},{"$error":"#N/A"},{"$error":"#N/A"},{"$error":"#N/A"},{"$error":"#N/A"},{"$error":"#N/A"},{"$error":"#N/A"},{"$error":"#N/A"},{"$error":"#N/A"},{"$error":"#N/A"},{"$error":"#N/A"},{"$error":"#N/A"},{"$error":"#N/A"},{"$error":"#N/A"},{"$error":"#N/A"},{"$error":"#N/A"},{"$error":"#N/A"},{"$error":"#N/A"},{"$error":"#N/A"},{"$error":"#N/A"},{"$error":"#N/A"},{"$error":"#N/A"},{"$error":"#N/A"}]
[null,"insert above this line"]
[]
[null,null,null,null,null,null,null,null,null,null,null,null,null,null,null,null,null,null,null,null,null,null,null,null,null,null,null,null,null,null,null,null,null,null,null,null,null,null,null,null,null,null,null,null,null,null,null,null,null,null,null,null,null,null,null,null,null,null,null,null,null,null,null,null,null,null,null,null,null,null,null,null,null,null,null,null,null,null,null,null,null,"#","#","#","#","#","#"]
[null,null,null,null,null,null,null,null,null,null,null,null,null,null,null,null,null,null,null,null,null,null,null,null,null,null,null,null,null,null,null,null,null,null,null,null,null,null,null,null,null,null,null,null,null,null,null,null,null,null,null,null,null,null,null,null,null,null,null,null,null,null,null,null,null,null,null,null,null,null,null,null,null,"Unapproved Contingency","Agreed Budget vs Original Budget",{"$f":"#REF!-#REF!","v":{"$error":"#REF!"}},"Budget Contingency"]
[null,null,null,null,null,null,null,null,null,null,null,null,null,null,null,null,null,null,null,null,null,null,null,null,null,null,null,null,null,null,null,null,null,null,null,null,null,null,null,null,null,null,null,null,null,null,null,null,null,null,null,null,null,null,null,null,null,null,null,null,null,null,null,null,null,null,null,null,null,null,null,null,null,null,"Forecast Spend vs Agreed Budget",{"$f":"#REF!-#REF!","v":{"$error":"#REF!"}},"Programme Contingency"]
[null,null,null,null,null,null,null,null,null,null,null,null,null,null,null,null,null,null,null,null,null,null,null,null,null,null,null,null,null,null,null,null,null,null,null,null,null,null,null,null,null,null,null,null,null,null,null,null,null,null,null,null,null,null,null,null,null,null,null,null,null,null,null,null,null,null,null,null,null,null,null,null,null,null,"Forecast Spend vs Original Budget ",{"$f":"#REF!-#REF!","v":{"$error":"#REF!"}},"CP Contingency"]
[]
[]
[]
[]
[]
[]
[]
[]
[null,null,null,null,null,null,null,null,null,null,null,null,null,null,null,null,null,null,null,null,null,null,null,null,null,null,null,null,null,null,null,null,null,null,null,null,null,null,null,null,null,null,null,null,null,null,null,null,null,null,null,null,null,null,null,null,null,null,null,null,null,null,null,null,null,null,null,null,null,null,null,null,null,null,null,"Underspend",{"$f":"#REF!-#REF!","v":{"$error":"#REF!"}}]
[null,null,null,null,null,null,null,null,null,null,null,null,null,null,null,null,null,null,null,null,null,null,null,null,null,null,null,null,null,null,null,null,null,null,null,null,null,null,null,null,null,null,null,null,null,null,null,null,null,null,null,null,null,null,null,null,null,null,null,null,null,null,null,null,null,null,null,null,null,null,null,null,null,null,null,"Programme Contingency",{"$f":"#REF!-#REF!","v":{"$error":"#REF!"}}]
[null,null,null,null,null,null,null,null,null,null,null,null,null,null,null,null,null,null,null,null,null,null,null,null,null,null,null,null,null,null,null,null,null,null,null,null,null,null,null,null,null,null,null,null,null,null,null,null,null,null,null,null,null,null,null,null,null,null,null,null,null,null,null,null,null,null,null,null,null,null,null,null,null,null,null,"Total Contingency",{"$f":"SUM(BY187:BY188)","v":{"$error":"#REF!"}}]

{"sheet":"PM Comments","index":6,"n_rows":167,"n_cols":7,"rows_kept":167,"cut":false,"hidden":true,"merged":[[1,5,1,6],[2,5,2,6]]}
[]
[null,null,null,null,null,"PM to update as necessary"]
[]
["Discrete Description","Project","PM","Current Description of Works","Curent Status","Updated Description of Works","Updated Status"]
["Dartford Girls Grammar","Dartford Girls Grammar","Angela Heselgrave ","2 classroom extension for December 2018","Tender evalutaion underway. Delivery for December 2018. Stage 4 Gateway due end of October - with Ben. "]
["St George's PS (Gravesham)","St George's PS (Gravesham)","Joanne Taylor","Erection of new 2FE primary school with new access road from Westcott Avenue, with drop-off/pick-up facility and 3G pitch.","Awaiting contract award between KCC and Kier."]
["St Johns Catholic PS, Phase 1","St Johns Catholic PS","David Mounter","Phase 1 - year 1 infill classroom, reception year classroom and studio year 1 infill classroom, reception year classroom and studio.","Practical completion 6 July 2018. Snagging underway and awaiting Programme for snagging - could be 2 or 3 weeks of work. All classrooms handed over. PC section 2 of the phase completed on 16/8/18. Snagging outstanding for both sections\n"]
["Portal House","Portal House","Sue Meads","Demolish part of existing. Strip out and remodel original (1892) building. New build teaching accommodation block. New build sports hall, changing and vocational classroom.","School in occupation of Phase 1 building. Construction continues on Phase 2. Potential damage to Curfew Cottage being investigated - site inspection taking place. Surveyor of Curfew Cottage believes that natural damage to the building has been exaserbated by large lorries driving past property as part of construction. Chasing report from Surveyor - due week beginning 20/8."]
["St Johns Catholic PS, Phase 2","St Johns Catholic PS","David Mounter","Phase 2 - expanding existing school from 3FE to 4FE, with ancilliary facilities. Phase 2 - externals - MUGA & playground, car parking additions and alterations.","Phase 2 - Playground and MUGA. Contract signed and sealed.  ROD to be amended in November 2018 "]
["St Johns Catholic PS, Phase 3","St Johns Catholic PS","David Mounter","Phase 3 - staff room extension, two-storey link building (4 classrooms), small hall, part single storey and two-storey extension (3 classrooms).","Contract signed and sealed.  ROD to be amended in November 2018. Site welfare set up, link corrdor  demolished "]
["Wilmington Academy, Phase 1","Wilmington Academy","Esther Larner","2FE - multiple phases expansion. New build block, plus 4 phases of internal remodelling to keep adjacencies within Secondary provision. Includes temporary 3 classroom ICT suites, plus double stack for Sept 2018.",0]
["Wilmington Academy, Phase 2","Wilmington Academy","Esther Larner","Phase 2 - Internal refurb for Sept 17. ","Complete and out of defects"]
["Wilmington Academy, Phase 3","Wilmington Academy","Esther Larner","Phase 3 - Internal refurb for Sept 18.","School managed phase. "]
["Wilmington Academy, Phase 4","Wilmington Academy","Esther Larner","Phase 4 - main build.","Planning approval from committee July 2018 and now referred to SoS given Green Belt approval required. Green Belt approval is a low probability risk with a high impact. This is expected mid August 2018. Lakehouse have won the tender and PCSA required for Stage 4 design. Early Works contract for Ground Works also required to minimise impact on programme which has been impacted by planning delay. At the moment working on contingency for September 2019. "]
["Wilmington Academy, Phase 5","Wilmington Academy","Esther Larner","Phase 5 - additional modulars.","Planning approved at July 11th committee for retention and double stack mobiles.  Delayed as knock on from issues with planning for previous phases. Order placed with Portakabin for delivery over summer holiday - Rental agreement for mobiles. Double stack Portakbin completed on time, but works had to be completed by local contractor as Portakabin failed to resource for internal site out. Being offset to Portakabin invoice. "]
["Wilmington Academy, Phase 6","Wilmington Academy","Esther Larner","Phase 6 - internal remodelling.","Required for September 2019 - works to be undertaken in summer holiday 2019 to remodel the final science rooms. "]
["Wilmington Grammar, Phase 1","Wilmington Grammar","Esther Larner","1FE - Multiple phases expansion.  New build block including CIF funded Sports Hall. All linked to Wilmington Academy. Current agreement is to locate a Coach Park on the School site to remove coaches from Common Lane that serve the Boys Grammar. Both Grammar schools are within MAT. ","Plus £1.5m CIF funding for Sports Hall.  New BN block combines CIF building. PStage 4 PCSA with Lakehouse being approved.  All issues on programme and budget stem from planning led by local/member objections. Extensive highways and bus parking across Wilmington.  Additional costs to be included in WGSG budget not WA. This leaves an forecast overspend of £1.690k. Need a RoD to cover whole amount with acknowledgement that school reimburse us the £1.5m. Ian Watts agreeing this at Committee in Nov 18"]
["Wilmington Grammar, Phase 2","Wilmington Grammar","Esther Larner","Phase 2 - temporaries for summer 2017","Complete and out of defects"]
["Wilmington Grammar, Phase 3","Wilmington Grammar","Esther Larner","Phase 3 - new build classrooms under Basic Need + CIF funded sports hall, changing room and ancillory spaces and rooftop muga.","Require additional CIF funding agreement. Require development agreement to be put in place. Planning approved in July 2018. Confirmation that CIF funding coming back to Kent.  Will need additional mobiles for Sept 19."]
["Wilmington Grammar, Phase 4","Wilmington Grammar","Esther Larner","Phase 4 - Highways works - new bus park and ancillory S278 Highways works. ","Approval at July 2018 Planning Committee. Phase to be completed once new build phase 3 is complete.   Funding increase to be resolved at Nov Education Committee with Ian Watts. "]
["Mayfield Grammar, Phase 1","Mayfield Grammar","Esther Larner","2FE Mulitple phases expansion + PSBP block replacement. New build block,  plus small discrete extensions to various areas of the school. Some internal remodelling for adjacencies. PSBP2 being included with superblock. ","Phase 2 (dining and kitchen extension) start on site 2nd July to deliver the expansion. Cost over runs due to exceptional costs from Modular contractors.  Approved Contractors now pricing.  PSBP approval still ongoing."]
["Mayfield Grammar, Phase 2","Mayfield Grammar","Esther Larner","Phase 2 - kitchen.","Start on site 3rd july 2018. Completion scheduled for 31st December 2018. Risk is diversion of buried gas supply to kitchen - SGN slow getting design agreed. Planning for substation approved August. 8. UKPN have received money and we awaiting word from them on next steps. "]
["Mayfield Grammar, Phase 3","Mayfield Grammar","Esther Larner","Phase 3 - Isaac Newton. ","SMBF procurement failed as project too small for Large modular contractors. Approval received to retender to alternative modular suppliers to gain cost advantage although this is impacting on the programme. Tendering on going due back in mid October."]
["Mayfield Grammar, Phase 4","Mayfield Grammar","Esther Larner","Phase 4 - science block.","Planning is delaying the process. Planning officer requested redesign of external materials which is taking time for Baileys to redeisgn cladding and resubmit. Timescales for traditional wont work with time on site not acceptable to school.  Using Approved Contractors to price deisgn work to see if works can be worked out of sequnece to reduce time on site. "]
["Mayfield Grammar, Phase 5","Mayfield Grammar","Esther Larner","Phase 5 - BN expansion - 10 classrooms+ activity hall and offices. ","Currently at Stage 2 given focus required on earlier stages. Impact on programme may mean requirement for temporary units in September 2019. Going to do Gateway 2 sign off with Andrew. "]
["Mayfield Grammar, Phase 6","Mayfield Grammar","Esther Larner","Phase 6 - PSBP2. Relocation from existing accommodation on site. ","Stage 2. Awaiting ESFA Approval on design before going in to planning. "]
["Brent PS","Brent PS","Janet Streek","Phase 1: Internal refurbishment works and installation of temporary classrooms (mobiles).  External works included installation of MUGA, additional parking bays, and parent drop off bay.\nPhase 2: Linked extension to existing Victorian building to provide classrooms, hall, WCs and associated external play areas/landscaping.","Practical completion was 27th June. Snagging completed. School to moved in over summer holiday. Mobiles to be removed  . Finance meeting  24th October  final account.  "]
["Edenbridge PS","Edenbridge PS","Joanne Taylor","Single storey 3 classroom new build with ancicillary spaces and new car park provision .","School put in emergency measures and academised during process. Extension required to accommodate Academy needs and scope changed in April at request of AEO. New car park needs to be constructed as we can no longer lease the adjacent land. Need input from UKPN upgrade. "]
["Seal CoE PS","Seal CoE PS","TBC","Expand existing school from 1FE to 2FE with ancilliary facilities.","Planning approved 11th July 2018. Tender process underway and extended at request of contractors. Planning has impacted programme and as such costs have increased due to need for interim measures. "]
["Temple Hill PS","Temple Hill PS","Joanne Taylor","8 classrooms, SEN room, group room, staff workbase room, office toilets and car parking.","Archaeological works required due to iron age spear found. Impact on budget of £300k. AEO going for budget approval. School 1FE expansion required for August on modular build. Archaeology and bulge year have taken over budget. "]
["Northfleet School for Girls","Northfleet School for Girls","Erica Pavlis","1FE expansion.","Working up Planning Application for submission subject to instruction. Originally scheduled for 2FE but likely to be 1FE now - hence budget variance. ROD for £4m in July 2018. RIBA Stage 3 is very tight as required for Sept 19. Stage 2 cost plan shows £4.1m but VE being undertaken in Stage 3 and designers instricted to allow £500k contingency. Stage 2 Gateway due to confirm appointment of Baileys for Phase 3. "]
["Craylands School, Phase 3","Craylands School","Natasha Petley","Phase 3 - Kitchen extension with associated works to the existing hall and kitchen. AGREEING FINAL ACCOUNT","Phase 3 works completed but agreeing final account. Delays caused by planning delay and foundation issues. Contractor redoing part of the works. Final account agreed and awaiting submission from PFI. "]
["Craylands School, Phase 5","Craylands School","Natasha Petley","Phase 5 - Standalone block incorporating 8no. classroom extension with associated WC's and store with a plant room and new MUGA pitch.","Phase 5 roof works delayed slightly but pulled back some time. Contractor working well with us to pull back time. Practical completion of ground floor complete and final PC due 28 Sept. Getting details for server connection as KCC have agreed we can use hard connection to existing server. "]
["Craylands School, Phsae 6","Craylands School","Joanna Ashby","Phase 1 - Internal modifications to the reception years. - COMPLETE\nPhase 2 - Reception year WC extension incorporating 3no. WC's. - COMPLETE\n\nPhase 4 - Installation of a modular unit to the front of the site. COMPLETE\n\nPhase 6 - Internal modifications to create a studio Hall and remodelling of the office area. PFI doing work - KCC paying. We are challenging costs. We are getting our own costs based on drawings. ","Phase 6 - PFI lenders will not let us proceed with Phase 6 as it is too risky. Need a Deed of Variation or KCC Indemnifying Contractor. Has been escalated to KCC Commisioning. Reduced scope to remove structural modifications. Any elements not anble to complete this summer will not be undertaken until next summer. Budget increase due to works required to allow occupation while main scheme planning approval sought. "]
["Trinity Free School, Phase 1","Trinity Free School","Esther Larner","2FE Multiple phases expansion. New build extension to front and back of current school,  with internal remodelling to keep adjacencies within Secondary provision. Phase 1 - internal remodelling.","Status 1 - Kier on site in July for Sept 18  Phase 1 delivery. RoD March 2018. Planning permission required and is a risk - currently expected November for Phase 2 Sept 19 delivery. Further delays in planning will require increased need for temporary accommodation which is not currently factored as a cost.  Major works to create 14 bus drop off and pick up from the A25 road, to satisfy congested access roads. Phase 1 - all classrooms ready for beginning of term - contingency in place for dining. "]
["Trinity Free School, Phase 2","Trinity Free School","Esther Larner","Phase 2 - extension to front.","Planning delay due to objections on highways grounds. Meeting with transport consultant and highways to review next steps. Planning is a risk but working with planning, highways teams and members. Consulted police and highways on reducing speed limit outside school. May require redesign as cannot reduce speed limit. "]
["Trinity Free School, Phase 3","Trinity Free School","Esther Larner","Phase 3 - extension to rear","Planning delay due to Massing of block at rear.  Alternative caldding solutions offered ot Planning, awaiting outcome.  Meeting with transport consultant and highways to review next steps. Planning is a risk but working with planning and highways teams."]
["Trinity Free School, Phase 4","Trinity Free School","Esther Larner","Phase 4 - internal refubs to undertake final re-organisation.","Start on site following Phase 3 to create standard classrooms. "]
["Trinity Free School, Phase 5","Trinity Free School","Esther Larner","Phase 5 - final internals remodelling of internal classrooms to final adjacencies of subjects and installation of bus park.","Remaining remodelling and completion of highways works. "]
["Chilmington Green PS","Chilmington Green PS","Emily Stapley","New 2FE Primary School for Sept 2020","Status 1 - Feasibility undertaken and options with costs reported back to AEO. Land transfer issue creating risk - need land transfer by May 2019 otherwise school is not deliverable for September 2020. Temporary works required for 2019 at Jemmett Road site. Currently forecasting £100k overspend but VE being undertaken at every stage and scope being reviewed with AEO. Invicta Law have written to developer rejecting extension of time for handover. Floor plan agreed and working on elevations. Expecting planning submissionin October 2018. "]
["Preston PS","Preston PS","Natasha Petley","1 classroom extension with associated WC's.","On programme and on budget. Handover 19th September 2018. "]
["Whitfield Aspen School","Whitfield Aspen School","Sue Meads","Masterplan design for 14nr mainstream & 7nr SEN classrooms; Phase 1 (current) to deliver 6nr mainstream & 7nr SEN classrooms plus 3FE shared areas.","Planning approved in March. Section 151 Form submitted on 19/6/18. Contract award has been delayed following Section 151.  Start on site September 17th. Forecast completion July 2019. School can absorb 2018 bulge year until works completed. S106 land transfer still pending and Invicta Law are progressing. Land transfer will delay the project by minimum six weeks and push programme completion back to March 2019. "]
["Herne Bay Library","Herne Bay Library","Sue Meads","Refurb of existing building addressing inclusive access issues, remodelling of first floor for new stakeholder. ","Stage 1 sign off ready to be submitted to Andrew Chauvin. Client instruction awaited to proceed to Stage 2 and 3 design. Proposing traditional procurement with Gen2 design. TFM are undertaking emergency health and safety measures on site - building survey undertaken by TFM and hammer testing required at front elevation and glass cracked in rear extension. Need confirmation as to whether we progress following Stage 1 sign off. "]
["Palmarsh PS","Palmarsh PS","Sue Meads","Masterplan designed to 2FE mainstream; Phase 1 expansion to 1FE plus 2FE shared areas. Includes some remodel of existing school accommodation.","EA have conceded and therefore the objection has been removed. Planning committee scheduled for September 2018. Two stage tender - stage 1 already awarded to Jenner. School can absorb extra pupils in September 2018 while works undertaken. AEO clear that the school do not need the expansion to cope with 2018/19. Delay in local housing delivery removing immediate pressure for school - as such delivery may be put back by AEO. "]
["Meadowfield School","Meadowfield School","Brian Hirst","Standalone building - sports hall, with associated changing facilities, 6 general classrooms, music and art, with associated external landscaping and a car park extension. Phase 3a to include modular break out learning space and refurb of caretaker area to provide new staff room. Potential dining room expansion required. ","Tender evaluation complete and 'Approval to Prepare Contract' drafted. Due to uplift in specification and extended scope (agreeable under BB103) required given nature of the school there is a budget concern - we are currently forecasting at £1.1m over the budget. Dining room expansion feasibility to be complete under Modernisation budget. Will need RoD raised as scheme is over budget due to higher specification given nature of the school. The RoD process will also impact programme. School have contingency in place while build works undertaken. "]
["Hampton PS","Hampton PS","David Mounter","In 2015/16 KCC delivered a single classroom extension at the north of the school to enable the school to take a bulge year. The school now\nrequire a Key Stage 2 classroom and corridor extension.","Completed on time and on budget."]
["Bysing Wood PS","Bysing Wood PS","Joanne Taylor","Expand existing school from 1FE to 2FE with ancilliary facilities. Staff room extension, single storey 8 classroom, studio hall and internal alterations.","Complete. Snagging items regarding children's centre being addressed. "]
["St George's CoE Foundation PS","St George's CoE Foundation PS","Joanna Ashby","Phase 2 - 7 classrooms, LRC, Group Rooms and accessible WC.","Gateway 4 sign off from Andrew Chauvin in July 2018. Contract signed. Works on sites from 3 August and currently on programme. There is an issue with a bund which was build during phase 1. Planning discharge on the bund condition - part taken and part remolded. Works on bund completed. "]
["Regis Manor PS","Regis Manor PS","Brian Hirst","New classroom block, S278 new site access, car park for drop off and pick up/lay by for drop off.","Conversion of library for September 2018 to provide for increased numbers through school appeals process and to mitigate against delay in Programme due to S278 negotiations. Original budget was £3m but due to forecast underpend this has been revised down to £2.580m Revised programme shows completion 30 October 2018.  Agreed with school that they will use existing library with some minor adaptation work until building available.  Further delays as DG not progressed power upgrade and trenching works.  These should have taken place during school holidays but request for variation and proposed costs were delayed.  Awaiting quotation from UKPN for additional power required.  Additional car parking spaces currently on site have been incorrectly laid out.  These works must complete before term begins next week and there is now some doubt this will happen so a contingency arrangement will be required. New pathway also needs to be completed. EoT request received for 8 weeks relating to the signing of temporary S278 Agreement which will be contested.  Two variations issued without agreeing costs as DG continue to provide inadequate and unconvincing back up and the costs they have submitted are extremely high.   CoW report indicates that the building itself is approximately two weeks behind the revised programme. Meeting arranged with Gen2, Gleeds QS amnd Darwin to discuss concerns with Valuations submited by Darwin Group and programme."]
["Sittingbourne CC","Sittingbourne CC","Paula Malpeli","2FE expansion to include three storey block 18 classrooms, two storey block with general activity rooms, staffroom and meeting room, refurbishment of science block and new coach drop off/pick up parking area with eleven coach and taxi spaces and new access off A2.","On programme and on budget. Handed over 2 buildings in August. External works completing for end of August. Handing over to allow school to move in. Galileo Science Buildings (4 science labs) complete for 29 October. Require a Development Agreement with Swale Academy Trust. "]
["Maplesden Noakes Secondary Expansion, bulge","Maplesden Noakes Secondary Bulge","Emily Stapley","1FE bulge expansion.","Completed within time and under budget"]
["Langley Park PS","Langley Park PS","Joanna Ashby","Phase 2 - 8 classrooms, Staff Room, Nursery (including Baby Change and toilets), Group Rooms and an accessible WC.","Project handover on 22 June 2018 with zero snags. Osbourne are coming back over summer to fix some defects (leaking when it rains, gas installation and monodraft units) with Phase 1. Clerk of Works appointed for the defects work. Final Accopunt process underway. Getting reports from electrician regarding Phase 1 defects. AEO reported issue with car park raised by Governors. Nick Abrahams arranging meeting with Taylor Wimpey. "]
["Park Way PS","Park Way PS","James Drew","Modular building with Afterschool Club, Music/Group Room and toilets.","KCC Approved SMBF route in February 2018. Nil tender despite 3 contractors expressing an interest. This has been discussed with the Framework Manager, contractors and KCC Procurement. Procurement Plan recommending single source has been submitted. There is significant political pressure to deliver a new modular unit on site for September 2018. Likely delivery now by Christmas. Site visit with Lowrey in July to confirm location was suitbale and agree size unit availability. School visited St Boltophs to see refurbed Lowry product and school are on side. "]
["Harrietsham PS","Harrietsham PS","David Mounter","To provide a 1FE extension to the existing school to encompass 6 new classrooms, 1 group room, 1 refurbed reception, re-location of reception and staff admin. Also to include hall & kitchen extension and new car park. Acquisition of land required to accommodate new car park - GET responsible for this.","Library has been transfered to temporary classroom ready for Sept 18. Construction cost plan shows cost of £3.36m. Stage 4 cost plan shows £3.7m which takes us over budget - largely driven by requirement for two way access road. VE to be undertaken with Coombes i.e not attaching extension toi existing, loosing Group Room.  Currently need temporary accommodation for Sept 19 which would add £90k minimum to the costs - meeting with education to discuss whether expansion continues or budget increased. Delay in land acquisition and planning casuing delay and cost. Denial of access to land impacting our ability to provide surveys required for planning. Planning will be earliest December 2018. Land aqcuisition long stop date end of March 19 although may happen sooner now that Gladman have waled away from residential plan. May require ROD increase if VE cannot find enough savings. Delay in land acquisition causing cost increase as temporary solutions are sought. Land owner may require access road to be provided before they sell us the land. Formal offer for land has been made. VE required with AEO and design team. PM liaisisng to AEO wc 24/9/18 to discuss VE options  "]
["St Peters Tunbridge Wells PS (Hawkenbury)","St Peters Tunbridge Wells PS (Hawkenbury)","Emily Stapley","Provision of new primary school. Relocation onto Hawkebury Farm as part of S106 Agreement with Berkeley Homes. New build to include associated external provision of playing fields, playgrounds, car park and parent drop off facility.","PCSA signed and sealed. ROD of £6.9m however the land levels vary dramatically and so this is recorded as a risk. Currently running behind schedule as a result of PCSA delay Carillion/GT issues. Options for 2019 accommodation reviewed and interim solutiuon being designed.  PM has highlighted concerns regarding the budget however reviewing requirement for sprinklers. As such this will be monitored very closely with QS input at each RIBA Gateway. Emily to update Jared on designs. The PM to update Jared and Roger Gough on progress on a monthly basis. Amendements for the S106 to be issueed to Barclays homes by 28th September. Not affecting the project, GT can go on site."]
["Benenden PS","Benenden PS","Joanna Ashby","Replacement primary school - new 1FE","Contract signed 29 August. Starting stage 4. Clague are being novated over by Kier. Fencing up around site. Enabling works coompleted. On site target October 2018 and cpmpletion is 8 August 19. Preliminary meeting undertaken and Kier instructed they MUST have ground works done before winter. CoW and CDM in place. KCC contribution capped at £1m. Forecast overspend due to land purchase and school loan repayment. Andrew White resolving land transfer with Canterbury Diocese following Board Meeting. "]
["Platt PS","Platt PS","Erica Pavlis","Replacement primary school block/new build - 1FE ","Feasibility submitted to ESFA on 08 August 2018. Review of feasibility undertaken and final feasibility case to be submitted by 7 Sept. Four options have been goven to the ESFA. KCC will only part fund option 4 (£1m). Gen 2 have applied for £125k fees allocation. New planning to be submitted by the end of Septmebr 2018. Regular project reviews underway with ESFA. The ESFA are to take the decision on which option(s) to progress. "]
["Northfleet Tech College (PFI)","Northfleet Tech College (PFI)","TBC","1FE expansion required for Sept 2021. ","Status 1 - Feasibility for 1 FE being undertaken. Feasibilities for 1FE being undertaken and due back September 2018. No temporary requirement for 2018. Expansion required for 2021. \nIan will be speaking to school in September to discuss moving on. "]
["St John's Secondary School (PFI), Phase 1","St John's Secondary School (PFI)","TBC","Phase 1 - Double Class modular for Sept 2018","Status 1 - Modular is in place and fit out underway. "]
["St John's Secondary School (PFI), Phase 2","St John's Secondary School (PFI)","TBC","Phase 2 - 1FE expansion required for Sept 2020","Status 1 - Feasibility to be refreshed following consultation with school and due to be completed mid September. "]
["Thamesview School (PFI), Phase 1","Thamesview School (PFI)","TBC","Phase 1 - Internal alterations to create two classrooms for Sept 2018","Status 1 - Paint job not good enough quality on first inspection and needs to be redone. Has been resolved and to be signed off by David Harris.  "]
["Thamesview School (PFI), Phase 2","Thamesview School (PFI)","TBC","Phase 2 - 2FE expansion required for Sept 2020","Status 1 - Feasibility being refreshed following consultation between school and AEO on preferred options. Due for completion in Septmebr 2018. "]
["Ursuline College, Phase 1","Ursuline College","Sue Meads","Phase 1 - Internal alterations to expand dining room","Status 1 - Listed building control (Grade 2 Listed Building) in preparation and due for submission in September - Stage 4 design expected August 31st. No planning required for Phase 1 refurb.  Temporary solution in place for September 18 dining requirement while phase 1 is completed. Provisional January start on site for Phase 1 refurb. 12th July meeting with loss adjuster results in decision to proceed immediately with flood repair work which gives the school back two useable spaces from September and work will link with refurb scope. "]
["Ursuline College, Phase 2","Ursuline College","Sue Meads","Phase 2 - 2FE expansion required for Sept 2019","Status 1 - Phase 2 planning is waiting for highways mitigation to be finalised prior to submission. AEO in consultation regarding land provision at King Ethlebert's for shared drop off area - Coastal Academy Trust agree to land use subject to HoT. Costs related to Highways Mitigation (drop off) represent budget risk. Cannot progress Phase 2 designs until we have transport statement referencing the Drop Off. Current cost increase due to extra works related to Listed Building and Foundation designs. Programme Budget set at £4.6m - RoD is £3m. Red risk given need to raise RoD. Will need to be on site early for strip out of existing building. "]
["Judd School, RS classroom","Judd School","Erica Pavlis","1FE expansion from September 2019: RS Building expansion. Internal remodelling and expansion to provide new RS classroom space. ","Status 1 -  Planning submission in July 2018.  Resident objections regardin footpath pedestrian exit at rear of school. Planning is therefore a risk. Funding agreement from AEO and then tender process to begin in September. EOI has gone out back 24/09/18, stage 1 goes out 1st October . All design information is ready for the tender . Stages 2 expected to go out 5th November returns 30th November . Contract award expected January 2019"]
["Judd School, remodelling","Judd School","Erica Pavlis","1 FE expansion from September 2019: Internal works to convert dining space into staff area and library space into music room. External demolision of old dining space. External and MUGA. ","Status 1 - VE exercise underway with school as cost plan came in £260k over budget. Planning submission due July 2018 but cost reduction exercise currently underway with school to bring project back into agreed budget. Planning submission July 2018."]
["Bennett Memorial School","Bennett Memorial School","Janet Streek","2FE Expansion for Sept 2019","Status 1 - Preparation of planning application. Janet undertaken analysis of project needs and costs. School has all of the rooms they need and they do not need a hall (until 2023 and 20sq m). The revised high level figures now show a funding shortfall of £519,683.31 . AEO confirmed that the School are now willing to make a contribution of £225k.  The Governing Board are further considering an additional contribution sum of £81k to allow construction of the Hall within the project works. "]
["Headcorn PS","Headcorn PS","Paula Malpeli","2 storey teaching block with hall extension, playground and car park works.","DLP. Kier are in Headcorn this week doing defetcs. Paula to brief Jared on Headcorn issue. "]
["The Wyvern School","The Wyvern School","Paula Malpeli","2 storey 6 classroom building, reception lobby and car park.","DLP."]
["Swadelands/The Lenham School","Swadelands/The Lenham School","Erica Pavlis","PSBP funded. Replacement Science Block, increasing science provision.","Baxalls appointed under a PCSA to undertake detailed Stage 4 design. Costs underwritten by ESFA.  Early works diversion of Gas Main underwritten by ESFA. Gas diversion order has been placed with SGN and timeline to be confirmed. Stage 4 design work progressing but slightly delayed as VE was required on design - section 73 amendment required as ESFA would not pay for hard standing car parking - only grass. As such design team has been focused on the section 73 amendment - not the design. Time is a concern given the state of the existing science building.  ESFA funding to be agreed after Stage 4 design. ESFA are already scrutinising cost heavily. Time and budget risks given previous experience with ESFA. Also working through contract issues with Baxalls - 2016 Amendments. "]
["Spires, Phase 1","Spires","Brian Hirst","Phase 1: Highways works","Phase 1: Planning condition. Gas valve found under footpath which we are using as part of our road widening - works will require a 3 week road closure to lower the valve rather than divert. Arranging meeting with planners and highways to discuss options. Road closure means no access to school - SGN have agreed work can be undertaken during October half term. "]
["Spires, Phase 2","Spires","Brian Hirst","Phase : Science Block Refurb","Phase 2: Internals due for September 2018 handed over 31 August. "]
["Spires, Phase 3","Spires","Brian Hirst","Phase 3: New Science Block","Complete"]
["Spires, Phase 4","Spires","Brian Hirst","Phase 4: Modular Units","Phase 4: Planning application to be submitted in September  for temporary. Tender to be run concurrently after Gateway 3. Completion for temporaries scheduled February 2019. "]
["The Archbishops School","The Archbishops School","David Harris","New 6 classroom modular building and demolition of existing 4 classroom pre-fab building. ","Providing 6 new classrooms - demoltion of 4 old classrooms once modular unit in place. On site, completion end of November half term. The school has roofing works going on, from 1st October for two weeks, the scaffolding is in the way of demoiltion which is a risk to the project being delay.James Drew to keep Ben and Jo updated incase it is delayed "]
["Darenth Community Primary School","Darenth Community Primary School","David Harris","New modular teaching block to replace existing block and library buildings.","Ashby and Croft have delivered and installed 3 temporary classrooms have been  fitted out. Handover completed 24th July 2018. Demolition completed. Approval to draft contract for main permenant modular building has been signed and will be delivered by Module-ar. Procurement on Amendments  completed and sent to contractor. "]
["Faversham Library ","Faversham Library ","David Harris","Internal alteration and refurbishment to provide a new Good Day Programme (Special Needs) Hub Space.","Internal refurb. Started on site  17 September. 6 week programme. In contract with Spencer Francis. The library service have asked Spencer Franics to pack up all their books and to store them, Library will fund this (3K)."]
["Dartford Sexual Health Clinic","Dartford Sexual Health Clinic","David Harris","Fit out of shell unit as Sexual Health Clinic.","All variations have been agreed and near to handover (04/10/2018) Variations driven by client service end user - forcing budget and time up. Client is paying for all variations. Programme running late due to the variations which have now been agreed and new programme with time extension agreed by all parties  \n"]
["Pent Valley - Sharman Block","Pent Valley - Sharman Block","David Harris","Internal alterations and refurbishment of an existing modular building for use as a Pupil Referal Unit.","August completion required. Tender valuation soon and contract award due 19 July. Start on site 30th July, completion 31st October . Variations due to the scope of works have been increase by the end user. "]
["Invicta Car Park","Invicta Car Park","David Harris","Structural repairs and refurbishment of Invicta House Car Park.","Structural repairs and refurb. Tenders returned and contract award proggrammed for 16th July. Start on site 13 August and on site for 8 weeks. "]
["Kent History and Library Centre","Kent History and Library Centre","Janet Streek","Defects","Completed 2012. Reviewing cladding on apartment blocks with the original developer Bouygues UK. Final report due 20th July which will determine any further works. May require some stragetic comms and management. Fire officer attended site on 21/09/2018. Checked everything on site . Report will be sent over October 2018, JS will email KCC and then hold a meeting to take forward recommended actions with all parties."]
["St Peter's House","St Peter's House","David Harris","Internal alterations and refurbishment.","Complete - DLP."]
["West Borough PS","West Borough PS","David Harris","Internal alterations and construction of a new staff room.","Complete - DLP."]
["Weald PS","Weald PS","Natasha Petley","Extending the existing infant block and school house due to existing accommodation being deficient in key areas.","Complete - DLP."]
["North Farm WTS","North Farm WTS","Natasha Petley","Insurance claim due to the recent fire.","Complete - DLP."]
["Ryarsh PS","Ryarsh PS","Joanna Ashby","Construction of a new school hall, children's wc's, storage & corridor. Demolition of the existing corridor and internal refurbishment. ",". Project within budget but scope reduced in consultation with AEO. Highpoint on site and progressing well. "]
["Joy Lane Primary School Phase 2","Joy Lane Primary School Phase 2","Janet Streek","Project involved works to 2 sites (Primary School and the site of the former Ladesfield Care Home).  Works included 2 storey extension to provide 6 additional classrooms to the 3FE school, external play areas, staff and parent parking with localised drop off area, demolition of former care home to create new link roadway infrastructure to act as exit route to alleviate traffic congestion on Joy Lane. ","Practical completion for school build achieved September 2017. Practical completion for new roadway March 2018. Neighbour complaining about water run into his garden. Andrew Chauvin is leading on the liasion. "]
["Avenue of Remembrance","Avenue of Remembrance","Janet Streek","Major refurbishment project involving demolition to internal walls to create open plan spaces with new toilet provisions, meeting rooms, case conference suites, contact rooms, kitchen facilities on each floor and external play area space for contact use. \n\nWorks also included the reconfigeration and refurbishment of Sittingbourne Library to create a new location for the Registrars Office.  ","Practical completion achieved December 2017. Health and Safety issue reported. Social Services client has created 4 separte incidents of threat to staff including throwing furniture at the glass partion at reception. Has been escalated to Clare Jameson on 11 July 2018. The boy has been removed for visiting , end of defects December 2018."]
["Coxheath Primary School","Coxheath Primary School","Joanna Ashby","Double classroom modular unit, with toilets, lobby and storerooms.","Complete - DLP. This project was originally due to be completed in October 2017, but due to issues with gas (which required SGN works) the date was revised to February 2018. Handover took place on 19th February 2018."]
["Wouldham PS","Wouldham PS","Joanne Taylor","New 2FE school and external works.","Complete - DLP."]
["Wentworth PS","Wentworth PS","Joanne Taylor","New two storey teaching block.","Complete - DLP."]
["Ridgeview School","Ridgeview School","Esther Larner","New build Special School to include the new school building together with landscaping and car parking. Together with a separate staff car park and s278 works to Upper Haysden Lane.","Complete - DLP."]
["Weald of Kent Grammar","Weald of Kent Grammar","Esther Larner","New Grammar Annexe.","Complete - DLP."]
["Finberry PS, New PS","Finberry PS","Emily Stapley","New Primary School.","Complete - DLP."]
["Birchington PS","Birchington PS","Emily Stapley","New two storey teaching block.","Complete - DLP."]
["South Borough PS","South Borough PS","Emily Stapley","Two storey building with six classrooms.","Complete - DLP."]
["Oakley PS (Nursery)","Oakley PS (Nursery)","Emily Stapley","New SEN nursery provision.","Complete - out of defects."]
["Southborough Hub","Southborough Hub","Andrew Fleming","New build community hub.","Land sale completed. PCSA signed and completed July 11th. 40 week Pre-Construction contract but need this to be shortened to pick up time. VE required with contractor. Only got 1.3% contingency in budget. Delay in agreeing PCSA has pushed programme. Awaiting cost plan from Baxalls and then NHS can submit Business Case at end of Stage 4. NHS must submit Busienss Case in February 2019 otherwise NHS do not secure their funding. KCC fund project and claim back from other partners i.e. NHS. Will reuqire delivery agreement between the three Local Authorities (KCC, TWBC and Southcliffe PC). Time is a high risk due to the significant number of sign offs required from various partner organisations - total governance plan being overlayed onto Programme. Awaiting costed redesign. New budget issues by Jonathan White. Development Agreement and NHS Business Case are risks to Programme. The Programme can not be shorten, key miles set out RIBA 3 . All parties need to agree the VE's , we meet the brief and budget.Southborough town council meeting 27th September to be voted, then goes to the project board then to planning. Minor works contract for Baxell for enabling works is required to start on site February 2019. Licences are being chased by Jacqueline as they are behind. Specification is required with the RIBA stage 4 information . Clark of works is required for the works, 50/50 appointment between KCC and Crest. Crosing is required by Highways , "]
["Dover Discovery Centre","Dover Discovery Centre","Andrew Fleming","Refurbishment - current building in a poor state of repair. ","Tender results reviewed. Architects and M&E came in for clarifications meeting 11/9.(Pallings have been recommended)  Architect is Principle Designer and BIM Manager. QS and M&E consultant make up core design team. Dover Council approached regarding joining up projects but this would change strategic definition of project. Palling are going to be appointed on stage by stage process. Works order will be given stage by stage but a overall contract (Ace Contract required) will be issued . Want to review the scope to determine the status of Paulton's Social Servcies centre. Programme options and whether Paulton's is in or out. "]
["Queen's House Folkestone to Cheriton House","Queen's House Folkestone to Cheriton House","Andrew Fleming","Refurbishment - to provide new facility for staff currently in Queens House.","Services moved in and site is live. Completion of handover and compliance documentation is underway. "]
["Coroners Phase 2","Coroners Phase 2","Andrew Fleming","Refurbishment","Phase 1 complete. Phase 2 agreed at PAG and awaiting final sign off. Stage 2 Gateway Signed off 26 June 2018. Need formal written confirmation that Cantium House can be decanted. Need Gen2 Commission to move beyond RIBA Stage 2. Project Group meeting held 11th July  (Mike Overbeke on behalf of Board) and RoD for decant and PAG approval. Traditional route for procurement agreed. Phase 3 on hold until funding stream identified. Scope and Budget on track. Time is an issue due to delays in Stage 2 sign off. RIBA 3 works continuing and Satge 3 Gateway end of October . Instructed not to submit planning. Coroners looking at Oakwood House today 27/09/2018 then a decision will be made."]
["Barton Court Free School","Barton Court Free School","Chris Wrench","New build 5FE Free School on Former Chaucer site. ","Initial approval to proceed from ESFA. Gleads appointed to undertake feasibility and client workshops underway over summer - interim feasibility produced. Project currently on Programme. Budget to be determined following feasility study. Asbestos survey scheduled within programme in September now that survey quotes received. Early engagement with utility suppliers for security on what will be required and any applications needed. "]
["St Andrew's PS","St Andrew's PS","Emily Stapley","New 2FE Primary School on land adjacent to housing development in Paddock Wood. ","Letter of support provided by Trust and awaiting confirmation of Local Delivery approval. Principal's meetings underway and target completion agreed for June 2021. HoT to be agreed and signed but require input from Persimmon. Budget to be confirmed following feasibility - ESFA funded. Gleeds to undertake feasibility. Early surveys underway."]
["Dover Girls Grammar","Dover Girls Grammar","N/A","The demolition of 2 classroom mobiles and the construction of a new block providing 3 science laboratories, a group room, preparation room and ancillary facilities. School managed. Request from David Adams for more funding as Tender exceeded budget figure.","SCHOOL MANAGED"]
["St George's (Gravesend)","St George's (Gravesend)","N/A","1FE expansion from September 2019","Status 1 - Feasibility completed. School are combining expansion with successful CIF bid. £2.6m likely to be allocated to the school. "]
["Wickhambreaux","Wickhambreaux","N/A",0,"SCHOOL MANAGED"]
["Stone Bay School","Stone Bay School","N/A",0,"SCHOOL MANAGED"]
["Maidstone Boys Grammar","Maidstone Boys Grammar","N/A",0,"SCHOOL MANAGED"]
["Lawn PS","Lawn PS","N/A",0,"ON HOLD - delay in housing numbers. All relies on how many pupils are coming out of Northfleet Embankment development. "]
["Dunton Green PS","Dunton Green PS","N/A",0,"ON HOLD - delay in housing numbers. Have not seen numbers coming through from Sevenoaks. "]
["Copperfield Academy","Copperfield Academy","N/A",0,"ON HOLD - delay in housing numbers. Likely to stop. Will know more after 22nd August. "]
["Deal Parochial PS","Deal Parochial PS","N/A",0,"ON HOLD - until 2020 due to delay in housing coming forward."]
["Marden PS","Marden PS","N/A",0,"ON HOLD - awaiting confirmation of need from CYPE."]
["Lady Joanna Thornhill PS","Lady Joanna Thornhill PS","N/A",0,"ON HOLD - delay in housing numbers."]
["Sellindge PS","Sellindge PS","James Drew","3 classroom new block and car park","Delay in housing numbers likely until 2020. Site visit undertaken with Emily, Bailey's and Lee Round - aiming for March 2020 delivery. Bailey's updating costs from initial feasibility. Project Manager in discussion with developer regarding land transfer. ROD is for £850k. David Adams does not want to increase budget, therefore alternative cheaper specific and build solution being reviewed. "]
["Martello Primary","Martello Primary (East Folkestone)","Joanne Taylor","New Primary School for Turner Academy Trust.","Complete - Defects outstanding. Water supply is being provided at 23 degrees. The Utility Company have confirmed that their statutory obligation is to provide water no hotter than 28 degrees so strictly speaking they are fulfilling their obligation. We have advised our Statutory Compliance manager Steve Hamilton and he will undertake a site visit next week to inspect. The playing field is currently unusable. Given the contentious atmosphere around the school from the beginning of the planning process, the decision was taken by all parties involved to limit the lorry movements to and from the site by retaining the spoil. This material was laid on top of the playing field which has caused draining issues. The work to provide land drainage is going to be undertaken by Coombs. There is still some design work to undertake in order to finalise the design. Given the nature of the work to be undertaken and the need to remove soil, the optimum time to undertake the work would be in September and would take about eight weeks. However we need to determine whether that is acceptable to the school. "]
["Brockhill Park","Brockhill Park Performing Arts College"]
["Bromstone Primary","Bromstone Primary School, Broadstairs"]
["Churchill C","Churchill C of E (Voluntary Controlled) Primary School"]
["Former Ashford","Former Ashford South Primary Sch"]
["Hextable Primary","Hextable Primary School"]
["Langley Park","Langley Park"]
["Lansdowne Primary","Lansdowne Primary School"]
["Maidstone St","Maidstone St John's CEPS"]
["Minster in","Minster in Sheppey Primary School"]
["Queenborough School","Queenborough School and Nursery"]
["Repton Manor","Repton Manor Primary School"]
["Rose Street","Rose Street Primary School"]
["Singlewell Primary","Singlewell Primary"]
["Slade Primary","Slade Primary School"]
["South Borough","South Borough"]
["St George's","St George's Foundation Primary School, Broadstairs"]
["The Judd","The Judd School"]
["Thistle Hill","Thistle Hill School"]
["Valley Invicta","Valley Invicta Primary School at Leybourne Chase"]
["Weald Community","Weald Community Primary School"]
["West Minster","West Minster Primary School"]
["Westcourt Primary","Westcourt Primary School"]
["Westcourt Primary","Westcourt Primary School Phase 2"]
["White Cliffs","White Cliffs Primary College for the Arts"]
["Whitfield and","Whitfield and Aspen School"]
["Whitstable Junior","Whitstable Junior School"]
["Warden House","Warden House Primary"]
["Westlands Secondary School","Westlands Secondary School","N/A","1FE Expansion for Sept 2019","Status 1 - Curriculum Analysis completed. School have submitted a proposal to undertake project directly. "]
["Royal Harbour School / Laleham Gap","Royal Harbour School / Laleham Gap","James Drew","Relocation of STLS to Laleham Gap ","Progressing well. Building will complete by 28/9/18 with highway works to be completed thereafter within November "]
["St Gregory's Secondary School","St Gregory's Secondary School","Paula Malpeli","1FE expansion - 6FE to 7FE school. New sports hall and a two storey block of classrooms and science labs. ","Status 1 - VE exercise has brought down the budget to  £6.2m  - under budget by £400k.  Planning submitted for 2019 expansion. Access rights need to be confirmed over TWBC Leisure Centre land.  Programme being confirmed with design team so future RIBA stages are TBC. Main build forecast for February 2020 following the delay for VE costs. Potential option to run tender alongside planning, and given 3+ design provide 6 weeks for Stage 4 design to improve programme. Temporary unit on site for 2018 occupation.  Andrew White update on access arrangements. "]
["Tunbridge Wells Boys School","Tunbridge Wells Boys School","Paula Malpeli","1FE expansion. New sports hall with new single storey block of 13 new (9 GTA, 1 Food Tech and 3 ICT classrooms). Refurb of gym and staff room allows for extra dining room seating and cold servery. ","Post VE it appeared that the estimated project cost had reduced to just £80k above budget, and on this basis, with the proviso that further savings were sought during the tender period, the project was given the go-ahead to proceed by AEO.  SSEF application potentially the ESFA could fund the whole or part of the project.  Planning has been submitted in July for 2019 expansion - access rights need to be confirmed over TWBC Leisure Centre land. Internal works forecast completion for August 2019 for interim solution while main works being completed - forecast February 2020. Delay due to extended Stage 3 Design to VE costs down. Potential option to run tender alongside planning, and given 3+ design provide 6 weeks for Stage 4 design to improve programme.  "]
["Skinners School Expansion","Skinners School Expansion","N/A","0.3FE Expansion (school managed)","Status 1 - Funding agreement in place for School Managed project"]
["Ebbsfleet Green PS","Ebbsfleet Green PS","Joanna Ashby","New 1FE with 2FE Infrastructure ","Status 2 - Pre Feasibility. Land getting handed over in August. Needs delivery by 2020. Jo and Ben to attend next meeting. We can get license to get surveys on track. Desktop study to be completed September "]
["The Limes / Westcourt Interim","The Limes","Emily Stapley","Relocate PRU for Dartford and Gravesend into ex care home - The Limes. Ineterim works to provide Key Stage 4 pupils into West Court Skills Centre in Gravesend. Moving CLS from West Court and PRU in. ","Main works on hold while KCC review the options for future location. Interim measures undergoing Stage 4 design.  Need to be very cautious about how this is discussed in front of designated sponsor until we are clear what is happening to teh service. All comms through Ian Watts. "]
["Finberry PS, 1FE","Finberry PS","Joanna Ashby","1FE expansion from September 2020","Status 2 - Planning Approved. School was constructed with 1FE Classes and 2FE Infrastructure. Project to add the extra seven classes to the 2FE infrastructure. Need to appoint Stage 4 design work to be completed by end of 2018 so that if Chilmington Green land transfer is delayed further and pupil places are required elsewhere, this project can be brough forward as it is the same academy trust. David Adams has requested to take to RIBA Stage 4"]
["St Nicholas PS","St Nicholas PS","James Drew","0.1FE Expansion for September 2020","Status 2 - Feasibility Complete. Options to be discussed with school and AEO to assess best scenario. Internal refurb or modular solution proposed. Next step is to agree best option and proceed to planning if required - PD may be an option.  Can be taken to Stage 4 now so that it is ready to construct when needed. "]
["Towers (North) School","Towers (North) School","Brian Hirst","30YR7 places for September 2020","Status 2 - Curriculum Analysis Complete. Can be progressed now if required although awaiting land transfer for Chilmington Green Secondary. Need dependant on Chilmington Green and housing numbers. "]
["Sunnybank PS","Sunnybank PS","Brian Hirst","0.5FE Expansion but also looking to relocate the Infant site onto the Junior site for Sept 2020","Status 2 - Feasibility Completed. Reported back to the school and AEO. Preferred option is to combine the infant and junior school on the junior site - including the nursery. Email from AEO on 12/07/18 stating that Keith Abbott has given order to progress detailed feasibility up to planning. "]
["Former RSD","Former RSD","TBC","6FE New School","Status 1 - Survey work being lined up to assist with land acquisition and design team being softly mobilised to enable swift start. Cost plan being reviewed by Gleeds and report  issued to Andrew Chauvin. Alternative ' Newington Proposal' being reviewed  "]
["Hermitage Lane PS","Hermitage Lane PS","TBC","New 2FE Primary School","Status 2 - Options Appraisal Completed. Kick off meeting with Developer held on 24/5/18. All depends on the progress of the housing development and the contributions from the developers along the road (Bovis and Croudace). Plan would be to build 1FE Primary with 2FE infrastructure. Feasibility due for Stage 2 in September 2018. "]
["Swanley and Hextable PS","Swanley and Hextable PS","TBC","1FE Expansion - Allowance to expand an existing school. ","Status 3 - CYPE have proposed defferal until at least 2023, due to housing not coming forward as originally planned "]
["St Gregory's PS","St Gregory's PS","Sue Meads","0.5FE Expansion","Status 3 - CYPE have proposed defferal until at least 2023, due to housing not coming forward as originally planned "]
["Quinton Road Secondary School","Quinton Road Secondary School","Esther Larner","4FE with 8FE Infrastructure New School ","Status 3 - CYPE have proposed defferal until at least 2023, due to housing not coming forward as originally planned "]
["Skinners Kent Academy","Skinners Kent Academy","TBC","6FE Expansion on Site 3","STATUS 1  Minor 6FE required for 21/22. KCC have requested this to proceed"]
["Tonbridge and Malling Area, 3FE","Tonbridge and Malling Area","TBC","3FE of expansions of existing schools ","Status 3 - CYPE have proposed defferal until at least 2022, due to housing not coming forward as originally planned "]
["Tonbridge and Malling Area, 2FE","Tonbridge and Malling Area","TBC","2FE of expansion of existing schools ","Status 3 - CYPE have proposed defferal until at least 2022, due to housing not coming forward as originally planned "]
["Pent Valley - Demolition","Pent Valley Demo","Emily Stapley","Potential demolition of three ex-Pent Valley buildings - nursery and children's centre. ","Asbestos survey instructed  as part of feasibility and report due week beginning 17th September. Full feasibility due to be complete for end of November as we will need to tender for demolition. Tender process to begin end of September. ESFA are only funding one of the three blocks - no funding alloctaed for other two blocks by KCC currently. "]
["New Ash Green Primary","New Ash Green Primary","David Harris","Internal refurb to provide 1 larger classroom and 2 smaller classrooms. Required by September 2018. ","On budget and on time/ increase due to purchase of white boards "]
["Simon Langdon Boys","Simon Langdon Boys","TBC","Feasibility reuqired for new classrooms.","Feasibility "]
["Simon Langdon Girls","Simon Langdon Girls","TBC","Feasibility reuqired ","Feasibility "]
["Meadowfield School, Dining Room","Meadowfield School","TBC","Feasibility reuqired for dining room extension linked to BN expansion. ","Feasibility "]

{"sheet":"Title Tracker","index":7,"n_rows":144,"n_cols":16,"rows_kept":144,"cut":false,"hidden":true,"merged":[]}
["REPORT ON TITLE TRACKER",null,null,null,null,null,null,"IDENTIFIED ACTIONS",null,null,null,null,"RESPONSE"]
[]
["Discrete Description","PROGRAMME","PROJECT","AREA","PROJECT MANAGER","DESCRIPTION OF WORKS","Report on Title Received (Y/N)","Acquisition","Disposal\nof Land","Access\nAgreements","Wayleaves","Development\nAgreement","RESPONSIBLE\nPERSON","On\ntime?","TARGET\nCOMPL","ACTUAL\nCOMPL"]
["Dartford Girls Grammar",{"$f":"VLOOKUP($A4,MASTER_DATABASE,2,0)","v":"North"},{"$f":"VLOOKUP($A4,MASTER_DATABASE,3,0)","v":"2 classroom extension"},{"$f":"VLOOKUP($A4,MASTER_DATABASE,4,0)","v":625000},{"$f":"VLOOKUP($A4,MASTER_DATABASE,5,0)","v":598000},{"$f":"VLOOKUP($A4,MASTER_DATABASE,8,0)","v":{"$error":"#REF!"}},null,null,null,null,null,null,null,{"$f":"_xlfn.IFS(TODAYS_DATE>P4,\"C\",P4>O4,\"L\",P4<=O4,\"Y\")","v":{"$error":"#REF!"}},"2018-09-30",{"$f":"O4","v":"2018-09-30"}]
["St George's PS (Gravesham)","North","New 1FE with 2FE Infrastructure ",7100000,6571498.71,{"$error":"#REF!"},null,null,null,null,null,null,null,{"$f":"_xlfn.IFS(TODAYS_DATE>P5,\"C\",P5>O5,\"L\",P5<=O5,\"Y\")","v":{"$error":"#REF!"}},"2018-09-30",{"$f":"O5","v":"2018-09-30"}]
["St Johns Catholic PS, Phase 1",{"$error":"#N/A"},{"$error":"#N/A"},{"$error":"#N/A"},{"$error":"#N/A"},{"$error":"#N/A"},null,null,null,null,null,null,null,{"$error":"#REF!"},"2018-09-30","2018-09-30"]
["Portal House",{"$error":"#N/A"},{"$error":"#N/A"},{"$error":"#N/A"},{"$error":"#N/A"},{"$error":"#N/A"},null,null,null,null,null,null,null,{"$error":"#REF!"},"2018-09-30","2018-09-30"]
["St Johns Catholic PS, Phase 2",{"$error":"#N/A"},{"$error":"#N/A"},{"$error":"#N/A"},{"$error":"#N/A"},{"$error":"#N/A"},null,null,null,null,null,null,null,{"$error":"#REF!"},"2018-09-30","2018-09-30"]
["St Johns Catholic PS, Phase 3",{"$error":"#N/A"},{"$error":"#N/A"},{"$error":"#N/A"},{"$error":"#N/A"},{"$error":"#N/A"},null,null,null,null,null,null,null,{"$error":"#REF!"},"2018-09-30","2018-09-30"]
["Wilmington Academy, Phase 1",{"$error":"#N/A"},{"$error":"#N/A"},{"$error":"#N/A"},{"$error":"#N/A"},{"$error":"#N/A"},null,null,null,null,null,null,null,{"$error":"#REF!"},"2018-09-30","2018-09-30"]
["Wilmington Academy, Phase 2",{"$error":"#N/A"},{"$error":"#N/A"},{"$error":"#N/A"},{"$error":"#N/A"},{"$error":"#N/A"},null,null,null,null,null,null,null,{"$error":"#REF!"},"2018-09-30","2018-09-30"]
["Wilmington Academy, Phase 3",{"$error":"#N/A"},{"$error":"#N/A"},{"$error":"#N/A"},{"$error":"#N/A"},{"$error":"#N/A"},null,null,null,null,null,null,null,{"$error":"#REF!"},"2018-09-30","2018-09-30"]
["Wilmington Academy, Phase 4",{"$error":"#N/A"},{"$error":"#N/A"},{"$error":"#N/A"},{"$error":"#N/A"},{"$error":"#N/A"},null,null,null,null,null,null,null,{"$error":"#REF!"},"2018-09-30","2018-09-30"]
["Wilmington Academy, Phase 5",{"$error":"#N/A"},{"$error":"#N/A"},{"$error":"#N/A"},{"$error":"#N/A"},{"$error":"#N/A"},null,null,null,null,null,null,null,{"$error":"#REF!"},"2018-09-30","2018-09-30"]
["Wilmington Academy, Phase 6",{"$error":"#N/A"},{"$error":"#N/A"},{"$error":"#N/A"},{"$error":"#N/A"},{"$error":"#N/A"},null,null,null,null,null,null,null,{"$error":"#REF!"},"2018-09-30","2018-09-30"]
["Wilmington Grammar, Phase 1",{"$error":"#N/A"},{"$error":"#N/A"},{"$error":"#N/A"},{"$error":"#N/A"},{"$error":"#N/A"},null,null,null,null,null,null,null,{"$error":"#REF!"},"2018-09-30","2018-09-30"]
["Wilmington Grammar, Phase 2",{"$error":"#N/A"},{"$error":"#N/A"},{"$error":"#N/A"},{"$error":"#N/A"},{"$error":"#N/A"},null,null,null,null,null,null,null,{"$error":"#REF!"},"2018-09-30","2018-09-30"]
["Wilmington Grammar, Phase 3",{"$error":"#N/A"},{"$error":"#N/A"},{"$error":"#N/A"},{"$error":"#N/A"},{"$error":"#N/A"},null,null,null,null,null,null,null,{"$error":"#REF!"},"2018-09-30","2018-09-30"]
["Wilmington Grammar, Phase 4",{"$error":"#N/A"},{"$error":"#N/A"},{"$error":"#N/A"},{"$error":"#N/A"},{"$error":"#N/A"},null,null,null,null,null,null,null,{"$error":"#REF!"},"2018-09-30","2018-09-30"]
["Mayfield Grammar, Phase 1",{"$error":"#N/A"},{"$error":"#N/A"},{"$error":"#N/A"},{"$error":"#N/A"},{"$error":"#N/A"},null,null,null,null,null,null,null,{"$error":"#REF!"},"2018-09-30","2018-09-30"]
["Mayfield Grammar, Phase 2",{"$error":"#N/A"},{"$error":"#N/A"},{"$error":"#N/A"},{"$error":"#N/A"},{"$error":"#N/A"},null,null,null,null,null,null,null,{"$error":"#REF!"},"2018-09-30","2018-09-30"]
["Mayfield Grammar, Phase 3",{"$error":"#N/A"},{"$error":"#N/A"},{"$error":"#N/A"},{"$error":"#N/A"},{"$error":"#N/A"},null,null,null,null,null,null,null,{"$error":"#REF!"},"2018-09-30","2018-09-30"]
["Mayfield Grammar, Phase 4",{"$error":"#N/A"},{"$error":"#N/A"},{"$error":"#N/A"},{"$error":"#N/A"},{"$error":"#N/A"},null,null,null,null,null,null,null,{"$error":"#REF!"},"2018-09-30","2018-09-30"]
["Mayfield Grammar, Phase 5",{"$error":"#N/A"},{"$error":"#N/A"},{"$error":"#N/A"},{"$error":"#N/A"},{"$error":"#N/A"},null,null,null,null,null,null,null,{"$error":"#REF!"},"2018-09-30","2018-09-30"]
["Mayfield Grammar, Phase 6",{"$error":"#N/A"},{"$error":"#N/A"},{"$error":"#N/A"},{"$error":"#N/A"},{"$error":"#N/A"},null,null,null,null,null,null,null,{"$error":"#REF!"},"2018-09-30","2018-09-30"]
["Brent PS","North","1FE - multiple phase expansion",4600000,4323325.6900000004,{"$error":"#REF!"},null,null,null,null,null,null,null,{"$error":"#REF!"},"2018-09-30","2018-09-30"]
["Edenbridge PS",{"$error":"#N/A"},{"$error":"#N/A"},{"$error":"#N/A"},{"$error":"#N/A"},{"$error":"#N/A"},null,null,null,null,null,null,null,{"$error":"#REF!"},"2018-09-30","2018-09-30"]
["Seal CoE PS","North","1FE expansion with ancillory facilities plus replacement of exisitng mobile accommodation and car park upgrade to Seal Parish Council ",2980000,4700000,{"$error":"#REF!"},null,null,null,null,null,null,null,{"$error":"#REF!"},"2018-09-30","2018-09-30"]
["Temple Hill PS",{"$error":"#N/A"},{"$error":"#N/A"},{"$error":"#N/A"},{"$error":"#N/A"},{"$error":"#N/A"},null,null,null,null,null,null,null,{"$error":"#REF!"},"2018-09-30","2018-09-30"]
["Northfleet School for Girls","North","1FE expansion",4000000,3991812.38,{"$error":"#REF!"},null,null,null,null,null,null,null,{"$error":"#REF!"},"2018-09-30","2018-09-30"]
["Craylands School, Phase 3",{"$error":"#N/A"},{"$error":"#N/A"},{"$error":"#N/A"},{"$error":"#N/A"},{"$error":"#N/A"},null,null,null,null,null,null,null,{"$error":"#REF!"},"2018-09-30","2018-09-30"]
["Craylands School, Phase 5",{"$error":"#N/A"},{"$error":"#N/A"},{"$error":"#N/A"},{"$error":"#N/A"},{"$error":"#N/A"},null,null,null,null,null,null,null,{"$error":"#REF!"},"2018-09-30","2018-09-30"]
["Craylands School, Phsae 6",{"$error":"#N/A"},{"$error":"#N/A"},{"$error":"#N/A"},{"$error":"#N/A"},{"$error":"#N/A"},null,null,null,null,null,null,null,{"$error":"#REF!"},"2018-09-30","2018-09-30"]
["Trinity Free School, Phase 1",{"$error":"#N/A"},{"$error":"#N/A"},{"$error":"#N/A"},{"$error":"#N/A"},{"$error":"#N/A"},null,null,null,null,null,null,null,{"$error":"#REF!"},"2018-09-30","2018-09-30"]
["Trinity Free School, Phase 2",{"$error":"#N/A"},{"$error":"#N/A"},{"$error":"#N/A"},{"$error":"#N/A"},{"$error":"#N/A"},null,null,null,null,null,null,null,{"$error":"#REF!"},"2018-09-30","2018-09-30"]
["Trinity Free School, Phase 3",{"$f":"VLOOKUP($A36,MASTER_DATABASE,2,0)","v":{"$error":"#N/A"}},{"$f":"VLOOKUP($A36,MASTER_DATABASE,3,0)","v":{"$error":"#N/A"}},{"$f":"VLOOKUP($A36,MASTER_DATABASE,4,0)","v":{"$error":"#N/A"}},{"$f":"VLOOKUP($A36,MASTER_DATABASE,5,0)","v":{"$error":"#N/A"}},{"$f":"VLOOKUP($A36,MASTER_DATABASE,8,0)","v":{"$error":"#N/A"}},null,null,null,null,null,null,null,{"$f":"_xlfn.IFS(TODAYS_DATE>P36,\"C\",P36>O36,\"L\",P36<=O36,\"Y\")","v":{"$error":"#REF!"}},"2018-09-30","2018-09-30"]
["Trinity Free School, Phase 4",{"$error":"#N/A"},{"$error":"#N/A"},{"$error":"#N/A"},{"$error":"#N/A"},{"$error":"#N/A"},null,null,null,null,null,null,null,{"$error":"#REF!"},"2018-09-30","2018-09-30"]
["Trinity Free School, Phase 5",{"$error":"#N/A"},{"$error":"#N/A"},{"$error":"#N/A"},{"$error":"#N/A"},{"$error":"#N/A"},null,null,null,null,null,null,null,{"$error":"#REF!"},"2018-09-30","2018-09-30"]
["Chilmington Green PS","South","New 2FE Primary School",7200000,8400000,{"$error":"#REF!"},null,null,null,null,null,null,null,{"$error":"#REF!"},"2018-09-30","2018-09-30"]
["Preston PS","South","1 classroom extension with associated WC's.",310000,261362.9,{"$error":"#REF!"},null,null,null,null,null,null,null,{"$error":"#REF!"},"2018-09-30","2018-09-30"]
["Whitfield Aspen School","South","2FE New Mainstream and SEN school",7990000,7447500,{"$error":"#REF!"},null,null,null,null,null,null,null,{"$error":"#REF!"},"2018-09-30","2018-09-30"]
["Herne Bay Library",{"$error":"#N/A"},{"$error":"#N/A"},{"$error":"#N/A"},{"$error":"#N/A"},{"$error":"#N/A"},null,null,null,null,null,null,null,{"$error":"#REF!"},"2018-09-30","2018-09-30"]
["Palmarsh PS","South","1FE expansion. Note, forecast cost is for part accommodation",2200000,1267008,{"$error":"#REF!"},null,null,null,null,null,null,null,{"$error":"#REF!"},"2018-09-30","2018-09-30"]
["Meadowfield School","East","1 FE expansion",4792000,4610000,{"$error":"#REF!"},null,null,null,null,null,null,null,{"$error":"#REF!"},"2018-09-30","2018-09-30"]
["Hampton PS","East","New classroom and corridor extension",300000,243470.07,{"$error":"#REF!"},null,null,null,null,null,null,null,{"$error":"#REF!"},"2018-09-30","2018-09-30"]
["Bysing Wood PS",{"$error":"#N/A"},{"$error":"#N/A"},{"$error":"#N/A"},{"$error":"#N/A"},{"$error":"#N/A"},null,null,null,null,null,null,null,{"$error":"#REF!"},"2018-09-30","2018-09-30"]
["St George's CoE Foundation PS","East","1FE expansion",2600000,2499829.17,{"$error":"#REF!"},null,null,null,null,null,null,null,{"$error":"#REF!"},"2018-09-30","2018-09-30"]
["Regis Manor PS","East","1FE expansion",3300000,2881910,{"$error":"#REF!"},null,null,null,null,null,null,null,{"$error":"#REF!"},"2018-09-30","2018-09-30"]
["Sittingbourne CC","East","2FE expansion",6000000,6542597.6799999997,{"$error":"#REF!"},null,null,null,null,null,null,null,{"$error":"#REF!"},"2018-09-30","2018-09-30"]
["Maplesden Noakes Secondary Expansion, bulge",{"$error":"#N/A"},{"$error":"#N/A"},{"$error":"#N/A"},{"$error":"#N/A"},{"$error":"#N/A"},null,null,null,null,null,null,null,{"$error":"#REF!"},"2018-09-30","2018-09-30"]
["Langley Park PS","West","1 FE expansion",2600000,2577621.7400000002,{"$error":"#REF!"},null,null,null,null,null,null,null,{"$error":"#REF!"},"2018-09-30","2018-09-30"]
["Park Way PS","West","2 teaching space expansion",400000,286737,{"$error":"#REF!"},null,null,null,null,null,null,null,{"$error":"#REF!"},"2018-09-30","2018-09-30"]
["Harrietsham PS","West","1FE expansion",3000000,3600000,{"$error":"#REF!"},null,null,null,null,null,null,null,{"$error":"#REF!"},"2018-09-30","2018-09-30"]
["St Peters Tunbridge Wells PS (Hawkenbury)","West","New 1FE School",6900000,7900000,{"$error":"#REF!"},null,null,null,null,null,null,null,{"$error":"#REF!"},"2018-09-30","2018-09-30"]
["Benenden PS",{"$error":"#N/A"},{"$error":"#N/A"},{"$error":"#N/A"},{"$error":"#N/A"},{"$error":"#N/A"},null,null,null,null,null,null,null,{"$error":"#REF!"},"2018-09-30","2018-09-30"]
["Platt PS",{"$error":"#N/A"},{"$error":"#N/A"},{"$error":"#N/A"},{"$error":"#N/A"},{"$error":"#N/A"},null,null,null,null,null,null,null,{"$error":"#REF!"},"2018-09-30","2018-09-30"]
["Northfleet Tech College (PFI)","North","1FE expansion required for Sept 2021. ",4500000,4320167,{"$error":"#REF!"},null,null,null,null,null,null,null,{"$error":"#REF!"},"2018-09-30","2018-09-30"]
["St John's Secondary School (PFI), Phase 1",{"$error":"#N/A"},{"$error":"#N/A"},{"$error":"#N/A"},{"$error":"#N/A"},{"$error":"#N/A"},null,null,null,null,null,null,null,{"$error":"#REF!"},"2018-09-30","2018-09-30"]
["St John's Secondary School (PFI), Phase 2",{"$error":"#N/A"},{"$error":"#N/A"},{"$error":"#N/A"},{"$error":"#N/A"},{"$error":"#N/A"},null,null,null,null,null,null,null,{"$error":"#REF!"},"2018-09-30","2018-09-30"]
["Thamesview School (PFI), Phase 1",{"$error":"#N/A"},{"$error":"#N/A"},{"$error":"#N/A"},{"$error":"#N/A"},{"$error":"#N/A"},null,null,null,null,null,null,null,{"$error":"#REF!"},"2018-09-30","2018-09-30"]
["Thamesview School (PFI), Phase 2",{"$error":"#N/A"},{"$error":"#N/A"},{"$error":"#N/A"},{"$error":"#N/A"},{"$error":"#N/A"},null,null,null,null,null,null,null,{"$error":"#REF!"},"2018-09-30","2018-09-30"]
["Ursuline College, Phase 1",{"$error":"#N/A"},{"$error":"#N/A"},{"$error":"#N/A"},{"$error":"#N/A"},{"$error":"#N/A"},null,null,null,null,null,null,null,{"$error":"#REF!"},"2018-09-30","2018-09-30"]
["Ursuline College, Phase 2",{"$error":"#N/A"},{"$error":"#N/A"},{"$error":"#N/A"},{"$error":"#N/A"},{"$error":"#N/A"},null,null,null,null,null,null,null,{"$error":"#REF!"},"2018-09-30","2018-09-30"]
["Judd School, RS classroom",{"$error":"#N/A"},{"$error":"#N/A"},{"$error":"#N/A"},{"$error":"#N/A"},{"$error":"#N/A"},null,null,null,null,null,null,null,{"$error":"#REF!"},"2018-09-30","2018-09-30"]
["Judd School, remodelling",{"$error":"#N/A"},{"$error":"#N/A"},{"$error":"#N/A"},{"$error":"#N/A"},{"$error":"#N/A"},null,null,null,null,null,null,null,{"$error":"#REF!"},"2018-09-30","2018-09-30"]
["Bennett Memorial School","West","2FE Expansion ",6500000,7500000,{"$error":"#REF!"},null,null,null,null,null,null,null,{"$error":"#REF!"},"2018-09-30","2018-09-30"]
["Headcorn PS","West","1FE expansion",2700000,2924328,{"$error":"#REF!"},null,null,null,null,null,null,null,{"$error":"#REF!"},"2018-09-30","2018-09-30"]
["The Wyvern School",{"$f":"VLOOKUP($A68,MASTER_DATABASE,2,0)","v":"South"},{"$f":"VLOOKUP($A68,MASTER_DATABASE,3,0)","v":"1FE Expansion"},{"$f":"VLOOKUP($A68,MASTER_DATABASE,4,0)","v":4700000},{"$f":"VLOOKUP($A68,MASTER_DATABASE,5,0)","v":3164396},{"$f":"VLOOKUP($A68,MASTER_DATABASE,8,0)","v":{"$error":"#REF!"}},null,null,null,null,null,null,null,{"$f":"_xlfn.IFS(TODAYS_DATE>P68,\"C\",P68>O68,\"L\",P68<=O68,\"Y\")","v":{"$error":"#REF!"}},"2018-09-30","2018-09-30"]
["Swadelands/The Lenham School",{"$error":"#N/A"},{"$error":"#N/A"},{"$error":"#N/A"},{"$error":"#N/A"},{"$error":"#N/A"},null,null,null,null,null,null,null,{"$error":"#REF!"},"2018-09-30",{"$f":"O69","v":"2018-09-30"}]
["Spires, Phase 1",{"$error":"#N/A"},{"$error":"#N/A"},{"$error":"#N/A"},{"$error":"#N/A"},{"$error":"#N/A"},null,null,null,null,null,null,null,{"$error":"#REF!"},"2018-09-30","2018-09-30"]
["Spires, Phase 2",{"$error":"#N/A"},{"$error":"#N/A"},{"$error":"#N/A"},{"$error":"#N/A"},{"$error":"#N/A"},null,null,null,null,null,null,null,{"$error":"#REF!"},"2018-09-30","2018-09-30"]
["Spires, Phase 3",{"$error":"#N/A"},{"$error":"#N/A"},{"$error":"#N/A"},{"$error":"#N/A"},{"$error":"#N/A"},null,null,null,null,null,null,null,{"$error":"#REF!"},"2018-09-30","2018-09-30"]
["Laleham Gap",{"$error":"#N/A"},{"$error":"#N/A"},{"$error":"#N/A"},{"$error":"#N/A"},{"$error":"#N/A"},null,null,null,null,null,null,null,{"$error":"#REF!"},"2018-09-30","2018-09-30"]
["The Archbishops School",{"$error":"#N/A"},{"$error":"#N/A"},{"$error":"#N/A"},{"$error":"#N/A"},{"$error":"#N/A"},null,null,null,null,null,null,null,{"$error":"#REF!"},"2018-09-30","2018-09-30"]
["Darenth Community Primary School",{"$error":"#N/A"},{"$error":"#N/A"},{"$error":"#N/A"},{"$error":"#N/A"},{"$error":"#N/A"},null,null,null,null,null,null,null,{"$error":"#REF!"},"2018-09-30","2018-09-30"]
["Faversham Library ",{"$error":"#N/A"},{"$error":"#N/A"},{"$error":"#N/A"},{"$error":"#N/A"},{"$error":"#N/A"},null,null,null,null,null,null,null,{"$error":"#REF!"},"2018-09-30","2018-09-30"]
["Dartford Sexual Health Clinic",{"$error":"#N/A"},{"$error":"#N/A"},{"$error":"#N/A"},{"$error":"#N/A"},{"$error":"#N/A"},null,null,null,null,null,null,null,{"$error":"#REF!"},"2018-09-30","2018-09-30"]
["Pent Valley - Sharman Block",{"$error":"#N/A"},{"$error":"#N/A"},{"$error":"#N/A"},{"$error":"#N/A"},{"$error":"#N/A"},null,null,null,null,null,null,null,{"$error":"#REF!"},"2018-09-30","2018-09-30"]
["Invicta Car Park",{"$error":"#N/A"},{"$error":"#N/A"},{"$error":"#N/A"},{"$error":"#N/A"},{"$error":"#N/A"},null,null,null,null,null,null,null,{"$error":"#REF!"},"2018-09-30","2018-09-30"]
["Kent History and Library Centre",{"$error":"#N/A"},{"$error":"#N/A"},{"$error":"#N/A"},{"$error":"#N/A"},{"$error":"#N/A"},null,null,null,null,null,null,null,{"$error":"#REF!"},"2018-09-30","2018-09-30"]
["St Peter's House",{"$error":"#N/A"},{"$error":"#N/A"},{"$error":"#N/A"},{"$error":"#N/A"},{"$error":"#N/A"},null,null,null,null,null,null,null,{"$error":"#REF!"},"2018-09-30","2018-09-30"]
["West Borough PS","West","New Staff Room",195000,204105,{"$error":"#REF!"},null,null,null,null,null,null,null,{"$error":"#REF!"},"2018-09-30","2018-09-30"]
["Weald PS","North","Small classroom extension",481313,505458,{"$error":"#REF!"},null,null,null,null,null,null,null,{"$error":"#REF!"},"2018-09-30","2018-09-30"]
["North Farm WTS",{"$error":"#N/A"},{"$error":"#N/A"},{"$error":"#N/A"},{"$error":"#N/A"},{"$error":"#N/A"},null,null,null,null,null,null,null,{"$error":"#REF!"},"2018-09-30","2018-09-30"]
["Ryarsh PS",{"$error":"#N/A"},{"$error":"#N/A"},{"$error":"#N/A"},{"$error":"#N/A"},{"$error":"#N/A"},null,null,null,null,null,null,null,{"$error":"#REF!"},"2018-09-30","2018-09-30"]
["Maplesden Noakes Secondary Expansion, 1FE",{"$error":"#N/A"},{"$error":"#N/A"},{"$error":"#N/A"},{"$error":"#N/A"},{"$error":"#N/A"},null,null,null,null,null,null,null,{"$error":"#REF!"},"2018-09-30","2018-09-30"]
["Joy Lane Primary School Phase 2","East","1FE expansion",3500000,3647217.6,{"$error":"#REF!"},null,null,null,null,null,null,null,{"$error":"#REF!"},"2018-09-30","2018-09-30"]
["Avenue of Remembrance",{"$error":"#N/A"},{"$error":"#N/A"},{"$error":"#N/A"},{"$error":"#N/A"},{"$error":"#N/A"},null,null,null,null,null,null,null,{"$error":"#REF!"},"2018-09-30","2018-09-30"]
["Coxheath Primary School","West","Two classrooms ",600000,578455,{"$error":"#REF!"},null,null,null,null,null,null,null,{"$error":"#REF!"},"2018-09-30","2018-09-30"]
["Wouldham PS",{"$error":"#N/A"},{"$error":"#N/A"},{"$error":"#N/A"},{"$error":"#N/A"},{"$error":"#N/A"},null,null,null,null,null,null,null,{"$error":"#REF!"},"2018-09-30","2018-09-30"]
["Wentworth PS","North","1FE expansion",2600000,2346000,{"$error":"#REF!"},null,null,null,null,null,null,null,{"$error":"#REF!"},"2018-09-30","2018-09-30"]
["Ridgeview School",{"$error":"#N/A"},{"$error":"#N/A"},{"$error":"#N/A"},{"$error":"#N/A"},{"$error":"#N/A"},null,null,null,null,null,null,null,{"$error":"#REF!"},"2018-09-30","2018-09-30"]
["Weald of Kent Grammar",{"$error":"#N/A"},{"$error":"#N/A"},{"$error":"#N/A"},{"$error":"#N/A"},{"$error":"#N/A"},null,null,null,null,null,null,null,{"$error":"#REF!"},"2018-09-30","2018-09-30"]
["Finberry PS, New PS",{"$error":"#N/A"},{"$error":"#N/A"},{"$error":"#N/A"},{"$error":"#N/A"},{"$error":"#N/A"},null,null,null,null,null,null,null,{"$error":"#REF!"},"2018-09-30","2018-09-30"]
["Birchington PS","East","New two storey teaching block.",2750000,2438962.92,{"$error":"#REF!"},null,null,null,null,null,null,null,{"$error":"#REF!"},"2018-09-30","2018-09-30"]
["South Borough PS","West","Two storey building with six classrooms.",2600000,2169009.86,{"$error":"#REF!"},null,null,null,null,null,null,null,{"$error":"#REF!"},"2018-09-30","2018-09-30"]
["Oakley PS (Nursery)","West","New SEN nursery provision.",995000,962199.18,{"$error":"#REF!"},null,null,null,null,null,null,null,{"$error":"#REF!"},"2018-09-30","2018-09-30"]
["Southborough Hub",{"$error":"#N/A"},{"$error":"#N/A"},{"$error":"#N/A"},{"$error":"#N/A"},{"$error":"#N/A"},null,null,null,null,null,null,null,{"$error":"#REF!"},"2018-09-30","2018-09-30"]
["Dover Discovery Centre",{"$error":"#N/A"},{"$error":"#N/A"},{"$error":"#N/A"},{"$error":"#N/A"},{"$error":"#N/A"},null,null,null,null,null,null,null,{"$error":"#REF!"},"2018-09-30","2018-09-30"]
["Queen's House Folkestone to Cheriton House",{"$f":"VLOOKUP($A100,MASTER_DATABASE,2,0)","v":{"$error":"#N/A"}},{"$f":"VLOOKUP($A100,MASTER_DATABASE,3,0)","v":{"$error":"#N/A"}},{"$f":"VLOOKUP($A100,MASTER_DATABASE,4,0)","v":{"$error":"#N/A"}},{"$f":"VLOOKUP($A100,MASTER_DATABASE,5,0)","v":{"$error":"#N/A"}},{"$f":"VLOOKUP($A100,MASTER_DATABASE,8,0)","v":{"$error":"#N/A"}},null,null,null,null,null,null,null,{"$f":"_xlfn.IFS(TODAYS_DATE>P100,\"C\",P100>O100,\"L\",P100<=O100,\"Y\")","v":{"$error":"#REF!"}},"2018-09-30","2018-09-30"]
["Coroners Phase 2",{"$error":"#N/A"},{"$error":"#N/A"},{"$error":"#N/A"},{"$error":"#N/A"},{"$error":"#N/A"},null,null,null,null,null,null,null,{"$error":"#REF!"},"2018-09-30","2018-09-30"]
["Barton Court Free School","East","New 5FE school",24790856,24790856,{"$error":"#REF!"},null,null,null,null,null,null,null,{"$error":"#REF!"},"2018-09-30","2018-09-30"]
["St Andrew's PS","West","New 2FE school",8561038,8561038,{"$error":"#REF!"},null,null,null,null,null,null,null,{"$error":"#REF!"},"2018-09-30","2018-09-30"]
["Dover Girls Grammar",{"$error":"#N/A"},{"$error":"#N/A"},{"$error":"#N/A"},{"$error":"#N/A"},{"$error":"#N/A"},null,null,null,null,null,null,null,{"$error":"#REF!"},"2018-09-30","2018-09-30"]
["St George's (Gravesend)","North","1FE expansion",2700000,2600000,{"$error":"#REF!"},null,null,null,null,null,null,null,{"$error":"#REF!"},"2018-09-30","2018-09-30"]
["Wickhambreaux","East","School managed - additonal taching and admin space",127952,127952,{"$error":"#REF!"},null,null,null,null,null,null,null,{"$error":"#REF!"},"2018-09-30","2018-09-30"]
["Stone Bay School","East","Additonal classroom",100000,30000,{"$error":"#REF!"},null,null,null,null,null,null,null,{"$error":"#REF!"},"2018-09-30","2018-09-30"]
["Maidstone Boys Grammar","West","School managed - additonal taching",3580000,3580000,{"$error":"#REF!"},null,null,null,null,null,null,null,{"$error":"#REF!"},"2018-09-30","2018-09-30"]
["Lawn PS","North","1FE - only pre-con work",19663,19663,{"$error":"#REF!"},null,null,null,null,null,null,null,{"$error":"#REF!"},"2018-09-30","2018-09-30"]
["Dunton Green PS","North","1FE - only pre-con work",81121,81121,{"$error":"#REF!"},null,null,null,null,null,null,null,{"$error":"#REF!"},"2018-09-30","2018-09-30"]
["Copperfield Academy","North","1FE - only pre-con work",53655,53655,{"$error":"#REF!"},null,null,null,null,null,null,null,{"$error":"#REF!"},"2018-09-30","2018-09-30"]
["Deal Parochial PS","South","Bulge class",15700,15700,{"$error":"#REF!"},null,null,null,null,null,null,null,{"$error":"#REF!"},"2018-09-30","2018-09-30"]
["Marden PS","West","Expansion to 2FE",1400000,1440871,{"$error":"#REF!"},null,null,null,null,null,null,null,{"$error":"#REF!"},"2018-09-30","2018-09-30"]
["Charing and Challock PS",{"$error":"#N/A"},{"$error":"#N/A"},{"$error":"#N/A"},{"$error":"#N/A"},{"$error":"#N/A"},null,null,null,null,null,null,null,{"$error":"#REF!"},"2018-09-30","2018-09-30"]
["Lady Joanna Thornhill PS","South","Only pre-con work",6434,6434,{"$error":"#REF!"},null,null,null,null,null,null,null,{"$error":"#REF!"},"2018-09-30","2018-09-30"]
["Sellindge PS","South","3 classroom new block and car park",1400000,1400000,{"$error":"#REF!"},null,null,null,null,null,null,null,{"$error":"#REF!"},"2018-09-30","2018-09-30"]
["Briary PS",{"$error":"#N/A"},{"$error":"#N/A"},{"$error":"#N/A"},{"$error":"#N/A"},{"$error":"#N/A"},null,null,null,null,null,null,null,{"$error":"#REF!"},"2018-09-30","2018-09-30"]
["Westlands Secondary School","East","1FE Expansion",3250000,3250000,{"$error":"#REF!"},null,null,null,null,null,null,null,{"$error":"#REF!"},"2018-09-30","2018-09-30"]
["Royal Harbour School / Laleham Gap","East","Relocation of STLS to Laleham Gap ",800000,825598.59,{"$error":"#REF!"},null,null,null,null,null,null,null,{"$error":"#REF!"},"2018-09-30","2018-09-30"]
["St Gregory's Secondary School","West","1FE expansion including new sports hall",6600000,7400000,{"$error":"#REF!"},null,null,null,null,null,null,null,{"$error":"#REF!"},"2018-09-30","2018-09-30"]
["Tunbridge Wells Boys School","West","1FE expansion including new sports hall and replacement of 4 old mobiles classrooms. ",7700000,8352403,{"$error":"#REF!"},null,null,null,null,null,null,null,{"$error":"#REF!"},"2018-09-30","2018-09-30"]
["Skinners School Expansion","West","0.3FE Expansion (school managed)",3000000,3000000,{"$error":"#REF!"},null,null,null,null,null,null,null,{"$error":"#REF!"},"2018-09-30","2018-09-30"]
["Ebbsfleet Green PS","North","New 1FE with 2FE Infrastructure ",6000000,6000000,{"$error":"#REF!"},null,null,null,null,null,null,null,{"$error":"#REF!"},"2018-09-30","2018-09-30"]
["The Limes / Westcourt Interim",{"$error":"#N/A"},{"$error":"#N/A"},{"$error":"#N/A"},{"$error":"#N/A"},{"$error":"#N/A"},null,null,null,null,null,null,null,{"$error":"#REF!"},"2018-09-30","2018-09-30"]
["Finberry PS, 1FE",{"$error":"#N/A"},{"$error":"#N/A"},{"$error":"#N/A"},{"$error":"#N/A"},{"$error":"#N/A"},null,null,null,null,null,null,null,{"$error":"#REF!"},"2018-09-30","2018-09-30"]
["St Nicholas PS","South","30YR7 places ",100000,100000,{"$error":"#REF!"},null,null,null,null,null,null,null,{"$error":"#REF!"},"2018-09-30","2018-09-30"]
["Towers (North) School","South","0.5FE Expansion",350000,350000,{"$error":"#REF!"},null,null,null,null,null,null,null,{"$error":"#REF!"},"2018-09-30","2018-09-30"]
["Sunnybank PS","East","0.5FE Expansion plus relocation of Infant block onto the Junior site",3000000,3000000,{"$error":"#REF!"},null,null,null,null,null,null,null,{"$error":"#REF!"},"2018-09-30","2018-09-30"]
["Former RSD","East","6FE New School. Exlcudes land purchase as separate RoD ",20000000,18000000,{"$error":"#REF!"},null,null,null,null,null,null,null,{"$error":"#REF!"},"2018-09-30","2018-09-30"]
["Hermitage Lane PS","West","2FE new school",7000000,7000000,{"$error":"#REF!"},null,null,null,null,null,null,null,{"$error":"#REF!"},"2018-09-30","2018-09-30"]
["Swanley and Hextable PS","North","1FE Expansion",2750000,2750000,{"$error":"#REF!"},null,null,null,null,null,null,null,{"$error":"#REF!"},"2018-09-30","2018-09-30"]
["St Gregory's PS",{"$f":"VLOOKUP($A132,MASTER_DATABASE,2,0)","v":"East"},{"$f":"VLOOKUP($A132,MASTER_DATABASE,3,0)","v":"0.5FE Expansion"},{"$f":"VLOOKUP($A132,MASTER_DATABASE,4,0)","v":1500000},{"$f":"VLOOKUP($A132,MASTER_DATABASE,5,0)","v":1500000},{"$f":"VLOOKUP($A132,MASTER_DATABASE,8,0)","v":{"$error":"#REF!"}},null,null,null,null,null,null,null,{"$f":"_xlfn.IFS(TODAYS_DATE>P132,\"C\",P132>O132,\"L\",P132<=O132,\"Y\")","v":{"$error":"#REF!"}},"2018-09-30","2018-09-30"]
["Quinton Road Secondary School",{"$error":"#N/A"},{"$error":"#N/A"},{"$error":"#N/A"},{"$error":"#N/A"},{"$error":"#N/A"},null,null,null,null,null,null,null,{"$error":"#REF!"},"2018-09-30",{"$f":"O133","v":"2018-09-30"}]
["Skinners Kent Academy","West","6FE Expansion",20000000,20000000,{"$error":"#REF!"},null,null,null,null,null,null,null,{"$error":"#REF!"},"2018-09-30","2018-09-30"]
["Tonbridge and Malling Area, 3FE",{"$error":"#N/A"},{"$error":"#N/A"},{"$error":"#N/A"},{"$error":"#N/A"},{"$error":"#N/A"},null,null,null,null,null,null,null,{"$error":"#REF!"},"2018-09-30","2018-09-30"]
["Tonbridge and Malling Area, 2FE",{"$error":"#N/A"},{"$error":"#N/A"},{"$error":"#N/A"},{"$error":"#N/A"},{"$error":"#N/A"},null,null,null,null,null,null,null,{"$error":"#REF!"},"2018-09-30","2018-09-30"]
["Martello Primary",{"$error":"#N/A"},{"$error":"#N/A"},{"$error":"#N/A"},{"$error":"#N/A"},{"$error":"#N/A"},null,null,null,null,null,null,null,{"$error":"#REF!"},"2018-09-30","2018-09-30"]
["Northfleet Embankment East ",{"$error":"#N/A"},{"$error":"#N/A"},{"$error":"#N/A"},{"$error":"#N/A"},{"$error":"#N/A"},null,null,null,null,null,null,null,{"$error":"#REF!"},"2018-09-30","2018-09-30"]
["Pent Valley - Demolition",{"$error":"#N/A"},{"$error":"#N/A"},{"$error":"#N/A"},{"$error":"#N/A"},{"$error":"#N/A"},null,null,null,null,null,null,null,{"$error":"#REF!"},"2018-09-30","2018-09-30"]
["Singlewell ",{"$error":"#N/A"},{"$error":"#N/A"},{"$error":"#N/A"},{"$error":"#N/A"},{"$error":"#N/A"},null,null,null,null,null,null,null,{"$error":"#REF!"},"2018-09-30","2018-09-30"]
["New Ash Green Primary",{"$error":"#N/A"},{"$error":"#N/A"},{"$error":"#N/A"},{"$error":"#N/A"},{"$error":"#N/A"},null,null,null,null,null,null,null,{"$error":"#REF!"},"2018-09-30","2018-09-30"]
["Simon Langdon Boys",{"$error":"#N/A"},{"$error":"#N/A"},{"$error":"#N/A"},{"$error":"#N/A"},{"$error":"#N/A"},null,null,null,null,null,null,null,{"$error":"#REF!"},"2018-09-30","2018-09-30"]
["Simon Langdon Girls",{"$error":"#N/A"},{"$error":"#N/A"},{"$error":"#N/A"},{"$error":"#N/A"},{"$error":"#N/A"},null,null,null,null,null,null,null,{"$error":"#REF!"},"2018-09-30","2018-09-30"]
["Meadowfield School, Dining Room",{"$error":"#N/A"},{"$error":"#N/A"},{"$error":"#N/A"},{"$error":"#N/A"},{"$error":"#N/A"},null,null,null,null,null,null,null,{"$error":"#REF!"},"2018-09-30","2018-09-30"]

{"sheet":"Qnnaire","index":8,"n_rows":40,"n_cols":10,"rows_kept":40,"cut":false,"hidden":true,"merged":[]}
[]
[null,"PROJECT","Type","GIFA","Places","Construction\nStart","Stage","Budget","£/m2","Band"]
[null,"Dartford Girls Grammar",{"$f":"VLOOKUP($B3,MASTER_DATABASE,2,0)","v":"North"},{"$f":"VLOOKUP($B3,MASTER_DATABASE,31,0)","v":{"$error":"#REF!"}},null,{"$f":"VLOOKUP($B3,MASTER_DATABASE,26,0)","v":{"$error":"#REF!"}},{"$f":"VLOOKUP($B3,MASTER_DATABASE,18,0)","v":{"$error":"#REF!"}},{"$f":"VLOOKUP($B3,MASTER_DATABASE,36,0)","v":{"$error":"#REF!"}},{"$f":"H3/D3","v":{"$error":"#REF!"}},{"$f":"VLOOKUP($B3,MASTER_DATABASE,54,0)","v":{"$error":"#REF!"}}]
[null,"Trinity Free School, Phase 1",{"$error":"#N/A"},{"$f":"H4/I4","v":{"$error":"#N/A"}},null,"complete",{"$error":"#N/A"},{"$f":"VLOOKUP($B4,MASTER_DATABASE,36,0)","v":{"$error":"#N/A"}},2850,{"$error":"#N/A"}]
[null,"Trinity Free School, Phase 2",{"$error":"#N/A"},{"$f":"VLOOKUP($B5,MASTER_DATABASE,31,0)","v":{"$error":"#N/A"}},null,{"$f":"VLOOKUP($B5,MASTER_DATABASE,26,0)","v":{"$error":"#N/A"}},{"$error":"#N/A"},{"$f":"D5*I5","v":{"$error":"#N/A"}},2850,{"$error":"#N/A"}]
[null,"Trinity Free School, Phase 3",{"$error":"#N/A"},{"$f":"VLOOKUP($B6,MASTER_DATABASE,31,0)","v":{"$error":"#N/A"}},null,{"$error":"#N/A"},{"$error":"#N/A"},{"$f":"VLOOKUP($B6,MASTER_DATABASE,36,0)","v":{"$error":"#N/A"}},{"$f":"H6/D6","v":{"$error":"#N/A"}},{"$error":"#N/A"}]
[null,"Trinity Free School, Phase 4",{"$error":"#N/A"},{"$f":"VLOOKUP($B7,MASTER_DATABASE,31,0)","v":{"$error":"#N/A"}},null,{"$error":"#N/A"},{"$error":"#N/A"},{"$error":"#N/A"},{"$error":"#N/A"},{"$error":"#N/A"}]
[null,"Trinity Free School, Phase 5",{"$error":"#N/A"},{"$f":"VLOOKUP($B8,MASTER_DATABASE,31,0)","v":{"$error":"#N/A"}},null,{"$error":"#N/A"},{"$error":"#N/A"},{"$error":"#N/A"},{"$error":"#N/A"},{"$error":"#N/A"}]
[null,"Chilmington Green PS","South",{"$f":"H9/I9","v":{"$error":"#REF!"}},null,{"$error":"#REF!"},{"$error":"#REF!"},{"$error":"#REF!"},2850,{"$error":"#REF!"}]
[null,"Northfleet Tech College (PFI)","North",{"$error":"#REF!"},null,{"$error":"#REF!"},{"$error":"#REF!"},{"$error":"#REF!"},2765,{"$error":"#REF!"}]
[null,"St John's Secondary School (PFI), Phase 1",{"$error":"#N/A"},{"$error":"#N/A"},null,{"$error":"#N/A"},{"$error":"#N/A"},{"$error":"#N/A"},2530,{"$error":"#N/A"}]
[null,"St John's Secondary School (PFI), Phase 2",{"$error":"#N/A"},{"$error":"#N/A"},null,{"$error":"#N/A"},{"$error":"#N/A"},{"$error":"#N/A"},2850,{"$error":"#N/A"}]
[null,"Thamesview School (PFI), Phase 1",{"$error":"#N/A"},{"$error":"#N/A"},null,{"$error":"#N/A"},{"$error":"#N/A"},{"$error":"#N/A"},2765,{"$error":"#N/A"}]
[null,"Thamesview School (PFI), Phase 2",{"$error":"#N/A"},{"$error":"#N/A"},null,{"$error":"#N/A"},{"$error":"#N/A"},{"$error":"#N/A"},2850,{"$error":"#N/A"}]
[null,"Ursuline College, Phase 1",{"$error":"#N/A"},{"$error":"#N/A"},null,{"$error":"#N/A"},{"$error":"#N/A"},{"$error":"#N/A"},2850,{"$error":"#N/A"}]
[null,"Ursuline College, Phase 2",{"$error":"#N/A"},{"$f":"VLOOKUP($B16,MASTER_DATABASE,31,0)","v":{"$error":"#N/A"}},null,{"$error":"#N/A"},{"$error":"#N/A"},{"$error":"#N/A"},{"$error":"#N/A"},{"$error":"#N/A"}]
[null,"Judd School, RS classroom",{"$error":"#N/A"},{"$f":"H17/I17","v":{"$error":"#N/A"}},null,{"$error":"#N/A"},{"$error":"#N/A"},{"$error":"#N/A"},2765,{"$error":"#N/A"}]
[null,"Judd School, remodelling",{"$error":"#N/A"},{"$f":"VLOOKUP($B18,MASTER_DATABASE,31,0)","v":{"$error":"#N/A"}},null,{"$error":"#N/A"},{"$error":"#N/A"},{"$error":"#N/A"},{"$error":"#N/A"},{"$error":"#N/A"}]
[null,"Bennett Memorial School","West",{"$f":"VLOOKUP($B19,MASTER_DATABASE,31,0)","v":{"$error":"#REF!"}},null,{"$error":"#REF!"},{"$error":"#REF!"},{"$error":"#REF!"},{"$error":"#REF!"},{"$error":"#REF!"}]
[null,"St George's (Gravesend)","North",{"$f":"H20/I20","v":{"$error":"#REF!"}},null,{"$error":"#REF!"},{"$error":"#REF!"},{"$error":"#REF!"},2765,{"$error":"#REF!"}]
[null,"Westlands Secondary School","East",{"$f":"H21/I21","v":{"$error":"#REF!"}},null,{"$error":"#REF!"},{"$error":"#REF!"},{"$error":"#REF!"},2765,{"$error":"#REF!"}]
[null,"Royal Harbour School / Laleham Gap","East",{"$f":"H22/I22","v":{"$error":"#REF!"}},null,{"$error":"#REF!"},{"$error":"#REF!"},{"$error":"#REF!"},2530,{"$error":"#REF!"}]
[null,"St Gregory's Secondary School","West",{"$f":"H23/I23","v":{"$error":"#REF!"}},null,{"$error":"#REF!"},{"$error":"#REF!"},{"$error":"#REF!"},2850,{"$error":"#REF!"}]
[null,"Tunbridge Wells Boys School","West",{"$f":"VLOOKUP($B24,MASTER_DATABASE,31,0)","v":{"$error":"#REF!"}},null,{"$error":"#REF!"},{"$error":"#REF!"},{"$error":"#REF!"},{"$error":"#REF!"},{"$error":"#REF!"}]
[null,"Skinners School Expansion","West",{"$f":"H25/I25","v":{"$error":"#REF!"}},null,{"$error":"#REF!"},{"$error":"#REF!"},{"$error":"#REF!"},2765,{"$error":"#REF!"}]
[null,"Ebbsfleet Green PS","North",{"$error":"#REF!"},null,{"$error":"#REF!"},{"$error":"#REF!"},{"$error":"#REF!"},2850,{"$error":"#REF!"}]
[null,"Finberry PS, 1FE",{"$error":"#N/A"},{"$error":"#N/A"},null,{"$error":"#N/A"},{"$error":"#N/A"},{"$error":"#N/A"},2765,{"$error":"#N/A"}]
[null,"St Nicholas PS","South",{"$error":"#REF!"},null,{"$error":"#REF!"},{"$error":"#REF!"},{"$error":"#REF!"},2530,{"$error":"#REF!"}]
[null,"Towers (North) School","South",{"$error":"#REF!"},null,{"$error":"#REF!"},{"$error":"#REF!"},{"$error":"#REF!"},2530,{"$error":"#REF!"}]
[null,"Sunnybank PS","East",{"$error":"#REF!"},null,{"$error":"#REF!"},{"$error":"#REF!"},{"$error":"#REF!"},2765,{"$error":"#REF!"}]
[null,"Former RSD","East",{"$error":"#REF!"},null,{"$error":"#REF!"},{"$error":"#REF!"},{"$error":"#REF!"},2750,{"$error":"#REF!"}]
[null,"Hermitage Lane PS","West",{"$error":"#REF!"},null,{"$error":"#REF!"},{"$error":"#REF!"},{"$error":"#REF!"},2850,{"$error":"#REF!"}]
[null,"Swanley and Hextable PS","North",{"$error":"#REF!"},null,{"$error":"#REF!"},{"$error":"#REF!"},{"$error":"#REF!"},2765,{"$error":"#REF!"}]
[null,"St Gregory's PS","East",{"$error":"#REF!"},null,{"$error":"#REF!"},{"$error":"#REF!"},{"$error":"#REF!"},2765,{"$error":"#REF!"}]
[null,"Quinton Road Secondary School",{"$error":"#N/A"},{"$error":"#N/A"},null,{"$error":"#N/A"},{"$error":"#N/A"},{"$error":"#N/A"},2750,{"$error":"#N/A"}]
[null,"Skinners Kent Academy","West",{"$error":"#REF!"},null,{"$error":"#REF!"},{"$error":"#REF!"},{"$error":"#REF!"},2750,{"$error":"#REF!"}]
[null,"Tonbridge and Malling Area, 3FE",{"$error":"#N/A"},{"$error":"#N/A"},null,{"$error":"#N/A"},{"$error":"#N/A"},{"$error":"#N/A"},2550,{"$error":"#N/A"}]
[null,"Tonbridge and Malling Area, 2FE",{"$error":"#N/A"},{"$error":"#N/A"},null,{"$error":"#N/A"},{"$error":"#N/A"},{"$error":"#N/A"},2850,{"$error":"#N/A"}]
[]
[null,"#","#","#","#","#","#","#","#","#"]

{"sheet":"BNeed Unapproved Road Map","index":9,"n_rows":66,"n_cols":53,"rows_kept":66,"cut":false,"hidden":true,"merged":[[11,51,13,51],[11,52,13,52]]}
[]
[null,null,null,null,null,null,null,null,null,null,null,null,null,null,"Complete",null,null,null,"WIP",null,null,"Future Task",null,null,null,null,"At Risk",null,null,null,"Review"]
[null,null,"Current Date",{"$f":"NOW()","v":"2019-05-23T15:38:21.710"},null,null,"Band"]
[]
[null,null,null,"GEN² CAPITAL PROJECTS",null,null,null,null,null,{"$f":"O2","v":"Complete"}]
[null,null,null,"BASIC NEEDS, UNAPPROVED SCHEMES",null,null,null,null,null,{"$f":"S2","v":"WIP"}]
[null,null,null,"DELIVERY ROAD MAP",null,null,null,null,null,{"$f":"AA2","v":"At Risk"},null,null,null,"GATEWAY 1",null,null,1,"GATEWAY 2",null,null,null,null,2,"GATEWAY 3",null,null,null,null,null,null,null,null,null,3,"GATEWAY 4",null,null,null,null,null,null,null,null,4,"GATEWAY 5"]
[]
["Ref","Budget","GIFA","PROJECT DESCRIPTION","PROGR","AREA","PM","APPR","PROC","Band","Stage","URGENCY","BATCH","Comm Brief","PID","H/L Progr","GATEWAY","Tender Feas","Instruct Feas","Feas Report","Programme","H/L Risks","GATEWAY","Instr Design","Concl Design","Instr Surveys","Concl Surveys","Appr Drwgs","Planning Docs","Planning Decision","Cost Plan","S/holder Appr","Risk Register","GATEWAY","Issue EOI/Stage 1","EOI/Stage 1 Return","Evaluate Stage 1","Issue Stage 2","Stage 2 Return","Evaluate St 2","Licence/Lease","Contract Appr","Stat Approvals","Gateway 4","Mobilise","Start on Site","Agreed Completion","Forecast PC","Academic Yr Reqd","RAG STATUS","Current Status","Known Issues","Outstanding Risks"]
[1,600000,130,"Dartford Girls Grammar",{"$f":"VLOOKUP($D10,MASTER_DATABASE,2,0)","v":"North"},{"$f":"VLOOKUP($D10,MASTER_DATABASE,4,0)","v":625000},{"$f":"VLOOKUP($D10,MASTER_DATABASE,5,0)","v":598000},{"$f":"VLOOKUP($D10,MASTER_DATABASE,6,0)","v":{"$error":"#REF!"}},{"$f":"VLOOKUP($D10,MASTER_DATABASE,7,0)","v":{"$error":"#REF!"}},{"$f":"VLOOKUP($D10,MASTER_DATABASE,54,0)","v":{"$error":"#REF!"}},{"$f":"VLOOKUP($D10,MASTER_DATABASE,18,0)","v":{"$error":"#REF!"}},1,null,null,null,null,{"$f":"VLOOKUP($D10,MASTER_DATABASE,21,0)","v":{"$error":"#REF!"}},null,null,null,null,null,{"$f":"VLOOKUP($D10,MASTER_DATABASE,27,0)","v":{"$error":"#REF!"}},null,null,null,null,null,null,{"$f":"$AH10-(2*7)","v":{"$error":"#REF!"}},null,null,null,{"$f":"VLOOKUP($D10,MASTER_DATABASE,30,0)","v":{"$error":"#REF!"}},"complete","complete","complete","complete","complete","complete","N/A",{"$f":"$AR10+(1*7)","v":{"$error":"#REF!"}},{"$f":"$AR10-(1*7)","v":{"$error":"#REF!"}},{"$f":"VLOOKUP($D10,MASTER_DATABASE,33,0)","v":{"$error":"#REF!"}},{"$f":"AT10-(5*7)","v":{"$error":"#REF!"}},{"$f":"VLOOKUP($D10,MASTER_DATABASE,42,0)","v":{"$error":"#REF!"}},{"$f":"VLOOKUP($D10,MASTER_DATABASE,43,0)","v":{"$error":"#REF!"}},{"$f":"VLOOKUP($D10,MASTER_DATABASE,45,0)","v":{"$error":"#REF!"}},{"$f":"VLOOKUP($D10,MASTER_DATABASE,47,0)","v":{"$error":"#REF!"}},"Low","Stage2 tender due back 17 Aug 18; no concerns; on track for delivery 17 Dec 18 ","None","None"]
[2,8000000,"N/A","Trinity Free School, Phase 1",{"$error":"#N/A"},{"$error":"#N/A"},{"$error":"#N/A"},{"$error":"#N/A"},{"$error":"#N/A"},{"$error":"#N/A"},5,1,null,null,null,null,{"$error":"#N/A"},null,null,null,null,null,{"$error":"#N/A"},null,null,null,null,null,null,{"$f":"VLOOKUP($D11,MASTER_DATABASE,25,0)","v":{"$error":"#N/A"}},null,null,null,{"$error":"#N/A"},null,null,null,null,null,null,null,null,null,{"$error":"#N/A"},{"$f":"AT11-(5*7)","v":{"$error":"#N/A"}},{"$error":"#N/A"},{"$error":"#N/A"},{"$error":"#N/A"},{"$error":"#N/A"},"Low","No concerns; on track for delivery Sept 18 ","None","None"]
[3,0,2620,"Trinity Free School, Phase 2",{"$error":"#N/A"},{"$error":"#N/A"},{"$error":"#N/A"},{"$error":"#N/A"},{"$error":"#N/A"},{"$error":"#N/A"},4,1,null,null,null,null,{"$error":"#N/A"},null,null,null,null,null,{"$error":"#N/A"},null,null,null,null,null,null,{"$error":"#N/A"},null,null,null,{"$error":"#N/A"},{"$f":"$AR12-(16*7)","v":{"$error":"#N/A"}},{"$f":"$AR12-(13*7)","v":{"$error":"#N/A"}},{"$f":"$AR12-(12*7)","v":{"$error":"#N/A"}},{"$f":"$AR12-(11*7)","v":{"$error":"#N/A"}},"2018-08-17",{"$f":"$AR12-(2*7)","v":{"$error":"#N/A"}},{"$f":"$AR12-(1*7)","v":{"$error":"#N/A"}},{"$f":"$AR12+(1*7)","v":{"$error":"#N/A"}},{"$f":"$AR12-(1*7)","v":{"$error":"#N/A"}},{"$error":"#N/A"},{"$error":"#N/A"},{"$error":"#N/A"},{"$error":"#N/A"},{"$error":"#N/A"},{"$error":"#N/A"},"Med","Gateway 4 not achieved due to Planning / Highways objections","Planning and Highways, but sufficient float if Planning achieved Nov 18. Working closely with key stakeholders to resolve outstanding matters.","Additional cost of mobile temporary solution if Nov 18 planning approval not achieved."]
[4,0,"N/A","Trinity Free School, Phase 3",{"$error":"#N/A"},{"$error":"#N/A"},{"$error":"#N/A"},{"$error":"#N/A"},{"$error":"#N/A"},{"$error":"#N/A"},4,1,null,null,null,null,{"$error":"#N/A"},null,null,null,null,null,{"$error":"#N/A"},null,null,null,null,null,null,{"$error":"#N/A"},null,null,null,{"$error":"#N/A"},{"$f":"$AR13-(16*7)","v":{"$error":"#N/A"}},{"$f":"$AR13-(13*7)","v":{"$error":"#N/A"}},{"$f":"$AR13-(12*7)","v":{"$error":"#N/A"}},{"$f":"$AR13-(11*7)","v":{"$error":"#N/A"}},"2018-08-17",{"$f":"$AR13-(2*7)","v":{"$error":"#N/A"}},{"$f":"$AR13-(1*7)","v":{"$error":"#N/A"}},{"$f":"$AR13+(1*7)","v":{"$error":"#N/A"}},{"$f":"$AR13-(1*7)","v":{"$error":"#N/A"}},{"$error":"#N/A"},{"$error":"#N/A"},{"$error":"#N/A"},{"$error":"#N/A"},{"$error":"#N/A"},{"$error":"#N/A"},"Med","Gateway 4 not achieved due to Planning / Highways objections"]
[5,0,"N/A","Trinity Free School, Phase 4",{"$error":"#N/A"},{"$error":"#N/A"},{"$error":"#N/A"},{"$error":"#N/A"},{"$error":"#N/A"},{"$error":"#N/A"},4,1,null,null,null,null,{"$error":"#N/A"},null,null,null,null,null,{"$error":"#N/A"},null,null,null,null,null,null,{"$error":"#N/A"},null,null,null,{"$error":"#N/A"},{"$f":"$AR14-(16*7)","v":{"$error":"#N/A"}},{"$f":"$AR14-(13*7)","v":{"$error":"#N/A"}},{"$f":"$AR14-(12*7)","v":{"$error":"#N/A"}},{"$f":"$AR14-(11*7)","v":{"$error":"#N/A"}},"2018-08-17",{"$f":"$AR14-(2*7)","v":{"$error":"#N/A"}},{"$f":"$AR14-(1*7)","v":{"$error":"#N/A"}},{"$f":"$AR14+(1*7)","v":{"$error":"#N/A"}},{"$f":"$AR14-(1*7)","v":{"$error":"#N/A"}},{"$error":"#N/A"},{"$error":"#N/A"},{"$error":"#N/A"},{"$error":"#N/A"},{"$error":"#N/A"},{"$error":"#N/A"},"Med","Gateway 4 not achieved due to Planning / Highways objections"]
[6,0,"N/A","Trinity Free School, Phase 5",{"$error":"#N/A"},{"$error":"#N/A"},{"$error":"#N/A"},{"$error":"#N/A"},{"$error":"#N/A"},{"$error":"#N/A"},4,1,null,null,null,null,{"$error":"#N/A"},null,null,null,null,null,{"$error":"#N/A"},null,null,null,null,null,null,{"$error":"#N/A"},null,null,null,{"$error":"#N/A"},{"$f":"$AR15-(16*7)","v":{"$error":"#N/A"}},{"$f":"$AR15-(13*7)","v":{"$error":"#N/A"}},{"$f":"$AR15-(12*7)","v":{"$error":"#N/A"}},{"$f":"$AR15-(11*7)","v":{"$error":"#N/A"}},"2018-08-17",{"$f":"$AR15-(2*7)","v":{"$error":"#N/A"}},{"$f":"$AR15-(1*7)","v":{"$error":"#N/A"}},{"$f":"$AR15+(1*7)","v":{"$error":"#N/A"}},{"$f":"$AR15-(1*7)","v":{"$error":"#N/A"}},{"$error":"#N/A"},{"$error":"#N/A"},{"$error":"#N/A"},{"$error":"#N/A"},{"$error":"#N/A"},{"$error":"#N/A"},"Med","Dependent on completing earlier phases","No other issues","None"]
[7,7200000,2188,"Chilmington Green PS","South",7200000,8400000,{"$error":"#REF!"},{"$error":"#REF!"},{"$error":"#REF!"},2,1,null,null,null,null,{"$error":"#REF!"},{"$f":"$W16-(20*7)","v":{"$error":"#REF!"}},{"$f":"$W16-(12*7)","v":{"$error":"#REF!"}},{"$f":"$W16-(2*7)","v":{"$error":"#REF!"}},{"$f":"$W16-(1*7)","v":{"$error":"#REF!"}},{"$f":"$W16-(1*7)","v":{"$error":"#REF!"}},{"$error":"#REF!"},{"$f":"$AH16-(29*7)","v":{"$error":"#REF!"}},{"$f":"$AH16-(17*7)","v":{"$error":"#REF!"}},{"$f":"$AH16-(27*7)","v":{"$error":"#REF!"}},{"$f":"$AH16-(23*7)","v":{"$error":"#REF!"}},{"$f":"$AH16-(16*7)","v":{"$error":"#REF!"}},{"$f":"$AH16-(16*7)","v":{"$error":"#REF!"}},{"$error":"#REF!"},{"$f":"$AH16-(14*7)","v":{"$error":"#REF!"}},{"$f":"$AH16-(13*7)","v":{"$error":"#REF!"}},{"$f":"$AH16-(1*7)","v":{"$error":"#REF!"}},{"$error":"#REF!"},{"$f":"$AR16-(19*7)","v":{"$error":"#REF!"}},{"$f":"$AR16-(16*7)","v":{"$error":"#REF!"}},{"$f":"$AR16-(15*7)","v":{"$error":"#REF!"}},{"$f":"$AR16-(14*7)","v":{"$error":"#REF!"}},{"$f":"$AR16-(6*7)","v":{"$error":"#REF!"}},{"$f":"$AR16-(2*7)","v":{"$error":"#REF!"}},{"$f":"$AR16-(1*7)","v":{"$error":"#REF!"}},{"$f":"$AR16+(3*7)","v":{"$error":"#REF!"}},{"$f":"$AR16-(1*7)","v":{"$error":"#REF!"}},{"$error":"#REF!"},{"$error":"#REF!"},{"$error":"#REF!"},{"$error":"#REF!"},{"$error":"#REF!"},{"$error":"#REF!"},"High","May 19 start on site date in jeopardy due to Developer not releasing the land. PCSA design underway but surveys cannot be implemented.","Full feasibility has indicated a possible budget overspend.","If delayed can accelerate Finberry scheme to accommodate increase in pupil places."]
[8,3250000,"TBC","Northfleet Tech College (PFI)","North",4500000,4320167,{"$error":"#REF!"},{"$error":"#REF!"},{"$error":"#REF!"},1,1,null,{"$f":"$Q17-(2*7)","v":{"$error":"#REF!"}},{"$f":"$Q17-(2*7)","v":{"$error":"#REF!"}},{"$f":"$Q17-(1*7)","v":{"$error":"#REF!"}},{"$error":"#REF!"},{"$f":"$W17-(17*7)","v":{"$error":"#REF!"}},{"$f":"$W17-(9*7)","v":{"$error":"#REF!"}},{"$f":"$W17-(2*7)","v":{"$error":"#REF!"}},{"$f":"$W17-(1*7)","v":{"$error":"#REF!"}},{"$f":"$W17-(1*7)","v":{"$error":"#REF!"}},{"$error":"#REF!"},{"$f":"$AH17-(25*7)","v":{"$error":"#REF!"}},{"$f":"$AH17-(15*7)","v":{"$error":"#REF!"}},{"$f":"$AH17-(23*7)","v":{"$error":"#REF!"}},{"$f":"$AH17-(19*7)","v":{"$error":"#REF!"}},{"$f":"$AH17-(14*7)","v":{"$error":"#REF!"}},{"$f":"$AH17-(14*7)","v":{"$error":"#REF!"}},{"$error":"#REF!"},{"$f":"$AH17-(12*7)","v":{"$error":"#REF!"}},{"$f":"$AH17-(11*7)","v":{"$error":"#REF!"}},{"$f":"$AH17-(1*7)","v":{"$error":"#REF!"}},{"$error":"#REF!"},{"$f":"$AR17-(16*7)","v":{"$error":"#REF!"}},{"$f":"$AR17-(13*7)","v":{"$error":"#REF!"}},{"$f":"$AR17-(12*7)","v":{"$error":"#REF!"}},{"$f":"$AR17-(11*7)","v":{"$error":"#REF!"}},{"$f":"$AR17-(5*7)","v":{"$error":"#REF!"}},{"$error":"#REF!"},{"$error":"#REF!"},{"$f":"$AR17+(2*7)","v":{"$error":"#REF!"}},{"$error":"#REF!"},{"$error":"#REF!"},{"$error":"#REF!"},{"$error":"#REF!"},{"$error":"#REF!"},{"$error":"#REF!"},{"$error":"#REF!"},"Low","Project in its infancy, no known issues.","None","None"]
[9,400000,"TBC","St John's Secondary School (PFI), Phase 1",{"$error":"#N/A"},{"$error":"#N/A"},{"$error":"#N/A"},{"$error":"#N/A"},{"$error":"#N/A"},{"$error":"#N/A"},5,1,null,null,null,null,{"$error":"#N/A"},null,null,null,null,null,{"$error":"#N/A"},null,null,null,null,null,null,{"$error":"#N/A"},null,null,null,{"$error":"#N/A"},{"$f":"$AR18-(16*7)","v":{"$error":"#N/A"}},{"$f":"$AR18-(13*7)","v":{"$error":"#N/A"}},{"$f":"$AR18-(12*7)","v":{"$error":"#N/A"}},{"$f":"$AR18-(11*7)","v":{"$error":"#N/A"}},{"$f":"$AR18-(5*7)","v":{"$error":"#N/A"}},{"$error":"#N/A"},{"$error":"#N/A"},{"$f":"$AR18+(1*7)","v":{"$error":"#N/A"}},{"$error":"#N/A"},{"$error":"#N/A"},{"$error":"#N/A"},{"$error":"#N/A"},{"$error":"#N/A"},{"$error":"#N/A"},{"$error":"#N/A"},"Low","No concerns; on track for delivery Sept 18 ","None","None"]
[10,5600000,"TBC","St John's Secondary School (PFI), Phase 2",{"$error":"#N/A"},{"$error":"#N/A"},{"$error":"#N/A"},{"$error":"#N/A"},{"$error":"#N/A"},{"$error":"#N/A"},1,1,null,{"$f":"$Q19-(2*7)","v":{"$error":"#N/A"}},{"$f":"$Q19-(2*7)","v":{"$error":"#N/A"}},{"$f":"$Q19-(1*7)","v":{"$error":"#N/A"}},{"$error":"#N/A"},{"$f":"$W19-(20*7)","v":{"$error":"#N/A"}},{"$f":"$W19-(12*7)","v":{"$error":"#N/A"}},{"$f":"$W19-(2*7)","v":{"$error":"#N/A"}},{"$f":"$W19-(1*7)","v":{"$error":"#N/A"}},{"$f":"$W19-(1*7)","v":{"$error":"#N/A"}},{"$error":"#N/A"},{"$f":"$AH19-(29*7)","v":{"$error":"#N/A"}},{"$f":"$AH19-(17*7)","v":{"$error":"#N/A"}},{"$f":"$AH19-(27*7)","v":{"$error":"#N/A"}},{"$f":"$AH19-(23*7)","v":{"$error":"#N/A"}},{"$f":"$AH19-(16*7)","v":{"$error":"#N/A"}},{"$f":"$AH19-(16*7)","v":{"$error":"#N/A"}},{"$error":"#N/A"},{"$f":"$AH19-(14*7)","v":{"$error":"#N/A"}},{"$f":"$AH19-(13*7)","v":{"$error":"#N/A"}},{"$f":"$AH19-(1*7)","v":{"$error":"#N/A"}},{"$error":"#N/A"},{"$f":"$AR19-(19*7)","v":{"$error":"#N/A"}},{"$f":"$AR19-(16*7)","v":{"$error":"#N/A"}},{"$f":"$AR19-(15*7)","v":{"$error":"#N/A"}},{"$f":"$AR19-(14*7)","v":{"$error":"#N/A"}},{"$f":"$AR19-(6*7)","v":{"$error":"#N/A"}},{"$error":"#N/A"},{"$error":"#N/A"},{"$f":"$AR19+(3*7)","v":{"$error":"#N/A"}},{"$error":"#N/A"},{"$error":"#N/A"},{"$error":"#N/A"},{"$error":"#N/A"},{"$error":"#N/A"},{"$error":"#N/A"},{"$error":"#N/A"},"Low","Feasibility completed July 18, overall programme on track","None","None"]
[11,50000,"TBC","Thamesview School (PFI), Phase 1",{"$error":"#N/A"},{"$error":"#N/A"},{"$error":"#N/A"},{"$error":"#N/A"},{"$error":"#N/A"},{"$error":"#N/A"},5,1,null,null,null,null,{"$error":"#N/A"},null,null,null,null,null,{"$error":"#N/A"},null,null,null,null,null,null,{"$error":"#N/A"},null,null,null,{"$error":"#N/A"},{"$f":"$AR20-(16*7)","v":{"$error":"#N/A"}},{"$f":"$AR20-(13*7)","v":{"$error":"#N/A"}},{"$f":"$AR20-(12*7)","v":{"$error":"#N/A"}},{"$f":"$AR20-(11*7)","v":{"$error":"#N/A"}},{"$f":"$AR20-(5*7)","v":{"$error":"#N/A"}},{"$error":"#N/A"},{"$error":"#N/A"},{"$f":"$AR20+(1*7)","v":{"$error":"#N/A"}},{"$error":"#N/A"},{"$error":"#N/A"},{"$error":"#N/A"},{"$error":"#N/A"},{"$error":"#N/A"},{"$error":"#N/A"},{"$error":"#N/A"},"Low","Completion delayed due to poor finishing.","Still achievable to meet Sept 18 completion","None"]
[12,5950000,"TBC","Thamesview School (PFI), Phase 2",{"$error":"#N/A"},{"$error":"#N/A"},{"$error":"#N/A"},{"$error":"#N/A"},{"$error":"#N/A"},{"$error":"#N/A"},1,1,null,{"$f":"$Q21-(2*7)","v":{"$error":"#N/A"}},{"$f":"$Q21-(2*7)","v":{"$error":"#N/A"}},{"$f":"$Q21-(1*7)","v":{"$error":"#N/A"}},{"$error":"#N/A"},"complete","complete",{"$f":"$W21-(2*7)","v":{"$error":"#N/A"}},{"$f":"$W21-(1*7)","v":{"$error":"#N/A"}},{"$f":"$W21-(1*7)","v":{"$error":"#N/A"}},{"$error":"#N/A"},{"$f":"$AH21-(29*7)","v":{"$error":"#N/A"}},{"$f":"$AH21-(17*7)","v":{"$error":"#N/A"}},{"$f":"$AH21-(27*7)","v":{"$error":"#N/A"}},{"$f":"$AH21-(23*7)","v":{"$error":"#N/A"}},{"$f":"$AH21-(16*7)","v":{"$error":"#N/A"}},{"$f":"$AH21-(16*7)","v":{"$error":"#N/A"}},{"$error":"#N/A"},{"$f":"$AH21-(14*7)","v":{"$error":"#N/A"}},{"$f":"$AH21-(13*7)","v":{"$error":"#N/A"}},{"$f":"$AH21-(1*7)","v":{"$error":"#N/A"}},{"$error":"#N/A"},{"$f":"$AR21-(19*7)","v":{"$error":"#N/A"}},{"$f":"$AR21-(16*7)","v":{"$error":"#N/A"}},{"$f":"$AR21-(15*7)","v":{"$error":"#N/A"}},{"$f":"$AR21-(14*7)","v":{"$error":"#N/A"}},{"$f":"$AR21-(6*7)","v":{"$error":"#N/A"}},{"$error":"#N/A"},{"$error":"#N/A"},{"$f":"$AR21+(3*7)","v":{"$error":"#N/A"}},{"$error":"#N/A"},{"$error":"#N/A"},{"$error":"#N/A"},{"$error":"#N/A"},{"$error":"#N/A"},{"$error":"#N/A"},{"$error":"#N/A"},"Med","Feasibility complete, clarifications required regarding 2019 temp","Scope of works requires clarification between school and AEO","Cost uplift if double sports hall is required "]
[13,300000,"TBC","Ursuline College, Phase 1",{"$error":"#N/A"},{"$error":"#N/A"},{"$error":"#N/A"},{"$error":"#N/A"},{"$error":"#N/A"},{"$error":"#N/A"},3,1,null,null,null,null,{"$error":"#N/A"},null,null,null,null,null,{"$error":"#N/A"},"complete",null,"complete","complete",null,null,{"$error":"#N/A"},"complete",null,"complete",{"$error":"#N/A"},{"$f":"$AR22-(16*7)","v":{"$error":"#N/A"}},{"$f":"$AR22-(13*7)","v":{"$error":"#N/A"}},{"$f":"$AR22-(12*7)","v":{"$error":"#N/A"}},{"$f":"$AR22-(11*7)","v":{"$error":"#N/A"}},{"$f":"$AR22-(5*7)","v":{"$error":"#N/A"}},{"$error":"#N/A"},{"$error":"#N/A"},{"$f":"$AR22+(1*7)","v":{"$error":"#N/A"}},{"$error":"#N/A"},{"$error":"#N/A"},{"$error":"#N/A"},{"$error":"#N/A"},{"$error":"#N/A"},{"$error":"#N/A"},{"$error":"#N/A"},"Low","Listed building permission required. Start on site Jan 19 - provisional solution in place. ","Listed building consent required. Cost increase due to extra design work. ","None"]
[14,3000000,1370,"Ursuline College, Phase 2",{"$error":"#N/A"},{"$error":"#N/A"},{"$error":"#N/A"},{"$error":"#N/A"},{"$error":"#N/A"},{"$error":"#N/A"},3,1,null,null,null,null,{"$error":"#N/A"},null,null,null,null,null,{"$error":"#N/A"},"complete",{"$f":"$AH23-(15*7)","v":{"$error":"#N/A"}},"complete","complete",{"$f":"$AH23-(14*7)","v":{"$error":"#N/A"}},{"$f":"$AH23-(14*7)","v":{"$error":"#N/A"}},{"$error":"#N/A"},"complete",{"$f":"$AH23-(11*7)","v":{"$error":"#N/A"}},"complete",{"$error":"#N/A"},{"$f":"$AR23-(16*7)","v":{"$error":"#N/A"}},{"$f":"$AR23-(13*7)","v":{"$error":"#N/A"}},{"$f":"$AR23-(12*7)","v":{"$error":"#N/A"}},{"$f":"$AR23-(11*7)","v":{"$error":"#N/A"}},{"$f":"$AR23-(5*7)","v":{"$error":"#N/A"}},{"$error":"#N/A"},{"$error":"#N/A"},{"$f":"$AR23+(2*7)","v":{"$error":"#N/A"}},{"$error":"#N/A"},{"$error":"#N/A"},{"$error":"#N/A"},{"$error":"#N/A"},{"$error":"#N/A"},{"$error":"#N/A"},{"$error":"#N/A"},"High","AEO negotiating shared drop off area to alleviate Highways concerns","Budget risk as funding for drop off is required. Need drop off solution confirmed before we can progress to Planning.","Transprot statement and RoD increase. "]
[15,1500000,1240,"Judd School, RS classroom",{"$error":"#N/A"},{"$error":"#N/A"},{"$error":"#N/A"},{"$error":"#N/A"},{"$error":"#N/A"},{"$error":"#N/A"},3,1,null,"complete","complete","complete",{"$error":"#N/A"},"complete","complete","complete","complete","complete",{"$error":"#N/A"},"complete","complete","complete","complete","complete","complete",{"$error":"#N/A"},"complete","complete","complete",{"$error":"#N/A"},{"$f":"$AR24-(16*7)","v":{"$error":"#N/A"}},{"$f":"$AR24-(13*7)","v":{"$error":"#N/A"}},{"$f":"$AR24-(12*7)","v":{"$error":"#N/A"}},{"$f":"$AR24-(11*7)","v":{"$error":"#N/A"}},{"$f":"$AR24-(5*7)","v":{"$error":"#N/A"}},{"$error":"#N/A"},{"$error":"#N/A"},{"$f":"$AR24+(2*7)","v":{"$error":"#N/A"}},{"$error":"#N/A"},{"$error":"#N/A"},{"$error":"#N/A"},{"$error":"#N/A"},{"$error":"#N/A"},{"$error":"#N/A"},{"$error":"#N/A"},"Med","VE underway with design team and planning submiited. ","Budget risk and land ownership being resolved.","Potential delay to programme if planning held up. "]
[16,0,0,"Judd School, remodelling",{"$error":"#N/A"},{"$error":"#N/A"},{"$error":"#N/A"},{"$error":"#N/A"},{"$error":"#N/A"},{"$error":"#N/A"},3,1,null,null,null,null,{"$error":"#N/A"},null,null,null,null,null,{"$error":"#N/A"},"complete","complete","complete","complete","complete","complete",{"$error":"#N/A"},"complete","complete","complete",{"$error":"#N/A"},{"$f":"$AR25-(16*7)","v":{"$error":"#N/A"}},{"$f":"$AR25-(13*7)","v":{"$error":"#N/A"}},{"$f":"$AR25-(12*7)","v":{"$error":"#N/A"}},{"$f":"$AR25-(11*7)","v":{"$error":"#N/A"}},{"$f":"$AR25-(5*7)","v":{"$error":"#N/A"}},{"$error":"#N/A"},{"$error":"#N/A"},{"$f":"$AR25+(2*7)","v":{"$error":"#N/A"}},{"$error":"#N/A"},{"$error":"#N/A"},{"$error":"#N/A"},{"$error":"#N/A"},{"$error":"#N/A"},{"$error":"#N/A"},{"$error":"#N/A"},"Med","VE underway with design team and planning submiited. ","Budget risk"]
[17,6500000,2906,"Bennett Memorial School","West",6500000,7500000,{"$error":"#REF!"},{"$error":"#REF!"},{"$error":"#REF!"},3,1,1,null,null,null,{"$error":"#REF!"},{"$f":"$W26-(20*7)","v":{"$error":"#REF!"}},{"$f":"$W26-(12*7)","v":{"$error":"#REF!"}},{"$f":"$W26-(2*7)","v":{"$error":"#REF!"}},{"$f":"$W26-(1*7)","v":{"$error":"#REF!"}},{"$f":"$W26-(1*7)","v":{"$error":"#REF!"}},{"$error":"#REF!"},"complete",null,"complete","complete",null,{"$f":"$AH26-(16*7)","v":{"$error":"#REF!"}},{"$error":"#REF!"},null,{"$f":"$AH26-(13*7)","v":{"$error":"#REF!"}},null,{"$error":"#REF!"},{"$f":"$AR26-(19*7)","v":{"$error":"#REF!"}},{"$f":"$AR26-(16*7)","v":{"$error":"#REF!"}},{"$f":"$AR26-(15*7)","v":{"$error":"#REF!"}},{"$f":"$AR26-(14*7)","v":{"$error":"#REF!"}},{"$f":"$AR26-(6*7)","v":{"$error":"#REF!"}},{"$f":"$AR26-(2*7)","v":{"$error":"#REF!"}},{"$f":"$AR26-(1*7)","v":{"$error":"#REF!"}},{"$f":"$AR26+(3*7)","v":{"$error":"#REF!"}},{"$f":"$AR26-(1*7)","v":{"$error":"#REF!"}},{"$error":"#REF!"},{"$error":"#REF!"},{"$error":"#REF!"},{"$error":"#REF!"},{"$error":"#REF!"},{"$error":"#REF!"},"High","Planning application due to be submitted but cost review underway. ","Budget risk - VE and scope under review. ","Delay if planning is protracted. "]
[18,3300000,0,"St George's (Gravesend)","North",2700000,2600000,{"$error":"#REF!"},{"$error":"#REF!"},{"$error":"#REF!"},1,1,null,"complete","complete","complete",{"$error":"#REF!"},"complete","complete","complete","complete","complete",{"$error":"#REF!"},"complete","complete","complete","complete","complete","complete","complete","complete","complete","complete",{"$error":"#REF!"},"complete","complete","complete","complete","complete","complete","complete","complete","complete",{"$error":"#REF!"},{"$error":"#REF!"},{"$error":"#REF!"},{"$error":"#REF!"},{"$error":"#REF!"},{"$error":"#REF!"},"Low","Feasibility completed. School combining expansion and CIF bid. £2.6m allocated to school","None","None"]
[19,3250000,0,"Westlands Secondary School","East",3250000,3250000,{"$error":"#REF!"},{"$error":"#REF!"},{"$error":"#REF!"},0,1,2,{"$f":"$Q28-(2*7)","v":{"$error":"#REF!"}},{"$error":"#REF!"},{"$f":"$Q28-(1*7)","v":{"$error":"#REF!"}},{"$error":"#REF!"},{"$f":"$W28-(17*7)","v":{"$error":"#REF!"}},{"$f":"$W28-(9*7)","v":{"$error":"#REF!"}},{"$f":"$W28-(2*7)","v":{"$error":"#REF!"}},{"$f":"$W28-(1*7)","v":{"$error":"#REF!"}},{"$error":"#REF!"},{"$error":"#REF!"},{"$f":"$AH28-(25*7)","v":{"$error":"#REF!"}},{"$f":"$AH28-(15*7)","v":{"$error":"#REF!"}},{"$f":"$AH28-(23*7)","v":{"$error":"#REF!"}},{"$f":"$AH28-(19*7)","v":{"$error":"#REF!"}},{"$f":"$AH28-(14*7)","v":{"$error":"#REF!"}},{"$f":"$AH28-(14*7)","v":{"$error":"#REF!"}},{"$error":"#REF!"},{"$f":"$AH28-(12*7)","v":{"$error":"#REF!"}},{"$f":"$AH28-(11*7)","v":{"$error":"#REF!"}},{"$f":"$AH28-(1*7)","v":{"$error":"#REF!"}},{"$error":"#REF!"},{"$f":"$AR28-(16*7)","v":{"$error":"#REF!"}},{"$f":"$AR28-(13*7)","v":{"$error":"#REF!"}},{"$f":"$AR28-(12*7)","v":{"$error":"#REF!"}},{"$f":"$AR28-(11*7)","v":{"$error":"#REF!"}},{"$f":"$AR28-(5*7)","v":{"$error":"#REF!"}},{"$error":"#REF!"},{"$error":"#REF!"},{"$f":"$AR28+(2*7)","v":{"$error":"#REF!"}},{"$error":"#REF!"},{"$error":"#REF!"},{"$error":"#REF!"},{"$error":"#REF!"},{"$error":"#REF!"},{"$error":"#REF!"},{"$error":"#REF!"},"Low","Curriculum Analysis complete.  School bidding to manage. ","None","None"]
[20,800000,0,"Royal Harbour School / Laleham Gap","East",800000,825598.59,{"$error":"#REF!"},{"$error":"#REF!"},{"$error":"#REF!"},4,1,null,null,null,null,{"$error":"#REF!"},null,null,null,null,null,{"$error":"#REF!"},null,null,null,null,null,null,{"$error":"#REF!"},null,null,null,{"$error":"#REF!"},{"$f":"$AR29-(16*7)","v":{"$error":"#REF!"}},{"$f":"$AR29-(13*7)","v":{"$error":"#REF!"}},{"$f":"$AR29-(12*7)","v":{"$error":"#REF!"}},{"$f":"$AR29-(11*7)","v":{"$error":"#REF!"}},{"$f":"$AR29-(5*7)","v":{"$error":"#REF!"}},{"$error":"#REF!"},{"$error":"#REF!"},{"$f":"$AR29+(1*7)","v":{"$error":"#REF!"}},{"$error":"#REF!"},{"$error":"#REF!"},{"$error":"#REF!"},{"$error":"#REF!"},{"$error":"#REF!"},{"$error":"#REF!"},{"$error":"#REF!"},"Med","Mobile units moved on to site. ","Delay caused by discrepancy with ESFA site drawings related to soakaway."]
[21,6600000,3565,"St Gregory's Secondary School","West",6600000,7400000,{"$error":"#REF!"},{"$error":"#REF!"},{"$error":"#REF!"},3,1,1,null,null,null,{"$error":"#REF!"},null,null,null,null,null,{"$error":"#REF!"},"complete","complete","complete","complete","complete","complete",{"$error":"#REF!"},"complete","complete","complete",{"$error":"#REF!"},{"$f":"$AR30-(19*7)","v":{"$error":"#REF!"}},{"$f":"$AR30-(16*7)","v":{"$error":"#REF!"}},{"$f":"$AR30-(15*7)","v":{"$error":"#REF!"}},{"$f":"$AR30-(14*7)","v":{"$error":"#REF!"}},{"$f":"$AR30-(6*7)","v":{"$error":"#REF!"}},{"$error":"#REF!"},{"$error":"#REF!"},{"$f":"$AR30+(3*7)","v":{"$error":"#REF!"}},{"$error":"#REF!"},{"$error":"#REF!"},{"$error":"#REF!"},{"$error":"#REF!"},{"$error":"#REF!"},{"$error":"#REF!"},{"$error":"#REF!"},"High","Planning submitted and VE underway. Will run tender concurrently with planinng. ","Budget concern and delay to programme if planning is elongated. ","Access rights to be confirmed over TWBC land. "]
[22,7700000,2905,"Tunbridge Wells Boys School","West",7700000,8352403,{"$error":"#REF!"},{"$error":"#REF!"},{"$error":"#REF!"},3,1,1,null,null,null,{"$error":"#REF!"},null,null,null,null,null,{"$error":"#REF!"},"complete","complete","complete","complete","complete","complete",{"$error":"#REF!"},"complete","complete","complete",{"$error":"#REF!"},{"$f":"$AR31-(19*7)","v":{"$error":"#REF!"}},{"$f":"$AR31-(16*7)","v":{"$error":"#REF!"}},{"$f":"$AR31-(15*7)","v":{"$error":"#REF!"}},{"$f":"$AR31-(14*7)","v":{"$error":"#REF!"}},{"$f":"$AR31-(6*7)","v":{"$error":"#REF!"}},{"$error":"#REF!"},{"$error":"#REF!"},{"$f":"$AR31+(3*7)","v":{"$error":"#REF!"}},{"$error":"#REF!"},{"$error":"#REF!"},{"$error":"#REF!"},{"$error":"#REF!"},{"$error":"#REF!"},{"$error":"#REF!"},{"$error":"#REF!"},"High","Planning submitted and VE underway. Will run tender concurrently with planinng. ","Budget concern and delay to programme if planning is elongated. ","Access rights to be confirmed over TWBC land. "]
[23,3000000,0,"Skinners School Expansion","West",3000000,3000000,{"$error":"#REF!"},{"$error":"#REF!"},{"$error":"#REF!"},2,1,null,null,null,null,{"$error":"#REF!"},{"$f":"$W32-(17*7)","v":{"$error":"#REF!"}},{"$f":"$W32-(9*7)","v":{"$error":"#REF!"}},{"$f":"$W32-(2*7)","v":{"$error":"#REF!"}},{"$f":"$W32-(1*7)","v":{"$error":"#REF!"}},{"$error":"#REF!"},{"$error":"#REF!"},{"$f":"$AH32-(25*7)","v":{"$error":"#REF!"}},{"$f":"$AH32-(15*7)","v":{"$error":"#REF!"}},{"$f":"$AH32-(23*7)","v":{"$error":"#REF!"}},{"$f":"$AH32-(19*7)","v":{"$error":"#REF!"}},{"$f":"$AH32-(14*7)","v":{"$error":"#REF!"}},{"$f":"$AH32-(14*7)","v":{"$error":"#REF!"}},{"$error":"#REF!"},{"$f":"$AH32-(12*7)","v":{"$error":"#REF!"}},{"$f":"$AH32-(11*7)","v":{"$error":"#REF!"}},{"$f":"$AH32-(1*7)","v":{"$error":"#REF!"}},{"$error":"#REF!"},{"$f":"$AR32-(16*7)","v":{"$error":"#REF!"}},{"$f":"$AR32-(13*7)","v":{"$error":"#REF!"}},{"$f":"$AR32-(12*7)","v":{"$error":"#REF!"}},{"$f":"$AR32-(11*7)","v":{"$error":"#REF!"}},{"$f":"$AR32-(5*7)","v":{"$error":"#REF!"}},{"$error":"#REF!"},{"$error":"#REF!"},{"$f":"$AR32+(2*7)","v":{"$error":"#REF!"}},{"$error":"#REF!"},{"$error":"#REF!"},{"$error":"#REF!"},{"$error":"#REF!"},{"$error":"#REF!"},{"$error":"#REF!"},{"$error":"#REF!"},"Low","Funding agreed and delivery scheduled for August 19","None","None"]
[24,6000000,0,"Ebbsfleet Green PS","North",6000000,6000000,{"$error":"#REF!"},{"$error":"#REF!"},{"$error":"#REF!"},0,2,null,{"$f":"$Q33-(2*7)","v":{"$error":"#REF!"}},{"$error":"#REF!"},{"$f":"$Q33-(1*7)","v":{"$error":"#REF!"}},{"$error":"#REF!"},{"$f":"$W33-(20*7)","v":{"$error":"#REF!"}},{"$f":"$W33-(12*7)","v":{"$error":"#REF!"}},{"$f":"$W33-(2*7)","v":{"$error":"#REF!"}},{"$f":"$W33-(1*7)","v":{"$error":"#REF!"}},{"$f":"$W33-(1*7)","v":{"$error":"#REF!"}},{"$error":"#REF!"},{"$f":"$AH33-(29*7)","v":{"$error":"#REF!"}},{"$f":"$AH33-(17*7)","v":{"$error":"#REF!"}},{"$f":"$AH33-(27*7)","v":{"$error":"#REF!"}},{"$f":"$AH33-(23*7)","v":{"$error":"#REF!"}},{"$f":"$AH33-(16*7)","v":{"$error":"#REF!"}},{"$f":"$AH33-(16*7)","v":{"$error":"#REF!"}},{"$error":"#REF!"},{"$f":"$AH33-(14*7)","v":{"$error":"#REF!"}},{"$f":"$AH33-(13*7)","v":{"$error":"#REF!"}},{"$error":"#REF!"},{"$error":"#REF!"},{"$f":"$AR33-(19*7)","v":{"$error":"#REF!"}},{"$f":"$AR33-(16*7)","v":{"$error":"#REF!"}},{"$f":"$AR33-(15*7)","v":{"$error":"#REF!"}},{"$f":"$AR33-(14*7)","v":{"$error":"#REF!"}},{"$f":"$AR33-(6*7)","v":{"$error":"#REF!"}},{"$error":"#REF!"},{"$error":"#REF!"},{"$f":"$AR33+(3*7)","v":{"$error":"#REF!"}},{"$error":"#REF!"},{"$error":"#REF!"},{"$error":"#REF!"},{"$error":"#REF!"},{"$error":"#REF!"},{"$error":"#REF!"},{"$error":"#REF!"},"Low","Pre feasibility. Land handover in August. Require license to undertake survey work","None","None"]
[25,2200000,0,"Finberry PS, 1FE",{"$error":"#N/A"},{"$error":"#N/A"},{"$error":"#N/A"},{"$error":"#N/A"},{"$error":"#N/A"},{"$error":"#N/A"},4,2,null,null,null,null,{"$error":"#N/A"},null,null,null,null,null,{"$error":"#N/A"},"complete","complete","complete","complete",{"$f":"$AH34-(14*7)","v":{"$error":"#N/A"}},{"$f":"$AH34-(14*7)","v":{"$error":"#N/A"}},{"$error":"#N/A"},{"$f":"$AH34-(12*7)","v":{"$error":"#N/A"}},{"$f":"$AH34-(11*7)","v":{"$error":"#N/A"}},{"$error":"#N/A"},{"$error":"#N/A"},{"$f":"$AR34-(16*7)","v":{"$error":"#N/A"}},{"$f":"$AR34-(13*7)","v":{"$error":"#N/A"}},{"$f":"$AR34-(12*7)","v":{"$error":"#N/A"}},{"$f":"$AR34-(11*7)","v":{"$error":"#N/A"}},{"$f":"$AR34-(5*7)","v":{"$error":"#N/A"}},{"$error":"#N/A"},{"$error":"#N/A"},{"$f":"$AR34+(2*7)","v":{"$error":"#N/A"}},{"$error":"#N/A"},{"$error":"#N/A"},{"$error":"#N/A"},{"$error":"#N/A"},{"$error":"#N/A"},{"$error":"#N/A"},{"$error":"#N/A"},"Low","1FE school with 2FE INF. Can appoint Stage 4 design work to allow this project to accelerate if required due to chilmington delay. ","None","None"]
[26,100000,0,"St Nicholas PS","South",100000,100000,{"$error":"#REF!"},{"$error":"#REF!"},{"$error":"#REF!"},2,2,null,null,null,null,{"$error":"#REF!"},{"$f":"$W35-(14*7)","v":{"$error":"#REF!"}},{"$f":"$W35-(7*7)","v":{"$error":"#REF!"}},{"$f":"$W35-(2*7)","v":{"$error":"#REF!"}},{"$f":"$W35-(1*7)","v":{"$error":"#REF!"}},{"$f":"$W35-(1*7)","v":{"$error":"#REF!"}},{"$error":"#REF!"},{"$f":"$AH35-(18*7)","v":{"$error":"#REF!"}},{"$f":"$AH35-(10*7)","v":{"$error":"#REF!"}},{"$f":"$AH35-(16*7)","v":{"$error":"#REF!"}},{"$f":"$AH35-(12*7)","v":{"$error":"#REF!"}},{"$f":"$AH35-(9*7)","v":{"$error":"#REF!"}},{"$f":"$AH35-(9*7)","v":{"$error":"#REF!"}},{"$error":"#REF!"},{"$f":"$AH35-(7*7)","v":{"$error":"#REF!"}},{"$f":"$AH35-(6*7)","v":{"$error":"#REF!"}},{"$error":"#REF!"},{"$error":"#REF!"},{"$f":"$AR35-(16*7)","v":{"$error":"#REF!"}},{"$f":"$AR35-(13*7)","v":{"$error":"#REF!"}},{"$f":"$AR35-(12*7)","v":{"$error":"#REF!"}},{"$f":"$AR35-(11*7)","v":{"$error":"#REF!"}},{"$f":"$AR35-(5*7)","v":{"$error":"#REF!"}},{"$error":"#REF!"},{"$error":"#REF!"},{"$f":"$AR35+(1*7)","v":{"$error":"#REF!"}},{"$error":"#REF!"},{"$error":"#REF!"},{"$error":"#REF!"},{"$error":"#REF!"},{"$error":"#REF!"},{"$error":"#REF!"},{"$error":"#REF!"},"Low","Feasibility complete over a year ago. Costs to be revisited. Agreeing option with school and AEO.  ","Planning may be required if PD not an option. ","None"]
[27,350000,0,"Towers (North) School","South",350000,350000,{"$error":"#REF!"},{"$error":"#REF!"},{"$error":"#REF!"},1,2,null,{"$f":"$Q36-(2*7)","v":{"$error":"#REF!"}},{"$error":"#REF!"},{"$f":"$Q36-(1*7)","v":{"$error":"#REF!"}},{"$error":"#REF!"},{"$f":"$W36-(14*7)","v":{"$error":"#REF!"}},{"$f":"$W36-(7*7)","v":{"$error":"#REF!"}},{"$f":"$W36-(2*7)","v":{"$error":"#REF!"}},{"$f":"$W36-(1*7)","v":{"$error":"#REF!"}},{"$f":"$W36-(1*7)","v":{"$error":"#REF!"}},{"$error":"#REF!"},{"$f":"$AH36-(18*7)","v":{"$error":"#REF!"}},{"$f":"$AH36-(10*7)","v":{"$error":"#REF!"}},{"$f":"$AH36-(16*7)","v":{"$error":"#REF!"}},{"$f":"$AH36-(12*7)","v":{"$error":"#REF!"}},{"$f":"$AH36-(9*7)","v":{"$error":"#REF!"}},{"$f":"$AH36-(9*7)","v":{"$error":"#REF!"}},{"$error":"#REF!"},{"$f":"$AH36-(7*7)","v":{"$error":"#REF!"}},{"$f":"$AH36-(6*7)","v":{"$error":"#REF!"}},{"$error":"#REF!"},{"$error":"#REF!"},{"$f":"$AR36-(16*7)","v":{"$error":"#REF!"}},{"$f":"$AR36-(13*7)","v":{"$error":"#REF!"}},{"$f":"$AR36-(12*7)","v":{"$error":"#REF!"}},{"$f":"$AR36-(11*7)","v":{"$error":"#REF!"}},{"$f":"$AR36-(5*7)","v":{"$error":"#REF!"}},{"$error":"#REF!"},{"$error":"#REF!"},{"$f":"$AR36+(1*7)","v":{"$error":"#REF!"}},{"$error":"#REF!"},{"$error":"#REF!"},{"$error":"#REF!"},{"$error":"#REF!"},{"$error":"#REF!"},{"$error":"#REF!"},{"$error":"#REF!"},"Low","Dependent on Chilmington Green Secondary - can be progressed if required. ","None","None"]
[28,3000000,0,"Sunnybank PS","East",3000000,3000000,{"$error":"#REF!"},{"$error":"#REF!"},{"$error":"#REF!"},2,2,2,null,null,null,{"$error":"#REF!"},"complete",{"$f":"$W37-(9*7)","v":{"$error":"#REF!"}},{"$f":"$W37-(2*7)","v":{"$error":"#REF!"}},{"$f":"$W37-(1*7)","v":{"$error":"#REF!"}},{"$error":"#REF!"},{"$error":"#REF!"},{"$f":"$AH37-(25*7)","v":{"$error":"#REF!"}},{"$f":"$AH37-(15*7)","v":{"$error":"#REF!"}},{"$f":"$AH37-(23*7)","v":{"$error":"#REF!"}},{"$f":"$AH37-(19*7)","v":{"$error":"#REF!"}},{"$f":"$AH37-(14*7)","v":{"$error":"#REF!"}},{"$f":"$AH37-(14*7)","v":{"$error":"#REF!"}},{"$error":"#REF!"},{"$f":"$AH37-(12*7)","v":{"$error":"#REF!"}},{"$f":"$AH37-(11*7)","v":{"$error":"#REF!"}},{"$error":"#REF!"},{"$error":"#REF!"},{"$f":"$AR37-(16*7)","v":{"$error":"#REF!"}},{"$f":"$AR37-(13*7)","v":{"$error":"#REF!"}},{"$f":"$AR37-(12*7)","v":{"$error":"#REF!"}},{"$f":"$AR37-(11*7)","v":{"$error":"#REF!"}},{"$f":"$AR37-(5*7)","v":{"$error":"#REF!"}},{"$error":"#REF!"},{"$error":"#REF!"},{"$f":"$AR37+(2*7)","v":{"$error":"#REF!"}},{"$error":"#REF!"},{"$error":"#REF!"},{"$error":"#REF!"},{"$error":"#REF!"},{"$error":"#REF!"},{"$error":"#REF!"},{"$error":"#REF!"},"Med","Desktop feasibility complete and detailed being appointed. Commissioned up to planning. ","Budget concern due to requirement to build new infant block. ","None"]
[29,26950000,0,"Former RSD","East",20000000,18000000,{"$error":"#REF!"},{"$error":"#REF!"},{"$error":"#REF!"},2,2,null,null,null,null,{"$error":"#REF!"},"complete","complete","complete",{"$f":"$W38-(1*7)","v":{"$error":"#REF!"}},{"$f":"$W38-(1*7)","v":{"$error":"#REF!"}},{"$error":"#REF!"},{"$f":"$AH38-(39*7)","v":{"$error":"#REF!"}},{"$f":"$AH38-(19*7)","v":{"$error":"#REF!"}},{"$f":"$AH38-(37*7)","v":{"$error":"#REF!"}},{"$f":"$AH38-(33*7)","v":{"$error":"#REF!"}},{"$f":"$AH38-(18*7)","v":{"$error":"#REF!"}},{"$f":"$AH38-(18*7)","v":{"$error":"#REF!"}},{"$error":"#REF!"},{"$f":"$AH38-(16*7)","v":{"$error":"#REF!"}},{"$f":"$AH38-(15*7)","v":{"$error":"#REF!"}},{"$error":"#REF!"},{"$error":"#REF!"},{"$f":"$AR38-(23*7)","v":{"$error":"#REF!"}},{"$f":"$AR38-(20*7)","v":{"$error":"#REF!"}},{"$f":"$AR38-(19*7)","v":{"$error":"#REF!"}},{"$f":"$AR38-(18*7)","v":{"$error":"#REF!"}},{"$f":"$AR38-(8*7)","v":{"$error":"#REF!"}},{"$error":"#REF!"},{"$error":"#REF!"},{"$f":"$AR38+(4*7)","v":{"$error":"#REF!"}},{"$error":"#REF!"},{"$error":"#REF!"},{"$error":"#REF!"},{"$error":"#REF!"},{"$error":"#REF!"},{"$error":"#REF!"},{"$error":"#REF!"},"High","Land acquisition underway but school needs to be delivered by 2021. ","Land acquisition. ","Survey results could identify site issues. "]
[30,7000000,0,"Hermitage Lane PS","West",7000000,7000000,{"$error":"#REF!"},{"$error":"#REF!"},{"$error":"#REF!"},2,2,null,null,null,null,{"$error":"#REF!"},{"$f":"$W39-(20*7)","v":{"$error":"#REF!"}},{"$f":"$W39-(12*7)","v":{"$error":"#REF!"}},{"$f":"$W39-(2*7)","v":{"$error":"#REF!"}},{"$f":"$W39-(1*7)","v":{"$error":"#REF!"}},{"$f":"$W39-(1*7)","v":{"$error":"#REF!"}},{"$error":"#REF!"},{"$f":"$AH39-(29*7)","v":{"$error":"#REF!"}},{"$f":"$AH39-(17*7)","v":{"$error":"#REF!"}},{"$f":"$AH39-(27*7)","v":{"$error":"#REF!"}},{"$f":"$AH39-(23*7)","v":{"$error":"#REF!"}},{"$f":"$AH39-(16*7)","v":{"$error":"#REF!"}},{"$f":"$AH39-(16*7)","v":{"$error":"#REF!"}},{"$error":"#REF!"},{"$f":"$AH39-(14*7)","v":{"$error":"#REF!"}},{"$f":"$AH39-(13*7)","v":{"$error":"#REF!"}},{"$error":"#REF!"},{"$error":"#REF!"},{"$f":"$AR39-(19*7)","v":{"$error":"#REF!"}},{"$f":"$AR39-(16*7)","v":{"$error":"#REF!"}},{"$f":"$AR39-(15*7)","v":{"$error":"#REF!"}},{"$f":"$AR39-(14*7)","v":{"$error":"#REF!"}},{"$f":"$AR39-(6*7)","v":{"$error":"#REF!"}},{"$error":"#REF!"},{"$error":"#REF!"},{"$f":"$AR39+(3*7)","v":{"$error":"#REF!"}},{"$error":"#REF!"},{"$error":"#REF!"},{"$error":"#REF!"},{"$error":"#REF!"},{"$error":"#REF!"},{"$error":"#REF!"},{"$error":"#REF!"},"Low","Detailed feasibility to be instructed to build 1FE with 2FE INF.","None","Dependant on housing supply. "]
[31,2750000,0,"Swanley and Hextable PS","North",2750000,2750000,{"$error":"#REF!"},{"$error":"#REF!"},{"$error":"#REF!"},0,3,null,{"$f":"$Q40-(2*7)","v":{"$error":"#REF!"}},{"$error":"#REF!"},{"$f":"$Q40-(1*7)","v":{"$error":"#REF!"}},{"$error":"#REF!"},{"$f":"$W40-(17*7)","v":{"$error":"#REF!"}},{"$f":"$W40-(9*7)","v":{"$error":"#REF!"}},{"$f":"$W40-(2*7)","v":{"$error":"#REF!"}},{"$f":"$W40-(1*7)","v":{"$error":"#REF!"}},{"$error":"#REF!"},{"$error":"#REF!"},{"$f":"$AH40-(25*7)","v":{"$error":"#REF!"}},{"$f":"$AH40-(15*7)","v":{"$error":"#REF!"}},{"$f":"$AH40-(23*7)","v":{"$error":"#REF!"}},{"$f":"$AH40-(19*7)","v":{"$error":"#REF!"}},{"$f":"$AH40-(14*7)","v":{"$error":"#REF!"}},{"$f":"$AH40-(14*7)","v":{"$error":"#REF!"}},{"$error":"#REF!"},{"$f":"$AH40-(12*7)","v":{"$error":"#REF!"}},{"$f":"$AH40-(11*7)","v":{"$error":"#REF!"}},{"$error":"#REF!"},{"$error":"#REF!"},{"$f":"$AR40-(16*7)","v":{"$error":"#REF!"}},{"$f":"$AR40-(13*7)","v":{"$error":"#REF!"}},{"$f":"$AR40-(12*7)","v":{"$error":"#REF!"}},{"$f":"$AR40-(11*7)","v":{"$error":"#REF!"}},{"$f":"$AR40-(5*7)","v":{"$error":"#REF!"}},{"$error":"#REF!"},{"$error":"#REF!"},{"$f":"$AR40+(2*7)","v":{"$error":"#REF!"}},{"$error":"#REF!"},{"$error":"#REF!"},{"$error":"#REF!"},{"$error":"#REF!"},{"$error":"#REF!"},{"$error":"#REF!"},{"$error":"#REF!"},"Low","Deferral suggested by CYPE due to housing supply.","None","None"]
[32,1500000,0,"St Gregory's PS","East",1500000,1500000,{"$error":"#REF!"},{"$error":"#REF!"},{"$error":"#REF!"},1,3,null,{"$error":"#REF!"},{"$error":"#REF!"},{"$error":"#REF!"},{"$error":"#REF!"},{"$error":"#REF!"},{"$error":"#REF!"},{"$error":"#REF!"},{"$error":"#REF!"},{"$error":"#REF!"},{"$error":"#REF!"},{"$f":"$AH41-(25*7)","v":{"$error":"#REF!"}},{"$f":"$AH41-(15*7)","v":{"$error":"#REF!"}},{"$f":"$AH41-(23*7)","v":{"$error":"#REF!"}},{"$f":"$AH41-(19*7)","v":{"$error":"#REF!"}},{"$f":"$AH41-(14*7)","v":{"$error":"#REF!"}},{"$f":"$AH41-(14*7)","v":{"$error":"#REF!"}},{"$error":"#REF!"},{"$f":"$AH41-(12*7)","v":{"$error":"#REF!"}},{"$f":"$AH41-(11*7)","v":{"$error":"#REF!"}},{"$error":"#REF!"},{"$error":"#REF!"},{"$f":"$AR41-(16*7)","v":{"$error":"#REF!"}},{"$f":"$AR41-(13*7)","v":{"$error":"#REF!"}},{"$f":"$AR41-(12*7)","v":{"$error":"#REF!"}},{"$f":"$AR41-(11*7)","v":{"$error":"#REF!"}},{"$f":"$AR41-(5*7)","v":{"$error":"#REF!"}},{"$error":"#REF!"},{"$error":"#REF!"},{"$f":"$AR41+(2*7)","v":{"$error":"#REF!"}},{"$error":"#REF!"},{"$error":"#REF!"},{"$error":"#REF!"},{"$error":"#REF!"},{"$error":"#REF!"},{"$error":"#REF!"},{"$error":"#REF!"},"Low","Deferral suggested by CYPE due to housing supply.","None","None"]
[33,20000000,0,"Quinton Road Secondary School",{"$error":"#N/A"},{"$error":"#N/A"},{"$error":"#N/A"},{"$error":"#N/A"},{"$error":"#N/A"},{"$error":"#N/A"},0,3,null,{"$error":"#N/A"},{"$error":"#N/A"},{"$error":"#N/A"},{"$error":"#N/A"},{"$f":"$W42-(22*7)","v":{"$error":"#N/A"}},{"$f":"$W42-(14*7)","v":{"$error":"#N/A"}},{"$f":"$W42-(2*7)","v":{"$error":"#N/A"}},{"$error":"#N/A"},{"$error":"#N/A"},{"$error":"#N/A"},{"$f":"$AH42-(39*7)","v":{"$error":"#N/A"}},{"$f":"$AH42-(19*7)","v":{"$error":"#N/A"}},{"$f":"$AH42-(37*7)","v":{"$error":"#N/A"}},{"$f":"$AH42-(33*7)","v":{"$error":"#N/A"}},{"$f":"$AH42-(18*7)","v":{"$error":"#N/A"}},{"$error":"#N/A"},{"$error":"#N/A"},{"$f":"$AH42-(16*7)","v":{"$error":"#N/A"}},{"$f":"$AH42-(15*7)","v":{"$error":"#N/A"}},{"$error":"#N/A"},{"$error":"#N/A"},{"$f":"$AR42-(23*7)","v":{"$error":"#N/A"}},{"$f":"$AR42-(20*7)","v":{"$error":"#N/A"}},{"$f":"$AR42-(19*7)","v":{"$error":"#N/A"}},{"$f":"$AR42-(18*7)","v":{"$error":"#N/A"}},{"$f":"$AR42-(8*7)","v":{"$error":"#N/A"}},{"$error":"#N/A"},{"$error":"#N/A"},{"$f":"$AR42+(4*7)","v":{"$error":"#N/A"}},{"$error":"#N/A"},{"$error":"#N/A"},{"$error":"#N/A"},{"$error":"#N/A"},{"$error":"#N/A"},{"$error":"#N/A"},{"$error":"#N/A"},"Low","Deferral suggested by CYPE due to housing supply.","None","None"]
[34,20000000,0,"Skinners Kent Academy","West",20000000,20000000,{"$error":"#REF!"},{"$error":"#REF!"},{"$error":"#REF!"},0,3,null,{"$error":"#REF!"},{"$error":"#REF!"},{"$error":"#REF!"},{"$error":"#REF!"},{"$f":"$W43-(22*7)","v":{"$error":"#REF!"}},{"$f":"$W43-(14*7)","v":{"$error":"#REF!"}},{"$f":"$W43-(2*7)","v":{"$error":"#REF!"}},{"$error":"#REF!"},{"$error":"#REF!"},{"$error":"#REF!"},{"$f":"$AH43-(39*7)","v":{"$error":"#REF!"}},{"$f":"$AH43-(19*7)","v":{"$error":"#REF!"}},{"$f":"$AH43-(37*7)","v":{"$error":"#REF!"}},{"$f":"$AH43-(33*7)","v":{"$error":"#REF!"}},{"$error":"#REF!"},{"$error":"#REF!"},{"$error":"#REF!"},{"$f":"$AH43-(16*7)","v":{"$error":"#REF!"}},{"$f":"$AH43-(15*7)","v":{"$error":"#REF!"}},{"$error":"#REF!"},{"$error":"#REF!"},{"$f":"$AR43-(23*7)","v":{"$error":"#REF!"}},{"$f":"$AR43-(20*7)","v":{"$error":"#REF!"}},{"$f":"$AR43-(19*7)","v":{"$error":"#REF!"}},{"$f":"$AR43-(18*7)","v":{"$error":"#REF!"}},{"$f":"$AR43-(8*7)","v":{"$error":"#REF!"}},{"$error":"#REF!"},{"$error":"#REF!"},{"$f":"$AR43+(4*7)","v":{"$error":"#REF!"}},{"$error":"#REF!"},{"$error":"#REF!"},{"$error":"#REF!"},{"$error":"#REF!"},{"$error":"#REF!"},{"$error":"#REF!"},{"$error":"#REF!"},"Low","CYPE not currently pursuing this option. ","Planning would be highly contentious. Land acquisition. "]
[35,9750000,0,"Tonbridge and Malling Area, 3FE",{"$error":"#N/A"},{"$error":"#N/A"},{"$error":"#N/A"},{"$error":"#N/A"},{"$error":"#N/A"},{"$error":"#N/A"},0,3,null,{"$error":"#N/A"},{"$error":"#N/A"},{"$error":"#N/A"},{"$error":"#N/A"},{"$f":"$W44-(22*7)","v":{"$error":"#N/A"}},{"$f":"$W44-(14*7)","v":{"$error":"#N/A"}},{"$f":"$W44-(2*7)","v":{"$error":"#N/A"}},{"$error":"#N/A"},{"$error":"#N/A"},{"$error":"#N/A"},{"$f":"$AH44-(34*7)","v":{"$error":"#N/A"}},{"$f":"$AH44-(19*7)","v":{"$error":"#N/A"}},{"$f":"$AH44-(32*7)","v":{"$error":"#N/A"}},{"$f":"$AH44-(28*7)","v":{"$error":"#N/A"}},{"$error":"#N/A"},{"$error":"#N/A"},{"$error":"#N/A"},{"$f":"$AH44-(16*7)","v":{"$error":"#N/A"}},{"$f":"$AH44-(15*7)","v":{"$error":"#N/A"}},{"$error":"#N/A"},{"$error":"#N/A"},{"$f":"$AR44-(23*7)","v":{"$error":"#N/A"}},{"$f":"$AR44-(20*7)","v":{"$error":"#N/A"}},{"$f":"$AR44-(19*7)","v":{"$error":"#N/A"}},{"$f":"$AR44-(18*7)","v":{"$error":"#N/A"}},{"$f":"$AR44-(8*7)","v":{"$error":"#N/A"}},{"$error":"#N/A"},{"$error":"#N/A"},null,{"$error":"#N/A"},{"$error":"#N/A"},{"$error":"#N/A"},{"$error":"#N/A"},{"$error":"#N/A"},{"$error":"#N/A"},{"$error":"#N/A"},"Low","Deferral suggested by CYPE due to housing supply."]
[36,6500000,0,"Tonbridge and Malling Area, 2FE",{"$error":"#N/A"},{"$error":"#N/A"},{"$error":"#N/A"},{"$error":"#N/A"},{"$error":"#N/A"},{"$error":"#N/A"},0,3,null,{"$error":"#N/A"},{"$error":"#N/A"},{"$error":"#N/A"},{"$error":"#N/A"},{"$f":"$W45-(20*7)","v":{"$error":"#N/A"}},{"$f":"$W45-(12*7)","v":{"$error":"#N/A"}},{"$f":"$W45-(2*7)","v":{"$error":"#N/A"}},{"$error":"#N/A"},{"$error":"#N/A"},{"$error":"#N/A"},{"$f":"$AH45-(29*7)","v":{"$error":"#N/A"}},{"$f":"$AH45-(17*7)","v":{"$error":"#N/A"}},{"$f":"$AH45-(27*7)","v":{"$error":"#N/A"}},{"$f":"$AH45-(23*7)","v":{"$error":"#N/A"}},{"$f":"$AH45-(16*7)","v":{"$error":"#N/A"}},{"$f":"$AH45-(16*7)","v":{"$error":"#N/A"}},{"$error":"#N/A"},{"$f":"$AH45-(14*7)","v":{"$error":"#N/A"}},{"$f":"$AH45-(13*7)","v":{"$error":"#N/A"}},{"$error":"#N/A"},{"$error":"#N/A"},{"$f":"$AR45-(19*7)","v":{"$error":"#N/A"}},{"$f":"$AR45-(16*7)","v":{"$error":"#N/A"}},{"$f":"$AR45-(15*7)","v":{"$error":"#N/A"}},{"$f":"$AR45-(14*7)","v":{"$error":"#N/A"}},{"$f":"$AR45-(6*7)","v":{"$error":"#N/A"}},{"$error":"#N/A"},{"$error":"#N/A"},null,{"$error":"#N/A"},{"$error":"#N/A"},{"$error":"#N/A"},{"$error":"#N/A"},{"$error":"#N/A"},{"$error":"#N/A"},{"$error":"#N/A"},"Low","Deferral suggested by CYPE due to housing supply."]
[]
["#","#","#","#","#","#","#","#","#","#","#","#","#","#","#","#","#","#","#","#","#","#","#","#","#","#","#","#","#","#","#","#","#","#","#","#","#","#","#","#","#","#","#","#","#","#","#","#","#","#","#","#","#"]
[]
[null,null,null,null,null,null,null,null,null,null,null,null,null,null,null,null,null,null,null,null,null,null,null,null,null,null,null,null,null,null,null,null,null,null,null,null,null,null,null,null,null,null,null,null,null,null,"Low",{"$f":"COUNTIF(AX$10:AX$45,AU49)","v":21},{"$f":"AV49/SUM(AV$49:AV$51)","v":0.58333333333333337}]
[null,null,null,null,null,null,null,null,null,null,null,null,null,null,null,null,null,null,null,null,null,null,null,null,null,null,null,null,null,null,null,null,null,null,null,null,null,null,null,null,null,null,null,null,null,null,"Med",{"$f":"COUNTIF(AX$10:AX$45,AU50)","v":9},{"$f":"AV50/SUM(AV$49:AV$51)","v":0.25}]
[null,null,null,null,null,null,null,null,null,null,null,null,null,null,null,null,null,null,null,null,null,null,null,null,null,null,null,null,null,null,null,null,null,null,null,null,null,null,null,null,null,null,null,null,null,null,"High",{"$f":"COUNTIF(AX$10:AX$45,AU51)","v":6},{"$f":"AV51/SUM(AV$49:AV$51)","v":0.16666666666666666}]
[]
[]
[null,null,null,"tba",null,{"$f":"COUNTIF(J$10:J$45,D54)","v":0}]
[null,null,null,"c. £20 million",null,0]
[null,null,null,"over £8 million",null,0]
[null,null,null,"£4m to £8m",null,0]
[null,null,null,"£1m to £4m",null,0]
[null,null,null,"less than £1m",null,0]
[]
[null,0,null,"Stage 0",null,{"$f":"COUNTIF(K$10:K$45,B61)","v":7}]
[null,1,null,"Stage 1",null,6]
[null,2,null,"Stage 2",null,6]
[null,3,null,"Stage 3",null,7]
[null,4,null,"Stage 4",null,6]
[null,5,null,"Stage 5",null,3]

{"sheet":"Resource Programme","index":10,"n_rows":211,"n_cols":164,"rows_kept":211,"cut":false,"hidden":true,"merged":[[3,157,6,157],[3,158,6,158],[3,159,6,159],[3,160,6,160],[3,161,6,161],[3,162,6,162],[3,151,6,151],[3,152,6,152],[3,153,6,153],[3,154,6,154],[3,155,6,155],[3,156,6,156],[3,145,6,145],[3,146,6,146],[3,147,6,147],[3,148,6,148],[3,149,6,149],[3,150,6,150],[3,139,6,139],[3,140,6,140],[3,141,6,141],[3,142,6,142],[3,143,6,143],[3,144,6,144],[3,133,6,133],[3,134,6,134],[3,135,6,135],[3,136,6,136],[3,137,6,137],[3,138,6,138],[3,127,6,127],[3,128,6,128],[3,129,6,129],[3,130,6,130],[3,131,6,131],[3,132,6,132],[3,121,6,121],[3,122,6,122],[3,123,6,123],[3,124,6,124],[3,125,6,125],[3,126,6,126],[3,115,6,115],[3,116,6,116],[3,117,6,117],[3,118,6,118],[3,119,6,119],[3,120,6,120],[3,109,6,109],[3,110,6,110],[3,111,6,111],[3,112,6,112],[3,113,6,113],[3,114,6,114],[3,103,6,103],[3,104,6,104],[3,105,6,105],[3,106,6,106],[3,107,6,107],[3,108,6,108],[3,97,6,97],[3,98,6,98],[3,99,6,99],[3,100,6,100],[3,101,6,101],[3,102,6,102],[3,82,6,82],[3,83,6,83],[3,84,6,84],[3,85,6,85],[3,86,6,86],[3,87,6,87],[3,76,6,76],[3,77,6,77],[3,78,6,78],[3,79,6,79],[3,80,6,80],[3,81,6,81],[3,70,6,70],[3,71,6,71],[3,72,6,72],[3,73,6,73],[3,74,6,74],[3,75,6,75],[3,64,6,64],[3,65,6,65],[3,66,6,66],[3,67,6,67],[3,68,6,68],[3,69,6,69],[3,58,6,58],[3,59,6,59],[3,60,6,60],[3,61,6,61],[3,62,6,62],[3,63,6,63],[3,52,6,52],[3,53,6,53],[3,54,6,54],[3,55,6,55],[3,56,6,56],[3,57,6,57],[3,46,6,46],[3,47,6,47],[3,48,6,48],[3,49,6,49],[3,50,6,50],[3,51,6,51],[3,40,6,40],[3,41,6,41],[3,42,6,42],[3,43,6,43],[3,44,6,44],[3,45,6,45],[3,34,6,34],[3,35,6,35],[3,36,6,36],[3,37,6,37],[3,38,6,38],[3,39,6,39],[3,28,6,28],[3,29,6,29],[3,30,6,30],[3,31,6,31],[3,32,6,32],[3,33,6,33],[3,22,6,22],[3,23,6,23],[3,24,6,24],[3,25,6,25],[3,26,6,26],[3,27,6,27]]}
[null,null,null,null,null,null,null,"Gen2 fee",null,"PI col nr",17,18,19,20,21,null,22,23,null,null,null,null,null,"THIS GRAPHICALLY RECORDS WHEN EACH STAGE OF EACH PROJECT IS PLANNED TO OCCUR",null,null,null,null,null,null,null,null,null,null,null,null,null,null,null,null,null,null,null,null,null,null,null,null,null,null,null,null,null,null,"THIS GRAPHICALLY RECORDS WHEN EACH STAGE OF EACH PROJECT IS PLANNED TO OCCUR",null,null,null,null,null,null,null,null,null,null,null,null,null,null,null,null,null,null,null,null,null,null,null,null,null,null,null,null,null,null,null,null,null,null,null,"PM ave Hrs/week/Stage",1,2,3,4,5,6,null,"THIS CALCULATES THE AVE PM MAN-HOURS REQD EACH MONTH TO DELIVER THE SERVICE",null,null,null,null,null,null,null,null,null,null,null,null,null,null,null,null,null,null,null,null,null,null,null,null,null,null,null,null,null,null,"THIS CALCULATES THE AVE PM MAN-HOURS REQD EACH MONTH TO DELIVER THE SERVICE"]
[null,null,null,null,null,null,null,0.03,null,null,null,null,null,null,null,null,null,null,null,null,null,null,null,"ACADEMIC YEAR",null,null,null,null,null,null,null,null,null,null,null,null,null,null,null,null,null,null,null,null,null,null,null,null,null,null,null,null,null,null,null,null,null,null,null,null,null,null,null,null,null,null,null,null,null,null,null,null,null,null,null,null,null,null,null,null,null,null,null,null,null,null,null,null,null,null,"less than £1m",6,3,6,9,6,9,null,"ACADEMIC YEAR"]
[null,null,null,null,null,null,null,0.03,null,null,null,null,null,null,null,null,null,null,null,null,null,null,null,null,null,null,null,null,null,null,null,null,null,null,null,null,null,null,null,null,null,null,null,null,null,null,null,null,null,null,null,null,null,null,null,null,null,null,null,null,null,null,null,null,null,null,null,null,null,null,null,null,null,null,null,null,null,null,null,null,null,null,null,null,null,null,null,null,null,null,"£1 to £4 million",6,3,6,9,6,9]
[null,null,null,null,null,null,null,0.03,null,null,null,null,null,null,null,null,null,null,null,null,null,null,"2017/18","2017/18","2017/18","2018/19","2018/19","2018/19","2018/19","2018/19","2018/19","2018/19","2018/19","2018/19","2018/19","2018/19","2018/19","2019/20","2019/20","2019/20","2019/20","2019/20","2019/20","2019/20","2019/20","2019/20","2019/20","2019/20","2019/20","2020/21","2020/21","2020/21","2020/21","2020/21","2020/21","2020/21","2020/21","2020/21","2020/21","2020/21","2020/21","2021/22","2021/22","2021/22","2021/22","2021/22","2021/22","2021/22","2021/22","2021/22","2021/22","2021/22","2021/22","2022/23","2022/23","2022/23","2022/23","2022/23","2022/23","2022/23","2022/23","2022/23","2022/23","2022/23","2022/23","2023/24","2023/24","2023/24",null,null,"£4 to £8 million",6,6,12,17,12,12,"2017/18","2017/18","2017/18","2018/19","2018/19","2018/19","2018/19","2018/19","2018/19","2018/19","2018/19","2018/19","2018/19","2018/19","2018/19","2019/20","2019/20","2019/20","2019/20","2019/20","2019/20","2019/20","2019/20","2019/20","2019/20","2019/20","2019/20","2020/21","2020/21","2020/21","2020/21","2020/21","2020/21","2020/21","2020/21","2020/21","2020/21","2020/21","2020/21","2021/22","2021/22","2021/22","2021/22","2021/22","2021/22","2021/22","2021/22","2021/22","2021/22","2021/22","2021/22","2022/23","2022/23","2022/23","2022/23","2022/23","2022/23","2022/23","2022/23","2022/23","2022/23","2022/23","2022/23","2023/24","2023/24","2023/24"]
[null,null,null,null,null,null,null,0.03,null,null,null,null,null,null,null,null,null,null,null,null,null,null,null,null,null,null,null,null,null,null,null,null,null,null,null,null,null,null,null,null,null,null,null,null,null,null,null,null,null,null,null,null,null,null,null,null,null,null,null,null,null,null,null,null,null,null,null,null,null,null,null,null,null,null,null,null,null,null,null,null,null,null,null,null,null,null,null,null,null,null,"over £8 million",6,9,12,14,17,12]
[null,null,null,null,null,null,null,null,null,null,null,null,null,null,null,null,null,null,null,null,null,null,null,null,null,null,null,null,null,null,null,null,null,null,null,null,null,null,null,null,null,null,null,null,null,null,null,null,null,null,null,null,null,null,null,null,null,null,null,null,null,null,null,null,null,null,null,null,null,null,null,null,null,null,null,null,null,null,null,null,null,null,null,null,null,null,null,null,null,null,"circa £20 million",6,12,14,22,17,17]
[null,null,null,null,null,null,null,0.03,null,null,null,null,null,null,null,null,null,null,null,null,null,null,null,null,null,null,null,null,null,null,null,null,null,null,null,null,null,null,null,null,null,null,null,null,null,null,null,null,null,null,null,null,null,null,null,null,null,null,null,null,null,null,null,null,null,null,null,null,null,null,null,null,null,null,null,null,null,null,null,null,null,null,null,null,null,null,null,null,null,null,"see earlier phase",0,0,0,0,0,12]
["CAPITAL PROJECTS: ANTICIPATED RESOURCE REQUIREMENTS",null,null,null,null,null,null,null,null,null,null,null,null,null,null,null,null,null,null,null,null,null,"Nr of wks in each month",null,null,null,null,null,null,null,null,null,null,null,null,null,null,null,null,null,null,null,null,null,null,null,null,null,null,null,null,null,null,null,null,null,null,null,null,null,null,null,null,null,null,null,null,null,null,null,null,null,null,null,null,null,null,null,null,null,null,null,null,null,null,null,null,null,null,null,"Average weeks per calendar month:",4.3,null,null,null,null,null,"Nr of wks in each month"]
["RESOURCE PROGRAMME",null,null,null,null,null,null,null,null,{"$f":"NOW()","v":"2019-05-23T15:38:21.710"},"Planned end dates for each RIBA stage",null,null,null,null,null,null,null,"Planned dates",null,null,null,null,{"$f":"(X11-W11)/7","v":4.4285714285714288},{"$f":"(Y11-X11)/7","v":4.4285714285714288},{"$f":"(Z11-Y11)/7","v":4.2857142857142856},4.4285714285714288,4.2857142857142856,4.4285714285714288,4.4285714285714288,4,4.4285714285714288,4.2857142857142856,4.4285714285714288,4.2857142857142856,4.4285714285714288,4.4285714285714288,4.2857142857142856,4.4285714285714288,4.2857142857142856,4.4285714285714288,4.4285714285714288,4.1428571428571432,4.4285714285714288,4.2857142857142856,4.4285714285714288,4.2857142857142856,4.4285714285714288,4.4285714285714288,4.2857142857142856,4.4285714285714288,4.2857142857142856,4.4285714285714288,4.4285714285714288,4,4.4285714285714288,4.2857142857142856,4.4285714285714288,4.2857142857142856,4.4285714285714288,4.4285714285714288,4.2857142857142856,4.4285714285714288,4.2857142857142856,4.4285714285714288,4.4285714285714288,4,4.4285714285714288,4.2857142857142856,4.4285714285714288,4.2857142857142856,4.4285714285714288,4.4285714285714288,4.2857142857142856,4.4285714285714288,4.2857142857142856,4.4285714285714288,4.4285714285714288,4,4.4285714285714288,4.2857142857142856,4.4285714285714288,4.2857142857142856,4.4285714285714288,4.4285714285714288,4.2857142857142856,4.4285714285714288,4.2857142857142856,null,null,"Average hours required per MONTH for this Project Band",null,null,null,null,null,null,null,{"$f":"(CU11-CT11)/7","v":4.4285714285714288},{"$f":"(CV11-CU11)/7","v":4.4285714285714288},{"$f":"(CW11-CV11)/7","v":4.2857142857142856},4.4285714285714288,4.2857142857142856,4.4285714285714288,4.4285714285714288,4,4.4285714285714288,4.2857142857142856,4.4285714285714288,4.2857142857142856,4.4285714285714288,4.4285714285714288,4.2857142857142856,4.4285714285714288,4.2857142857142856,4.4285714285714288,4.4285714285714288,4.1428571428571432,4.4285714285714288,4.2857142857142856,4.4285714285714288,4.2857142857142856,4.4285714285714288,4.4285714285714288,4.2857142857142856,4.4285714285714288,4.2857142857142856,4.4285714285714288,4.4285714285714288,4,4.4285714285714288,4.2857142857142856,4.4285714285714288,4.2857142857142856,4.4285714285714288,4.4285714285714288,4.2857142857142856,4.4285714285714288,4.2857142857142856,4.4285714285714288,4.4285714285714288,4,4.4285714285714288,4.2857142857142856,4.4285714285714288,4.2857142857142856,4.4285714285714288,4.4285714285714288,4.2857142857142856,4.4285714285714288,4.2857142857142856,4.4285714285714288,4.4285714285714288,4,4.4285714285714288,4.2857142857142856,4.4285714285714288,4.2857142857142856,4.4285714285714288,4.4285714285714288,4.2857142857142856,4.4285714285714288,4.2857142857142856]
[]
["PROJECT","PROGRAMME","AREA","PROJECT MANAGER","APPROVED/\nUNAPPROVED","Construction\nPrice Band","Budget","Gen2 Fee \nas a %age","Anticipated\nManhours","start",0,1,2,3,4,"Pre\nDuration\n(wks)",5,6,"Plan\nDecision","SOS","Ant Fin","Post\nDuration\n(wks)","2018-07-01","2018-08-01","2018-09-01","2018-10-01","2018-11-01","2018-12-01","2019-01-01","2019-02-01","2019-03-01","2019-04-01","2019-05-01","2019-06-01","2019-07-01","2019-08-01","2019-09-01","2019-10-01","2019-11-01","2019-12-01","2020-01-01","2020-02-01","2020-03-01","2020-04-01","2020-05-01","2020-06-01","2020-07-01","2020-08-01","2020-09-01","2020-10-01","2020-11-01","2020-12-01","2021-01-01","2021-02-01","2021-03-01","2021-04-01","2021-05-01","2021-06-01","2021-07-01","2021-08-01","2021-09-01","2021-10-01","2021-11-01","2021-12-01","2022-01-01","2022-02-01","2022-03-01","2022-04-01","2022-05-01","2022-06-01","2022-07-01","2022-08-01","2022-09-01","2022-10-01","2022-11-01","2022-12-01","2023-01-01","2023-02-01","2023-03-01","2023-04-01","2023-05-01","2023-06-01","2023-07-01","2023-08-01","2023-09-01","2023-10-01","2023-11-01","2023-12-01","SUB-FILTER","FILTER 1","Band",1,2,3,4,5,6,"2018-07-01","2018-08-01","2018-09-01","2018-10-01","2018-11-01","2018-12-01","2019-01-01","2019-02-01","2019-03-01","2019-04-01","2019-05-01","2019-06-01","2019-07-01","2019-08-01","2019-09-01","2019-10-01","2019-11-01","2019-12-01","2020-01-01","2020-02-01","2020-03-01","2020-04-01","2020-05-01","2020-06-01","2020-07-01","2020-08-01","2020-09-01","2020-10-01","2020-11-01","2020-12-01","2021-01-01","2021-02-01","2021-03-01","2021-04-01","2021-05-01","2021-06-01","2021-07-01","2021-08-01","2021-09-01","2021-10-01","2021-11-01","2021-12-01","2022-01-01","2022-02-01","2022-03-01","2022-04-01","2022-05-01","2022-06-01","2022-07-01","2022-08-01","2022-09-01","2022-10-01","2022-11-01","2022-12-01","2023-01-01","2023-02-01","2023-03-01","2023-04-01","2023-05-01","2023-06-01","2023-07-01","2023-08-01","2023-09-01","2023-10-01","2023-11-01","2023-12-01","END"]
["Dartford Girls Grammar",{"$f":"VLOOKUP($A12,MASTER_DATABASE,2,0)","v":"North"},{"$f":"VLOOKUP($A12,MASTER_DATABASE,4,0)","v":"3611-03-10"},{"$f":"VLOOKUP($A12,MASTER_DATABASE,5,0)","v":"3537-04-07"},{"$f":"VLOOKUP($A12,MASTER_DATABASE,6,0)","v":{"$error":"#REF!"}},{"$f":"VLOOKUP($A12,MASTER_DATABASE,54,0)","v":{"$error":"#REF!"}},600000,null,{"$f":"SUM(CT12:FG12)","v":212.85},null,"2018-03-01","2018-01-14","2018-03-03","2018-05-05","2018-09-04",{"$f":"((O12-L12)/7)+2","v":35.285714285714285},"2018-12-17",null,"PD","2018-09-04","2018-12-17",{"$f":"(U12-T12)/7","v":14.857142857142858},4,4,4,5,5,5,null,null,null,null,null,null,null,null,null,null,null,6,null,null,null,null,null,null,null,null,null,null,null,null,null,null,null,null,null,null,null,null,null,null,null,null,null,null,null,null,null,null,null,null,null,null,null,null,null,null,null,null,null,null,null,null,null,null,null,null,"Ongoing",{"$f":"B12&\", \"&E12&\", \"&CK12","v":{"$error":"#REF!"}},"less than £1m",{"$f":"VLOOKUP($CM12,AVEHRS_TABLE,2,0)*AVE_WKS_PER_MONTH","v":25.799999999999997},{"$f":"VLOOKUP($CM12,AVEHRS_TABLE,3,0)*AVE_WKS_PER_MONTH","v":12.899999999999999},{"$f":"VLOOKUP($CM12,AVEHRS_TABLE,4,0)*AVE_WKS_PER_MONTH","v":25.799999999999997},{"$f":"VLOOKUP($CM12,AVEHRS_TABLE,5,0)*AVE_WKS_PER_MONTH","v":38.699999999999996},{"$f":"VLOOKUP($CM12,AVEHRS_TABLE,6,0)*AVE_WKS_PER_MONTH","v":25.799999999999997},{"$f":"VLOOKUP($CM12,AVEHRS_TABLE,7,0)*AVE_WKS_PER_MONTH/2","v":19.349999999999998},{"$f":"IF(W12>0,CHOOSE(W12,$CN12,$CO12,$CP12,$CQ12,$CR12,$CS12),0)","v":38.699999999999996},38.699999999999996,38.699999999999996,25.799999999999997,25.799999999999997,25.799999999999997,0,0,0,0,0,0,0,0,0,0,{"$f":"IF(AM12>0,CHOOSE(AM12,$CN12,$CO12,$CP12,$CQ12,$CR12,$CS12),0)","v":0},19.349999999999998,0,0,0,0,0,0,0,0,0,0,0,0,0,0,{"$f":"IF(BC12>0,CHOOSE(BC12,$CN12,$CO12,$CP12,$CQ12,$CR12,$CS12),0)","v":0},0,0,0,0,0,0,0,0,0,0,0,0,0,0,0,{"$f":"IF(BS12>0,CHOOSE(BS12,$CN12,$CO12,$CP12,$CQ12,$CR12,$CS12),0)","v":0},0,0,0,0,0,0,0,0,0,0,0,0,0,0,0,{"$f":"IF(CI12>0,CHOOSE(CI12,$CN12,$CO12,$CP12,$CQ12,$CR12,$CS12),0)","v":0},0,"END"]
["St George's PS (Gravesham)","North",7100000,6571498.71,{"$error":"#REF!"},{"$error":"#REF!"},7100000,null,646.72000000000014,null,"2017-03-31","2017-06-01","2017-09-04","2017-12-18","2018-08-21",{"$f":"((O13-L13)/7)+2","v":65.714285714285722},"2019-05-31",null,"2017-12-07","2018-08-22","2019-05-31",{"$f":"(U13-T13)/7","v":40.285714285714285},4,4,5,5,5,5,5,5,5,5,5,null,null,null,null,null,null,null,null,null,null,null,6,null,null,null,null,null,null,null,null,null,null,null,null,null,null,null,null,null,null,null,null,null,null,null,null,null,null,null,null,null,null,null,null,null,null,null,null,null,null,null,null,null,null,null,"Ongoing",{"$f":"B13&\", \"&E13&\", \"&CK13","v":{"$error":"#REF!"}},"£4 to £8 million",25.799999999999997,25.799999999999997,51.599999999999994,73.099999999999994,51.599999999999994,{"$f":"VLOOKUP($CM13,AVEHRS_TABLE,7,0)*AVE_WKS_PER_MONTH*70%","v":36.11999999999999},73.099999999999994,73.099999999999994,51.599999999999994,51.599999999999994,51.599999999999994,51.599999999999994,51.599999999999994,51.599999999999994,51.599999999999994,51.599999999999994,51.599999999999994,0,0,0,0,0,0,0,0,0,0,0,36.11999999999999,0,0,0,0,0,0,0,0,0,0,0,0,0,0,0,0,0,0,0,0,0,0,0,0,0,0,0,0,0,0,0,0,0,0,0,0,0,0,0,0,0,0,0,"END"]
["St Johns Catholic PS, Phase 1",{"$error":"#N/A"},{"$error":"#N/A"},{"$error":"#N/A"},{"$error":"#N/A"},{"$error":"#N/A"},975050,null,45.149999999999991,null,"-","2015-10-16","-","2016-06-03","2017-01-09",66.428571428571431,"2018-07-10",null,"2017-06-12","2017-08-08","2018-07-04",47.142857142857146,5,null,null,null,null,null,null,null,null,null,null,null,6,null,null,null,null,null,null,null,null,null,null,null,null,null,null,null,null,null,null,null,null,null,null,null,null,null,null,null,null,null,null,null,null,null,null,null,null,null,null,null,null,null,null,null,null,null,null,null,null,null,null,null,null,null,"Ongoing",{"$error":"#N/A"},"less than £1m",25.799999999999997,12.899999999999999,25.799999999999997,38.699999999999996,25.799999999999997,{"$f":"VLOOKUP($CM14,AVEHRS_TABLE,7,0)*AVE_WKS_PER_MONTH/2","v":19.349999999999998},25.799999999999997,0,0,0,0,0,0,0,0,0,0,0,19.349999999999998,0,0,0,0,0,0,0,0,0,0,0,0,0,0,0,0,0,0,0,0,0,0,0,0,0,0,0,0,0,0,0,0,0,0,0,0,0,0,0,0,0,0,0,0,0,0,0,0,0,0,0,0,0,"END"]
["Portal House",{"$error":"#N/A"},{"$error":"#N/A"},{"$error":"#N/A"},{"$error":"#N/A"},{"$error":"#N/A"},10890000,null,197.79999999999998,null,"-","-","-","-","2016-05-31",null,"2018-08-31",null,"2016-02-12","2016-05-31","2018-08-31",117.42857142857143,5,5,null,null,null,null,null,null,null,null,null,null,null,6,null,null,null,null,null,null,null,null,null,null,null,null,null,null,null,null,null,null,null,null,null,null,null,null,null,null,null,null,null,null,null,null,null,null,null,null,null,null,null,null,null,null,null,null,null,null,null,null,null,null,null,null,"Ongoing",{"$error":"#N/A"},"over £8 million",25.799999999999997,38.699999999999996,51.599999999999994,60.199999999999996,73.099999999999994,{"$f":"VLOOKUP($CM15,AVEHRS_TABLE,7,0)*AVE_WKS_PER_MONTH","v":51.599999999999994},73.099999999999994,73.099999999999994,0,0,0,0,0,0,0,0,0,0,0,51.599999999999994,0,0,0,0,0,0,0,0,0,0,0,0,0,0,0,0,0,0,0,0,0,0,0,0,0,0,0,0,0,0,0,0,0,0,0,0,0,0,0,0,0,0,0,0,0,0,0,0,0,0,0,0,"END"]
["St Johns Catholic PS, Phase 2",{"$error":"#N/A"},{"$error":"#N/A"},{"$error":"#N/A"},{"$error":"#N/A"},{"$error":"#N/A"},3524950,null,148.35,null,"-","2015-10-16","-","2016-06-03","2018-03-01",125.85714285714286,"2018-11-12",null,"2017-06-12","2018-07-23","2018-11-12",16,5,5,5,5,5,null,null,null,null,null,null,null,null,null,null,null,6,null,null,null,null,null,null,null,null,null,null,null,null,null,null,null,null,null,null,null,null,null,null,null,null,null,null,null,null,null,null,null,null,null,null,null,null,null,null,null,null,null,null,null,null,null,null,null,null,null,"Ongoing",{"$error":"#N/A"},"£1 to £4 million",25.799999999999997,12.899999999999999,25.799999999999997,38.699999999999996,25.799999999999997,{"$f":"VLOOKUP($CM16,AVEHRS_TABLE,7,0)*AVE_WKS_PER_MONTH/2","v":19.349999999999998},25.799999999999997,25.799999999999997,25.799999999999997,25.799999999999997,25.799999999999997,0,0,0,0,0,0,0,0,0,0,0,19.349999999999998,0,0,0,0,0,0,0,0,0,0,0,0,0,0,0,0,0,0,0,0,0,0,0,0,0,0,0,0,0,0,0,0,0,0,0,0,0,0,0,0,0,0,0,0,0,0,0,0,0,"END"]
["St Johns Catholic PS, Phase 3",{"$error":"#N/A"},{"$error":"#N/A"},{"$error":"#N/A"},{"$error":"#N/A"},{"$error":"#N/A"},0,null,51.599999999999994,null,"-","2015-10-16","-","2016-06-03","2018-06-18",141.42857142857142,"2019-06-26",null,"2017-06-12","2018-07-23","2019-06-26",48.285714285714285,5,5,5,5,5,5,5,5,5,5,5,5,null,null,null,null,null,null,null,null,null,null,null,6,null,null,null,null,null,null,null,null,null,null,null,null,null,null,null,null,null,null,null,null,null,null,null,null,null,null,null,null,null,null,null,null,null,null,null,null,null,null,null,null,null,null,"Ongoing",{"$error":"#N/A"},"see earlier phase",0,0,0,0,0,{"$f":"VLOOKUP($CM17,AVEHRS_TABLE,7,0)*AVE_WKS_PER_MONTH","v":51.599999999999994},0,0,0,0,0,0,0,0,0,0,0,0,0,0,0,0,0,0,0,0,0,0,0,51.599999999999994,0,0,0,0,0,0,0,0,0,0,0,0,0,0,0,0,0,0,0,0,0,0,0,0,0,0,0,0,0,0,0,0,0,0,0,0,0,0,0,0,0,0,"END"]
["Wilmington Academy, Phase 1",{"$error":"#N/A"},{"$error":"#N/A"},{"$error":"#N/A"},{"$error":"#N/A"},{"$error":"#N/A"},7200000,null,"phased project",null,"2015-09-22","2015-09-22","2015-09-22","Phase 1-3 ","2016-07-01",42.428571428571431,"2016-08-31",null,"00:00:00","00:00:00","00:00:00","n/a",5,5,null,null,null,null,null,null,null,null,null,null,null,null,null,null,null,null,null,null,null,null,null,null,null,null,null,null,null,null,null,null,null,null,null,null,null,null,null,null,null,null,null,null,null,null,null,null,null,null,null,null,null,null,null,null,null,null,null,null,null,null,null,null,null,null,"Ongoing",{"$error":"#N/A"},"see earlier phase",0,0,0,0,0,{"$f":"VLOOKUP($CM18,AVEHRS_TABLE,7,0)*AVE_WKS_PER_MONTH","v":51.599999999999994},0,0,0,0,0,0,0,0,0,0,0,0,0,0,0,0,0,0,0,0,0,0,0,0,0,0,0,0,0,0,0,0,0,0,0,0,0,0,0,0,0,0,0,0,0,0,0,0,0,0,0,0,0,0,0,0,0,0,0,0,0,0,0,0,0,0,"END"]
["Wilmington Academy, Phase 2",{"$error":"#N/A"},{"$error":"#N/A"},{"$error":"#N/A"},{"$error":"#N/A"},{"$error":"#N/A"},0,null,"phased project",null,"2015-09-22","2015-09-22","2015-09-22","Phase 1-3 ","2017-07-01",94.571428571428569,"2017-07-03",null,"00:00:00","2017-07-25","2017-08-31",5.2857142857142856,5,5,null,null,null,null,null,null,null,null,null,null,null,null,null,null,null,null,null,null,null,null,null,null,null,null,null,null,null,null,null,null,null,null,null,null,null,null,null,null,null,null,null,null,null,null,null,null,null,null,null,null,null,null,null,null,null,null,null,null,null,null,null,null,null,null,"Ongoing",{"$error":"#N/A"},"see earlier phase",0,0,0,0,0,{"$f":"VLOOKUP($CM19,AVEHRS_TABLE,7,0)*AVE_WKS_PER_MONTH","v":51.599999999999994},0,0,0,0,0,0,0,0,0,0,0,0,0,0,0,0,0,0,0,0,0,0,0,0,0,0,0,0,0,0,0,0,0,0,0,0,0,0,0,0,0,0,0,0,0,0,0,0,0,0,0,0,0,0,0,0,0,0,0,0,0,0,0,0,0,0,"END"]
["Wilmington Academy, Phase 3",{"$error":"#N/A"},{"$error":"#N/A"},{"$error":"#N/A"},{"$error":"#N/A"},{"$error":"#N/A"},0,null,"phased project",null,"2015-09-22","2015-09-22","2015-09-22","Phase 1-3 ","2018-07-27",150.42857142857142,"2018-08-31",null,"N/A","2018-07-27","2018-08-31",5,5,5,null,null,null,null,null,null,null,null,null,null,null,null,null,null,null,null,null,null,null,null,null,null,null,null,null,null,null,null,null,null,null,null,null,null,null,null,null,null,null,null,null,null,null,null,null,null,null,null,null,null,null,null,null,null,null,null,null,null,null,null,null,null,null,null,"Ongoing",{"$error":"#N/A"},"see earlier phase",0,0,0,0,0,{"$f":"VLOOKUP($CM20,AVEHRS_TABLE,7,0)*AVE_WKS_PER_MONTH","v":51.599999999999994},0,0,0,0,0,0,0,0,0,0,0,0,0,0,0,0,0,0,0,0,0,0,0,0,0,0,0,0,0,0,0,0,0,0,0,0,0,0,0,0,0,0,0,0,0,0,0,0,0,0,0,0,0,0,0,0,0,0,0,0,0,0,0,0,0,0,"END"]
["Wilmington Academy, Phase 4",{"$error":"#N/A"},{"$error":"#N/A"},{"$error":"#N/A"},{"$error":"#N/A"},{"$error":"#N/A"},7200000,null,{"$f":"SUM(CT21:FG21)","v":1050.9200000000003},null,"2015-09-22","2015-09-22","2015-09-22","2018-05-20","2018-10-20",162.57142857142858,"2020-02-14",null,"2018-07-11","2018-10-20","2019-12-31",62.428571428571431,4,4,4,4,5,5,5,5,5,5,5,5,5,5,5,5,5,5,null,null,null,null,null,null,null,null,null,null,null,6,null,null,null,null,null,null,null,null,null,null,null,null,null,null,null,null,null,null,null,null,null,null,null,null,null,null,null,null,null,null,null,null,null,null,null,null,"Ongoing",{"$error":"#N/A"},"£4 to £8 million",25.799999999999997,25.799999999999997,51.599999999999994,73.099999999999994,51.599999999999994,{"$f":"VLOOKUP($CM21,AVEHRS_TABLE,7,0)*AVE_WKS_PER_MONTH*70%","v":36.11999999999999},73.099999999999994,73.099999999999994,73.099999999999994,73.099999999999994,51.599999999999994,51.599999999999994,51.599999999999994,51.599999999999994,51.599999999999994,51.599999999999994,51.599999999999994,51.599999999999994,51.599999999999994,51.599999999999994,51.599999999999994,51.599999999999994,51.599999999999994,51.599999999999994,0,0,0,0,0,0,0,0,0,0,0,36.11999999999999,0,0,0,0,0,0,0,0,0,0,0,0,0,0,0,0,0,0,0,0,0,0,0,0,0,0,0,0,0,0,0,0,0,0,0,0,"END"]
["Wilmington Academy, Phase 5",{"$error":"#N/A"},{"$error":"#N/A"},{"$error":"#N/A"},{"$error":"#N/A"},{"$error":"#N/A"},0,null,"phased project",null,"2015-09-22","2015-09-22","2015-09-22","00:00:00","2018-05-30",142.14285714285714,"2018-08-31",null,"2018-07-11","2018-08-20","2018-08-31",1.5714285714285714,null,5,null,null,null,null,null,null,null,null,null,null,null,null,null,null,null,null,null,null,null,null,null,null,null,null,null,null,null,null,null,null,null,null,null,null,null,null,null,null,null,null,null,null,null,null,null,null,null,null,null,null,null,null,null,null,null,null,null,null,null,null,null,null,null,null,"Ongoing",{"$error":"#N/A"},"see earlier phase",0,0,0,0,0,{"$f":"VLOOKUP($CM22,AVEHRS_TABLE,7,0)*AVE_WKS_PER_MONTH","v":51.599999999999994},0,0,0,0,0,0,0,0,0,0,0,0,0,0,0,0,0,0,0,0,0,0,0,0,0,0,0,0,0,0,0,0,0,0,0,0,0,0,0,0,0,0,0,0,0,0,0,0,0,0,0,0,0,0,0,0,0,0,0,0,0,0,0,0,0,0,"END"]
["Wilmington Academy, Phase 6",{"$error":"#N/A"},{"$error":"#N/A"},{"$error":"#N/A"},{"$error":"#N/A"},{"$error":"#N/A"},0,null,{"$f":"SUM(CT23:FG23)","v":51.599999999999994},null,"2015-09-22","2015-09-22","2019-02-25","2019-03-17","2019-05-29",194.14285714285714,"2019-08-31",null,"N/A","2019-07-23","2019-08-31",5.5714285714285712,null,null,null,null,null,null,null,2,3,4,4,5,5,5,null,null,null,null,null,null,null,null,null,null,null,6,null,null,null,null,null,null,null,null,null,null,null,null,null,null,null,null,null,null,null,null,null,null,null,null,null,null,null,null,null,null,null,null,null,null,null,null,null,null,null,null,"Ongoing",{"$error":"#N/A"},"see earlier phase",0,0,0,0,0,{"$f":"VLOOKUP($CM23,AVEHRS_TABLE,7,0)*AVE_WKS_PER_MONTH","v":51.599999999999994},0,0,0,0,0,0,0,0,0,0,0,0,0,0,0,0,0,0,0,0,0,0,0,0,0,51.599999999999994,0,0,0,0,0,0,0,0,0,0,0,0,0,0,0,0,0,0,0,0,0,0,0,0,0,0,0,0,0,0,0,0,0,0,0,0,0,0,0,0,"END"]
["Wilmington Grammar, Phase 1",{"$error":"#N/A"},{"$error":"#N/A"},{"$error":"#N/A"},{"$error":"#N/A"},{"$error":"#N/A"},3900000,null,"phased project",null,"00:00:00","00:00:00","00:00:00","00:00:00","00:00:00",2,"00:00:00",null,"00:00:00","00:00:00","00:00:00","n/a",null,null,null,null,null,null,null,null,null,null,null,null,null,null,null,null,null,null,null,null,null,null,null,null,null,null,null,null,null,null,null,null,null,null,null,null,null,null,null,null,null,null,null,null,null,null,null,null,null,null,null,null,null,null,null,null,null,null,null,null,null,null,null,null,null,null,"Ongoing",{"$error":"#N/A"},"see earlier phase",0,0,0,0,0,{"$f":"VLOOKUP($CM24,AVEHRS_TABLE,7,0)*AVE_WKS_PER_MONTH","v":51.599999999999994},0,0,0,0,0,0,0,0,0,0,0,0,0,0,0,0,0,0,0,0,0,0,0,0,0,0,0,0,0,0,0,0,0,0,0,0,0,0,0,0,0,0,0,0,0,0,0,0,0,0,0,0,0,0,0,0,0,0,0,0,0,0,0,0,0,0,"END"]
["Wilmington Grammar, Phase 2",{"$error":"#N/A"},{"$error":"#N/A"},{"$error":"#N/A"},{"$error":"#N/A"},{"$error":"#N/A"},0,null,"phased project",null,"2015-09-22","2015-09-22","2015-09-22","2018-05-15","00:00:00",-6036.4285714285716,"2017-08-31",null,"00:00:00","00:00:00","00:00:00","n/a",null,null,null,null,null,null,null,null,null,null,null,null,null,null,null,null,null,null,null,null,null,null,null,null,null,null,null,null,null,null,null,null,null,null,null,null,null,null,null,null,null,null,null,null,null,null,null,null,null,null,null,null,null,null,null,null,null,null,null,null,null,null,null,null,null,null,"Ongoing",{"$error":"#N/A"},"see earlier phase",0,0,0,0,0,{"$f":"VLOOKUP($CM25,AVEHRS_TABLE,7,0)*AVE_WKS_PER_MONTH","v":51.599999999999994},0,0,0,0,0,0,0,0,0,0,0,0,0,0,0,0,0,0,0,0,0,0,0,0,0,0,0,0,0,0,0,0,0,0,0,0,0,0,0,0,0,0,0,0,0,0,0,0,0,0,0,0,0,0,0,0,0,0,0,0,0,0,0,0,0,0,"END"]
["Wilmington Grammar, Phase 3",{"$error":"#N/A"},{"$error":"#N/A"},{"$error":"#N/A"},{"$error":"#N/A"},{"$error":"#N/A"},3900000,null,{"$f":"SUM(CT26:FG26)","v":535.35000000000014},null,"2015-09-22","2015-09-22","2015-09-22","2018-05-20","2018-10-20",162.57142857142858,"2020-02-14",null,"2018-07-11","2018-10-20","2019-12-31",62.428571428571431,4,4,4,4,5,5,5,5,5,5,5,5,5,5,5,5,5,5,null,null,null,null,null,null,null,null,null,null,null,6,null,null,null,null,null,null,null,null,null,null,null,null,null,null,null,null,null,null,null,null,null,null,null,null,null,null,null,null,null,null,null,null,null,null,null,null,"Ongoing",{"$error":"#N/A"},"£1 to £4 million",25.799999999999997,12.899999999999999,25.799999999999997,38.699999999999996,25.799999999999997,{"$f":"VLOOKUP($CM26,AVEHRS_TABLE,7,0)*AVE_WKS_PER_MONTH/2","v":19.349999999999998},38.699999999999996,38.699999999999996,38.699999999999996,38.699999999999996,25.799999999999997,25.799999999999997,25.799999999999997,25.799999999999997,25.799999999999997,25.799999999999997,25.799999999999997,25.799999999999997,25.799999999999997,25.799999999999997,25.799999999999997,25.799999999999997,25.799999999999997,25.799999999999997,0,0,0,0,0,0,0,0,0,0,0,19.349999999999998,0,0,0,0,0,0,0,0,0,0,0,0,0,0,0,0,0,0,0,0,0,0,0,0,0,0,0,0,0,0,0,0,0,0,0,0,"END"]
["Wilmington Grammar, Phase 4",{"$error":"#N/A"},{"$error":"#N/A"},{"$error":"#N/A"},{"$error":"#N/A"},{"$error":"#N/A"},0,null,{"$f":"SUM(CT27:FG27)","v":51.599999999999994},null,"2015-09-22","2015-09-22","2015-09-22","2018-05-20","2018-10-20",162.57142857142858,"2020-02-14",null,"2018-07-11","2018-10-20","2019-12-31",62.428571428571431,4,4,4,4,5,5,5,5,5,5,5,5,5,5,5,5,5,5,null,null,null,null,null,null,null,null,null,null,null,6,null,null,null,null,null,null,null,null,null,null,null,null,null,null,null,null,null,null,null,null,null,null,null,null,null,null,null,null,null,null,null,null,null,null,null,null,"Ongoing",{"$error":"#N/A"},"see earlier phase",0,0,0,0,0,{"$f":"VLOOKUP($CM27,AVEHRS_TABLE,7,0)*AVE_WKS_PER_MONTH","v":51.599999999999994},0,0,0,0,0,0,0,0,0,0,0,0,0,0,0,{"$f":"IF(AL27>0,CHOOSE(AL27,$CN27,$CO27,$CP27,$CQ27,$CR27,$CS27),0)","v":0},0,0,0,0,0,0,0,0,0,0,0,0,0,51.599999999999994,0,{"$f":"IF(BB27>0,CHOOSE(BB27,$CN27,$CO27,$CP27,$CQ27,$CR27,$CS27),0)","v":0},0,0,0,0,0,0,0,0,0,0,0,0,0,0,0,{"$f":"IF(BR27>0,CHOOSE(BR27,$CN27,$CO27,$CP27,$CQ27,$CR27,$CS27),0)","v":0},0,0,0,0,0,0,0,0,0,0,0,0,0,0,0,0,0,0,"END"]
["Mayfield Grammar, Phase 1",{"$error":"#N/A"},{"$error":"#N/A"},{"$error":"#N/A"},{"$error":"#N/A"},{"$error":"#N/A"},8900000,null,"phased project",null,"00:00:00","00:00:00","00:00:00","00:00:00","00:00:00",2,"00:00:00",null,"00:00:00","00:00:00","00:00:00","n/a",null,null,null,null,null,null,null,null,null,null,null,null,null,null,null,null,null,null,null,null,null,null,null,null,null,null,null,null,null,null,null,null,null,null,null,null,null,null,null,null,null,null,null,null,null,null,null,null,null,null,null,null,null,null,null,null,null,null,null,null,null,null,null,null,null,null,"Ongoing",{"$error":"#N/A"},"see earlier phase",0,0,0,0,0,51.599999999999994,{"$f":"IF(W28>0,CHOOSE(W28,$CN28,$CO28,$CP28,$CQ28,$CR28,$CS28),0)","v":0},0,0,0,0,0,0,0,0,0,0,0,0,0,0,0,0,0,0,0,0,0,0,0,0,0,0,0,0,0,0,0,0,0,0,0,0,0,0,0,0,0,0,0,0,0,0,0,0,0,0,0,0,0,0,0,0,0,0,0,0,0,0,{"$f":"IF(CH28>0,CHOOSE(CH28,$CN28,$CO28,$CP28,$CQ28,$CR28,$CS28),0)","v":0},0,0,"END"]
["Mayfield Grammar, Phase 2",{"$error":"#N/A"},{"$error":"#N/A"},{"$error":"#N/A"},{"$error":"#N/A"},{"$error":"#N/A"},"see Phase 1",null,"phased project",null,"2015-09-22","2015-09-22","2015-09-22","2018-01-08","2018-05-30",142.14285714285714,"2018-12-31",null,"2018-05-16","2018-07-03","2018-12-31",25.857142857142858,null,null,null,null,null,null,null,null,null,null,null,null,null,null,null,null,null,null,null,null,null,null,null,null,null,null,null,null,null,null,null,null,null,null,null,null,null,null,null,null,null,null,null,null,null,null,null,null,null,null,null,null,null,null,null,null,null,null,null,null,null,null,null,null,null,null,"Ongoing",{"$error":"#N/A"},"see earlier phase",0,0,0,0,0,51.599999999999994,0,0,0,0,0,0,0,0,0,0,0,0,0,0,0,0,0,0,0,0,0,0,0,0,0,0,0,0,0,0,0,0,0,0,0,0,0,0,0,0,0,0,0,0,0,0,0,0,0,0,0,0,0,0,0,0,0,0,0,0,0,0,0,0,0,0,"END"]
["Mayfield Grammar, Phase 3",{"$error":"#N/A"},{"$error":"#N/A"},{"$error":"#N/A"},{"$error":"#N/A"},{"$error":"#N/A"},"see Phase 1",null,"phased project",null,"2015-09-22","2015-09-22","2015-09-22","2018-05-15","TBC",{"$error":"#VALUE!"},"TBC",null,"PD","TBC","TBC","n/a",null,null,null,null,null,null,null,null,null,null,null,null,null,null,null,null,null,null,null,null,null,null,null,null,null,null,null,null,null,null,null,null,null,null,null,null,null,null,null,null,null,null,null,null,null,null,null,null,null,null,null,null,null,null,null,null,null,null,null,null,null,null,null,null,null,null,"Ongoing",{"$error":"#N/A"},"see earlier phase",0,0,0,0,0,51.599999999999994,0,0,0,0,0,0,0,0,0,0,0,0,0,0,0,0,0,0,0,0,0,0,0,0,0,0,0,0,0,0,0,0,0,0,0,0,0,0,0,0,0,0,0,0,0,0,0,0,0,0,0,0,0,0,0,0,0,0,0,0,0,0,0,0,0,0,"END"]
["Mayfield Grammar, Phase 4",{"$error":"#N/A"},{"$error":"#N/A"},{"$error":"#N/A"},{"$error":"#N/A"},{"$error":"#N/A"},{"$f":"G28","v":8900000},null,{"$f":"SUM(CT31:FG31)","v":898.70000000000016},null,"2015-09-22","2015-09-22","2015-09-22","2018-09-17","2018-12-20",171.28571428571428,"2019-07-31",null,"TBC","2019-01-06","2019-07-31",29.428571428571427,3,3,3,4,4,4,5,5,5,5,5,5,5,null,null,null,null,null,null,null,null,null,null,null,6,null,null,null,null,null,null,null,null,null,null,null,null,null,null,null,null,null,null,null,null,null,null,null,null,null,null,null,null,null,null,null,null,null,null,null,null,null,null,null,null,null,"Ongoing",{"$error":"#N/A"},"over £8 million",25.799999999999997,38.699999999999996,51.599999999999994,60.199999999999996,73.099999999999994,51.599999999999994,51.599999999999994,51.599999999999994,51.599999999999994,60.199999999999996,60.199999999999996,60.199999999999996,73.099999999999994,73.099999999999994,73.099999999999994,73.099999999999994,73.099999999999994,73.099999999999994,73.099999999999994,0,0,0,0,0,0,0,0,0,0,0,51.599999999999994,0,0,0,0,0,0,0,0,0,0,0,0,0,0,0,0,0,0,0,0,0,0,0,0,0,0,0,0,0,0,0,0,0,0,0,0,0,0,0,0,0,"END"]
["Mayfield Grammar, Phase 5",{"$error":"#N/A"},{"$error":"#N/A"},{"$error":"#N/A"},{"$error":"#N/A"},{"$error":"#N/A"},"see Phase 1",null,"phased project",null,"2015-09-22","2015-09-22","2015-09-22","TBC","TBC",{"$error":"#VALUE!"},"TBC",null,"TBC","TBC","TBC","n/a",null,null,null,null,null,null,null,null,null,null,null,null,null,null,null,null,null,null,null,null,null,null,null,null,null,null,null,null,null,null,null,null,null,null,null,null,null,null,null,null,null,null,null,null,null,null,null,null,null,null,null,null,null,null,null,null,null,null,null,null,null,null,null,null,null,null,"Ongoing",{"$error":"#N/A"},"see earlier phase",0,0,0,0,0,51.599999999999994,0,0,0,0,0,0,0,0,0,0,0,0,0,0,0,0,0,0,0,0,0,0,0,0,0,0,0,0,0,0,0,0,0,0,0,0,0,0,0,0,0,0,0,0,0,0,0,0,0,0,0,0,0,0,0,0,0,0,0,0,0,0,0,0,0,0,"END"]
["Mayfield Grammar, Phase 6",{"$error":"#N/A"},{"$error":"#N/A"},{"$error":"#N/A"},{"$error":"#N/A"},{"$error":"#N/A"},"see Phase 1",null,"phased project",null,"2015-09-22","2015-09-22","2015-09-22","TBC","TBC",{"$error":"#VALUE!"},"TBC",null,"TBC","TBC","TBC","n/a",null,null,null,null,null,null,null,null,null,null,null,null,null,null,null,null,null,null,null,null,null,null,null,null,null,null,null,null,null,null,null,null,null,null,null,null,null,null,null,null,null,null,null,null,null,null,null,null,null,null,null,null,null,null,null,null,null,null,null,null,null,null,null,null,null,null,"Ongoing",{"$error":"#N/A"},"see earlier phase",0,0,0,0,0,51.599999999999994,0,0,0,0,0,0,0,0,0,0,0,0,0,0,0,0,0,0,0,0,0,0,0,0,0,0,0,0,0,0,0,0,0,0,0,0,0,0,0,0,0,0,0,0,0,0,0,0,0,0,0,0,0,0,0,0,0,0,0,0,0,0,0,0,0,0,"END"]
["Brent PS","North",4600000,4323325.6900000004,{"$error":"#REF!"},{"$error":"#REF!"},{"$f":"VLOOKUP($A34,BASE_DATA,34,0)","v":{"$error":"#NAME?"}},null,{"$f":"SUM(CT34:FG34)","v":36.11999999999999},null,"2016-03-01","2016-03-31","2016-09-26","2017-01-20","2017-05-25",62,"2018-06-27",null,"16/03/2017 & 03/11/2017","2017-03-20","2018-06-27",66.285714285714292,null,null,null,null,null,null,null,null,null,null,null,6,null,null,null,null,null,null,null,null,null,null,null,null,null,null,null,null,null,null,null,null,null,null,null,null,null,null,null,null,null,null,null,null,null,null,null,null,null,null,null,null,null,null,null,null,null,null,null,null,null,null,null,null,null,null,"Ongoing",{"$error":"#REF!"},"£4 to £8 million",25.799999999999997,25.799999999999997,51.599999999999994,73.099999999999994,51.599999999999994,{"$f":"VLOOKUP($CM34,AVEHRS_TABLE,7,0)*AVE_WKS_PER_MONTH*70%","v":36.11999999999999},0,0,0,0,0,0,0,0,0,0,0,36.11999999999999,0,0,0,0,0,0,0,0,0,0,0,0,0,0,0,0,0,0,0,0,0,0,0,0,0,0,0,0,0,0,0,0,0,0,0,0,0,0,0,0,0,0,0,0,0,0,0,0,0,0,0,0,0,0,"END"]
["Edenbridge PS",{"$error":"#N/A"},{"$error":"#N/A"},{"$error":"#N/A"},{"$error":"#N/A"},{"$error":"#N/A"},{"$error":"#NAME?"},null,19.349999999999998,null,"2015-11-16","2016-02-29","2016-09-26","2016-11-28","2017-03-20",57,"2018-07-01",null,"2017-03-14","2017-10-14","2018-02-19",18.285714285714285,null,null,null,null,null,null,null,6,null,null,null,null,null,null,null,null,null,null,null,null,null,null,null,null,null,null,null,null,null,null,null,null,null,null,null,null,null,null,null,null,null,null,null,null,null,null,null,null,null,null,null,null,null,null,null,null,null,null,null,null,null,null,null,null,null,null,"Ongoing",{"$error":"#N/A"},"less than £1m",25.799999999999997,12.899999999999999,25.799999999999997,38.699999999999996,25.799999999999997,{"$f":"VLOOKUP($CM35,AVEHRS_TABLE,7,0)*AVE_WKS_PER_MONTH/2","v":19.349999999999998},0,0,0,0,0,0,0,19.349999999999998,0,0,0,0,0,0,0,0,0,0,0,0,0,0,0,0,0,0,0,0,0,0,0,0,0,0,0,0,0,0,0,0,0,0,0,0,0,0,0,0,0,0,0,0,0,0,0,0,0,0,0,0,0,0,0,0,0,0,"END"]
["Seal CoE PS","North",2980000,4700000,{"$error":"#REF!"},{"$error":"#REF!"},{"$error":"#NAME?"},null,483.75000000000017,null,"2015-05-22","2015-08-03","2016-03-07","2017-12-01","2017-08-20",108.85714285714286,"2019-08-01",null,"First Planning Refusal Decision 06/12/2016\n\nSecond Planning  Decision Due July 2018","2018-11-01","2019-12-01",56.428571428571431,null,3,4,4,5,5,5,5,5,5,5,5,5,5,5,5,5,5,null,null,null,null,null,null,null,null,null,null,null,6,null,null,null,null,null,null,null,null,null,null,null,null,null,null,null,null,null,null,null,null,null,null,null,null,null,null,null,null,null,null,null,null,null,null,null,null,"Ongoing",{"$error":"#REF!"},"£1 to £4 million",25.799999999999997,12.899999999999999,25.799999999999997,38.699999999999996,25.799999999999997,{"$f":"VLOOKUP($CM36,AVEHRS_TABLE,7,0)*AVE_WKS_PER_MONTH/2","v":19.349999999999998},0,25.799999999999997,38.699999999999996,38.699999999999996,25.799999999999997,25.799999999999997,25.799999999999997,25.799999999999997,25.799999999999997,25.799999999999997,25.799999999999997,25.799999999999997,25.799999999999997,25.799999999999997,25.799999999999997,25.799999999999997,25.799999999999997,25.799999999999997,0,0,0,0,0,0,0,0,0,0,0,19.349999999999998,0,0,0,0,0,0,0,0,0,0,0,0,0,0,0,0,0,0,0,0,0,0,0,0,0,0,0,0,0,0,0,0,0,0,0,0,"END"]
["Temple Hill PS",{"$error":"#N/A"},{"$error":"#N/A"},{"$error":"#N/A"},{"$error":"#N/A"},{"$error":"#N/A"},{"$error":"#NAME?"},null,51.599999999999994,null,"2016-04-04","2016-05-03","2016-09-05","2016-12-05","2017-07-06",63.285714285714285,"2019-08-20",null,"2017-01-06",{"$f":"VLOOKUP($A37,BASE_DATA,24,0)","v":{"$error":"#NAME?"}},{"$f":"VLOOKUP($A37,BASE_DATA,26,0)","v":{"$error":"#NAME?"}},{"$error":"#NAME?"},5,5,null,null,null,null,null,null,null,null,null,null,null,null,null,null,null,null,null,null,null,null,null,null,null,null,null,null,null,null,null,null,null,null,null,null,null,null,null,null,null,null,null,null,null,null,null,null,null,null,null,null,null,null,null,null,null,null,null,null,null,null,null,null,null,null,"Ongoing",{"$error":"#N/A"},"£1 to £4 million",25.799999999999997,12.899999999999999,25.799999999999997,38.699999999999996,25.799999999999997,{"$f":"VLOOKUP($CM37,AVEHRS_TABLE,7,0)*AVE_WKS_PER_MONTH/2","v":19.349999999999998},25.799999999999997,25.799999999999997,0,0,0,0,0,0,0,0,0,0,0,0,0,0,0,0,0,0,0,0,0,0,0,0,0,0,0,0,0,0,0,0,0,0,0,0,0,0,0,0,0,0,0,0,0,0,0,0,0,0,0,0,0,0,0,0,0,0,0,0,0,0,0,0,"END"]
["Northfleet School for Girls","North",4000000,3991812.38,{"$error":"#REF!"},{"$error":"#REF!"},{"$error":"#NAME?"},null,432.15000000000003,null,"2018-05-01","2018-05-30","2018-07-27","2018-09-15","2019-01-08",33.857142857142861,"2019-08-15",null,"2018-12-14",{"$error":"#NAME?"},{"$error":"#NAME?"},{"$error":"#NAME?"},3,3,3,4,4,4,4,5,5,5,5,5,5,5,null,null,null,null,null,null,null,null,null,null,null,6,null,null,null,null,null,null,null,null,null,null,null,null,null,null,null,null,null,null,null,null,null,null,null,null,null,null,null,null,null,null,null,null,null,null,null,null,null,null,null,null,"Ongoing",{"$error":"#REF!"},"£1 to £4 million",25.799999999999997,12.899999999999999,25.799999999999997,38.699999999999996,25.799999999999997,{"$f":"VLOOKUP($CM38,AVEHRS_TABLE,7,0)*AVE_WKS_PER_MONTH/2","v":19.349999999999998},25.799999999999997,25.799999999999997,25.799999999999997,38.699999999999996,38.699999999999996,38.699999999999996,38.699999999999996,25.799999999999997,25.799999999999997,25.799999999999997,25.799999999999997,25.799999999999997,25.799999999999997,25.799999999999997,0,0,0,0,0,0,0,0,0,0,0,19.349999999999998,0,0,0,0,0,0,0,0,0,0,0,0,0,0,0,0,0,0,0,0,0,0,0,0,0,0,0,0,0,0,0,0,0,0,0,0,0,0,0,0,"END"]
["Craylands School, Phase 3",{"$error":"#N/A"},{"$error":"#N/A"},{"$error":"#N/A"},{"$error":"#N/A"},{"$error":"#N/A"},{"$error":"#NAME?"},null,51.599999999999994,null,"00:00:00","00:00:00","00:00:00","00:00:00","2017-08-02",6137.5714285714284,"2018-05-15",null,"2017-02-21",{"$error":"#NAME?"},{"$error":"#NAME?"},{"$error":"#NAME?"},null,null,null,null,null,null,null,null,null,6,null,null,null,null,null,null,null,null,null,null,null,null,null,null,null,null,null,null,null,null,null,null,null,null,null,null,null,null,null,null,null,null,null,null,null,null,null,null,null,null,null,null,null,null,null,null,null,null,null,null,null,null,null,null,null,null,"Ongoing",{"$error":"#N/A"},"see earlier phase",0,0,0,0,0,{"$f":"VLOOKUP($CM39,AVEHRS_TABLE,7,0)*AVE_WKS_PER_MONTH","v":51.599999999999994},0,0,0,0,0,0,0,0,0,51.599999999999994,0,0,0,0,0,0,0,0,0,0,0,0,0,0,0,0,0,0,0,0,0,0,0,0,0,0,0,0,0,0,0,0,0,0,0,0,0,0,0,0,0,0,0,0,0,0,0,0,0,0,0,0,0,0,0,0,"END"]
["Craylands School, Phase 5",{"$error":"#N/A"},{"$error":"#N/A"},{"$error":"#N/A"},{"$error":"#N/A"},{"$error":"#N/A"},{"$f":"G39","v":{"$error":"#NAME?"}},null,96.749999999999986,null,"00:00:00","00:00:00","00:00:00","00:00:00","2017-08-02",6137.5714285714284,"2018-09-28",null,"2017-02-21",{"$error":"#NAME?"},{"$error":"#NAME?"},{"$error":"#NAME?"},5,5,5,null,null,null,null,null,null,null,null,null,null,null,6,null,null,null,null,null,null,null,null,null,null,null,null,null,null,null,null,null,null,null,null,null,null,null,null,null,null,null,null,null,null,null,null,null,null,null,null,null,null,null,null,null,null,null,null,null,null,null,null,null,null,null,"Ongoing",{"$error":"#N/A"},"£1 to £4 million",25.799999999999997,12.899999999999999,25.799999999999997,38.699999999999996,25.799999999999997,{"$f":"VLOOKUP($CM40,AVEHRS_TABLE,7,0)*AVE_WKS_PER_MONTH/2","v":19.349999999999998},25.799999999999997,25.799999999999997,25.799999999999997,0,0,0,0,0,0,0,0,0,0,0,19.349999999999998,0,0,0,0,0,0,0,0,0,0,0,0,0,0,0,0,0,0,0,0,0,0,0,0,0,0,0,0,0,0,0,0,0,0,0,0,0,0,0,0,0,0,0,0,0,0,0,0,0,0,0,"END"]
["Craylands School, Phsae 6",{"$error":"#N/A"},{"$error":"#N/A"},{"$error":"#N/A"},{"$error":"#N/A"},{"$error":"#N/A"},{"$error":"#NAME?"},null,"phased project",null,"-","-","-","00:00:00","Subject to lenders approval",{"$error":"#VALUE!"},"Subject to lenders approval",null,"2017-02-21",null,null,"n/a",null,null,null,null,null,null,null,null,null,null,null,null,null,null,null,null,null,null,null,null,null,null,null,null,null,null,null,null,null,null,null,null,null,null,null,null,null,null,null,null,null,null,null,null,null,null,null,null,null,null,null,null,null,null,null,null,null,null,null,null,null,null,null,null,null,null,"Ongoing",{"$error":"#N/A"},"see earlier phase",0,0,0,0,0,{"$f":"VLOOKUP($CM41,AVEHRS_TABLE,7,0)*AVE_WKS_PER_MONTH","v":51.599999999999994},0,0,0,0,0,0,0,0,0,0,0,0,0,0,0,0,0,0,0,0,0,0,0,0,0,0,0,0,0,0,0,0,0,0,0,0,0,0,0,0,0,0,0,0,0,0,0,0,0,0,0,0,0,0,0,0,0,0,0,0,0,0,0,0,0,0,"END"]
["Trinity Free School, Phase 1",{"$error":"#N/A"},{"$error":"#N/A"},{"$error":"#N/A"},{"$error":"#N/A"},{"$error":"#N/A"},{"$error":"#NAME?"},null,"phased project",null,"00:00:00","00:00:00","00:00:00","00:00:00","00:00:00",2,"00:00:00",null,"00:00:00",{"$error":"#NAME?"},{"$error":"#NAME?"},"n/a",null,null,null,null,null,null,null,null,null,null,null,null,null,null,null,null,null,null,null,null,null,null,null,null,null,null,null,null,null,null,null,null,null,null,null,null,null,null,null,null,null,null,null,null,null,null,null,null,null,null,null,null,null,null,null,null,null,null,null,null,null,null,null,null,null,null,"Ongoing",{"$error":"#N/A"},"see earlier phase",0,0,0,0,0,{"$f":"VLOOKUP($CM42,AVEHRS_TABLE,7,0)*AVE_WKS_PER_MONTH","v":51.599999999999994},0,0,0,0,0,0,0,0,0,0,0,0,0,0,0,0,0,0,0,0,0,0,0,0,0,0,0,0,0,0,0,0,0,0,0,0,0,0,0,0,0,0,0,0,0,0,0,0,0,0,0,0,0,0,0,0,0,0,0,0,0,0,0,0,0,0,"END"]
["Trinity Free School, Phase 2",{"$error":"#N/A"},{"$error":"#N/A"},{"$error":"#N/A"},{"$error":"#N/A"},{"$error":"#N/A"},{"$f":"G42","v":{"$error":"#NAME?"}},null,{"$f":"SUM(CT43:FG43)","v":1119.72},null,"2017-09-30","2017-09-30","2018-01-31","2018-05-25","2018-06-22",39.857142857142854,"2019-09-02",null,"TBC",{"$error":"#NAME?"},"2020-09-01",{"$error":"#NAME?"},null,null,null,null,null,null,5,5,5,5,5,5,5,5,5,5,5,5,5,5,5,5,5,5,5,5,5,null,null,null,null,null,null,null,null,null,null,null,6,null,null,null,null,null,null,null,null,null,null,null,null,null,null,null,null,null,null,null,null,null,null,null,null,null,null,null,"Ongoing",{"$error":"#N/A"},"£4 to £8 million",25.799999999999997,25.799999999999997,51.599999999999994,73.099999999999994,51.599999999999994,{"$f":"VLOOKUP($CM43,AVEHRS_TABLE,7,0)*AVE_WKS_PER_MONTH*70%","v":36.11999999999999},0,0,0,0,0,0,51.599999999999994,51.599999999999994,51.599999999999994,51.599999999999994,51.599999999999994,51.599999999999994,51.599999999999994,51.599999999999994,51.599999999999994,51.599999999999994,51.599999999999994,51.599999999999994,51.599999999999994,51.599999999999994,51.599999999999994,51.599999999999994,51.599999999999994,51.599999999999994,51.599999999999994,51.599999999999994,51.599999999999994,0,0,{"$f":"IF(AZ43>0,CHOOSE(AZ43,$CN43,$CO43,$CP43,$CQ43,$CR43,$CS43),0)","v":0},0,0,0,0,0,0,0,0,36.11999999999999,0,0,0,0,0,0,{"$f":"IF(BP43>0,CHOOSE(BP43,$CN43,$CO43,$CP43,$CQ43,$CR43,$CS43),0)","v":0},0,0,0,0,0,0,0,0,0,0,0,0,0,0,0,{"$f":"IF(CF43>0,CHOOSE(CF43,$CN43,$CO43,$CP43,$CQ43,$CR43,$CS43),0)","v":0},0,0,0,0,"END"]
["Trinity Free School, Phase 3",{"$f":"VLOOKUP($A44,MASTER_DATABASE,2,0)","v":{"$error":"#N/A"}},{"$f":"VLOOKUP($A44,MASTER_DATABASE,4,0)","v":{"$error":"#N/A"}},{"$f":"VLOOKUP($A44,MASTER_DATABASE,5,0)","v":{"$error":"#N/A"}},{"$f":"VLOOKUP($A44,MASTER_DATABASE,6,0)","v":{"$error":"#N/A"}},{"$f":"VLOOKUP($A44,MASTER_DATABASE,54,0)","v":{"$error":"#N/A"}},0,null,"phased project",null,"2017-09-30","2017-09-30","2018-01-31","2018-05-25","2018-06-22",39.857142857142854,"2020-03-04",null,"TBC","2019-09-05","2020-03-04",25.857142857142858,null,null,null,null,null,null,null,null,null,null,null,null,null,null,null,null,null,null,null,null,null,null,null,null,null,null,null,null,null,null,null,null,null,null,null,null,null,null,null,null,null,null,null,null,null,null,null,null,null,null,null,null,null,null,null,null,null,null,null,null,null,null,null,null,null,null,"Ongoing",{"$error":"#N/A"},"see earlier phase",{"$f":"VLOOKUP($CM44,AVEHRS_TABLE,2,0)*AVE_WKS_PER_MONTH","v":0},{"$f":"VLOOKUP($CM44,AVEHRS_TABLE,3,0)*AVE_WKS_PER_MONTH","v":0},{"$f":"VLOOKUP($CM44,AVEHRS_TABLE,4,0)*AVE_WKS_PER_MONTH","v":0},{"$f":"VLOOKUP($CM44,AVEHRS_TABLE,5,0)*AVE_WKS_PER_MONTH","v":0},{"$f":"VLOOKUP($CM44,AVEHRS_TABLE,6,0)*AVE_WKS_PER_MONTH","v":0},{"$f":"VLOOKUP($CM44,AVEHRS_TABLE,7,0)*AVE_WKS_PER_MONTH","v":51.599999999999994},0,0,0,0,0,0,0,0,0,0,0,0,0,0,0,{"$f":"IF(AL44>0,CHOOSE(AL44,$CN44,$CO44,$CP44,$CQ44,$CR44,$CS44),0)","v":0},0,0,0,0,0,0,0,0,0,0,0,0,0,0,0,0,0,0,0,0,0,0,0,0,0,0,0,0,0,0,0,0,0,0,0,0,0,0,0,0,0,0,0,0,0,0,0,0,0,0,"END"]
["Trinity Free School, Phase 4",{"$error":"#N/A"},{"$error":"#N/A"},{"$error":"#N/A"},{"$error":"#N/A"},{"$error":"#N/A"},0,null,"phased project",null,"2017-09-30","2017-09-30","2018-01-31","2018-05-25","2018-06-22",39.857142857142854,"2020-08-31",null,"TBC","2020-03-05","2020-08-31",25.571428571428573,null,null,null,null,null,null,null,null,null,null,null,null,null,null,null,null,null,null,null,null,null,null,null,null,null,null,null,null,null,null,null,null,null,null,null,null,null,null,null,null,null,null,null,null,null,null,null,null,null,null,null,null,null,null,null,null,null,null,null,null,null,null,null,null,null,null,"Ongoing",{"$error":"#N/A"},"see earlier phase",0,0,0,0,0,{"$f":"VLOOKUP($CM45,AVEHRS_TABLE,7,0)*AVE_WKS_PER_MONTH","v":51.599999999999994},{"$f":"IF(W45>0,CHOOSE(W45,$CN45,$CO45,$CP45,$CQ45,$CR45,$CS45),0)","v":0},0,0,0,0,0,0,0,0,0,0,0,0,0,0,0,0,0,0,0,0,0,0,0,0,0,0,0,0,0,0,0,0,0,0,0,0,0,0,0,0,0,0,0,0,0,0,0,0,0,0,0,0,0,0,0,0,0,0,0,0,0,0,0,0,0,"END"]
["Trinity Free School, Phase 5",{"$error":"#N/A"},{"$error":"#N/A"},{"$error":"#N/A"},{"$error":"#N/A"},{"$error":"#N/A"},0,null,"phased project",null,"2017-09-30","2017-09-30","2018-01-31","2018-05-25","2018-06-22",39.857142857142854,"2020-09-02",null,"TBC","2020-07-25","2020-09-02",5.5714285714285712,4,5,5,null,null,null,null,null,null,null,null,null,null,null,null,null,null,null,null,null,null,null,null,null,null,null,null,null,null,null,null,null,null,null,null,null,null,null,null,null,null,null,null,null,null,null,null,null,null,null,null,null,null,null,null,null,null,null,null,null,null,null,null,null,null,null,"Ongoing",{"$error":"#N/A"},"see earlier phase",0,0,0,0,0,{"$f":"VLOOKUP($CM46,AVEHRS_TABLE,7,0)*AVE_WKS_PER_MONTH","v":51.599999999999994},0,0,0,0,0,0,0,0,0,0,0,0,0,0,0,0,0,0,0,0,0,0,0,0,0,0,0,0,0,0,0,0,0,0,0,0,0,0,0,0,0,0,0,0,0,0,0,0,0,0,0,0,0,0,0,0,0,0,0,0,0,0,0,0,0,0,"END"]
["Chilmington Green PS","South",7200000,8400000,{"$error":"#REF!"},{"$error":"#REF!"},7200000,null,{"$f":"SUM(CT47:FG47)","v":1412.1199999999997},null,"2018-01-02","2018-03-23","2018-08-31","2018-11-23","2019-03-29",55,"2020-06-01",null,"TBC","2019-04-01","2020-08-31",74,2,2,3,3,3,4,4,4,4,5,5,5,5,5,5,5,5,5,5,5,5,5,5,5,5,5,null,null,null,null,null,null,null,null,null,null,null,6,null,null,null,null,null,null,null,null,null,null,null,null,null,null,null,null,null,null,null,null,null,null,null,null,null,null,null,null,"Ongoing",{"$error":"#REF!"},"£4 to £8 million",25.799999999999997,25.799999999999997,51.599999999999994,73.099999999999994,51.599999999999994,{"$f":"VLOOKUP($CM47,AVEHRS_TABLE,7,0)*AVE_WKS_PER_MONTH*70%","v":36.11999999999999},25.799999999999997,25.799999999999997,51.599999999999994,51.599999999999994,51.599999999999994,73.099999999999994,73.099999999999994,73.099999999999994,73.099999999999994,51.599999999999994,51.599999999999994,51.599999999999994,51.599999999999994,51.599999999999994,51.599999999999994,51.599999999999994,51.599999999999994,51.599999999999994,51.599999999999994,51.599999999999994,51.599999999999994,51.599999999999994,51.599999999999994,51.599999999999994,51.599999999999994,51.599999999999994,0,0,0,0,0,0,0,0,0,0,0,36.11999999999999,0,0,0,0,0,0,0,0,0,0,0,0,0,0,0,0,0,0,0,0,0,0,0,0,0,0,0,0,"END"]
["Preston PS","South","2748-09-30","2615-08-01T21:36:00",{"$error":"#REF!"},{"$error":"#REF!"},300000,null,83.85,null,"2017-02-10","2017-05-10","2017-06-14","2017-08-02","2018-07-16",63.714285714285715,"2018-08-31",null,"2017-08-02","2018-07-23","2018-08-31",5.5714285714285712,4,5,null,null,null,null,null,null,null,null,null,null,null,6,null,null,null,null,null,null,null,null,null,null,null,null,null,null,null,null,null,null,null,null,null,null,null,null,null,null,null,null,null,null,null,null,null,null,null,null,null,null,null,null,null,null,null,null,null,null,null,null,null,null,null,null,"Ongoing",{"$error":"#REF!"},"less than £1m",25.799999999999997,12.899999999999999,25.799999999999997,38.699999999999996,25.799999999999997,{"$f":"VLOOKUP($CM48,AVEHRS_TABLE,7,0)*AVE_WKS_PER_MONTH/2","v":19.349999999999998},38.699999999999996,25.799999999999997,0,0,0,0,0,0,0,0,0,0,0,19.349999999999998,0,0,0,0,0,0,0,0,0,0,0,0,0,0,0,0,0,0,0,0,0,0,0,0,0,0,0,0,0,0,0,0,0,0,0,0,0,0,0,0,0,0,0,0,0,0,0,0,0,0,0,0,"END"]
["Whitfield Aspen School","South",7990000,7447500,{"$error":"#REF!"},{"$error":"#REF!"},7990000,null,616.62000000000012,null,"-","-","-","2018-04-07","2018-09-16",{"$error":"#VALUE!"},"2019-04-28",null,"2018-03-27","2018-10-01","2019-04-28",29.857142857142858,4,4,4,5,5,5,5,5,5,5,null,null,null,null,null,null,null,null,null,null,null,6,null,null,null,null,null,null,null,null,null,null,null,null,null,null,null,null,null,null,null,null,null,null,null,null,null,null,null,null,null,null,null,null,null,null,null,null,null,null,null,null,null,null,null,null,"Ongoing",{"$error":"#REF!"},"£4 to £8 million",25.799999999999997,25.799999999999997,51.599999999999994,73.099999999999994,51.599999999999994,{"$f":"VLOOKUP($CM49,AVEHRS_TABLE,7,0)*AVE_WKS_PER_MONTH*70%","v":36.11999999999999},73.099999999999994,73.099999999999994,73.099999999999994,51.599999999999994,51.599999999999994,51.599999999999994,51.599999999999994,51.599999999999994,51.599999999999994,51.599999999999994,0,0,0,0,0,0,0,0,0,0,0,36.11999999999999,0,0,0,0,0,0,0,0,0,0,0,0,0,0,0,0,0,0,0,0,0,0,0,0,0,0,0,0,0,0,0,0,0,0,0,0,0,0,0,0,0,0,0,0,"END"]
["Herne Bay Library",{"$error":"#N/A"},{"$error":"#N/A"},{"$error":"#N/A"},{"$error":"#N/A"},{"$error":"#N/A"},535000,null,328.95000000000005,null,"2017-11-01","2018-07-27","2018-08-30","2018-09-29","2018-11-27",19.571428571428573,"2019-07-30",null,"N/A","2019-01-07","2019-07-30",29.142857142857142,2,2,3,4,4,null,5,5,5,5,5,5,5,null,null,null,null,null,null,null,null,null,null,null,6,null,null,null,null,null,null,null,null,null,null,null,null,null,null,null,null,null,null,null,null,null,null,null,null,null,null,null,null,null,null,null,null,null,null,null,null,null,null,null,null,null,"Ongoing",{"$error":"#N/A"},"less than £1m",25.799999999999997,12.899999999999999,25.799999999999997,38.699999999999996,25.799999999999997,{"$f":"VLOOKUP($CM50,AVEHRS_TABLE,7,0)*AVE_WKS_PER_MONTH/2","v":19.349999999999998},12.899999999999999,12.899999999999999,25.799999999999997,38.699999999999996,38.699999999999996,0,25.799999999999997,25.799999999999997,25.799999999999997,25.799999999999997,25.799999999999997,25.799999999999997,25.799999999999997,0,0,0,0,0,0,0,0,0,0,0,19.349999999999998,0,0,0,0,0,0,0,0,0,0,0,0,0,0,0,0,0,0,0,0,0,0,0,0,0,0,0,0,0,0,0,0,0,0,0,0,0,0,0,0,0,"END"]
["Palmarsh PS","South","7923-05-24","5368-12-11",{"$error":"#REF!"},{"$error":"#REF!"},2200000,null,496.65000000000015,null,"-","-","-","-","2018-09-30",{"$error":"#VALUE!"},"TBC",null,"TBC","2019-01-01","2020-03-01",60.714285714285715,4,4,4,null,null,null,null,5,5,5,5,5,5,5,5,5,5,5,5,5,5,null,null,null,null,null,null,null,null,null,null,null,6,null,null,null,null,null,null,null,null,null,null,null,null,null,null,null,null,null,null,null,null,null,null,null,null,null,null,null,null,null,null,null,null,null,"Ongoing",{"$error":"#REF!"},"£1 to £4 million",25.799999999999997,12.899999999999999,25.799999999999997,38.699999999999996,25.799999999999997,19.349999999999998,38.699999999999996,38.699999999999996,38.699999999999996,0,0,0,0,25.799999999999997,25.799999999999997,25.799999999999997,25.799999999999997,25.799999999999997,25.799999999999997,25.799999999999997,25.799999999999997,25.799999999999997,25.799999999999997,25.799999999999997,25.799999999999997,25.799999999999997,25.799999999999997,0,0,0,0,0,0,0,0,0,0,0,19.349999999999998,0,0,0,0,0,0,0,0,0,0,0,0,0,0,0,0,0,0,0,0,0,0,0,0,0,0,0,0,0,0,0,0,0,"END"]
["Meadowfield School","East",4792000,4610000,{"$error":"#REF!"},{"$error":"#REF!"},3950000,null,612.74999999999989,null,"-","-","-","2018-09-30","2019-01-01",{"$error":"#VALUE!"},"2020-03-03",null,"2018-02-28",{"$f":"VLOOKUP($A52,BASE_DATA,24,0)","v":{"$error":"#NAME?"}},{"$f":"VLOOKUP($A52,BASE_DATA,26,0)","v":{"$error":"#NAME?"}},{"$error":"#NAME?"},3,3,3,4,4,4,4,5,5,5,5,5,5,5,5,5,5,5,5,5,5,null,null,null,null,null,null,null,null,null,null,null,6,null,null,null,null,null,null,null,null,null,null,null,null,null,null,null,null,null,null,null,null,null,null,null,null,null,null,null,null,null,null,null,null,null,"Ongoing",{"$error":"#REF!"},"£1 to £4 million",25.799999999999997,12.899999999999999,25.799999999999997,38.699999999999996,25.799999999999997,19.349999999999998,25.799999999999997,25.799999999999997,25.799999999999997,38.699999999999996,38.699999999999996,38.699999999999996,38.699999999999996,25.799999999999997,25.799999999999997,25.799999999999997,25.799999999999997,25.799999999999997,25.799999999999997,25.799999999999997,25.799999999999997,25.799999999999997,25.799999999999997,25.799999999999997,25.799999999999997,25.799999999999997,25.799999999999997,0,0,0,0,0,0,0,0,0,0,0,19.349999999999998,0,0,0,0,0,0,0,0,0,0,0,0,0,0,0,0,0,0,0,0,0,0,0,0,0,0,0,0,0,0,0,0,0,"END"]
["Hampton PS","East","2721-05-15","2566-08-05T01:40:48",{"$error":"#REF!"},{"$error":"#REF!"},300000,null,96.749999999999986,null,"2017-11-24","2018-02-15","2018-02-15","2018-02-15","2018-06-10",18.428571428571427,"2018-09-03",null,"15/11/17 PD",{"$error":"#NAME?"},{"$error":"#NAME?"},{"$error":"#NAME?"},5,5,5,null,null,null,null,null,null,null,null,null,null,null,6,null,null,null,null,null,null,null,null,null,null,null,null,null,null,null,null,null,null,null,null,null,null,null,null,null,null,null,null,null,null,null,null,null,null,null,null,null,null,null,null,null,null,null,null,null,null,null,null,null,null,null,"Ongoing",{"$error":"#REF!"},"less than £1m",25.799999999999997,12.899999999999999,25.799999999999997,38.699999999999996,25.799999999999997,19.349999999999998,25.799999999999997,25.799999999999997,25.799999999999997,0,0,0,0,0,0,0,0,0,0,0,19.349999999999998,0,0,0,0,0,0,0,0,0,0,0,0,0,0,0,0,0,0,0,0,0,0,0,0,0,0,0,0,0,0,0,0,0,0,0,0,0,0,0,0,0,0,0,0,0,0,0,0,0,0,0,"END"]
["Bysing Wood PS",{"$error":"#N/A"},{"$error":"#N/A"},{"$error":"#N/A"},{"$error":"#N/A"},{"$error":"#N/A"},3500000,null,19.349999999999998,null,"2015-03-31","2015-06-29","2015-10-12","2016-01-11","2016-03-24",40.428571428571431,"2018-06-23",null,"2016-12-01",{"$error":"#NAME?"},{"$error":"#NAME?"},{"$error":"#NAME?"},null,null,null,null,null,null,null,null,null,null,null,6,null,null,null,null,null,null,null,null,null,null,null,null,null,null,null,null,null,null,null,null,null,null,null,null,null,null,null,null,null,null,null,null,null,null,null,null,null,null,null,null,null,null,null,null,null,null,null,null,null,null,null,null,null,null,"Ongoing",{"$error":"#N/A"},"£1 to £4 million",25.799999999999997,12.899999999999999,25.799999999999997,38.699999999999996,25.799999999999997,19.349999999999998,0,0,0,0,0,0,0,0,0,0,0,19.349999999999998,0,0,0,0,0,0,0,0,0,0,0,0,0,0,0,0,0,0,0,0,0,0,0,0,0,0,0,0,0,0,0,0,0,0,0,0,0,0,0,0,0,0,0,0,0,0,0,0,0,0,0,0,0,0,"END"]
["St George's CoE Foundation PS","East","9018-07-22","8744-04-18T04:04:48",{"$error":"#REF!"},{"$error":"#REF!"},2600000,null,19.349999999999998,null,"2017-05-02","2017-06-01","2017-08-28","2017-11-03","2018-07-25",61.857142857142854,"2019-02-22",null,"TBC",{"$error":"#NAME?"},{"$error":"#NAME?"},{"$error":"#NAME?"},null,null,null,null,null,null,null,6,null,null,null,null,null,null,null,null,null,null,null,null,null,null,null,null,null,null,null,null,null,null,null,null,null,null,null,null,null,null,null,null,null,null,null,null,null,null,null,null,null,null,null,null,null,null,null,null,null,null,null,null,null,null,null,null,null,null,"Ongoing",{"$error":"#REF!"},"£1 to £4 million",25.799999999999997,12.899999999999999,25.799999999999997,38.699999999999996,25.799999999999997,19.349999999999998,0,0,0,0,0,0,0,19.349999999999998,0,0,0,0,0,0,0,0,0,0,0,0,0,0,0,0,0,0,0,0,0,0,0,0,0,0,0,0,0,0,0,0,0,0,0,0,0,0,0,0,0,0,0,0,0,0,0,0,0,0,0,0,0,0,0,0,0,0,"END"]
["Regis Manor PS","East",3300000,"9790-05-25",{"$error":"#REF!"},{"$error":"#REF!"},2580000,null,122.54999999999998,null,"2016-11-01","2016-12-01","2017-03-23","2017-07-25","2018-01-15",60.571428571428569,"2018-10-31",null,"2017-07-25",{"$error":"#NAME?"},{"$error":"#NAME?"},{"$error":"#NAME?"},5,5,5,5,null,null,null,null,null,null,null,null,null,null,null,6,null,null,null,null,null,null,null,null,null,null,null,null,null,null,null,null,null,null,null,null,null,null,null,null,null,null,null,null,null,null,null,null,null,null,null,null,null,null,null,null,null,null,null,null,null,null,null,null,null,null,"Ongoing",{"$error":"#REF!"},"£1 to £4 million",25.799999999999997,12.899999999999999,25.799999999999997,38.699999999999996,25.799999999999997,19.349999999999998,25.799999999999997,25.799999999999997,25.799999999999997,25.799999999999997,0,0,0,0,0,0,0,0,0,0,0,19.349999999999998,0,0,0,0,0,0,0,0,0,0,0,0,0,0,0,0,0,0,0,0,0,0,0,0,0,0,0,0,0,0,0,0,0,0,0,0,0,0,0,0,0,0,0,0,0,0,0,0,0,0,"END"]
["Sittingbourne CC","East",6000000,6542597.6799999997,{"$error":"#REF!"},{"$error":"#REF!"},6600000,null,294.12,null,"2015-09-17","2015-09-17","2015-12-01","2016-05-20","2017-07-10",96.571428571428569,"2018-11-06",null,"2016-11-14",{"$error":"#NAME?"},{"$error":"#NAME?"},{"$error":"#NAME?"},5,5,5,5,5,null,null,null,null,null,null,null,null,null,null,null,6,null,null,null,null,null,null,null,null,null,null,null,null,null,null,null,null,null,null,null,null,null,null,null,null,null,null,null,null,null,null,null,null,null,null,null,null,null,null,null,null,null,null,null,null,null,null,null,null,null,"Ongoing",{"$error":"#REF!"},"£4 to £8 million",25.799999999999997,25.799999999999997,51.599999999999994,73.099999999999994,51.599999999999994,{"$f":"VLOOKUP($CM57,AVEHRS_TABLE,7,0)*AVE_WKS_PER_MONTH*70%","v":36.11999999999999},51.599999999999994,51.599999999999994,51.599999999999994,51.599999999999994,51.599999999999994,0,0,0,0,0,0,0,0,0,0,0,36.11999999999999,0,0,0,0,0,0,0,0,0,0,0,0,0,0,0,0,0,0,0,0,0,0,0,0,0,0,0,0,0,0,0,0,0,0,0,0,0,0,0,0,0,0,0,0,0,0,0,0,0,"END"]
["Maplesden Noakes Secondary Expansion, bulge",{"$error":"#N/A"},{"$error":"#N/A"},{"$error":"#N/A"},{"$error":"#N/A"},{"$error":"#N/A"},650000,null,109.64999999999999,null,"2018-04-01","2018-04-30","2018-05-15","2018-05-31","2018-07-18",13.285714285714286,"2018-09-25",null,"N/A",{"$error":"#NAME?"},{"$error":"#NAME?"},{"$error":"#NAME?"},4,5,5,null,null,null,null,null,null,null,null,null,null,null,6,null,null,null,null,null,null,null,null,null,null,null,null,null,null,null,null,null,null,null,null,null,null,null,null,null,null,null,null,null,null,null,null,null,null,null,null,null,null,null,null,null,null,null,null,null,null,null,null,null,null,null,"Ongoing",{"$error":"#N/A"},"less than £1m",25.799999999999997,12.899999999999999,25.799999999999997,38.699999999999996,25.799999999999997,{"$f":"VLOOKUP($CM58,AVEHRS_TABLE,7,0)*AVE_WKS_PER_MONTH/2","v":19.349999999999998},38.699999999999996,25.799999999999997,25.799999999999997,0,0,0,0,0,0,0,0,0,0,0,19.349999999999998,0,0,0,0,0,0,0,0,0,0,0,0,0,0,0,0,0,0,0,0,0,0,0,0,0,0,0,0,0,0,0,0,0,0,0,0,0,0,0,0,0,0,0,0,0,0,0,0,0,0,0,"END"]
["Langley Park PS","West","9018-07-22","8957-04-13T17:45:36",{"$error":"#REF!"},{"$error":"#REF!"},2600000,null,19.349999999999998,null,"2017-01-03","2017-02-26","2017-05-30","2017-07-21","2017-11-27",41.142857142857146,"2018-06-22",null,"2015-09-14",{"$error":"#NAME?"},{"$error":"#NAME?"},{"$error":"#NAME?"},null,null,null,null,null,null,null,null,null,null,null,6,null,null,null,null,null,null,null,null,null,null,null,null,null,null,null,null,null,null,null,null,null,null,null,null,null,null,null,null,null,null,null,null,null,null,null,null,null,null,null,null,null,null,null,null,null,null,null,null,null,null,null,null,null,null,"Ongoing",{"$error":"#REF!"},"£1 to £4 million",25.799999999999997,12.899999999999999,25.799999999999997,38.699999999999996,25.799999999999997,{"$f":"VLOOKUP($CM59,AVEHRS_TABLE,7,0)*AVE_WKS_PER_MONTH/2","v":19.349999999999998},0,0,0,0,0,0,0,0,0,0,0,19.349999999999998,0,0,0,0,0,0,0,0,0,0,0,0,0,0,0,0,0,0,0,0,0,0,0,0,0,0,0,0,0,0,{"$f":"IF(BM59>0,CHOOSE(BM59,$CN59,$CO59,$CP59,$CQ59,$CR59,$CS59),0)","v":0},0,0,0,0,0,0,0,0,0,0,0,0,0,0,0,{"$f":"IF(CC59>0,CHOOSE(CC59,$CN59,$CO59,$CP59,$CQ59,$CR59,$CS59),0)","v":0},0,0,0,0,0,0,0,"END"]
["Park Way PS","West","2995-02-27","2685-01-20",{"$error":"#REF!"},{"$error":"#REF!"},400000,null,199.95000000000002,null,"2017-09-18","2018-03-07","2018-06-15","2018-07-01","2018-08-15",25,"2018-12-19",null,"13/12/2017 PD","2018-09-01",{"$error":"#NAME?"},{"$error":"#NAME?"},4,4,5,5,5,5,null,null,null,null,null,null,null,null,null,null,null,6,null,null,null,null,null,null,null,null,null,null,null,null,null,null,null,null,null,null,null,null,null,null,null,null,null,null,null,null,null,null,null,null,null,null,null,null,null,null,null,null,null,null,null,null,null,null,null,null,"Ongoing",{"$error":"#REF!"},"less than £1m",25.799999999999997,12.899999999999999,25.799999999999997,38.699999999999996,25.799999999999997,{"$f":"VLOOKUP($CM60,AVEHRS_TABLE,7,0)*AVE_WKS_PER_MONTH/2","v":19.349999999999998},38.699999999999996,38.699999999999996,25.799999999999997,25.799999999999997,25.799999999999997,25.799999999999997,0,0,0,0,0,0,0,0,0,0,0,19.349999999999998,0,0,0,0,0,0,0,0,0,0,0,0,0,{"$f":"IF(BB60>0,CHOOSE(BB60,$CN60,$CO60,$CP60,$CQ60,$CR60,$CS60),0)","v":0},0,0,0,0,0,0,0,0,0,0,0,0,0,0,0,0,0,0,0,0,0,0,0,0,0,0,0,0,0,0,0,0,0,0,"END"]
["Harrietsham PS","West",3000000,3600000,{"$error":"#REF!"},{"$error":"#REF!"},3300000,null,715.94999999999982,null,"2016-09-28","2017-10-06","2018-01-15","2018-03-18","2018-06-15",38,"TBC",null,"Bulge - 05/01/2018 PD\nMain Phase - Due Sept 2018","2018-07-01",{"$error":"#NAME?"},{"$error":"#NAME?"},5,5,5,5,5,5,5,5,5,5,5,5,5,5,5,5,5,5,5,5,5,5,5,5,5,5,5,null,null,null,null,null,null,null,null,null,null,null,6,null,null,null,null,null,null,null,null,null,null,null,null,null,null,null,null,null,null,null,null,null,null,null,null,null,null,null,"Ongoing",{"$error":"#REF!"},"£1 to £4 million",25.799999999999997,12.899999999999999,25.799999999999997,38.699999999999996,25.799999999999997,{"$f":"VLOOKUP($CM61,AVEHRS_TABLE,7,0)*AVE_WKS_PER_MONTH/2","v":19.349999999999998},25.799999999999997,25.799999999999997,25.799999999999997,25.799999999999997,25.799999999999997,25.799999999999997,25.799999999999997,25.799999999999997,25.799999999999997,25.799999999999997,25.799999999999997,25.799999999999997,25.799999999999997,25.799999999999997,25.799999999999997,25.799999999999997,25.799999999999997,25.799999999999997,25.799999999999997,25.799999999999997,25.799999999999997,25.799999999999997,25.799999999999997,25.799999999999997,25.799999999999997,25.799999999999997,25.799999999999997,0,0,0,{"$f":"IF(BA61>0,CHOOSE(BA61,$CN61,$CO61,$CP61,$CQ61,$CR61,$CS61),0)","v":0},0,0,0,0,0,0,0,19.349999999999998,0,0,0,0,0,0,0,0,0,0,0,0,0,0,0,0,0,0,0,0,0,0,0,0,0,0,0,"END"]
["St Peters Tunbridge Wells PS (Hawkenbury)","West",6900000,7900000,{"$error":"#REF!"},{"$error":"#REF!"},6900000,null,1158.42,null,"2017-05-15","2018-07-01","2019-08-10","2018-11-02","2019-03-08",37.714285714285715,"2020-03-03",null,null,"2019-01-05","2020-03-30",64.285714285714292,2,3,3,4,4,4,5,5,5,5,5,5,5,5,5,5,5,5,5,5,5,null,null,null,null,null,null,null,null,null,null,null,6,null,null,null,null,null,null,null,null,null,null,null,null,null,null,null,null,null,null,null,null,null,null,null,null,null,null,null,null,null,null,null,null,null,"Ongoing",{"$error":"#REF!"},"£4 to £8 million",25.799999999999997,25.799999999999997,51.599999999999994,73.099999999999994,51.599999999999994,{"$f":"VLOOKUP($CM62,AVEHRS_TABLE,7,0)*AVE_WKS_PER_MONTH*70%","v":36.11999999999999},{"$f":"IF(W62>0,CHOOSE(W62,$CN62,$CO62,$CP62,$CQ62,$CR62,$CS62),0)","v":25.799999999999997},51.599999999999994,51.599999999999994,73.099999999999994,73.099999999999994,73.099999999999994,51.599999999999994,51.599999999999994,51.599999999999994,51.599999999999994,51.599999999999994,51.599999999999994,51.599999999999994,51.599999999999994,51.599999999999994,51.599999999999994,{"$f":"IF(AM62>0,CHOOSE(AM62,$CN62,$CO62,$CP62,$CQ62,$CR62,$CS62),0)","v":51.599999999999994},51.599999999999994,51.599999999999994,51.599999999999994,51.599999999999994,0,0,0,0,0,0,0,0,0,0,0,36.11999999999999,0,0,0,0,0,0,0,0,0,0,0,0,0,0,0,0,0,0,0,0,0,0,0,0,0,0,0,0,0,0,0,0,0,"END"]
["Benenden PS",{"$error":"#N/A"},{"$error":"#N/A"},{"$error":"#N/A"},{"$error":"#N/A"},{"$error":"#N/A"},5100000,null,749.92000000000019,null,"-","-","2013-01-21","2017-12-22","2018-08-13",{"$error":"#VALUE!"},"2019-07-15",null,{"$f":"VLOOKUP($A63,BASE_DATA,23,0)","v":{"$error":"#NAME?"}},{"$error":"#NAME?"},{"$error":"#NAME?"},{"$error":"#NAME?"},4,4,5,5,5,5,5,5,5,5,5,5,5,null,null,null,null,null,null,null,null,null,null,null,6,null,null,null,null,null,null,null,null,null,null,null,null,null,null,null,null,null,null,null,null,null,null,null,null,null,null,null,null,null,null,null,null,null,null,null,null,null,null,null,null,null,"Ongoing",{"$error":"#N/A"},"£4 to £8 million",25.799999999999997,25.799999999999997,51.599999999999994,73.099999999999994,51.599999999999994,{"$f":"VLOOKUP($CM63,AVEHRS_TABLE,7,0)*AVE_WKS_PER_MONTH*70%","v":36.11999999999999},73.099999999999994,73.099999999999994,51.599999999999994,51.599999999999994,51.599999999999994,51.599999999999994,51.599999999999994,51.599999999999994,51.599999999999994,51.599999999999994,51.599999999999994,51.599999999999994,51.599999999999994,0,0,0,0,0,0,0,0,0,0,0,36.11999999999999,0,0,0,0,0,0,0,0,0,0,0,0,0,0,0,0,0,0,0,0,0,0,0,0,0,0,0,0,0,0,0,0,0,0,0,0,0,0,0,0,0,"END"]
["Platt PS",{"$error":"#N/A"},{"$error":"#N/A"},{"$error":"#N/A"},{"$error":"#N/A"},{"$error":"#N/A"},4800000,null,1098.22,null,"-","2017-12-22","2018-07-27","2018-10-08","2019-03-29",68,"2020-01-31",null,{"$error":"#NAME?"},{"$error":"#NAME?"},{"$error":"#NAME?"},{"$error":"#NAME?"},2,3,3,3,4,4,4,4,4,5,5,5,5,5,5,5,5,5,5,null,null,null,null,null,null,null,null,null,null,null,6,null,null,null,null,null,null,null,null,null,null,null,null,null,null,null,null,null,null,null,null,null,null,null,null,null,null,null,null,null,null,null,null,null,null,null,"Ongoing",{"$error":"#N/A"},"£4 to £8 million",25.799999999999997,25.799999999999997,51.599999999999994,73.099999999999994,51.599999999999994,{"$f":"VLOOKUP($CM64,AVEHRS_TABLE,7,0)*AVE_WKS_PER_MONTH*70%","v":36.11999999999999},25.799999999999997,51.599999999999994,51.599999999999994,51.599999999999994,73.099999999999994,73.099999999999994,73.099999999999994,73.099999999999994,73.099999999999994,51.599999999999994,51.599999999999994,51.599999999999994,51.599999999999994,51.599999999999994,51.599999999999994,51.599999999999994,51.599999999999994,51.599999999999994,51.599999999999994,0,0,0,0,0,0,0,0,0,0,0,36.11999999999999,0,0,0,0,0,0,0,0,0,0,0,0,0,0,0,0,0,0,0,0,0,0,0,0,0,0,0,0,0,0,0,0,0,0,0,"END"]
["Northfleet Tech College (PFI)","North",4500000,4320167,{"$error":"#REF!"},{"$error":"#REF!"},3250000,null,832.04999999999961,null,"1905-07-08","2018-12-05","2019-08-15","2019-11-30","2020-02-01",62.428571428571431,"2021-09-01",null,{"$error":"#NAME?"},{"$error":"#NAME?"},{"$error":"#NAME?"},{"$error":"#NAME?"},null,null,null,null,null,1,2,2,2,2,2,2,2,2,3,3,3,4,4,4,5,5,5,5,5,5,5,5,5,5,5,5,5,5,5,5,5,5,5,null,null,null,null,null,null,null,null,null,null,null,6,null,null,null,null,null,null,null,null,null,null,null,null,null,null,null,"Ongoing",{"$error":"#REF!"},"£1 to £4 million",25.799999999999997,12.899999999999999,25.799999999999997,38.699999999999996,25.799999999999997,{"$f":"VLOOKUP($CM65,AVEHRS_TABLE,7,0)*AVE_WKS_PER_MONTH/2","v":19.349999999999998},0,0,0,0,0,25.799999999999997,12.899999999999999,12.899999999999999,12.899999999999999,12.899999999999999,12.899999999999999,12.899999999999999,12.899999999999999,12.899999999999999,25.799999999999997,25.799999999999997,25.799999999999997,38.699999999999996,38.699999999999996,38.699999999999996,25.799999999999997,25.799999999999997,25.799999999999997,25.799999999999997,25.799999999999997,25.799999999999997,25.799999999999997,25.799999999999997,25.799999999999997,25.799999999999997,25.799999999999997,25.799999999999997,25.799999999999997,25.799999999999997,25.799999999999997,25.799999999999997,25.799999999999997,25.799999999999997,25.799999999999997,0,0,0,0,0,0,0,0,0,0,0,19.349999999999998,0,0,0,0,0,0,0,0,0,0,0,0,0,0,0,"END"]
["St John's Secondary School (PFI), Phase 1",{"$error":"#N/A"},{"$error":"#N/A"},{"$error":"#N/A"},{"$error":"#N/A"},{"$error":"#N/A"},400000,null,109.64999999999999,null,"2018-03-30","2018-04-25","2018-05-25","2018-06-01","2018-07-02",11.714285714285714,"2018-09-01",null,{"$error":"#NAME?"},{"$error":"#NAME?"},{"$error":"#NAME?"},{"$error":"#NAME?"},4,5,5,null,null,null,null,null,null,null,null,null,null,null,6,null,null,null,null,null,null,null,null,null,null,null,null,null,null,null,null,null,null,null,null,null,null,null,null,null,null,null,null,null,null,null,null,null,null,null,null,null,null,null,null,null,null,null,null,null,null,null,null,null,null,null,"Ongoing",{"$error":"#N/A"},"less than £1m",25.799999999999997,12.899999999999999,25.799999999999997,38.699999999999996,25.799999999999997,{"$f":"VLOOKUP($CM66,AVEHRS_TABLE,7,0)*AVE_WKS_PER_MONTH/2","v":19.349999999999998},38.699999999999996,25.799999999999997,25.799999999999997,0,0,0,0,0,0,0,0,0,0,0,19.349999999999998,0,0,0,0,0,0,0,0,0,0,0,0,0,0,0,0,0,0,0,0,0,0,0,0,0,0,0,0,0,0,0,0,0,0,0,0,0,0,0,0,0,0,0,0,0,0,0,0,0,0,0,"END"]
["St John's Secondary School (PFI), Phase 2",{"$error":"#N/A"},{"$error":"#N/A"},{"$error":"#N/A"},{"$error":"#N/A"},{"$error":"#N/A"},5600000,null,1339.0199999999998,null,"2017-12-12","2018-08-29","2018-11-12","2019-02-01","2019-05-01",37,"2020-09-01",null,{"$error":"#NAME?"},{"$error":"#NAME?"},{"$error":"#NAME?"},{"$error":"#NAME?"},null,1,2,2,2,3,3,3,4,4,4,5,5,5,5,5,5,5,5,5,5,5,5,5,5,5,5,null,null,null,null,null,null,null,null,null,null,null,6,null,null,null,null,null,null,null,null,null,null,null,null,null,null,null,null,null,null,null,null,null,null,null,null,null,null,null,"Ongoing",{"$error":"#N/A"},"£4 to £8 million",25.799999999999997,25.799999999999997,51.599999999999994,73.099999999999994,51.599999999999994,{"$f":"VLOOKUP($CM67,AVEHRS_TABLE,7,0)*AVE_WKS_PER_MONTH*70%","v":36.11999999999999},0,25.799999999999997,25.799999999999997,25.799999999999997,25.799999999999997,51.599999999999994,51.599999999999994,51.599999999999994,73.099999999999994,73.099999999999994,73.099999999999994,51.599999999999994,51.599999999999994,51.599999999999994,51.599999999999994,51.599999999999994,51.599999999999994,51.599999999999994,51.599999999999994,51.599999999999994,51.599999999999994,51.599999999999994,51.599999999999994,51.599999999999994,51.599999999999994,51.599999999999994,51.599999999999994,0,0,0,0,0,0,0,0,0,0,0,36.11999999999999,0,0,0,0,0,0,0,0,0,0,0,0,0,0,0,0,0,0,0,0,0,0,0,0,0,0,0,"END"]
["Thamesview School (PFI), Phase 1",{"$error":"#N/A"},{"$error":"#N/A"},{"$error":"#N/A"},{"$error":"#N/A"},{"$error":"#N/A"},50000,null,19.349999999999998,null,"2017-12-12","2018-04-25","2018-05-25","2018-06-01","2018-06-28",11.142857142857142,"2018-09-01",null,{"$error":"#NAME?"},{"$error":"#NAME?"},{"$error":"#NAME?"},{"$error":"#NAME?"},null,null,null,null,null,null,null,null,null,null,null,null,6,null,null,null,null,null,null,null,null,null,null,null,null,null,null,null,null,null,null,null,null,null,null,null,null,null,null,null,null,null,null,null,null,null,null,null,null,null,null,null,null,null,null,null,null,null,null,null,null,null,null,null,null,null,"Ongoing",{"$error":"#N/A"},"less than £1m",25.799999999999997,12.899999999999999,25.799999999999997,38.699999999999996,25.799999999999997,{"$f":"VLOOKUP($CM68,AVEHRS_TABLE,7,0)*AVE_WKS_PER_MONTH/2","v":19.349999999999998},0,0,0,0,0,0,0,0,0,0,0,0,19.349999999999998,0,0,0,0,0,0,0,0,0,0,0,0,0,0,0,0,0,0,0,0,0,0,0,0,0,0,0,0,0,0,0,0,0,0,0,0,0,0,0,0,0,0,0,0,0,0,0,0,0,0,0,0,0,"END"]
["Thamesview School (PFI), Phase 2",{"$error":"#N/A"},{"$error":"#N/A"},{"$error":"#N/A"},{"$error":"#N/A"},{"$error":"#N/A"},5950000,null,1313.2199999999998,null,"2017-12-12","2018-09-15","2018-11-30","2019-02-01","2019-05-01",34.571428571428569,"2020-09-01",null,{"$error":"#NAME?"},{"$error":"#NAME?"},{"$error":"#NAME?"},{"$error":"#NAME?"},null,null,2,2,2,3,3,3,4,4,4,5,5,5,5,5,5,5,5,5,5,5,5,5,5,5,5,null,null,null,null,null,null,null,null,null,null,null,6,null,null,null,null,null,null,null,null,null,null,null,null,null,null,null,null,null,null,null,null,null,null,null,null,null,null,null,"Ongoing",{"$error":"#N/A"},"£4 to £8 million",25.799999999999997,25.799999999999997,51.599999999999994,73.099999999999994,51.599999999999994,{"$f":"VLOOKUP($CM69,AVEHRS_TABLE,7,0)*AVE_WKS_PER_MONTH*70%","v":36.11999999999999},0,0,25.799999999999997,25.799999999999997,25.799999999999997,51.599999999999994,51.599999999999994,51.599999999999994,73.099999999999994,73.099999999999994,73.099999999999994,51.599999999999994,51.599999999999994,51.599999999999994,51.599999999999994,51.599999999999994,51.599999999999994,51.599999999999994,51.599999999999994,51.599999999999994,51.599999999999994,51.599999999999994,51.599999999999994,51.599999999999994,51.599999999999994,51.599999999999994,51.599999999999994,0,0,0,0,0,0,0,0,0,0,0,36.11999999999999,0,0,0,0,0,0,0,0,0,0,0,0,0,0,0,0,0,0,0,0,0,0,0,0,0,0,0,"END"]
["Ursuline College, Phase 1",{"$error":"#N/A"},{"$error":"#N/A"},{"$error":"#N/A"},{"$error":"#N/A"},{"$error":"#N/A"},300000,null,251.55000000000004,null,"-","-","-","2018-04-28","2018-08-31",{"$error":"#VALUE!"},"2019-01-01",null,{"$error":"#NAME?"},{"$error":"#NAME?"},{"$error":"#NAME?"},{"$error":"#NAME?"},4,4,null,null,null,null,5,5,5,5,5,5,null,null,null,null,null,null,null,null,null,null,null,6,null,null,null,null,null,null,null,null,null,null,null,null,null,null,null,null,null,null,null,null,null,null,null,null,null,null,null,null,null,null,null,null,null,null,null,null,null,null,null,null,null,null,"Ongoing",{"$error":"#N/A"},"less than £1m",25.799999999999997,12.899999999999999,25.799999999999997,38.699999999999996,25.799999999999997,{"$f":"VLOOKUP($CM70,AVEHRS_TABLE,7,0)*AVE_WKS_PER_MONTH/2","v":19.349999999999998},38.699999999999996,38.699999999999996,0,0,0,0,25.799999999999997,25.799999999999997,25.799999999999997,25.799999999999997,25.799999999999997,25.799999999999997,0,0,0,0,0,0,0,0,0,0,0,19.349999999999998,0,0,0,0,0,0,0,0,0,0,0,0,0,0,0,0,0,0,0,0,0,0,0,0,0,0,0,0,0,0,0,0,0,0,0,0,0,0,0,0,0,0,"END"]
["Ursuline College, Phase 2",{"$error":"#N/A"},{"$error":"#N/A"},{"$error":"#N/A"},{"$error":"#N/A"},{"$error":"#N/A"},3000000,null,406.35000000000008,null,"00:00:00","00:00:00","2018-06-29","2018-08-31","2018-10-29",6202.2857142857147,"2019-08-31",null,{"$error":"#NAME?"},{"$error":"#NAME?"},{"$error":"#NAME?"},{"$error":"#NAME?"},3,3,4,4,5,5,5,5,5,5,5,5,5,5,null,null,null,null,null,null,null,null,null,null,null,6,null,null,null,null,null,null,null,null,null,null,null,null,null,null,null,null,null,null,null,null,null,null,null,null,null,null,null,null,null,null,null,null,null,null,null,null,null,null,null,null,"Ongoing",{"$error":"#N/A"},"£1 to £4 million",25.799999999999997,12.899999999999999,25.799999999999997,38.699999999999996,25.799999999999997,{"$f":"VLOOKUP($CM71,AVEHRS_TABLE,7,0)*AVE_WKS_PER_MONTH/2","v":19.349999999999998},25.799999999999997,25.799999999999997,38.699999999999996,38.699999999999996,25.799999999999997,25.799999999999997,25.799999999999997,25.799999999999997,25.799999999999997,25.799999999999997,25.799999999999997,25.799999999999997,25.799999999999997,25.799999999999997,0,0,0,0,0,0,0,0,0,0,0,19.349999999999998,0,0,0,0,0,0,0,0,0,0,0,0,0,0,0,0,0,0,0,0,0,0,0,0,0,0,0,0,0,0,0,0,0,0,0,0,0,0,0,0,"END"]
["Judd School, RS classroom",{"$error":"#N/A"},{"$error":"#N/A"},{"$error":"#N/A"},{"$error":"#N/A"},{"$error":"#N/A"},1500000,null,406.35000000000008,null,"-","2017-07-10","2018-02-19","2018-09-30","2018-11-30",74.571428571428569,"2019-08-31",null,{"$error":"#NAME?"},{"$error":"#NAME?"},{"$error":"#NAME?"},{"$error":"#NAME?"},3,3,3,4,4,5,5,5,5,5,5,5,5,5,null,null,null,null,null,null,null,null,null,null,null,6,null,null,null,null,null,null,null,null,null,null,null,null,null,null,null,null,null,null,null,null,null,null,null,null,null,null,null,null,null,null,null,null,null,null,null,null,null,null,null,null,"Ongoing",{"$error":"#N/A"},"£1 to £4 million",25.799999999999997,12.899999999999999,25.799999999999997,38.699999999999996,25.799999999999997,{"$f":"VLOOKUP($CM72,AVEHRS_TABLE,7,0)*AVE_WKS_PER_MONTH/2","v":19.349999999999998},25.799999999999997,25.799999999999997,25.799999999999997,38.699999999999996,38.699999999999996,25.799999999999997,25.799999999999997,25.799999999999997,25.799999999999997,25.799999999999997,25.799999999999997,25.799999999999997,25.799999999999997,25.799999999999997,0,0,0,0,0,0,0,0,0,0,0,19.349999999999998,0,0,0,0,0,0,0,0,0,0,0,0,0,0,0,0,0,0,0,0,0,0,0,0,0,0,0,0,0,0,0,0,0,0,0,0,0,0,0,0,"END"]
["Judd School, remodelling",{"$error":"#N/A"},{"$error":"#N/A"},{"$error":"#N/A"},{"$error":"#N/A"},{"$error":"#N/A"},0,null,425.70000000000005,null,"00:00:00","2017-07-10","2018-02-19","2018-09-30","2018-11-30",74.571428571428569,"2019-08-31",null,{"$error":"#NAME?"},{"$error":"#NAME?"},{"$error":"#NAME?"},{"$error":"#NAME?"},3,3,3,4,4,5,5,5,5,5,5,5,5,5,null,null,null,null,null,null,null,null,null,null,null,6,null,null,null,null,null,null,null,null,null,null,null,null,null,null,null,null,null,null,null,null,null,null,null,null,null,null,null,null,null,null,null,null,null,null,null,null,null,null,null,null,"Ongoing",{"$error":"#N/A"},"£1 to £4 million",25.799999999999997,12.899999999999999,25.799999999999997,38.699999999999996,25.799999999999997,{"$f":"VLOOKUP($CM73,AVEHRS_TABLE,7,0)*AVE_WKS_PER_MONTH","v":38.699999999999996},25.799999999999997,25.799999999999997,25.799999999999997,38.699999999999996,38.699999999999996,25.799999999999997,25.799999999999997,25.799999999999997,25.799999999999997,25.799999999999997,25.799999999999997,25.799999999999997,25.799999999999997,25.799999999999997,0,0,0,0,0,0,0,0,0,0,0,38.699999999999996,0,0,0,0,0,0,0,0,0,0,0,0,0,0,0,0,0,0,0,0,0,0,0,0,0,0,0,0,0,0,0,0,0,0,0,0,0,0,0,0,"END"]
["Bennett Memorial School","West",6500000,7500000,{"$error":"#REF!"},{"$error":"#REF!"},6500000,null,646.72000000000014,null,"2018-03-02","2018-04-20","2018-07-31","2018-08-10","2018-10-30",29.571428571428573,"2020-08-31",null,{"$error":"#NAME?"},{"$error":"#NAME?"},{"$error":"#NAME?"},{"$error":"#NAME?"},3,3,4,4,5,5,5,5,5,5,5,null,null,null,null,null,null,null,null,null,null,null,6,null,null,null,null,null,null,null,null,null,null,null,null,null,null,null,null,null,null,null,null,null,null,null,null,null,null,null,null,null,null,null,null,null,null,null,null,null,null,null,null,null,null,null,"Ongoing",{"$error":"#REF!"},"£4 to £8 million",25.799999999999997,25.799999999999997,51.599999999999994,73.099999999999994,51.599999999999994,{"$f":"VLOOKUP($CM74,AVEHRS_TABLE,7,0)*AVE_WKS_PER_MONTH*70%","v":36.11999999999999},51.599999999999994,51.599999999999994,73.099999999999994,73.099999999999994,51.599999999999994,51.599999999999994,51.599999999999994,51.599999999999994,51.599999999999994,51.599999999999994,51.599999999999994,0,0,0,0,0,0,0,0,0,0,0,36.11999999999999,0,0,0,0,0,0,0,0,0,0,0,0,0,0,0,0,0,0,0,0,0,0,0,0,0,0,0,0,0,0,0,0,0,0,0,0,0,0,0,0,0,0,0,"END"]
["Headcorn PS","West","9292-05-05","9906-07-15",{"$error":"#REF!"},{"$error":"#REF!"},2920000,null,19.349999999999998,null,"-","-","-","-","2016-10-24",{"$error":"#VALUE!"},"2018-01-30",null,{"$error":"#NAME?"},{"$error":"#NAME?"},{"$error":"#NAME?"},{"$error":"#NAME?"},null,null,null,null,null,null,6,null,null,null,null,null,null,null,null,null,null,null,null,null,null,null,null,null,null,null,null,null,null,null,null,null,null,null,null,null,null,null,null,null,null,null,null,null,null,null,null,null,null,null,null,null,null,null,null,null,null,null,null,null,null,null,null,null,null,null,"Ongoing",{"$error":"#REF!"},"£1 to £4 million",25.799999999999997,12.899999999999999,25.799999999999997,38.699999999999996,25.799999999999997,{"$f":"VLOOKUP($CM75,AVEHRS_TABLE,7,0)*AVE_WKS_PER_MONTH/2","v":19.349999999999998},0,0,0,0,0,0,19.349999999999998,0,0,0,0,0,0,0,0,0,0,0,0,0,0,0,0,0,0,0,0,0,0,0,0,0,0,0,0,0,0,0,0,0,0,0,0,0,0,0,0,0,0,0,0,0,0,0,{"$f":"IF(BY75>0,CHOOSE(BY75,$CN75,$CO75,$CP75,$CQ75,$CR75,$CS75),0)","v":0},0,0,0,0,0,0,0,0,0,0,0,"END"]
["The Wyvern School",{"$f":"VLOOKUP($A76,MASTER_DATABASE,2,0)","v":"South"},{"$f":"VLOOKUP($A76,MASTER_DATABASE,4,0)","v":4700000},{"$f":"VLOOKUP($A76,MASTER_DATABASE,5,0)","v":3164396},{"$f":"VLOOKUP($A76,MASTER_DATABASE,6,0)","v":{"$error":"#REF!"}},{"$f":"VLOOKUP($A76,MASTER_DATABASE,54,0)","v":{"$error":"#REF!"}},4700000,null,36.11999999999999,null,"-","-","-","-","2016-12-09",{"$error":"#VALUE!"},"2017-09-15",null,"2016-07-21","2016-12-09","2017-09-15",40,null,null,6,null,null,null,null,null,null,null,null,null,null,null,null,null,null,null,null,null,null,null,null,null,null,null,null,null,null,null,null,null,null,null,null,null,null,null,null,null,null,null,null,null,null,null,null,null,null,null,null,null,null,null,null,null,null,null,null,null,null,null,null,null,null,null,"Ongoing",{"$error":"#REF!"},"£4 to £8 million",{"$f":"VLOOKUP($CM76,AVEHRS_TABLE,2,0)*AVE_WKS_PER_MONTH","v":25.799999999999997},{"$f":"VLOOKUP($CM76,AVEHRS_TABLE,3,0)*AVE_WKS_PER_MONTH","v":25.799999999999997},{"$f":"VLOOKUP($CM76,AVEHRS_TABLE,4,0)*AVE_WKS_PER_MONTH","v":51.599999999999994},{"$f":"VLOOKUP($CM76,AVEHRS_TABLE,5,0)*AVE_WKS_PER_MONTH","v":73.099999999999994},{"$f":"VLOOKUP($CM76,AVEHRS_TABLE,6,0)*AVE_WKS_PER_MONTH","v":51.599999999999994},{"$f":"VLOOKUP($CM76,AVEHRS_TABLE,7,0)*AVE_WKS_PER_MONTH*70%","v":36.11999999999999},0,0,36.11999999999999,0,0,0,0,0,0,0,0,0,0,0,0,0,0,0,0,0,0,0,0,0,0,0,0,0,0,0,0,0,0,0,0,0,0,0,0,0,0,0,0,0,0,0,0,{"$f":"IF(BR76>0,CHOOSE(BR76,$CN76,$CO76,$CP76,$CQ76,$CR76,$CS76),0)","v":0},0,0,0,0,0,0,0,0,0,0,0,0,0,0,0,0,0,0,"END"]
["Swadelands/The Lenham School",{"$error":"#N/A"},{"$error":"#N/A"},{"$error":"#N/A"},{"$error":"#N/A"},{"$error":"#N/A"},2800000,null,328.9500000000001,null,"2016-05-31","2016-05-31","2016-07-31","2018-05-11","2018-08-09",{"$f":"((O77-L77)/7)+2","v":116.28571428571429},"2019-09-15",null,"2016-11-29","2019-01-07","2019-09-15",{"$f":"(U77-T77)/7","v":35.857142857142854},4,4,null,null,null,null,5,5,5,5,5,5,5,5,5,null,null,null,null,null,null,null,null,null,null,null,6,null,null,null,null,null,null,null,null,null,null,null,null,null,null,null,null,null,null,null,null,null,null,null,null,null,null,null,null,null,null,null,null,null,null,null,null,null,null,null,"Ongoing",{"$f":"B77&\", \"&E77&\", \"&CK77","v":{"$error":"#N/A"}},"£1 to £4 million",25.799999999999997,12.899999999999999,25.799999999999997,38.699999999999996,25.799999999999997,{"$f":"VLOOKUP($CM77,AVEHRS_TABLE,7,0)*AVE_WKS_PER_MONTH/2","v":19.349999999999998},38.699999999999996,38.699999999999996,0,0,0,0,25.799999999999997,25.799999999999997,25.799999999999997,25.799999999999997,25.799999999999997,25.799999999999997,25.799999999999997,25.799999999999997,25.799999999999997,{"$f":"IF(AL77>0,CHOOSE(AL77,$CN77,$CO77,$CP77,$CQ77,$CR77,$CS77),0)","v":0},0,0,0,0,0,0,0,0,0,0,19.349999999999998,0,0,0,0,0,0,0,0,0,0,0,0,0,0,0,0,0,0,0,0,0,0,0,0,0,0,0,0,0,0,0,0,0,0,0,0,0,0,0,"END"]
["Spires, Phase 1",{"$error":"#N/A"},{"$error":"#N/A"},{"$error":"#N/A"},{"$error":"#N/A"},{"$error":"#N/A"},54000,null,161.24999999999997,null,"2017-10-01","-","-","2018-04-03","2018-09-30",{"$error":"#VALUE!"},"2018-10-30",null,"2017-05-08","2018-09-30","2018-10-30",4.2857142857142856,4,4,4,5,null,null,null,null,null,null,null,null,null,null,null,6,null,null,null,null,null,null,null,null,null,null,null,null,null,null,null,null,null,null,null,null,null,null,null,null,null,null,null,null,null,null,null,null,null,null,null,null,null,null,null,null,null,null,null,null,null,null,null,null,null,null,"Ongoing",{"$error":"#N/A"},"less than £1m",25.799999999999997,12.899999999999999,25.799999999999997,38.699999999999996,25.799999999999997,{"$f":"VLOOKUP($CM78,AVEHRS_TABLE,7,0)*AVE_WKS_PER_MONTH/2","v":19.349999999999998},{"$f":"IF(W78>0,CHOOSE(W78,$CN78,$CO78,$CP78,$CQ78,$CR78,$CS78),0)","v":38.699999999999996},38.699999999999996,38.699999999999996,25.799999999999997,0,0,0,0,0,0,0,0,0,0,0,19.349999999999998,0,0,0,0,0,0,0,0,0,0,0,0,0,0,0,0,0,0,0,0,0,0,0,0,0,0,0,0,0,0,0,0,0,0,0,0,0,0,0,0,0,0,0,0,0,0,0,0,0,0,"END"]
["Spires, Phase 2",{"$error":"#N/A"},{"$error":"#N/A"},{"$error":"#N/A"},{"$error":"#N/A"},{"$error":"#N/A"},225000,null,70.949999999999989,null,"00:00:00","00:00:00","00:00:00","2018-03-03","2018-07-09",6186.2857142857147,"2018-08-31",null,"N/A",{"$f":"VLOOKUP($A79,BASE_DATA,24,0)","v":{"$error":"#NAME?"}},"2018-08-31",{"$error":"#NAME?"},5,5,null,null,null,null,null,null,null,null,null,null,null,6,null,null,null,null,null,null,null,null,null,null,null,null,null,null,null,null,null,null,null,null,null,null,null,null,null,null,null,null,null,null,null,null,null,null,null,null,null,null,null,null,null,null,null,null,null,null,null,null,null,null,null,null,"Ongoing",{"$error":"#N/A"},"less than £1m",25.799999999999997,12.899999999999999,25.799999999999997,38.699999999999996,25.799999999999997,{"$f":"VLOOKUP($CM79,AVEHRS_TABLE,7,0)*AVE_WKS_PER_MONTH/2","v":19.349999999999998},25.799999999999997,25.799999999999997,0,0,0,0,0,0,0,0,0,0,0,19.349999999999998,0,0,0,0,0,0,0,0,0,0,0,0,0,0,0,0,0,0,0,0,0,0,0,0,0,0,0,0,0,0,0,0,0,0,0,0,0,0,0,0,0,0,0,0,0,0,0,0,0,0,0,0,"END"]
["Spires, Phase 3",{"$error":"#N/A"},{"$error":"#N/A"},{"$error":"#N/A"},{"$error":"#N/A"},{"$error":"#N/A"},0,null,51.599999999999994,null,"00:00:00","00:00:00","00:00:00","2018-07-31","2018-12-03",6207.2857142857147,"2019-02-26",null,"TBC",{"$error":"#NAME?"},"2019-02-26",{"$error":"#NAME?"},4,4,4,4,4,5,5,5,null,null,null,null,null,null,null,null,null,null,null,6,null,null,null,null,null,null,null,null,null,null,null,null,null,null,null,null,null,null,null,null,null,null,null,null,null,null,null,null,null,null,null,null,null,null,null,null,null,null,null,null,null,null,null,null,null,null,"Ongoing",{"$error":"#N/A"},"see earlier phase",0,0,0,0,0,{"$f":"VLOOKUP($CM80,AVEHRS_TABLE,7,0)*AVE_WKS_PER_MONTH","v":51.599999999999994},0,0,0,0,0,0,0,0,0,0,0,0,0,0,0,0,0,0,0,{"$f":"IF(AP80>0,CHOOSE(AP80,$CN80,$CO80,$CP80,$CQ80,$CR80,$CS80),0)","v":51.599999999999994},0,0,0,0,0,0,0,0,0,0,0,0,0,0,0,0,0,0,0,0,0,0,0,0,0,0,{"$f":"IF(BQ80>0,CHOOSE(BQ80,$CN80,$CO80,$CP80,$CQ80,$CR80,$CS80),0)","v":0},0,0,0,0,0,0,0,0,0,0,0,0,0,0,0,0,0,0,0,"END"]
["Laleham Gap",{"$error":"#N/A"},{"$error":"#N/A"},{"$error":"#N/A"},{"$error":"#N/A"},{"$error":"#N/A"},{"$f":"VLOOKUP($A81,BASE_DATA,34,0)","v":{"$error":"#NAME?"}},null,96.749999999999986,null,"2017-08-01","2017-10-01","2018-01-09","2018-02-23","2018-05-22",35.285714285714285,"2018-09-21",null,"2018-05-17",{"$error":"#NAME?"},"2018-09-21",{"$error":"#NAME?"},5,5,5,null,null,null,null,null,null,null,null,null,null,null,6,null,null,null,null,null,null,null,null,null,null,null,null,null,null,null,null,null,null,null,null,null,null,null,null,null,null,null,null,null,null,null,null,null,null,null,null,null,null,null,null,null,null,null,null,null,null,null,null,null,null,null,"Ongoing",{"$error":"#N/A"},"less than £1m",25.799999999999997,12.899999999999999,25.799999999999997,38.699999999999996,25.799999999999997,{"$f":"VLOOKUP($CM81,AVEHRS_TABLE,7,0)*AVE_WKS_PER_MONTH/2","v":19.349999999999998},25.799999999999997,25.799999999999997,25.799999999999997,0,0,0,0,0,0,0,0,0,0,0,19.349999999999998,0,0,0,0,0,0,0,0,0,0,0,0,0,0,0,0,0,0,0,0,0,0,0,0,0,0,0,0,0,0,0,0,0,0,0,0,0,0,0,0,0,0,0,0,0,0,0,0,0,0,0,"END"]
["The Archbishops School",{"$error":"#N/A"},{"$error":"#N/A"},{"$error":"#N/A"},{"$error":"#N/A"},{"$error":"#N/A"},{"$error":"#NAME?"},null,161.24999999999997,null,"2017-06-05","2017-06-26","2017-11-09","2017-11-29","2018-07-14",56.714285714285715,"2018-11-09",null,"2018-03-06",{"$error":"#NAME?"},"2018-11-09",{"$error":"#NAME?"},4,5,5,5,5,null,null,null,null,null,null,null,null,null,null,null,6,null,null,null,null,null,null,null,null,null,null,null,null,null,null,null,null,null,null,null,null,null,null,null,null,null,null,null,null,null,null,null,null,null,null,null,null,null,null,null,null,null,null,null,null,null,null,null,null,null,"Ongoing",{"$error":"#N/A"},"£1 to £4 million",25.799999999999997,12.899999999999999,25.799999999999997,38.699999999999996,25.799999999999997,19.349999999999998,38.699999999999996,25.799999999999997,25.799999999999997,25.799999999999997,25.799999999999997,0,0,0,0,0,0,0,0,0,0,0,19.349999999999998,0,0,0,0,0,0,0,0,0,0,0,0,0,0,0,0,0,0,0,0,0,0,0,0,0,0,0,0,0,0,0,0,0,0,0,0,0,0,0,0,0,0,0,0,0,0,0,0,0,"END"]
["Darenth Community Primary School",{"$error":"#N/A"},{"$error":"#N/A"},{"$error":"#N/A"},{"$error":"#N/A"},{"$error":"#N/A"},{"$error":"#NAME?"},null,225.75000000000003,null,"2017-01-01","2017-07-19","2017-12-08","2018-04-13","2018-08-29",60,"2019-01-12",null,"2018-06-18",{"$error":"#NAME?"},"2019-01-12",{"$error":"#NAME?"},4,4,5,5,5,5,5,null,null,null,null,null,null,null,null,null,null,null,6,null,null,null,null,null,null,null,null,null,null,null,null,null,null,null,null,null,null,null,null,null,null,null,null,null,null,null,null,null,null,null,null,null,null,null,null,null,null,null,null,null,null,null,null,null,null,null,"Ongoing",{"$error":"#N/A"},"£1 to £4 million",25.799999999999997,12.899999999999999,25.799999999999997,38.699999999999996,25.799999999999997,19.349999999999998,38.699999999999996,38.699999999999996,25.799999999999997,25.799999999999997,25.799999999999997,25.799999999999997,25.799999999999997,0,0,0,0,0,0,0,0,0,0,0,19.349999999999998,0,0,0,0,0,0,0,0,0,0,0,0,0,0,0,0,0,0,0,0,0,0,0,0,0,0,0,0,0,0,0,0,0,0,0,0,0,0,0,0,0,0,0,0,0,0,0,"END"]
["Faversham Library ",{"$error":"#N/A"},{"$error":"#N/A"},{"$error":"#N/A"},{"$error":"#N/A"},{"$error":"#N/A"},{"$error":"#NAME?"},null,70.949999999999989,null,"2017-10-01","2017-10-01","2017-10-20","2018-03-07","2018-03-07",24.428571428571427,"2018-10-31",null,"N/A",{"$error":"#NAME?"},"2018-10-31",{"$error":"#NAME?"},null,5,5,null,null,null,null,null,null,null,null,null,null,null,null,6,null,null,null,null,null,null,null,null,null,null,null,null,null,null,null,null,null,null,null,null,null,null,null,null,null,null,null,null,null,null,null,null,null,null,null,null,null,null,null,null,null,null,null,null,null,null,null,null,null,null,"Ongoing",{"$error":"#N/A"},"less than £1m",25.799999999999997,12.899999999999999,25.799999999999997,38.699999999999996,25.799999999999997,19.349999999999998,0,25.799999999999997,25.799999999999997,0,0,0,0,0,0,0,0,0,0,0,0,19.349999999999998,0,0,0,0,0,0,0,0,0,0,0,0,0,0,0,0,0,0,0,0,0,0,0,0,0,0,0,0,0,0,0,0,0,0,0,0,0,0,0,0,0,0,0,0,0,0,0,0,0,0,"END"]
["Dartford Sexual Health Clinic",{"$error":"#N/A"},{"$error":"#N/A"},{"$error":"#N/A"},{"$error":"#N/A"},{"$error":"#N/A"},{"$error":"#NAME?"},null,70.949999999999989,null,{"$f":"VLOOKUP($A85,BASE_DATA,17,0)","v":{"$error":"#NAME?"}},{"$f":"VLOOKUP($A85,BASE_DATA,18,0)","v":{"$error":"#NAME?"}},"-","2017-01-30","2017-09-25",{"$error":"#NAME?"},"2018-07-20",null,"N/A",{"$error":"#NAME?"},"2018-08-03",{"$error":"#NAME?"},5,5,null,null,null,null,null,null,null,null,null,null,null,6,null,null,null,null,null,null,null,null,null,null,null,null,null,null,null,null,null,null,null,null,null,null,null,null,null,null,null,null,null,null,null,null,null,null,null,null,null,null,null,null,null,null,null,null,null,null,null,null,null,null,null,null,"Ongoing",{"$error":"#N/A"},"less than £1m",25.799999999999997,12.899999999999999,25.799999999999997,38.699999999999996,25.799999999999997,19.349999999999998,25.799999999999997,25.799999999999997,0,0,0,0,0,0,0,0,0,0,0,19.349999999999998,0,0,0,0,0,0,0,0,0,0,0,0,0,0,0,0,0,0,0,0,0,0,0,0,0,0,0,0,0,0,0,0,0,0,0,0,0,0,0,0,0,0,0,0,0,0,0,0,0,0,0,0,"END"]
["Pent Valley - Sharman Block",{"$error":"#N/A"},{"$error":"#N/A"},{"$error":"#N/A"},{"$error":"#N/A"},{"$error":"#N/A"},{"$error":"#NAME?"},null,70.949999999999989,null,{"$error":"#NAME?"},{"$error":"#NAME?"},"-","2018-05-25","2018-05-25",{"$error":"#NAME?"},"2018-08-27",null,"2018-03-23",{"$error":"#NAME?"},"2018-08-27",{"$error":"#NAME?"},5,5,null,null,null,null,null,null,null,null,null,null,null,6,null,null,null,null,null,null,null,null,null,null,null,null,null,null,null,null,null,null,null,null,null,null,null,null,null,null,null,null,null,null,null,null,null,null,null,null,null,null,null,null,null,null,null,null,null,null,null,null,null,null,null,null,"Ongoing",{"$error":"#N/A"},"less than £1m",25.799999999999997,12.899999999999999,25.799999999999997,38.699999999999996,25.799999999999997,19.349999999999998,25.799999999999997,25.799999999999997,0,0,0,0,0,0,0,0,0,0,0,19.349999999999998,0,0,0,0,0,0,0,0,0,0,0,0,0,0,0,0,0,0,0,0,0,0,0,0,0,0,0,0,0,0,0,0,0,0,0,0,0,0,0,0,0,0,0,0,0,0,0,0,0,0,0,0,"END"]
["Invicta Car Park",{"$error":"#N/A"},{"$error":"#N/A"},{"$error":"#N/A"},{"$error":"#N/A"},{"$error":"#N/A"},{"$error":"#NAME?"},null,122.54999999999998,null,{"$error":"#NAME?"},{"$error":"#NAME?"},"-","2016-06-01","2017-11-10",{"$error":"#NAME?"},"2018-09-10",null,"N/A",{"$error":"#NAME?"},"2018-10-08",{"$error":"#NAME?"},5,5,5,5,null,null,null,null,null,null,null,null,null,null,null,6,null,null,null,null,null,null,null,null,null,null,null,null,null,null,null,null,null,null,null,null,null,null,null,null,null,null,null,null,null,null,null,null,null,null,null,null,null,null,null,null,null,null,null,null,null,null,null,null,null,null,"Ongoing",{"$error":"#N/A"},"£1 to £4 million",25.799999999999997,12.899999999999999,25.799999999999997,38.699999999999996,25.799999999999997,19.349999999999998,25.799999999999997,25.799999999999997,25.799999999999997,25.799999999999997,0,0,0,0,0,0,0,0,0,0,0,19.349999999999998,0,0,0,0,0,0,0,0,0,0,0,0,0,0,0,0,0,0,0,0,0,0,0,0,0,0,0,0,0,0,0,0,0,0,0,0,0,0,0,0,0,0,0,0,0,0,0,0,0,0,"END"]
["Kent History and Library Centre",{"$error":"#N/A"},{"$error":"#N/A"},{"$error":"#N/A"},{"$error":"#N/A"},{"$error":"#N/A"},{"$error":"#NAME?"},null,"no programme",null,{"$error":"#NAME?"},{"$error":"#NAME?"},"00:00:00","00:00:00","00:00:00",{"$error":"#NAME?"},"00:00:00",null,"00:00:00",{"$error":"#NAME?"},"00:00:00",{"$error":"#NAME?"},null,null,null,null,null,null,null,null,null,null,null,null,null,null,null,null,null,null,null,null,null,null,null,null,null,null,null,null,null,null,null,null,null,null,null,null,null,null,null,null,null,null,null,null,null,null,null,null,null,null,null,null,null,null,null,null,null,null,null,null,null,null,null,null,null,null,"no programme",{"$error":"#N/A"},"less than £1m",25.799999999999997,12.899999999999999,25.799999999999997,38.699999999999996,25.799999999999997,19.349999999999998,0,0,0,0,0,0,0,0,0,0,0,0,0,0,0,0,0,0,0,0,0,0,0,0,0,0,0,0,0,0,0,0,0,0,0,0,0,0,0,0,0,0,0,0,0,0,0,0,0,0,0,0,0,0,0,0,0,0,0,0,0,0,0,0,0,0,"END"]
["St Peter's House",{"$error":"#N/A"},{"$error":"#N/A"},{"$error":"#N/A"},{"$error":"#N/A"},{"$error":"#N/A"},{"$error":"#NAME?"},null,45.149999999999991,null,{"$error":"#NAME?"},{"$error":"#NAME?"},"-","-","2016-07-01",{"$error":"#NAME?"},"2017-10-02",null,"N/A",{"$error":"#NAME?"},"2018-07-18",{"$error":"#NAME?"},5,null,null,null,null,null,null,null,null,null,null,null,6,null,null,null,null,null,null,null,null,null,null,null,null,null,null,null,null,null,null,null,null,null,null,null,null,null,null,null,null,null,null,null,null,null,null,null,null,null,null,null,null,null,null,null,null,null,null,null,null,null,null,null,null,null,"Ongoing",{"$error":"#N/A"},"£1 to £4 million",25.799999999999997,12.899999999999999,25.799999999999997,38.699999999999996,25.799999999999997,19.349999999999998,25.799999999999997,0,0,0,0,0,0,0,0,0,0,0,19.349999999999998,0,0,0,0,0,0,0,0,0,0,0,0,0,0,0,0,0,0,0,0,0,0,0,0,0,0,0,0,0,0,0,0,0,0,0,0,0,0,0,0,0,0,0,0,0,0,0,0,0,0,0,0,0,"END"]
["West Borough PS","West","2433-11-20","2458-10-25",{"$error":"#REF!"},{"$error":"#REF!"},{"$error":"#NAME?"},null,96.749999999999986,null,{"$error":"#NAME?"},{"$error":"#NAME?"},"2017-07-21","2017-06-14","2017-06-14",{"$error":"#NAME?"},"2018-10-16",null,"N/A","2017-07-01","2017-09-04",9.2857142857142865,5,5,5,null,null,null,null,null,null,null,null,null,null,null,6,null,null,null,null,null,null,null,null,null,null,null,null,null,null,null,null,null,null,null,null,null,null,null,null,null,null,null,null,null,null,null,null,null,null,null,null,null,null,null,null,null,null,null,null,null,null,null,null,null,null,null,"Ongoing",{"$error":"#REF!"},"less than £1m",25.799999999999997,12.899999999999999,25.799999999999997,38.699999999999996,25.799999999999997,19.349999999999998,25.799999999999997,25.799999999999997,25.799999999999997,0,0,0,0,0,0,0,0,0,0,0,19.349999999999998,0,0,0,0,0,0,0,0,0,0,0,0,0,0,0,0,0,0,0,0,0,0,0,0,0,0,0,0,0,0,0,0,0,0,0,0,0,0,0,0,0,0,0,0,0,0,0,0,0,0,0,"END"]
["Weald PS","North","3217-10-14","3283-11-22",{"$error":"#REF!"},{"$error":"#REF!"},{"$error":"#NAME?"},null,19.349999999999998,null,{"$error":"#NAME?"},{"$error":"#NAME?"},"2017-02-28","2017-07-28","2017-08-21",{"$error":"#NAME?"},"2018-03-12",null,"2017-07-26",{"$error":"#NAME?"},"2018-03-12",{"$error":"#NAME?"},null,null,null,null,null,null,null,null,6,null,null,null,null,null,null,null,null,null,null,null,null,null,null,null,null,null,null,null,null,null,null,null,null,null,null,null,null,null,null,null,null,null,null,null,null,null,null,null,null,null,null,null,null,null,null,null,null,null,null,null,null,null,null,null,null,null,"Ongoing",{"$error":"#REF!"},"less than £1m",25.799999999999997,12.899999999999999,25.799999999999997,38.699999999999996,25.799999999999997,19.349999999999998,0,0,0,0,0,0,0,0,19.349999999999998,0,0,0,0,0,0,0,0,0,0,0,0,0,0,0,0,0,0,0,0,0,0,0,0,0,0,0,0,0,0,0,0,0,0,0,0,0,0,0,0,0,0,0,0,0,0,0,0,0,0,0,0,0,0,0,0,0,"END"]
["North Farm WTS",{"$error":"#N/A"},{"$error":"#N/A"},{"$error":"#N/A"},{"$error":"#N/A"},{"$error":"#N/A"},{"$error":"#NAME?"},null,19.349999999999998,null,{"$error":"#NAME?"},{"$error":"#NAME?"},"-","00:00:00","2017-09-01",{"$error":"#NAME?"},"2017-12-07",null,"N/A",{"$error":"#NAME?"},"2017-12-07",{"$error":"#NAME?"},null,null,null,null,null,6,null,null,null,null,null,null,null,null,null,null,null,null,null,null,null,null,null,null,null,null,null,null,null,null,null,null,null,null,null,null,null,null,null,null,null,null,null,null,null,null,null,null,null,null,null,null,null,null,null,null,null,null,null,null,null,null,null,null,null,null,"Ongoing",{"$error":"#N/A"},"less than £1m",25.799999999999997,12.899999999999999,25.799999999999997,38.699999999999996,25.799999999999997,19.349999999999998,0,0,0,0,0,19.349999999999998,0,0,0,0,0,0,0,0,0,0,0,0,0,0,0,0,0,0,0,0,0,0,0,0,0,0,0,0,0,0,0,0,0,0,0,0,0,0,0,0,0,0,0,0,0,0,0,0,0,0,0,0,0,0,0,0,0,0,0,0,"END"]
["Ryarsh PS",{"$error":"#N/A"},{"$error":"#N/A"},{"$error":"#N/A"},{"$error":"#N/A"},{"$error":"#N/A"},{"$error":"#NAME?"},null,264.45000000000005,null,{"$error":"#NAME?"},{"$error":"#NAME?"},"2016-05-31","2017-11-06","2018-07-23",{"$error":"#NAME?"},"2019-03-01",null,"2017-11-06",{"$error":"#NAME?"},"2019-03-01",{"$error":"#NAME?"},4,5,5,5,5,5,5,5,5,null,null,null,null,null,null,null,null,null,null,null,6,null,null,null,null,null,null,null,null,null,null,null,null,null,null,null,null,null,null,null,null,null,null,null,null,null,null,null,null,null,null,null,null,null,null,null,null,null,null,null,null,null,null,null,null,null,"Ongoing",{"$error":"#N/A"},"less than £1m",25.799999999999997,12.899999999999999,25.799999999999997,38.699999999999996,25.799999999999997,19.349999999999998,38.699999999999996,25.799999999999997,25.799999999999997,25.799999999999997,25.799999999999997,25.799999999999997,25.799999999999997,25.799999999999997,25.799999999999997,0,0,0,0,0,0,0,0,0,0,0,19.349999999999998,0,0,0,0,0,0,0,0,0,0,0,0,0,0,0,0,0,0,0,0,0,0,0,0,0,0,0,0,0,0,0,0,0,0,0,0,0,0,0,0,0,0,0,0,0,"END"]
["Maplesden Noakes Secondary Expansion, 1FE",{"$error":"#N/A"},{"$error":"#N/A"},{"$error":"#N/A"},{"$error":"#N/A"},{"$error":"#N/A"},{"$error":"#NAME?"},null,612.74999999999989,null,{"$error":"#NAME?"},{"$error":"#NAME?"},"2018-08-01","2018-10-01","2019-02-01",{"$error":"#NAME?"},"2020-08-31",null,"2019-04-26",{"$error":"#NAME?"},"2020-07-01",{"$error":"#NAME?"},3,3,3,3,4,4,4,4,null,null,null,null,5,5,5,5,5,5,5,5,5,5,5,5,5,null,null,null,null,null,null,null,null,null,null,null,6,null,null,null,null,null,null,null,null,null,null,null,null,null,null,null,null,null,null,null,null,null,null,null,null,null,null,null,null,null,"Ongoing",{"$error":"#N/A"},"£1 to £4 million",25.799999999999997,12.899999999999999,25.799999999999997,38.699999999999996,25.799999999999997,19.349999999999998,25.799999999999997,25.799999999999997,25.799999999999997,25.799999999999997,38.699999999999996,38.699999999999996,38.699999999999996,38.699999999999996,0,0,0,0,25.799999999999997,25.799999999999997,25.799999999999997,25.799999999999997,25.799999999999997,25.799999999999997,25.799999999999997,25.799999999999997,25.799999999999997,25.799999999999997,25.799999999999997,25.799999999999997,25.799999999999997,0,0,0,0,0,0,0,0,0,0,0,19.349999999999998,0,0,0,0,0,0,0,0,0,0,0,0,0,0,0,0,0,0,0,0,0,0,0,0,0,0,0,0,0,"END"]
["Joy Lane Primary School Phase 2","East",3500000,3647217.6,{"$error":"#REF!"},{"$error":"#REF!"},{"$error":"#NAME?"},null,19.349999999999998,null,{"$error":"#NAME?"},{"$error":"#NAME?"},"2016-03-04","2016-07-04","2016-08-30",{"$error":"#NAME?"},"2017-09-04",null,"2016-05-24",{"$error":"#NAME?"},"2017-09-04",{"$error":"#NAME?"},null,null,6,null,null,null,null,null,null,null,null,null,null,null,null,null,null,null,null,null,null,null,null,null,null,null,null,null,null,null,null,null,null,null,null,null,null,null,null,null,null,null,null,null,null,null,null,null,null,null,null,null,null,null,null,null,null,null,null,null,null,null,null,null,null,null,"Ongoing",{"$error":"#REF!"},"£1 to £4 million",25.799999999999997,12.899999999999999,25.799999999999997,38.699999999999996,25.799999999999997,19.349999999999998,{"$f":"IF(W95>0,CHOOSE(W95,$CN95,$CO95,$CP95,$CQ95,$CR95,$CS95),0)","v":0},0,19.349999999999998,0,0,0,0,0,0,0,0,0,0,0,0,0,0,0,0,0,0,0,0,0,0,0,0,0,0,0,0,0,0,0,0,0,0,0,0,0,0,{"$f":"IF(BL95>0,CHOOSE(BL95,$CN95,$CO95,$CP95,$CQ95,$CR95,$CS95),0)","v":0},0,0,0,0,0,0,0,0,0,0,0,0,0,0,0,0,0,0,0,0,0,0,0,0,"END"]
["Avenue of Remembrance",{"$error":"#N/A"},{"$error":"#N/A"},{"$error":"#N/A"},{"$error":"#N/A"},{"$error":"#N/A"},{"$error":"#NAME?"},null,19.349999999999998,null,{"$error":"#NAME?"},{"$error":"#NAME?"},"2016-05-04","2016-07-08","2016-07-08",{"$error":"#NAME?"},"2017-12-20",null,"2018-01-05",{"$error":"#NAME?"},"2017-12-20",{"$error":"#NAME?"},null,null,null,null,6,null,null,null,null,null,null,null,null,null,null,null,null,null,null,null,null,null,null,null,null,null,null,null,null,null,null,null,null,null,null,null,null,null,null,null,null,null,null,null,null,null,null,null,null,null,null,null,null,null,null,null,null,null,null,null,null,null,null,null,null,null,"Ongoing",{"$error":"#N/A"},"£1 to £4 million",25.799999999999997,12.899999999999999,25.799999999999997,38.699999999999996,25.799999999999997,19.349999999999998,0,0,0,0,19.349999999999998,0,0,0,0,0,0,0,0,0,0,0,0,0,0,0,0,0,0,0,0,0,0,0,0,0,0,0,0,0,0,{"$f":"IF(BF96>0,CHOOSE(BF96,$CN96,$CO96,$CP96,$CQ96,$CR96,$CS96),0)","v":0},0,0,0,0,0,0,0,0,0,0,0,0,0,0,0,0,0,0,0,0,0,0,0,0,0,0,0,0,0,0,"END"]
["Coxheath Primary School","West","3542-09-28","3483-10-02",{"$error":"#REF!"},{"$error":"#REF!"},{"$error":"#NAME?"},null,19.349999999999998,null,{"$error":"#NAME?"},{"$error":"#NAME?"},"-","2017-03-14","2017-08-14",{"$error":"#NAME?"},"2018-02-19",null,"2016-12-08",{"$error":"#NAME?"},"2018-02-19",{"$error":"#NAME?"},null,null,null,null,null,null,null,6,null,null,null,null,null,null,null,null,null,null,null,null,null,null,null,null,null,null,null,null,null,null,null,null,null,null,null,null,null,null,null,null,null,null,null,null,null,null,null,null,null,null,null,null,null,null,null,null,null,null,null,null,null,null,null,null,null,null,"Ongoing",{"$error":"#REF!"},"less than £1m",25.799999999999997,12.899999999999999,25.799999999999997,38.699999999999996,25.799999999999997,19.349999999999998,0,0,0,0,0,0,0,19.349999999999998,0,0,0,0,0,0,0,0,0,0,0,0,0,0,0,0,0,0,0,0,0,0,0,0,0,0,0,0,0,0,0,0,0,0,0,0,0,0,0,0,0,0,0,0,0,0,0,0,0,0,0,0,0,0,0,0,0,0,"END"]
["Wouldham PS",{"$error":"#N/A"},{"$error":"#N/A"},{"$error":"#N/A"},{"$error":"#N/A"},{"$error":"#N/A"},{"$error":"#NAME?"},null,51.599999999999994,null,{"$error":"#NAME?"},{"$error":"#NAME?"},"-","-","2017-03-13",{"$error":"#NAME?"},"2018-02-12",null,"2016-07-14",{"$error":"#NAME?"},"2018-02-12",{"$error":"#NAME?"},null,null,null,null,null,null,null,6,null,null,null,null,null,null,null,null,null,null,null,null,null,null,null,null,null,null,null,null,null,null,null,null,null,null,null,null,null,null,null,null,null,null,null,null,null,null,null,null,null,null,null,null,null,null,null,null,null,null,null,null,null,null,null,null,null,null,"Ongoing",{"$error":"#N/A"},"over £8 million",25.799999999999997,38.699999999999996,51.599999999999994,60.199999999999996,73.099999999999994,{"$f":"VLOOKUP($CM98,AVEHRS_TABLE,7,0)*AVE_WKS_PER_MONTH","v":51.599999999999994},0,0,0,0,0,0,0,51.599999999999994,0,0,0,0,0,0,0,0,0,0,0,0,0,0,0,0,0,0,0,0,0,0,0,0,0,0,0,0,0,0,0,0,0,0,0,0,0,0,0,0,0,0,0,0,0,0,0,0,0,0,0,0,0,0,0,0,0,0,"END"]
["Wentworth PS","North","9018-07-22","8323-02-16",{"$error":"#REF!"},{"$error":"#REF!"},{"$error":"#NAME?"},null,19.349999999999998,null,{"$error":"#NAME?"},{"$error":"#NAME?"},"-","-","2017-03-13",{"$error":"#NAME?"},"2017-08-25",null,"2016-12-09",{"$error":"#NAME?"},"2017-08-25",{"$error":"#NAME?"},null,6,null,null,null,null,null,null,null,null,null,null,null,null,null,null,null,null,null,null,null,null,null,null,null,null,null,null,null,null,null,null,null,null,null,null,null,null,null,null,null,null,null,null,null,null,null,null,null,null,null,null,null,null,null,null,null,null,null,null,null,null,null,null,null,null,"Ongoing",{"$error":"#REF!"},"£1 to £4 million",25.799999999999997,12.899999999999999,25.799999999999997,38.699999999999996,25.799999999999997,{"$f":"VLOOKUP($CM99,AVEHRS_TABLE,7,0)*AVE_WKS_PER_MONTH/2","v":19.349999999999998},0,19.349999999999998,0,0,0,0,0,0,0,0,0,0,0,0,0,0,0,0,0,0,0,0,0,0,0,0,0,0,0,0,0,0,0,0,0,0,0,0,0,0,0,0,0,0,0,0,0,0,0,0,0,0,0,0,0,0,0,0,0,0,0,0,0,0,0,0,"END"]
["Ridgeview School",{"$error":"#N/A"},{"$error":"#N/A"},{"$error":"#N/A"},{"$error":"#N/A"},{"$error":"#N/A"},{"$error":"#NAME?"},null,73.099999999999994,null,{"$error":"#NAME?"},{"$error":"#NAME?"},"-","-","2016-06-24",{"$error":"#NAME?"},"2017-08-29",null,"2016-04-06",{"$error":"#NAME?"},"2017-08-29",{"$error":"#NAME?"},null,6,null,null,null,null,null,null,null,null,null,null,null,null,null,null,null,null,null,null,null,null,null,null,null,null,null,null,null,null,null,null,null,null,null,null,null,null,null,null,null,null,null,null,null,null,null,null,null,null,null,null,null,null,null,null,null,null,null,null,null,null,null,null,null,null,"Ongoing",{"$error":"#N/A"},"circa £20 million",25.799999999999997,51.599999999999994,60.199999999999996,94.6,73.099999999999994,{"$f":"VLOOKUP($CM100,AVEHRS_TABLE,7,0)*AVE_WKS_PER_MONTH","v":73.099999999999994},0,73.099999999999994,0,0,0,0,0,0,0,0,0,0,0,0,0,0,0,0,0,0,0,0,0,0,0,0,0,0,0,0,0,0,0,0,{"$f":"IF(BE100>0,CHOOSE(BE100,$CN100,$CO100,$CP100,$CQ100,$CR100,$CS100),0)","v":0},0,0,0,0,0,0,0,0,0,0,0,0,0,0,0,0,0,0,0,0,0,0,0,0,0,0,0,0,0,0,0,"END"]
["Weald of Kent Grammar",{"$error":"#N/A"},{"$error":"#N/A"},{"$error":"#N/A"},{"$error":"#N/A"},{"$error":"#N/A"},{"$error":"#NAME?"},null,73.099999999999994,null,{"$error":"#NAME?"},{"$error":"#NAME?"},"-","-","2016-08-18",{"$error":"#NAME?"},"2017-08-15",null,"2014-07-11",{"$error":"#NAME?"},"2017-08-15",{"$error":"#NAME?"},null,6,null,null,null,null,null,null,null,null,null,null,null,null,null,null,null,null,null,null,null,null,null,null,null,null,null,null,null,null,null,null,null,null,null,null,null,null,null,null,null,null,null,null,null,null,null,null,null,null,null,null,null,null,null,null,null,null,null,null,null,null,null,null,null,null,"Ongoing",{"$error":"#N/A"},"circa £20 million",25.799999999999997,51.599999999999994,60.199999999999996,94.6,73.099999999999994,{"$f":"VLOOKUP($CM101,AVEHRS_TABLE,7,0)*AVE_WKS_PER_MONTH","v":73.099999999999994},0,73.099999999999994,0,0,0,0,0,0,0,0,0,0,0,0,0,0,0,0,0,0,0,0,0,0,0,0,0,0,0,0,0,{"$f":"IF(BB101>0,CHOOSE(BB101,$CN101,$CO101,$CP101,$CQ101,$CR101,$CS101),0)","v":0},0,0,0,0,0,0,0,0,0,0,0,0,0,0,0,0,0,0,0,0,0,0,0,0,0,0,0,0,0,0,0,0,0,0,"END"]
["Finberry PS, New PS",{"$error":"#N/A"},{"$error":"#N/A"},{"$error":"#N/A"},{"$error":"#N/A"},{"$error":"#N/A"},{"$error":"#NAME?"},null,36.11999999999999,null,{"$error":"#NAME?"},{"$error":"#NAME?"},"2015-04-01","2015-07-14","2016-06-17",{"$error":"#NAME?"},"2017-07-20",null,"2015-10-21",{"$error":"#NAME?"},"2017-08-04",{"$error":"#NAME?"},null,6,null,null,null,null,null,null,null,null,null,null,null,null,null,null,null,null,null,null,null,null,null,null,null,null,null,null,null,null,null,null,null,null,null,null,null,null,null,null,null,null,null,null,null,null,null,null,null,null,null,null,null,null,null,null,null,null,null,null,null,null,null,null,null,null,"Ongoing",{"$error":"#N/A"},"£4 to £8 million",25.799999999999997,25.799999999999997,51.599999999999994,73.099999999999994,51.599999999999994,{"$f":"VLOOKUP($CM102,AVEHRS_TABLE,7,0)*AVE_WKS_PER_MONTH*70%","v":36.11999999999999},0,36.11999999999999,0,0,0,0,0,0,0,0,0,0,0,0,0,0,0,0,0,0,0,0,0,0,0,0,0,0,0,0,0,0,0,0,0,0,0,0,0,0,0,0,0,0,0,0,0,0,0,0,0,0,0,0,0,0,0,0,0,0,0,0,0,0,0,0,"END"]
["Birchington PS","East","9429-03-29","8577-08-24T22:04:48",{"$error":"#REF!"},{"$error":"#REF!"},{"$error":"#NAME?"},null,"completed",null,{"$error":"#NAME?"},{"$error":"#NAME?"},"2016-02-01","2017-03-01","2016-05-27",{"$error":"#NAME?"},"2017-06-05",null,"2015-12-22",{"$error":"#NAME?"},"2017-04-10",{"$error":"#NAME?"},null,null,null,null,null,null,null,null,null,null,null,null,null,null,null,null,null,null,null,null,null,null,null,null,null,null,null,null,null,null,null,null,null,null,null,null,null,null,null,null,null,null,null,null,null,null,null,null,null,null,null,null,null,null,null,null,null,null,null,null,null,null,null,null,null,null,"completed",{"$error":"#REF!"},"£1 to £4 million",25.799999999999997,12.899999999999999,25.799999999999997,38.699999999999996,25.799999999999997,{"$f":"VLOOKUP($CM103,AVEHRS_TABLE,7,0)*AVE_WKS_PER_MONTH/2","v":19.349999999999998},0,0,0,0,0,0,0,0,0,0,0,0,0,0,0,0,0,0,0,0,0,0,0,0,0,0,0,0,0,0,0,0,0,0,0,0,0,0,0,0,0,0,0,0,0,0,0,0,0,0,0,0,0,0,0,0,0,0,0,0,0,0,0,0,0,0,"END"]
["South Borough PS","West","9018-07-22","7838-07-17T20:38:24",{"$error":"#REF!"},{"$error":"#REF!"},{"$error":"#NAME?"},null,"completed",null,{"$error":"#NAME?"},{"$error":"#NAME?"},"2016-02-01","2016-04-01","2016-11-18",{"$error":"#NAME?"},"2017-07-10",null,"2016-07-14",{"$error":"#NAME?"},"2017-07-03",{"$error":"#NAME?"},null,null,null,null,null,null,null,null,null,null,null,null,null,null,null,null,null,null,null,null,null,null,null,null,null,null,null,null,null,null,null,null,null,null,null,null,null,null,null,null,null,null,null,null,null,null,null,null,null,null,null,null,null,null,null,null,null,null,null,null,null,null,null,null,null,null,"completed",{"$error":"#REF!"},"£1 to £4 million",25.799999999999997,12.899999999999999,25.799999999999997,38.699999999999996,25.799999999999997,{"$f":"VLOOKUP($CM104,AVEHRS_TABLE,7,0)*AVE_WKS_PER_MONTH/2","v":19.349999999999998},0,0,0,0,0,0,0,0,0,0,0,0,0,0,0,0,0,0,0,0,0,0,0,0,0,0,0,0,0,0,0,0,0,0,0,0,0,0,0,0,0,0,0,0,0,0,0,0,0,0,0,0,0,0,0,0,0,0,0,0,0,0,0,0,0,0,"END"]
["Oakley PS (Nursery)","West","4624-03-19","4534-05-29T04:19:12",{"$error":"#REF!"},{"$error":"#REF!"},{"$error":"#NAME?"},null,{"$f":"SUM(CT105:FG105)","v":19.349999999999998},null,{"$error":"#NAME?"},{"$error":"#NAME?"},"2017-02-01","2017-03-01","2017-04-28",null,"2017-09-08",null,"2017-04-24",{"$error":"#NAME?"},"2017-08-15",{"$error":"#NAME?"},null,6,null,null,null,null,null,null,null,null,null,null,null,null,null,null,null,null,null,null,null,null,null,null,null,null,null,null,null,null,null,null,null,null,null,null,null,null,null,null,null,null,null,null,null,null,null,null,null,null,null,null,null,null,null,null,null,null,null,null,null,null,null,null,null,null,"Ongoing",{"$error":"#REF!"},"£1 to £4 million",25.799999999999997,12.899999999999999,25.799999999999997,38.699999999999996,25.799999999999997,{"$f":"VLOOKUP($CM105,AVEHRS_TABLE,7,0)*AVE_WKS_PER_MONTH/2","v":19.349999999999998},0,19.349999999999998,0,0,0,0,0,0,0,0,0,0,0,0,0,0,0,0,0,0,0,0,0,0,0,0,0,0,0,0,0,0,0,0,0,0,0,0,0,0,0,0,0,0,0,0,0,0,0,0,0,0,0,0,0,0,0,0,0,0,0,0,0,0,0,0,"END"]
["Southborough Hub",{"$error":"#N/A"},{"$error":"#N/A"},{"$error":"#N/A"},{"$error":"#N/A"},{"$error":"#N/A"},{"$error":"#NAME?"},null,1461.9999999999995,null,{"$error":"#NAME?"},{"$error":"#NAME?"},"00:00:00","2018-10-30","2019-01-28",{"$error":"#NAME?"},"Summer 2020 subject to SOS April 19",null,"2017-12-15",{"$error":"#NAME?"},"2020-05-01",{"$error":"#NAME?"},3,3,3,3,4,4,4,null,null,5,5,5,5,5,5,5,5,5,5,5,5,5,5,null,null,null,null,null,null,null,null,null,null,null,6,null,null,null,null,null,null,null,null,null,null,null,null,null,null,null,null,null,null,null,null,null,null,null,null,null,null,null,null,null,null,null,"Ongoing",{"$error":"#N/A"},"over £8 million",25.799999999999997,38.699999999999996,51.599999999999994,60.199999999999996,73.099999999999994,{"$f":"VLOOKUP($CM106,AVEHRS_TABLE,7,0)*AVE_WKS_PER_MONTH","v":51.599999999999994},51.599999999999994,51.599999999999994,51.599999999999994,51.599999999999994,60.199999999999996,60.199999999999996,60.199999999999996,0,0,73.099999999999994,73.099999999999994,73.099999999999994,73.099999999999994,73.099999999999994,73.099999999999994,73.099999999999994,73.099999999999994,73.099999999999994,73.099999999999994,73.099999999999994,73.099999999999994,73.099999999999994,73.099999999999994,0,0,0,0,0,0,0,0,0,0,0,51.599999999999994,0,0,0,0,0,0,0,0,0,0,0,0,0,0,0,0,0,0,0,0,0,0,0,0,0,0,0,0,0,0,0,"END"]
["Dover Discovery Centre",{"$error":"#N/A"},{"$error":"#N/A"},{"$error":"#N/A"},{"$error":"#N/A"},{"$error":"#N/A"},{"$error":"#NAME?"},null,1291.7199999999998,null,{"$error":"#NAME?"},{"$error":"#NAME?"},"TBC","TBC","TBC",{"$error":"#VALUE!"},"TBC",null,"None","2019-12-01","2020-12-01",52.285714285714285,null,null,null,null,1,2,2,2,2,3,3,3,3,3,3,4,4,5,5,5,5,5,5,5,5,5,5,5,5,5,null,null,null,null,null,null,null,null,null,null,null,6,null,null,null,null,null,null,null,null,null,null,null,null,null,null,null,null,null,null,null,null,null,null,null,null,"Ongoing",{"$error":"#N/A"},"£4 to £8 million",25.799999999999997,25.799999999999997,51.599999999999994,73.099999999999994,51.599999999999994,{"$f":"VLOOKUP($CM107,AVEHRS_TABLE,7,0)*AVE_WKS_PER_MONTH*70%","v":36.11999999999999},0,0,0,0,25.799999999999997,25.799999999999997,25.799999999999997,25.799999999999997,25.799999999999997,51.599999999999994,51.599999999999994,51.599999999999994,51.599999999999994,51.599999999999994,51.599999999999994,73.099999999999994,73.099999999999994,51.599999999999994,51.599999999999994,51.599999999999994,51.599999999999994,51.599999999999994,51.599999999999994,51.599999999999994,51.599999999999994,51.599999999999994,51.599999999999994,51.599999999999994,51.599999999999994,51.599999999999994,0,0,0,0,0,0,0,0,0,0,0,36.11999999999999,0,0,0,0,0,0,0,0,0,0,0,0,0,0,0,0,0,0,0,0,0,0,0,0,"END"]
["Queen's House Folkestone to Cheriton House",{"$f":"VLOOKUP($A108,MASTER_DATABASE,2,0)","v":{"$error":"#N/A"}},{"$f":"VLOOKUP($A108,MASTER_DATABASE,4,0)","v":{"$error":"#N/A"}},{"$f":"VLOOKUP($A108,MASTER_DATABASE,5,0)","v":{"$error":"#N/A"}},{"$f":"VLOOKUP($A108,MASTER_DATABASE,6,0)","v":{"$error":"#N/A"}},{"$f":"VLOOKUP($A108,MASTER_DATABASE,54,0)","v":{"$error":"#N/A"}},360000,null,45.149999999999991,null,"n/a","n/a","n/a","n/a","n/a",{"$error":"#VALUE!"},null,null,"By landlord","2018-02-01","2018-07-13",23.142857142857142,5,null,null,null,null,null,null,null,null,null,null,null,6,null,null,null,null,null,null,null,null,null,null,null,null,null,null,null,null,null,null,null,null,null,null,null,null,null,null,null,null,null,null,null,null,null,null,null,null,null,null,null,null,null,null,null,null,null,null,null,null,null,null,null,null,null,"Ongoing",{"$error":"#N/A"},"less than £1m",{"$f":"VLOOKUP($CM108,AVEHRS_TABLE,2,0)*AVE_WKS_PER_MONTH","v":25.799999999999997},{"$f":"VLOOKUP($CM108,AVEHRS_TABLE,3,0)*AVE_WKS_PER_MONTH","v":12.899999999999999},{"$f":"VLOOKUP($CM108,AVEHRS_TABLE,4,0)*AVE_WKS_PER_MONTH","v":25.799999999999997},{"$f":"VLOOKUP($CM108,AVEHRS_TABLE,5,0)*AVE_WKS_PER_MONTH","v":38.699999999999996},{"$f":"VLOOKUP($CM108,AVEHRS_TABLE,6,0)*AVE_WKS_PER_MONTH","v":25.799999999999997},{"$f":"VLOOKUP($CM108,AVEHRS_TABLE,7,0)*AVE_WKS_PER_MONTH/2","v":19.349999999999998},25.799999999999997,0,0,0,0,0,0,0,0,0,0,0,19.349999999999998,0,0,0,0,0,0,0,0,0,0,0,0,0,0,0,0,0,0,0,0,0,0,0,0,0,0,0,0,0,0,0,0,0,0,0,0,0,0,0,0,0,0,0,0,0,0,0,0,0,0,0,0,0,"END"]
["Coroners Phase 2",{"$error":"#N/A"},{"$error":"#N/A"},{"$error":"#N/A"},{"$error":"#N/A"},{"$error":"#N/A"},2415500,null,496.65000000000003,null,"2017-08-01","2018-03-01","2018-07-01","2019-01-01","2019-05-01",62.857142857142854,"2019-10-01",null,"TBC","2019-04-01","2019-11-01",30.571428571428573,2,3,3,3,3,3,3,4,4,4,4,5,5,5,5,5,5,null,null,null,null,null,null,null,null,null,null,null,6,null,null,null,null,null,null,null,null,null,null,null,null,null,null,null,null,null,null,null,null,null,null,null,null,null,null,null,null,null,null,null,null,null,null,null,null,null,"Ongoing",{"$error":"#N/A"},"£1 to £4 million",25.799999999999997,12.899999999999999,25.799999999999997,38.699999999999996,25.799999999999997,{"$f":"VLOOKUP($CM109,AVEHRS_TABLE,7,0)*AVE_WKS_PER_MONTH/2","v":19.349999999999998},12.899999999999999,25.799999999999997,25.799999999999997,25.799999999999997,25.799999999999997,25.799999999999997,25.799999999999997,38.699999999999996,38.699999999999996,38.699999999999996,38.699999999999996,25.799999999999997,25.799999999999997,25.799999999999997,25.799999999999997,25.799999999999997,25.799999999999997,0,0,0,0,0,0,0,0,0,0,0,19.349999999999998,0,0,0,0,0,0,0,0,0,0,0,0,0,0,0,0,0,0,0,0,0,0,0,0,0,0,0,0,0,0,0,0,0,0,0,0,0,"END"]
["Barton Court Free School","East",24790856,24790856,{"$error":"#REF!"},{"$error":"#REF!"},20600000,null,2158.599999999999,null,"2018-06-22","2018-09-28","2019-04-02","2019-06-13","2019-08-27",49.571428571428569,"2021-06-18",null,"2019-09-19","2019-12-17","2021-06-18",78.428571428571431,null,null,1,2,2,2,2,2,2,2,3,3,4,4,null,null,null,5,5,5,5,5,5,5,5,5,5,5,5,5,5,5,5,5,5,5,null,null,null,null,null,null,null,null,null,null,null,6,null,null,null,null,null,null,null,null,null,null,null,null,null,null,null,null,null,null,"Ongoing",{"$error":"#REF!"},"circa £20 million",25.799999999999997,51.599999999999994,60.199999999999996,94.6,73.099999999999994,{"$f":"VLOOKUP($CM110,AVEHRS_TABLE,7,0)*AVE_WKS_PER_MONTH","v":73.099999999999994},0,0,25.799999999999997,51.599999999999994,51.599999999999994,51.599999999999994,51.599999999999994,51.599999999999994,51.599999999999994,51.599999999999994,60.199999999999996,60.199999999999996,94.6,94.6,0,0,0,73.099999999999994,73.099999999999994,73.099999999999994,73.099999999999994,73.099999999999994,73.099999999999994,73.099999999999994,73.099999999999994,73.099999999999994,73.099999999999994,73.099999999999994,73.099999999999994,73.099999999999994,73.099999999999994,73.099999999999994,73.099999999999994,73.099999999999994,73.099999999999994,73.099999999999994,0,0,0,0,0,0,0,0,0,0,0,73.099999999999994,0,0,0,0,0,0,0,0,0,0,0,0,0,0,0,0,0,0,"END"]
["St Andrew's PS","West",8561038,8561038,{"$error":"#REF!"},{"$error":"#REF!"},0,null,1307.1999999999998,null,"2018-07-31","2019-01-11","2019-05-10","2019-11-08","2020-01-17",55,"2020-03-14",null,"TBC","2020-02-10","2021-02-05",51.571428571428569,null,null,null,null,null,null,1,2,2,2,2,3,3,3,3,3,3,4,4,5,5,5,5,5,5,5,5,5,5,5,5,5,null,null,null,null,null,null,null,null,null,null,null,6,null,null,null,null,null,null,null,null,null,null,null,null,null,null,null,null,null,null,null,null,null,null,"Ongoing",{"$error":"#REF!"},"£4 to £8 million",25.799999999999997,25.799999999999997,51.599999999999994,73.099999999999994,51.599999999999994,{"$f":"VLOOKUP($CM111,AVEHRS_TABLE,7,0)*AVE_WKS_PER_MONTH","v":51.599999999999994},0,0,0,0,0,0,25.799999999999997,25.799999999999997,25.799999999999997,25.799999999999997,25.799999999999997,51.599999999999994,51.599999999999994,51.599999999999994,51.599999999999994,51.599999999999994,51.599999999999994,73.099999999999994,73.099999999999994,51.599999999999994,51.599999999999994,51.599999999999994,51.599999999999994,51.599999999999994,51.599999999999994,51.599999999999994,{"$f":"IF(AW111>0,CHOOSE(AW111,$CN111,$CO111,$CP111,$CQ111,$CR111,$CS111),0)","v":51.599999999999994},51.599999999999994,51.599999999999994,51.599999999999994,51.599999999999994,51.599999999999994,0,0,0,0,0,0,0,0,0,0,0,51.599999999999994,0,0,0,0,0,0,0,0,0,0,0,0,0,0,0,0,0,0,0,0,0,0,"END"]
["Dover Girls Grammar",{"$error":"#N/A"},{"$error":"#N/A"},{"$error":"#N/A"},{"$error":"#N/A"},{"$error":"#N/A"},0,null,"school managed",null,"00:00:00","00:00:00","00:00:00","00:00:00","00:00:00",2,"00:00:00",null,"00:00:00","00:00:00","00:00:00",0,null,null,null,null,null,null,null,null,null,null,null,null,null,null,null,null,null,null,null,null,null,null,null,null,null,null,null,null,null,null,null,null,null,null,null,null,null,null,null,null,null,null,null,null,null,null,null,null,null,null,null,null,null,null,null,null,null,null,null,null,null,null,null,null,null,null,"School Managed",{"$error":"#N/A"},"£1 to £4 million",25.799999999999997,12.899999999999999,25.799999999999997,38.699999999999996,25.799999999999997,{"$f":"VLOOKUP($CM112,AVEHRS_TABLE,7,0)*AVE_WKS_PER_MONTH","v":38.699999999999996},{"$f":"IF(W112>0,CHOOSE(W112,$CN112,$CO112,$CP112,$CQ112,$CR112,$CS112),0)","v":0},0,0,0,0,0,0,0,0,0,0,0,0,0,0,0,{"$f":"IF(AM112>0,CHOOSE(AM112,$CN112,$CO112,$CP112,$CQ112,$CR112,$CS112),0)","v":0},0,0,0,0,0,0,0,0,0,0,0,0,0,0,0,0,0,0,0,0,0,0,0,0,0,0,0,0,0,0,0,0,0,{"$f":"IF(BU112>0,CHOOSE(BU112,$CN112,$CO112,$CP112,$CQ112,$CR112,$CS112),0)","v":0},0,0,0,0,0,0,0,0,0,0,0,0,0,0,0,"END"]
["St George's (Gravesend)","North","9292-05-05","9018-07-22",{"$error":"#REF!"},{"$error":"#REF!"},3300000,null,{"$f":"SUM(CT113:FG113)","v":535.35000000000014},null,"2018-03-02","2018-04-20","2018-05-25","2018-07-06","2018-11-02",30,"2019-12-01",null,"TBC","2018-12-01","2019-12-01",52.142857142857146,3,4,4,4,4,5,5,5,5,5,5,5,5,5,5,5,5,5,null,null,null,null,null,null,null,null,null,null,null,6,null,null,null,null,null,null,null,null,null,null,null,null,null,null,null,null,null,null,null,null,null,null,null,null,null,null,null,null,null,null,null,null,null,null,null,null,"Ongoing",{"$error":"#REF!"},"£1 to £4 million",25.799999999999997,12.899999999999999,25.799999999999997,38.699999999999996,25.799999999999997,{"$f":"VLOOKUP($CM113,AVEHRS_TABLE,7,0)*AVE_WKS_PER_MONTH/2","v":19.349999999999998},25.799999999999997,38.699999999999996,38.699999999999996,38.699999999999996,38.699999999999996,25.799999999999997,25.799999999999997,25.799999999999997,25.799999999999997,25.799999999999997,25.799999999999997,25.799999999999997,25.799999999999997,25.799999999999997,25.799999999999997,25.799999999999997,25.799999999999997,25.799999999999997,0,0,0,0,0,0,0,0,0,0,0,19.349999999999998,0,0,0,0,0,0,0,0,0,0,0,0,0,0,0,0,0,0,0,0,0,0,0,0,0,0,0,0,0,0,0,0,0,0,0,0,"END"]
["Wickhambreaux","East","2250-04-26","2250-04-26",{"$error":"#REF!"},{"$error":"#REF!"},0,null,{"$f":"SUM(CT114:FG114)","v":116.1},null,"00:00:00","00:00:00","00:00:00","00:00:00","00:00:00",2,"00:00:00",null,"00:00:00","2018-07-01","2018-09-01",8.8571428571428577,5,5,5,null,null,null,null,null,null,null,null,null,null,null,6,null,null,null,null,null,null,null,null,null,null,null,null,null,null,null,null,null,null,null,null,null,null,null,null,null,null,null,null,null,null,null,null,null,null,null,null,null,null,null,null,null,null,null,null,null,null,null,null,null,null,null,"Ongoing",{"$error":"#REF!"},"less than £1m",25.799999999999997,12.899999999999999,25.799999999999997,38.699999999999996,25.799999999999997,{"$f":"VLOOKUP($CM114,AVEHRS_TABLE,7,0)*AVE_WKS_PER_MONTH","v":38.699999999999996},25.799999999999997,25.799999999999997,25.799999999999997,0,0,0,0,0,0,0,0,0,0,0,38.699999999999996,0,0,0,0,0,0,0,0,0,0,0,0,0,0,0,0,0,0,0,0,0,0,0,0,0,0,0,0,0,0,0,0,0,0,0,0,0,0,0,0,0,0,0,0,0,0,0,0,0,0,0,"END"]
["Stone Bay School","East","2173-10-14","1982-02-18",{"$error":"#REF!"},{"$error":"#REF!"},0,null,"on hold",null,"00:00:00","00:00:00","00:00:00","00:00:00","00:00:00",2,"00:00:00",null,"00:00:00",{"$f":"VLOOKUP($A115,BASE_DATA,24,0)","v":{"$error":"#NAME?"}},{"$f":"VLOOKUP($A115,BASE_DATA,26,0)","v":{"$error":"#NAME?"}},{"$error":"#NAME?"},null,null,null,null,null,null,null,null,null,null,null,null,null,null,null,null,null,null,null,null,null,null,null,null,null,null,null,null,null,null,null,null,null,null,null,null,null,null,null,null,null,null,null,null,null,null,null,null,null,null,null,null,null,null,null,null,null,null,null,null,null,null,null,null,null,null,"On Hold",{"$error":"#REF!"},"less than £1m",25.799999999999997,12.899999999999999,25.799999999999997,38.699999999999996,25.799999999999997,38.699999999999996,0,0,0,0,0,0,0,0,0,0,0,0,0,0,0,0,0,0,0,0,0,0,0,0,0,0,0,0,0,0,0,0,0,0,0,0,0,0,0,0,0,0,0,0,0,0,0,0,0,0,0,0,0,0,0,0,0,0,0,0,0,0,0,0,0,0,"END"]
["Maidstone Boys Grammar","West",3580000,3580000,{"$error":"#REF!"},{"$error":"#REF!"},0,null,"school managed",null,"00:00:00","00:00:00","00:00:00","00:00:00","00:00:00",null,"00:00:00",null,"00:00:00",{"$error":"#NAME?"},{"$error":"#NAME?"},{"$error":"#NAME?"},null,null,null,null,null,null,null,null,null,null,null,null,null,null,null,null,null,null,null,null,null,null,null,null,null,null,null,null,null,null,null,null,null,null,null,null,null,null,null,null,null,null,null,null,null,null,null,null,null,null,null,null,null,null,null,null,null,null,null,null,null,null,null,null,null,null,"School Managed",{"$error":"#REF!"},"£1 to £4 million",25.799999999999997,12.899999999999999,25.799999999999997,38.699999999999996,25.799999999999997,38.699999999999996,0,0,0,0,0,0,0,0,0,0,0,0,0,0,0,0,0,0,0,0,0,0,0,0,0,0,0,0,0,0,0,0,0,0,0,0,0,0,0,0,0,0,0,0,0,0,0,0,0,0,0,0,0,0,0,0,0,0,0,0,0,0,0,0,0,0,"END"]
["Lawn PS","North","1953-10-31","1953-10-31",{"$error":"#REF!"},{"$error":"#REF!"},0,null,"on hold",null,"00:00:00","00:00:00","00:00:00","00:00:00","00:00:00",null,"00:00:00",null,"00:00:00",{"$error":"#NAME?"},{"$error":"#NAME?"},{"$error":"#NAME?"},null,null,null,null,null,null,null,null,null,null,null,null,null,null,null,null,null,null,null,null,null,null,null,null,null,null,null,null,null,null,null,null,null,null,null,null,null,null,null,null,null,null,null,null,null,null,null,null,null,null,null,null,null,null,null,null,null,null,null,null,null,null,null,null,null,null,"On Hold",{"$error":"#REF!"},"£1 to £4 million",25.799999999999997,12.899999999999999,25.799999999999997,38.699999999999996,25.799999999999997,38.699999999999996,0,0,0,0,0,0,0,0,0,0,0,0,0,0,0,0,0,0,0,0,0,0,0,0,0,0,0,0,0,0,0,0,0,0,0,0,0,0,0,0,0,0,0,0,0,0,0,0,0,0,0,0,0,0,0,0,0,0,0,0,0,0,0,0,0,0,"END"]
["Dunton Green PS","North","2122-02-05","2122-02-05",{"$error":"#REF!"},{"$error":"#REF!"},0,null,"on hold",null,"00:00:00","00:00:00","00:00:00","00:00:00","00:00:00",null,"00:00:00",null,"00:00:00",{"$error":"#NAME?"},{"$error":"#NAME?"},{"$error":"#NAME?"},null,null,null,null,null,null,null,null,null,null,null,null,null,null,null,null,null,null,null,null,null,null,null,null,null,null,null,null,null,null,null,null,null,null,null,null,null,null,null,null,null,null,null,null,null,null,null,null,null,null,null,null,null,null,null,null,null,null,null,null,null,null,null,null,null,null,"On Hold",{"$error":"#REF!"},"£1 to £4 million",25.799999999999997,12.899999999999999,25.799999999999997,38.699999999999996,25.799999999999997,38.699999999999996,0,0,0,0,0,0,0,0,0,0,0,0,0,0,0,0,0,0,0,0,0,0,0,0,0,0,0,0,0,0,0,0,0,0,0,0,0,0,0,0,0,0,0,0,0,0,0,0,0,0,0,0,0,0,0,0,0,0,0,0,0,0,0,0,0,0,"END"]
["Copperfield Academy","North","2046-11-24","2046-11-24",{"$error":"#REF!"},{"$error":"#REF!"},0,null,"on hold",null,"00:00:00","00:00:00","00:00:00","00:00:00","00:00:00",null,"00:00:00",null,"00:00:00",{"$error":"#NAME?"},{"$error":"#NAME?"},{"$error":"#NAME?"},null,null,null,null,null,null,null,null,null,null,null,null,null,null,null,null,null,null,null,null,null,null,null,null,null,null,null,null,null,null,null,null,null,null,null,null,null,null,null,null,null,null,null,null,null,null,null,null,null,null,null,null,null,null,null,null,null,null,null,null,null,null,null,null,null,null,"On Hold",{"$error":"#REF!"},"£1 to £4 million",25.799999999999997,12.899999999999999,25.799999999999997,38.699999999999996,25.799999999999997,38.699999999999996,0,0,0,0,0,0,0,0,0,0,0,0,0,0,0,0,0,0,0,0,0,0,0,0,0,0,0,0,0,0,0,0,0,0,0,0,0,0,0,0,0,0,0,0,0,0,0,0,0,0,0,0,0,0,0,0,0,0,0,0,0,0,0,0,0,0,"END"]
["Deal Parochial PS","South","1942-12-25","1942-12-25",{"$error":"#REF!"},{"$error":"#REF!"},0,null,"on hold",null,"00:00:00","00:00:00","00:00:00","00:00:00","00:00:00",null,"00:00:00",null,"00:00:00",{"$error":"#NAME?"},{"$error":"#NAME?"},{"$error":"#NAME?"},null,null,null,null,null,null,null,null,null,null,null,null,null,null,null,null,null,null,null,null,null,null,null,null,null,null,null,null,null,null,null,null,null,null,null,null,null,null,null,null,null,null,null,null,null,null,null,null,null,null,null,null,null,null,null,null,null,null,null,null,null,null,null,null,null,null,"On Hold",{"$error":"#REF!"},"£1 to £4 million",25.799999999999997,12.899999999999999,25.799999999999997,38.699999999999996,25.799999999999997,38.699999999999996,0,0,0,0,0,0,0,0,0,0,0,0,0,0,0,0,0,0,0,0,0,0,0,0,0,0,0,0,0,0,0,0,0,0,0,0,0,0,0,0,0,0,0,0,0,0,0,0,0,0,0,0,0,0,0,0,0,0,0,0,0,0,0,0,0,{"$f":"IF(CJ120>0,CHOOSE(CJ120,$CN120,$CO120,$CP120,$CQ120,$CR120,$CS120),0)","v":0},"END"]
["Marden PS","West","5733-01-24","5844-12-19",{"$error":"#REF!"},{"$error":"#REF!"},0,null,"on hold",null,"00:00:00","00:00:00","00:00:00","00:00:00","00:00:00",null,"00:00:00",null,"00:00:00",{"$error":"#NAME?"},{"$error":"#NAME?"},{"$error":"#NAME?"},null,null,null,null,null,null,null,null,null,null,null,null,null,null,null,null,null,null,null,null,null,null,null,null,null,null,null,null,null,null,null,null,null,null,null,null,null,null,null,null,null,null,null,null,null,null,null,null,null,null,null,null,null,null,null,null,null,null,null,null,null,null,null,null,null,null,"On Hold",{"$error":"#REF!"},"£1 to £4 million",25.799999999999997,12.899999999999999,25.799999999999997,38.699999999999996,25.799999999999997,38.699999999999996,0,0,0,0,0,0,0,0,0,0,0,0,0,0,0,0,0,0,0,0,0,0,0,0,0,0,0,0,0,0,0,0,0,0,0,0,0,0,0,0,0,0,0,0,0,0,0,0,0,0,0,0,0,0,0,0,0,0,0,0,0,0,0,0,0,0,"END"]
["Charing and Challock PS",{"$error":"#N/A"},{"$error":"#N/A"},{"$error":"#N/A"},{"$error":"#N/A"},{"$error":"#N/A"},0,null,"on hold",null,"00:00:00","00:00:00","00:00:00","00:00:00","00:00:00",null,"00:00:00",null,"00:00:00",{"$error":"#NAME?"},{"$error":"#NAME?"},{"$error":"#NAME?"},null,null,null,null,null,null,null,null,null,null,null,null,null,null,null,null,null,null,null,null,null,null,null,null,null,null,null,null,null,null,null,null,null,null,null,null,null,null,null,null,null,null,null,null,null,null,null,null,null,null,null,null,null,null,null,null,null,null,null,null,null,null,null,null,null,null,"On Hold",{"$error":"#N/A"},"less than £1m",25.799999999999997,12.899999999999999,25.799999999999997,38.699999999999996,25.799999999999997,38.699999999999996,0,0,0,0,0,0,0,0,0,0,0,0,0,0,0,0,0,0,0,0,0,0,0,0,0,0,0,0,0,0,0,0,0,0,0,0,0,0,0,0,0,0,0,0,0,0,0,0,0,0,0,0,0,0,0,0,0,0,0,0,0,0,0,0,0,0,"END"]
["Lady Joanna Thornhill PS","South","1917-08-12","1917-08-12",{"$error":"#REF!"},{"$error":"#REF!"},0,null,"on hold",null,"00:00:00","00:00:00","00:00:00","00:00:00","00:00:00",null,"00:00:00",null,"00:00:00",{"$error":"#NAME?"},{"$error":"#NAME?"},{"$error":"#NAME?"},null,null,null,null,null,null,null,null,null,null,null,null,null,null,null,null,null,null,null,null,null,null,null,null,null,null,null,null,null,null,null,null,null,null,null,null,null,null,null,null,null,null,null,null,null,null,null,null,null,null,null,null,null,null,null,null,null,null,null,null,null,null,null,null,null,null,"On Hold",{"$error":"#REF!"},"£1 to £4 million",25.799999999999997,12.899999999999999,25.799999999999997,38.699999999999996,25.799999999999997,38.699999999999996,0,0,0,0,0,0,0,0,0,0,0,0,0,0,0,0,0,0,0,0,0,0,0,0,0,0,0,0,0,0,0,0,0,0,0,0,0,0,0,0,0,0,0,0,0,0,0,0,0,0,0,0,0,0,0,0,0,0,0,0,0,0,0,0,0,0,"END"]
["Sellindge PS","South","5733-01-24","5733-01-24",{"$error":"#REF!"},{"$error":"#REF!"},836000,null,{"$f":"SUM(CT124:FG124)","v":522.45000000000016},null,"00:00:00","00:00:00","2018-09-02","2019-07-30","2019-07-31",6241.5714285714284,"2020-03-30",null,"TBC",{"$error":"#NAME?"},{"$error":"#NAME?"},{"$error":"#NAME?"},2,2,2,3,3,3,3,3,3,3,3,3,3,5,5,5,5,5,5,5,5,null,null,null,null,null,null,null,null,null,null,null,6,null,null,null,null,null,null,null,null,null,null,null,null,null,null,null,null,null,null,null,null,null,null,null,null,null,null,null,null,null,null,null,null,null,"Ongoing",{"$error":"#REF!"},"less than £1m",25.799999999999997,12.899999999999999,25.799999999999997,38.699999999999996,25.799999999999997,{"$f":"VLOOKUP($CM124,AVEHRS_TABLE,7,0)*AVE_WKS_PER_MONTH/2","v":19.349999999999998},12.899999999999999,12.899999999999999,12.899999999999999,25.799999999999997,25.799999999999997,25.799999999999997,25.799999999999997,25.799999999999997,25.799999999999997,25.799999999999997,25.799999999999997,25.799999999999997,25.799999999999997,25.799999999999997,25.799999999999997,25.799999999999997,25.799999999999997,25.799999999999997,25.799999999999997,25.799999999999997,25.799999999999997,0,0,0,0,0,0,0,0,0,0,0,19.349999999999998,0,0,0,0,0,0,0,0,0,0,0,0,0,0,0,0,0,0,0,0,0,0,0,0,0,0,0,0,0,0,0,0,0,"END"]
["Briary PS",{"$error":"#N/A"},{"$error":"#N/A"},{"$error":"#N/A"},{"$error":"#N/A"},{"$error":"#N/A"},0,null,"on hold",null,"00:00:00","00:00:00","00:00:00","00:00:00","00:00:00",null,"00:00:00",null,"00:00:00",{"$error":"#NAME?"},{"$error":"#NAME?"},{"$error":"#NAME?"},null,null,null,null,null,null,null,null,null,null,null,null,null,null,null,null,null,null,null,null,null,null,null,null,null,null,null,null,null,null,null,null,null,null,null,null,null,null,null,null,null,null,null,null,null,null,null,null,null,null,null,null,null,null,null,null,null,null,null,null,null,null,null,null,null,null,"On Hold",{"$error":"#N/A"},"£1 to £4 million",25.799999999999997,12.899999999999999,25.799999999999997,38.699999999999996,25.799999999999997,{"$f":"VLOOKUP($CM125,AVEHRS_TABLE,7,0)*AVE_WKS_PER_MONTH","v":38.699999999999996},0,0,0,0,0,0,0,0,0,0,0,0,0,0,0,0,0,0,0,0,0,0,0,0,0,0,0,0,0,0,0,0,0,0,0,0,0,0,0,0,0,0,0,0,0,0,0,0,0,0,0,0,0,0,0,0,0,0,0,0,0,0,0,0,0,0,"END"]
["Westlands Secondary School","East",3250000,3250000,{"$error":"#REF!"},{"$error":"#REF!"},3250000,null,{"$f":"SUM(CT126:FG126)","v":406.35000000000008},null,"2018-05-20","2018-07-24","2018-08-15","2018-10-26","2019-01-04",25.428571428571427,"2019-08-31",null,"TBC",{"$error":"#NAME?"},{"$error":"#NAME?"},{"$error":"#NAME?"},1,2,3,3,4,4,4,5,5,5,5,5,5,5,null,null,null,null,null,null,null,null,null,null,null,6,null,null,null,null,null,null,null,null,null,null,null,null,null,null,null,null,null,null,null,null,null,null,null,null,null,null,null,null,null,null,null,null,null,null,null,null,null,null,null,null,"Ongoing",{"$error":"#REF!"},"£1 to £4 million",25.799999999999997,12.899999999999999,25.799999999999997,38.699999999999996,25.799999999999997,{"$f":"VLOOKUP($CM126,AVEHRS_TABLE,7,0)*AVE_WKS_PER_MONTH/2","v":19.349999999999998},25.799999999999997,12.899999999999999,25.799999999999997,25.799999999999997,38.699999999999996,38.699999999999996,38.699999999999996,25.799999999999997,25.799999999999997,25.799999999999997,25.799999999999997,25.799999999999997,25.799999999999997,25.799999999999997,0,0,0,0,0,0,0,0,0,0,0,19.349999999999998,0,0,0,0,0,0,0,0,0,0,0,0,0,0,0,0,0,0,0,0,0,0,0,0,0,0,0,0,0,0,0,0,0,0,0,0,0,0,0,0,"END"]
["Royal Harbour School / Laleham Gap","East","4090-04-27","4160-05-28T14:09:36",{"$error":"#REF!"},{"$error":"#REF!"},800000,null,70.949999999999989,null,"2017-12-20","2018-01-15","2018-03-02","2018-03-30","2018-06-25",25,"2018-08-31",null,"2018-05-17",{"$error":"#NAME?"},{"$error":"#NAME?"},{"$error":"#NAME?"},5,5,null,null,null,null,null,null,null,null,null,null,null,6,null,null,null,null,null,null,null,null,null,null,null,null,null,null,null,null,null,null,null,null,null,null,null,null,null,null,null,null,null,null,null,null,null,null,null,null,null,null,null,null,null,null,null,null,null,null,null,null,null,null,null,null,"Ongoing",{"$error":"#REF!"},"less than £1m",25.799999999999997,12.899999999999999,25.799999999999997,38.699999999999996,25.799999999999997,{"$f":"VLOOKUP($CM127,AVEHRS_TABLE,7,0)*AVE_WKS_PER_MONTH/2","v":19.349999999999998},25.799999999999997,25.799999999999997,0,0,0,0,0,0,0,0,0,0,0,19.349999999999998,0,{"$f":"IF(AL127>0,CHOOSE(AL127,$CN127,$CO127,$CP127,$CQ127,$CR127,$CS127),0)","v":0},0,0,0,0,0,0,0,0,0,0,0,0,0,0,0,0,0,0,0,0,0,0,0,0,0,0,0,0,0,0,0,0,0,0,0,0,0,0,0,0,0,0,0,{"$f":"IF(CD127>0,CHOOSE(CD127,$CN127,$CO127,$CP127,$CQ127,$CR127,$CS127),0)","v":0},0,0,0,0,0,0,"END"]
["St Gregory's Secondary School","West",6600000,7400000,{"$error":"#REF!"},{"$error":"#REF!"},6600000,null,1141.22,null,"2018-03-02","2018-04-20","2018-05-25","2018-10-18","2018-11-29",33.857142857142861,"2020-05-28",null,"TBC",{"$error":"#NAME?"},{"$error":"#NAME?"},{"$error":"#NAME?"},3,3,3,3,4,5,5,5,5,5,5,5,5,5,5,5,5,5,5,5,5,null,null,null,null,null,null,null,null,null,null,null,6,null,null,null,null,null,null,null,null,null,null,null,null,null,null,null,null,null,null,null,null,null,null,null,null,null,null,null,null,null,null,null,null,null,"Ongoing",{"$error":"#REF!"},"£4 to £8 million",25.799999999999997,25.799999999999997,51.599999999999994,73.099999999999994,51.599999999999994,{"$f":"VLOOKUP($CM128,AVEHRS_TABLE,7,0)*AVE_WKS_PER_MONTH*70%","v":36.11999999999999},{"$f":"IF(W128>0,CHOOSE(W128,$CN128,$CO128,$CP128,$CQ128,$CR128,$CS128),0)","v":51.599999999999994},51.599999999999994,51.599999999999994,51.599999999999994,73.099999999999994,51.599999999999994,51.599999999999994,51.599999999999994,51.599999999999994,51.599999999999994,51.599999999999994,51.599999999999994,51.599999999999994,51.599999999999994,51.599999999999994,51.599999999999994,51.599999999999994,51.599999999999994,51.599999999999994,51.599999999999994,51.599999999999994,0,0,0,0,0,0,0,0,0,0,0,36.11999999999999,0,0,0,0,0,0,0,0,0,0,0,0,0,0,0,0,0,0,0,0,0,0,0,0,0,0,0,0,0,0,0,0,0,"END"]
["Tunbridge Wells Boys School","West",7700000,8352403,{"$error":"#REF!"},{"$error":"#REF!"},7700000,null,1244.4199999999998,null,"2018-03-02","2018-04-20","2018-05-25","2018-10-18","2018-11-29",33.857142857142861,"2020-05-28",null,"TBC",{"$error":"#NAME?"},{"$error":"#NAME?"},{"$error":"#NAME?"},3,3,3,3,4,5,5,5,5,5,5,5,5,5,5,5,5,5,5,5,5,5,5,null,null,null,null,null,null,null,null,null,null,null,6,null,null,null,null,null,null,null,null,null,null,null,null,null,null,null,null,null,null,null,null,null,null,null,null,null,null,null,null,null,null,null,"Ongoing",{"$error":"#REF!"},"£4 to £8 million",25.799999999999997,25.799999999999997,51.599999999999994,73.099999999999994,51.599999999999994,{"$f":"VLOOKUP($CM129,AVEHRS_TABLE,7,0)*AVE_WKS_PER_MONTH*70%","v":36.11999999999999},51.599999999999994,51.599999999999994,51.599999999999994,51.599999999999994,73.099999999999994,51.599999999999994,51.599999999999994,51.599999999999994,51.599999999999994,51.599999999999994,51.599999999999994,51.599999999999994,51.599999999999994,51.599999999999994,51.599999999999994,51.599999999999994,51.599999999999994,51.599999999999994,51.599999999999994,51.599999999999994,51.599999999999994,51.599999999999994,51.599999999999994,0,0,0,0,0,0,0,0,0,0,0,36.11999999999999,0,0,0,0,0,0,0,0,0,0,0,0,0,0,0,0,0,0,0,0,0,0,0,0,0,0,0,0,0,0,0,"END"]
["Skinners School Expansion","West",3000000,3000000,{"$error":"#REF!"},{"$error":"#REF!"},3000000,null,432.15000000000009,null,"00:00:00","00:00:00","00:00:00","00:00:00","2018-10-05",6198.8571428571431,"2018-10-08",null,"TBC",{"$error":"#NAME?"},{"$error":"#NAME?"},{"$error":"#NAME?"},4,4,4,4,5,5,5,5,5,5,5,5,5,5,null,null,null,null,null,null,null,null,null,null,null,6,null,null,null,null,null,null,null,null,null,null,null,null,null,null,null,null,null,null,null,null,null,null,null,null,null,null,null,null,null,null,null,null,null,null,null,null,null,null,null,null,"Ongoing",{"$error":"#REF!"},"£1 to £4 million",25.799999999999997,12.899999999999999,25.799999999999997,38.699999999999996,25.799999999999997,{"$f":"VLOOKUP($CM130,AVEHRS_TABLE,7,0)*AVE_WKS_PER_MONTH/2","v":19.349999999999998},38.699999999999996,38.699999999999996,38.699999999999996,38.699999999999996,25.799999999999997,25.799999999999997,25.799999999999997,25.799999999999997,25.799999999999997,25.799999999999997,25.799999999999997,25.799999999999997,25.799999999999997,25.799999999999997,0,0,0,0,0,0,0,0,0,0,0,19.349999999999998,0,0,0,0,0,0,0,0,0,0,0,0,0,0,0,0,0,0,0,0,0,0,0,0,0,0,0,0,0,0,0,0,0,0,0,0,0,0,0,0,"END"]
["Ebbsfleet Green PS","North",6000000,6000000,{"$error":"#REF!"},{"$error":"#REF!"},6000000,null,1136.92,null,"2018-09-04","2018-10-03","2018-12-03","2019-03-26","2019-05-29",36,"2020-07-31",null,"TBC",{"$error":"#NAME?"},{"$error":"#NAME?"},{"$error":"#NAME?"},null,null,null,1,2,2,3,3,3,4,4,5,5,5,5,5,5,5,5,5,5,5,5,5,5,null,null,null,null,null,null,null,null,null,null,null,6,null,null,null,null,null,null,null,null,null,null,null,null,null,null,null,null,null,null,null,null,null,null,null,null,null,null,null,null,null,"Ongoing",{"$error":"#REF!"},"£4 to £8 million",25.799999999999997,25.799999999999997,51.599999999999994,73.099999999999994,51.599999999999994,{"$f":"VLOOKUP($CM131,AVEHRS_TABLE,7,0)*AVE_WKS_PER_MONTH*70%","v":36.11999999999999},0,0,0,25.799999999999997,25.799999999999997,25.799999999999997,51.599999999999994,51.599999999999994,51.599999999999994,73.099999999999994,73.099999999999994,51.599999999999994,51.599999999999994,51.599999999999994,51.599999999999994,51.599999999999994,51.599999999999994,51.599999999999994,51.599999999999994,51.599999999999994,51.599999999999994,51.599999999999994,51.599999999999994,51.599999999999994,51.599999999999994,0,0,0,0,0,0,0,0,0,0,0,36.11999999999999,0,0,0,0,0,0,0,0,0,0,0,0,0,0,0,0,0,0,0,0,0,0,0,0,0,0,0,0,0,"END"]
["The Limes",{"$error":"#N/A"},{"$error":"#N/A"},{"$error":"#N/A"},{"$error":"#N/A"},{"$error":"#N/A"},1200000,null,70.949999999999989,null,"00:00:00","00:00:00","00:00:00","00:00:00","2018-07-31",6189.4285714285716,"2018-08-31",null,"TBC",{"$error":"#NAME?"},{"$error":"#NAME?"},{"$error":"#NAME?"},5,5,null,null,null,null,null,null,null,null,null,null,null,6,null,null,null,null,null,null,null,null,null,null,null,null,null,null,null,null,null,null,null,null,null,null,null,null,null,null,null,null,null,null,null,null,null,null,null,null,null,null,null,null,null,null,null,null,null,null,null,null,null,null,null,null,"Ongoing",{"$error":"#N/A"},"£1 to £4 million",25.799999999999997,12.899999999999999,25.799999999999997,38.699999999999996,25.799999999999997,{"$f":"VLOOKUP($CM132,AVEHRS_TABLE,7,0)*AVE_WKS_PER_MONTH/2","v":19.349999999999998},25.799999999999997,25.799999999999997,0,0,0,0,0,0,0,0,0,0,0,19.349999999999998,0,0,0,0,0,0,0,0,0,0,0,0,0,0,0,0,0,0,0,0,0,0,0,0,0,0,0,0,0,0,0,0,0,0,0,0,0,0,0,0,0,0,0,0,0,0,0,0,0,0,0,0,"END"]
["Finberry PS, 1FE",{"$error":"#N/A"},{"$error":"#N/A"},{"$error":"#N/A"},{"$error":"#N/A"},{"$error":"#N/A"},2200000,null,354.75000000000011,null,"2014-10-01","2015-01-01","2015-04-01","2015-07-14","2018-12-07",207.14285714285714,"2020-08-31",null,"2015-10-26",{"$error":"#NAME?"},{"$error":"#NAME?"},{"$error":"#NAME?"},null,5,5,5,5,5,5,5,5,5,5,5,5,5,null,null,null,null,null,null,null,null,null,null,null,6,null,null,null,null,null,null,null,null,null,null,null,null,null,null,null,null,null,null,null,null,null,null,null,null,null,null,null,null,null,null,null,null,null,null,null,null,null,null,null,null,"Ongoing",{"$error":"#N/A"},"£1 to £4 million",25.799999999999997,12.899999999999999,25.799999999999997,38.699999999999996,25.799999999999997,{"$f":"VLOOKUP($CM133,AVEHRS_TABLE,7,0)*AVE_WKS_PER_MONTH/2","v":19.349999999999998},0,25.799999999999997,25.799999999999997,25.799999999999997,25.799999999999997,25.799999999999997,25.799999999999997,25.799999999999997,25.799999999999997,25.799999999999997,25.799999999999997,25.799999999999997,25.799999999999997,25.799999999999997,0,0,0,0,0,0,0,0,0,0,0,19.349999999999998,0,0,0,0,0,0,0,0,0,0,0,0,0,0,0,0,0,0,0,0,0,0,0,0,0,0,0,0,0,0,0,0,0,0,0,0,0,0,0,0,"END"]
["St Nicholas PS","South","2173-10-14","2173-10-14",{"$error":"#REF!"},{"$error":"#REF!"},100000,null,690.14999999999975,null,"2018-01-06","2018-02-23","2018-11-28","2019-02-18","2019-06-28",72,"2019-09-30",null,"TBC",{"$error":"#NAME?"},{"$error":"#NAME?"},{"$error":"#NAME?"},2,2,2,2,3,3,3,3,4,4,4,4,5,5,5,5,5,5,5,5,5,5,5,5,5,5,null,null,null,null,null,null,null,null,null,null,null,6,null,null,null,null,null,null,null,null,null,null,null,null,null,null,null,null,null,null,null,null,null,null,null,null,null,null,null,null,"Ongoing",{"$error":"#REF!"},"less than £1m",25.799999999999997,12.899999999999999,25.799999999999997,38.699999999999996,25.799999999999997,{"$f":"VLOOKUP($CM134,AVEHRS_TABLE,7,0)*AVE_WKS_PER_MONTH/2","v":19.349999999999998},12.899999999999999,12.899999999999999,12.899999999999999,12.899999999999999,25.799999999999997,25.799999999999997,25.799999999999997,25.799999999999997,38.699999999999996,38.699999999999996,38.699999999999996,38.699999999999996,25.799999999999997,25.799999999999997,25.799999999999997,25.799999999999997,25.799999999999997,25.799999999999997,25.799999999999997,25.799999999999997,25.799999999999997,25.799999999999997,25.799999999999997,25.799999999999997,25.799999999999997,25.799999999999997,0,0,0,0,0,0,0,0,0,0,0,19.349999999999998,0,0,0,0,0,0,0,0,0,0,0,0,0,0,0,0,0,0,0,0,0,0,0,0,0,0,0,0,"END"]
["Towers (North) School","South","2858-04-06","2858-04-06",{"$error":"#REF!"},{"$error":"#REF!"},350000,null,367.65000000000003,null,"2018-01-06","2019-07-04","2019-10-04","2020-01-04","2020-03-20",39.142857142857146,"2020-08-31",null,"TBC",{"$error":"#NAME?"},{"$error":"#NAME?"},{"$error":"#NAME?"},null,null,null,null,null,null,null,null,null,null,null,null,1,2,2,2,3,3,3,4,4,5,5,5,5,5,null,null,null,null,null,null,null,null,null,null,null,6,null,null,null,null,null,null,null,null,null,null,null,null,null,null,null,null,null,null,null,null,null,null,null,null,null,null,null,null,"Ongoing",{"$error":"#REF!"},"less than £1m",25.799999999999997,12.899999999999999,25.799999999999997,38.699999999999996,25.799999999999997,{"$f":"VLOOKUP($CM135,AVEHRS_TABLE,7,0)*AVE_WKS_PER_MONTH/2","v":19.349999999999998},0,0,0,0,0,0,0,0,0,0,0,0,25.799999999999997,12.899999999999999,12.899999999999999,12.899999999999999,25.799999999999997,25.799999999999997,25.799999999999997,38.699999999999996,38.699999999999996,25.799999999999997,25.799999999999997,25.799999999999997,25.799999999999997,25.799999999999997,0,0,0,0,0,0,0,0,0,0,0,19.349999999999998,0,0,0,0,0,0,0,0,0,0,0,0,0,0,0,0,0,0,0,0,0,0,0,0,0,0,0,0,"END"]
["Sunnybank PS","East",3000000,3000000,{"$error":"#REF!"},{"$error":"#REF!"},3000000,null,651.44999999999993,null,"2018-05-21","2018-07-09","2018-10-17","2019-03-01","2019-06-28",52.571428571428569,"2020-07-30",null,"TBC",{"$error":"#NAME?"},{"$error":"#NAME?"},{"$error":"#NAME?"},2,2,2,2,3,3,3,3,3,4,4,4,5,5,5,5,5,5,5,5,5,5,5,5,5,null,null,null,null,null,null,null,null,null,null,null,6,null,null,null,null,null,null,null,null,null,null,null,null,null,null,null,null,null,null,null,null,null,null,null,null,null,null,null,null,null,"Ongoing",{"$error":"#REF!"},"£1 to £4 million",25.799999999999997,12.899999999999999,25.799999999999997,38.699999999999996,25.799999999999997,{"$f":"VLOOKUP($CM136,AVEHRS_TABLE,7,0)*AVE_WKS_PER_MONTH/2","v":19.349999999999998},12.899999999999999,12.899999999999999,12.899999999999999,12.899999999999999,25.799999999999997,25.799999999999997,25.799999999999997,25.799999999999997,25.799999999999997,38.699999999999996,38.699999999999996,38.699999999999996,25.799999999999997,25.799999999999997,25.799999999999997,25.799999999999997,25.799999999999997,25.799999999999997,25.799999999999997,25.799999999999997,25.799999999999997,25.799999999999997,25.799999999999997,25.799999999999997,25.799999999999997,0,0,0,0,0,0,0,0,0,0,0,19.349999999999998,0,0,0,0,0,0,0,0,0,0,0,0,0,0,0,0,0,0,0,0,0,0,0,0,0,0,0,0,0,"END"]
["Former RSD","East",20000000,18000000,{"$error":"#REF!"},{"$error":"#REF!"},26950000,null,2438.0999999999985,null,"2017-06-04","2017-08-13","2019-02-01","2019-06-01","2019-11-01",117.71428571428571,"2021-05-01",null,"TBC",{"$error":"#NAME?"},{"$error":"#NAME?"},{"$error":"#NAME?"},null,1,2,2,2,2,2,2,3,3,3,3,4,4,4,4,4,5,5,5,5,5,5,5,5,5,5,5,5,5,5,5,5,5,5,null,null,null,null,null,null,null,null,null,null,null,6,null,null,null,null,null,null,null,null,null,null,null,null,null,null,null,null,null,null,null,"Ongoing",{"$error":"#REF!"},"circa £20 million",25.799999999999997,51.599999999999994,60.199999999999996,94.6,73.099999999999994,{"$f":"VLOOKUP($CM137,AVEHRS_TABLE,7,0)*AVE_WKS_PER_MONTH","v":73.099999999999994},0,25.799999999999997,51.599999999999994,51.599999999999994,51.599999999999994,51.599999999999994,51.599999999999994,51.599999999999994,60.199999999999996,60.199999999999996,60.199999999999996,60.199999999999996,94.6,94.6,94.6,94.6,94.6,73.099999999999994,73.099999999999994,73.099999999999994,73.099999999999994,{"$f":"IF(AR137>0,CHOOSE(AR137,$CN137,$CO137,$CP137,$CQ137,$CR137,$CS137),0)","v":73.099999999999994},73.099999999999994,73.099999999999994,73.099999999999994,73.099999999999994,73.099999999999994,73.099999999999994,73.099999999999994,73.099999999999994,73.099999999999994,73.099999999999994,73.099999999999994,73.099999999999994,73.099999999999994,0,0,0,0,0,0,0,0,0,0,0,73.099999999999994,0,0,0,0,0,0,0,0,0,0,0,0,0,0,0,0,0,0,0,"END"]
["Hermitage Lane PS","West",7000000,7000000,{"$error":"#REF!"},{"$error":"#REF!"},7000000,null,1214.32,null,"2018-06-30","2018-09-28","2018-11-17","2019-02-17","2019-04-04",28.857142857142858,"2020-07-30",null,"TBC",{"$error":"#NAME?"},{"$error":"#NAME?"},{"$error":"#NAME?"},null,null,1,2,3,3,3,3,4,4,5,5,5,5,5,5,5,5,5,5,5,5,5,5,5,null,null,null,null,null,null,null,null,null,null,null,6,null,null,null,null,null,null,null,null,null,null,null,null,null,null,null,null,null,null,null,null,null,null,null,null,null,null,null,null,null,"Ongoing",{"$error":"#REF!"},"£4 to £8 million",25.799999999999997,25.799999999999997,51.599999999999994,73.099999999999994,51.599999999999994,{"$f":"VLOOKUP($CM138,AVEHRS_TABLE,7,0)*AVE_WKS_PER_MONTH*70%","v":36.11999999999999},0,0,25.799999999999997,25.799999999999997,51.599999999999994,51.599999999999994,51.599999999999994,51.599999999999994,73.099999999999994,73.099999999999994,51.599999999999994,51.599999999999994,51.599999999999994,51.599999999999994,51.599999999999994,51.599999999999994,51.599999999999994,51.599999999999994,51.599999999999994,51.599999999999994,51.599999999999994,51.599999999999994,51.599999999999994,51.599999999999994,51.599999999999994,0,0,0,0,0,0,0,0,0,0,0,36.11999999999999,0,{"$f":"IF(BI138>0,CHOOSE(BI138,$CN138,$CO138,$CP138,$CQ138,$CR138,$CS138),0)","v":0},0,0,0,0,0,0,0,0,0,0,0,0,0,0,0,0,0,0,0,0,0,0,0,0,0,0,0,"END"]
["Swanley and Hextable PS","North","9429-03-29","9429-03-29",{"$error":"#REF!"},{"$error":"#REF!"},2750000,null,567.6,null,"2021-08-01","2021-11-01","2022-01-01","2022-06-01","2022-08-01",41,"2023-08-31",null,"TBC",{"$error":"#NAME?"},{"$error":"#NAME?"},{"$error":"#NAME?"},null,null,null,null,null,null,null,null,null,null,null,null,null,null,null,null,null,null,null,null,null,null,null,null,null,null,null,null,null,null,null,null,null,null,null,null,null,null,null,null,1,2,2,3,3,3,3,3,4,4,5,5,5,5,5,5,5,5,5,5,5,5,null,null,null,null,"Ongoing",{"$error":"#REF!"},"£1 to £4 million",25.799999999999997,12.899999999999999,25.799999999999997,38.699999999999996,25.799999999999997,{"$f":"VLOOKUP($CM139,AVEHRS_TABLE,7,0)*AVE_WKS_PER_MONTH/2","v":19.349999999999998},0,0,0,0,0,0,0,0,0,0,0,0,0,0,0,0,0,0,0,0,0,0,0,0,0,0,0,0,0,0,0,0,0,0,0,0,0,0,0,0,25.799999999999997,12.899999999999999,12.899999999999999,25.799999999999997,25.799999999999997,25.799999999999997,25.799999999999997,25.799999999999997,38.699999999999996,38.699999999999996,25.799999999999997,25.799999999999997,25.799999999999997,25.799999999999997,25.799999999999997,25.799999999999997,25.799999999999997,25.799999999999997,25.799999999999997,25.799999999999997,25.799999999999997,25.799999999999997,0,0,0,0,"END"]
["St Gregory's PS",{"$f":"VLOOKUP($A140,MASTER_DATABASE,2,0)","v":"East"},{"$f":"VLOOKUP($A140,MASTER_DATABASE,4,0)","v":"6006-11-09"},{"$f":"VLOOKUP($A140,MASTER_DATABASE,5,0)","v":"6006-11-09"},{"$f":"VLOOKUP($A140,MASTER_DATABASE,6,0)","v":{"$error":"#REF!"}},{"$f":"VLOOKUP($A140,MASTER_DATABASE,54,0)","v":{"$error":"#REF!"}},1500000,null,567.6,null,"2017-07-21","2021-11-01","2022-01-01","2022-06-01","2022-08-01",41,"2023-08-31",null,"TBC","2022-08-01","2023-08-31",56.428571428571431,null,null,null,null,null,null,null,null,null,null,null,null,null,null,null,null,null,null,null,null,null,null,null,null,null,null,null,null,null,null,null,null,null,null,null,null,null,null,null,null,1,2,2,3,3,3,3,3,4,4,5,5,5,5,5,5,5,5,5,5,5,5,null,null,null,null,"Ongoing",{"$error":"#REF!"},"£1 to £4 million",{"$f":"VLOOKUP($CM140,AVEHRS_TABLE,2,0)*AVE_WKS_PER_MONTH","v":25.799999999999997},{"$f":"VLOOKUP($CM140,AVEHRS_TABLE,3,0)*AVE_WKS_PER_MONTH","v":12.899999999999999},{"$f":"VLOOKUP($CM140,AVEHRS_TABLE,4,0)*AVE_WKS_PER_MONTH","v":25.799999999999997},{"$f":"VLOOKUP($CM140,AVEHRS_TABLE,5,0)*AVE_WKS_PER_MONTH","v":38.699999999999996},{"$f":"VLOOKUP($CM140,AVEHRS_TABLE,6,0)*AVE_WKS_PER_MONTH","v":25.799999999999997},{"$f":"VLOOKUP($CM140,AVEHRS_TABLE,7,0)*AVE_WKS_PER_MONTH/2","v":19.349999999999998},0,0,0,0,0,0,0,0,0,0,0,0,0,0,0,0,0,0,0,0,0,0,0,0,0,0,0,0,0,0,0,0,0,0,0,0,0,0,0,0,25.799999999999997,12.899999999999999,12.899999999999999,25.799999999999997,25.799999999999997,25.799999999999997,25.799999999999997,25.799999999999997,38.699999999999996,38.699999999999996,25.799999999999997,25.799999999999997,25.799999999999997,25.799999999999997,25.799999999999997,25.799999999999997,25.799999999999997,25.799999999999997,25.799999999999997,25.799999999999997,25.799999999999997,25.799999999999997,0,0,0,0,"END"]
["Quinton Road Secondary School",{"$error":"#N/A"},{"$error":"#N/A"},{"$error":"#N/A"},{"$error":"#N/A"},{"$error":"#N/A"},20000000,null,2403.6999999999985,null,"2020-07-01","2020-11-01","2021-03-01","2021-09-01","2022-03-01",{"$f":"((O141-L141)/7)+2","v":71.285714285714292},"2023-08-31",null,"TBC","2022-03-01","2023-08-31",{"$f":"(U141-T141)/7","v":78.285714285714292},null,null,null,null,null,null,null,null,null,null,null,null,null,null,null,null,null,null,null,null,null,null,null,null,null,null,null,null,1,2,2,2,2,3,3,3,3,3,3,4,4,4,4,4,4,5,5,5,5,5,5,5,5,5,5,5,5,5,5,5,5,5,null,null,null,null,"Ongoing",{"$f":"B141&\", \"&E141&\", \"&CK141","v":{"$error":"#N/A"}},"circa £20 million",25.799999999999997,51.599999999999994,60.199999999999996,94.6,73.099999999999994,{"$f":"VLOOKUP($CM141,AVEHRS_TABLE,7,0)*AVE_WKS_PER_MONTH","v":73.099999999999994},0,0,0,0,0,0,0,0,0,0,0,0,0,0,0,0,0,0,0,0,0,0,0,0,0,0,0,0,25.799999999999997,51.599999999999994,51.599999999999994,51.599999999999994,51.599999999999994,60.199999999999996,60.199999999999996,60.199999999999996,60.199999999999996,60.199999999999996,60.199999999999996,94.6,94.6,94.6,94.6,94.6,94.6,73.099999999999994,73.099999999999994,73.099999999999994,73.099999999999994,73.099999999999994,73.099999999999994,73.099999999999994,73.099999999999994,73.099999999999994,73.099999999999994,73.099999999999994,73.099999999999994,73.099999999999994,73.099999999999994,73.099999999999994,73.099999999999994,73.099999999999994,0,0,0,0,"END"]
["Skinners Kent Academy","West",20000000,20000000,{"$error":"#REF!"},{"$error":"#REF!"},20000000,null,"on hold",null,"00:00:00","00:00:00","00:00:00","00:00:00","00:00:00",null,"00:00:00",null,"00:00:00","00:00:00","00:00:00",0,null,null,null,null,null,null,null,null,null,null,null,null,null,null,null,null,null,null,null,null,null,null,null,null,null,null,null,null,null,null,null,null,null,null,null,null,null,null,null,null,null,null,null,null,null,null,null,null,null,null,null,null,null,null,null,null,null,null,null,null,null,null,null,null,null,null,"On Hold",{"$error":"#REF!"},"circa £20 million",25.799999999999997,51.599999999999994,60.199999999999996,94.6,73.099999999999994,{"$f":"VLOOKUP($CM142,AVEHRS_TABLE,7,0)*AVE_WKS_PER_MONTH","v":73.099999999999994},0,0,0,0,0,0,0,0,0,0,0,0,0,0,0,0,0,0,0,0,0,0,0,0,0,0,0,0,0,0,0,0,0,0,0,0,0,0,0,0,0,0,0,0,0,0,0,0,0,0,0,0,0,0,0,0,0,0,0,0,0,0,0,0,0,0,"END"]
["Tonbridge and Malling Area, 3FE",{"$error":"#N/A"},{"$error":"#N/A"},{"$error":"#N/A"},{"$error":"#N/A"},{"$error":"#N/A"},9750000,null,{"$f":"SUM(CT143:FG143)","v":1904.899999999999},null,"00:00:00","00:00:00","00:00:00","00:00:00","00:00:00",2,"00:00:00",null,"00:00:00","2021-11-01","2022-04-28",25.428571428571427,null,null,null,null,null,null,null,null,null,null,null,null,null,null,null,null,1,2,2,2,3,3,3,3,4,4,4,4,5,5,5,5,5,5,5,5,5,5,5,5,5,5,5,5,5,5,null,null,null,null,null,null,null,null,null,null,null,null,null,null,null,null,null,null,null,null,"Ongoing",{"$error":"#N/A"},"over £8 million",25.799999999999997,38.699999999999996,51.599999999999994,60.199999999999996,73.099999999999994,{"$f":"VLOOKUP($CM143,AVEHRS_TABLE,7,0)*AVE_WKS_PER_MONTH","v":51.599999999999994},0,0,0,0,0,0,0,0,0,0,0,0,0,0,0,0,25.799999999999997,38.699999999999996,38.699999999999996,38.699999999999996,51.599999999999994,51.599999999999994,51.599999999999994,51.599999999999994,60.199999999999996,60.199999999999996,60.199999999999996,60.199999999999996,73.099999999999994,73.099999999999994,73.099999999999994,73.099999999999994,73.099999999999994,73.099999999999994,73.099999999999994,73.099999999999994,73.099999999999994,73.099999999999994,73.099999999999994,73.099999999999994,73.099999999999994,73.099999999999994,73.099999999999994,73.099999999999994,73.099999999999994,73.099999999999994,0,0,0,0,0,0,0,0,0,0,0,0,0,0,0,0,0,0,0,0,"END"]
["Tonbridge and Malling Area, 2FE",{"$error":"#N/A"},{"$error":"#N/A"},{"$error":"#N/A"},{"$error":"#N/A"},{"$error":"#N/A"},6500000,null,{"$f":"SUM(CT144:FG144)","v":1214.32},null,"00:00:00","00:00:00","00:00:00","00:00:00","00:00:00",2,"00:00:00",null,"00:00:00","2021-02-01","2022-04-30",64.714285714285708,null,null,null,null,null,null,null,null,null,null,null,null,null,null,null,null,null,null,null,null,null,null,null,1,2,3,3,3,3,4,4,5,5,5,5,5,5,5,5,5,5,5,5,5,5,5,null,null,null,null,null,null,null,null,null,null,null,6,null,null,null,null,null,null,null,null,"Ongoing",{"$error":"#N/A"},"£4 to £8 million",25.799999999999997,25.799999999999997,51.599999999999994,73.099999999999994,51.599999999999994,{"$f":"VLOOKUP($CM144,AVEHRS_TABLE,7,0)*AVE_WKS_PER_MONTH*70%","v":36.11999999999999},0,0,0,0,0,0,0,0,0,0,0,0,0,0,0,0,0,0,0,0,0,0,0,25.799999999999997,25.799999999999997,51.599999999999994,51.599999999999994,51.599999999999994,51.599999999999994,73.099999999999994,73.099999999999994,51.599999999999994,51.599999999999994,51.599999999999994,51.599999999999994,51.599999999999994,51.599999999999994,51.599999999999994,51.599999999999994,51.599999999999994,51.599999999999994,51.599999999999994,51.599999999999994,51.599999999999994,51.599999999999994,51.599999999999994,0,0,0,0,0,0,0,0,0,0,0,36.11999999999999,0,0,0,0,0,0,0,0,"END"]
["Martello Primary",{"$error":"#N/A"},{"$error":"#N/A"},{"$error":"#N/A"},{"$error":"#N/A"},{"$error":"#N/A"},0,null,"completed",null,"00:00:00","00:00:00","00:00:00","00:00:00","00:00:00",null,"00:00:00",null,"00:00:00",{"$f":"VLOOKUP($A145,BASE_DATA,24,0)","v":{"$error":"#NAME?"}},{"$f":"VLOOKUP($A145,BASE_DATA,26,0)","v":{"$error":"#NAME?"}},{"$error":"#NAME?"},null,null,null,null,null,null,null,null,null,null,null,null,null,null,null,null,null,null,null,null,null,null,null,null,null,null,null,null,null,null,null,null,null,null,null,null,null,null,null,null,null,null,null,null,null,null,null,null,null,null,null,null,null,null,null,null,null,null,null,null,null,null,null,null,null,null,"completed",{"$error":"#N/A"},"£4 to £8 million",25.799999999999997,25.799999999999997,51.599999999999994,73.099999999999994,51.599999999999994,{"$f":"VLOOKUP($CM145,AVEHRS_TABLE,7,0)*AVE_WKS_PER_MONTH","v":51.599999999999994},{"$f":"IF(W145>0,CHOOSE(W145,$CN145,$CO145,$CP145,$CQ145,$CR145,$CS145),0)","v":0},0,0,0,0,0,0,0,0,0,0,0,0,0,0,0,0,0,0,0,0,0,0,0,0,0,0,0,0,0,0,0,0,0,0,0,0,0,0,0,0,0,{"$f":"IF(BM145>0,CHOOSE(BM145,$CN145,$CO145,$CP145,$CQ145,$CR145,$CS145),0)","v":0},0,0,0,0,0,0,0,0,0,0,0,0,0,0,0,0,0,0,0,0,0,0,0,"END"]
["Northfleet Embankment East ",{"$error":"#N/A"},{"$error":"#N/A"},{"$error":"#N/A"},{"$error":"#N/A"},{"$error":"#N/A"},0,null,1509.2999999999995,null,"2019-01-31","2019-04-13","2019-07-31","2020-03-10","2020-06-30",65.428571428571431,"2021-08-31",null,"TBC",{"$error":"#NAME?"},"2021-08-30",{"$error":"#NAME?"},null,null,null,null,null,null,null,null,null,1,2,2,2,3,3,3,3,3,3,3,3,4,4,4,5,5,5,5,5,5,5,5,5,5,5,5,5,5,null,null,null,null,null,null,null,null,null,null,null,6,null,null,null,null,null,null,null,null,null,null,null,null,null,null,null,null,"Ongoing",{"$error":"#N/A"},"£4 to £8 million",25.799999999999997,25.799999999999997,51.599999999999994,73.099999999999994,51.599999999999994,{"$f":"VLOOKUP($CM146,AVEHRS_TABLE,7,0)*AVE_WKS_PER_MONTH","v":51.599999999999994},0,0,0,0,0,0,0,0,0,25.799999999999997,25.799999999999997,25.799999999999997,25.799999999999997,51.599999999999994,51.599999999999994,51.599999999999994,51.599999999999994,51.599999999999994,51.599999999999994,51.599999999999994,51.599999999999994,73.099999999999994,73.099999999999994,73.099999999999994,51.599999999999994,51.599999999999994,51.599999999999994,51.599999999999994,51.599999999999994,51.599999999999994,51.599999999999994,51.599999999999994,51.599999999999994,51.599999999999994,51.599999999999994,51.599999999999994,51.599999999999994,51.599999999999994,0,0,0,0,0,0,0,0,0,0,0,51.599999999999994,0,0,0,0,0,0,0,0,0,0,0,0,0,0,0,0,"END"]
["Singlewell ",{"$error":"#N/A"},{"$error":"#N/A"},{"$error":"#N/A"},{"$error":"#N/A"},{"$error":"#N/A"},0,null,"completed",null,"00:00:00","00:00:00","00:00:00","00:00:00","00:00:00",2,"00:00:00",null,"00:00:00",{"$error":"#NAME?"},{"$error":"#NAME?"},{"$error":"#NAME?"},null,null,null,null,null,null,null,null,null,null,null,null,null,null,null,null,null,null,null,null,null,null,null,null,null,null,null,null,null,null,null,null,null,null,null,null,null,null,null,null,null,null,null,null,null,null,null,null,null,null,null,null,null,null,null,null,null,null,null,null,null,null,null,null,null,null,"Completed",{"$error":"#N/A"},"less than £1m",25.799999999999997,12.899999999999999,25.799999999999997,38.699999999999996,25.799999999999997,{"$f":"VLOOKUP($CM147,AVEHRS_TABLE,7,0)*AVE_WKS_PER_MONTH","v":38.699999999999996},0,0,0,0,0,0,0,0,0,0,0,0,0,0,0,0,0,0,0,0,0,0,0,0,0,0,0,0,0,0,0,0,0,0,0,0,0,0,0,0,0,0,0,0,0,0,0,0,0,0,0,0,0,0,0,0,0,0,0,0,0,0,0,0,0,0,"END"]
["New Ash Green Primary",{"$error":"#N/A"},{"$error":"#N/A"},{"$error":"#N/A"},{"$error":"#N/A"},{"$error":"#N/A"},50000,null,96.749999999999986,null,"00:00:00","00:00:00","00:00:00","00:00:00","00:00:00",2,"00:00:00",null,"00:00:00",{"$error":"#NAME?"},{"$error":"#NAME?"},{"$error":"#NAME?"},5,5,5,null,null,null,null,null,null,null,null,null,null,null,6,null,null,null,null,null,null,null,null,null,null,null,null,null,null,null,null,null,null,null,null,null,null,null,null,null,null,null,null,null,null,null,null,null,null,null,null,null,null,null,null,null,null,null,null,null,null,null,null,null,null,null,"Ongoing",{"$error":"#N/A"},"less than £1m",25.799999999999997,12.899999999999999,25.799999999999997,38.699999999999996,25.799999999999997,{"$f":"VLOOKUP($CM148,AVEHRS_TABLE,7,0)*AVE_WKS_PER_MONTH/2","v":19.349999999999998},25.799999999999997,25.799999999999997,25.799999999999997,0,0,0,0,0,0,0,0,0,0,0,19.349999999999998,0,0,0,0,0,0,0,0,0,0,0,0,0,0,0,0,0,0,0,0,0,0,0,0,0,0,0,0,0,0,0,0,0,0,0,0,0,0,0,0,0,0,0,0,0,0,0,0,0,0,0,"END"]
["Birchwood PRU",{"$error":"#N/A"},{"$error":"#N/A"},{"$error":"#N/A"},{"$error":"#N/A"},{"$error":"#N/A"},200000,null,"school managed",null,"00:00:00","00:00:00","00:00:00","00:00:00","00:00:00",2,"00:00:00",null,"00:00:00",{"$error":"#NAME?"},{"$error":"#NAME?"},{"$error":"#NAME?"},null,null,null,null,null,null,null,null,null,null,null,null,null,null,null,null,null,null,null,null,null,null,null,null,null,null,null,null,null,null,null,null,null,null,null,null,null,null,null,null,null,null,null,null,null,null,null,null,null,null,null,null,null,null,null,null,null,null,null,null,null,null,null,null,null,null,"School Managed",{"$error":"#N/A"},"less than £1m",25.799999999999997,12.899999999999999,25.799999999999997,38.699999999999996,25.799999999999997,{"$f":"VLOOKUP($CM149,AVEHRS_TABLE,7,0)*AVE_WKS_PER_MONTH/2","v":19.349999999999998},0,0,0,0,0,0,0,0,0,0,0,0,0,0,0,0,0,0,0,0,0,0,0,0,0,0,0,0,0,0,0,0,0,0,0,0,0,0,0,0,0,0,0,0,0,0,0,0,0,0,0,0,{"$f":"IF(BW149>0,CHOOSE(BW149,$CN149,$CO149,$CP149,$CQ149,$CR149,$CS149),0)","v":0},0,0,0,0,0,0,0,0,0,0,0,0,0,"END"]
["Simon Langdon Boys",{"$error":"#N/A"},{"$error":"#N/A"},{"$error":"#N/A"},{"$error":"#N/A"},{"$error":"#N/A"},"TBC",null,425.70000000000005,null,"00:00:00","2018-10-30","TBC","TBC","TBC",{"$error":"#VALUE!"},"TBC",null,"TBC",{"$error":"#NAME?"},{"$error":"#NAME?"},{"$error":"#NAME?"},null,null,null,1,2,3,3,4,4,4,5,5,5,5,5,5,5,null,null,null,null,null,null,null,null,null,null,null,6,null,null,null,null,null,null,null,null,null,null,null,null,null,null,null,null,null,null,null,null,null,null,null,null,null,null,null,null,null,null,null,null,null,null,null,null,null,"Ongoing",{"$error":"#N/A"},"£1 to £4 million",25.799999999999997,12.899999999999999,25.799999999999997,38.699999999999996,25.799999999999997,{"$f":"VLOOKUP($CM150,AVEHRS_TABLE,7,0)*AVE_WKS_PER_MONTH","v":38.699999999999996},0,0,0,25.799999999999997,12.899999999999999,25.799999999999997,25.799999999999997,38.699999999999996,38.699999999999996,38.699999999999996,25.799999999999997,25.799999999999997,25.799999999999997,25.799999999999997,25.799999999999997,25.799999999999997,25.799999999999997,0,0,0,0,0,0,0,0,0,0,0,38.699999999999996,0,0,0,0,0,0,0,0,0,0,0,0,0,0,0,0,0,0,0,0,0,0,0,0,0,0,0,0,0,0,0,0,0,0,0,0,0,"END"]
["Simon Langdon Girls",{"$error":"#N/A"},{"$error":"#N/A"},{"$error":"#N/A"},{"$error":"#N/A"},{"$error":"#N/A"},"TBC",null,{"$f":"SUM(CT151:FG151)","v":425.70000000000005},null,"00:00:00","2018-10-30","TBC","TBC","TBC",{"$error":"#VALUE!"},"TBC",null,"TBC",{"$error":"#NAME?"},{"$error":"#NAME?"},{"$error":"#NAME?"},null,null,null,1,2,3,3,4,4,4,5,5,5,5,5,5,5,null,null,null,null,null,null,null,null,null,null,null,6,null,null,null,null,null,null,null,null,null,null,null,null,null,null,null,null,null,null,null,null,null,null,null,null,null,null,null,null,null,null,null,null,null,null,null,null,null,"Ongoing",{"$error":"#N/A"},"£1 to £4 million",25.799999999999997,12.899999999999999,25.799999999999997,38.699999999999996,25.799999999999997,{"$f":"VLOOKUP($CM151,AVEHRS_TABLE,7,0)*AVE_WKS_PER_MONTH","v":38.699999999999996},0,0,0,25.799999999999997,12.899999999999999,25.799999999999997,25.799999999999997,38.699999999999996,38.699999999999996,38.699999999999996,25.799999999999997,25.799999999999997,25.799999999999997,25.799999999999997,25.799999999999997,25.799999999999997,25.799999999999997,0,0,0,0,0,0,0,0,0,0,0,38.699999999999996,0,0,0,0,0,0,0,0,0,0,0,0,0,0,0,0,0,0,0,0,0,0,0,0,0,0,0,0,0,0,0,0,0,0,0,0,0,"END"]
["Meadowfield School, Dining Room",{"$error":"#N/A"},{"$error":"#N/A"},{"$error":"#N/A"},{"$error":"#N/A"},{"$error":"#N/A"},"TBC",null,425.70000000000005,null,"00:00:00","2018-10-30","TBC","TBC","TBC",{"$error":"#VALUE!"},"TBC",null,"TBC",{"$error":"#NAME?"},{"$error":"#NAME?"},{"$error":"#NAME?"},null,null,null,1,2,3,3,4,4,4,5,5,5,5,5,5,5,null,null,null,null,null,null,null,null,null,null,null,6,null,null,null,null,null,null,null,null,null,null,null,null,null,null,null,null,null,null,null,null,null,null,null,null,null,null,null,null,null,null,null,null,null,null,null,null,null,"Ongoing",{"$error":"#N/A"},"£1 to £4 million",25.799999999999997,12.899999999999999,25.799999999999997,38.699999999999996,25.799999999999997,{"$f":"VLOOKUP($CM152,AVEHRS_TABLE,7,0)*AVE_WKS_PER_MONTH","v":38.699999999999996},0,0,0,25.799999999999997,12.899999999999999,25.799999999999997,25.799999999999997,38.699999999999996,38.699999999999996,38.699999999999996,25.799999999999997,25.799999999999997,25.799999999999997,25.799999999999997,25.799999999999997,25.799999999999997,25.799999999999997,0,0,0,0,0,0,0,0,0,0,0,38.699999999999996,0,0,0,0,0,0,0,0,0,0,0,0,0,0,0,0,0,0,0,0,0,0,0,0,0,0,0,0,0,0,0,0,0,0,0,0,0,"END"]
[null,null,null,null,null,null,null,null,{"$f":"SUM(I12:I152)","v":50657.869999999974},null,null,null,null,null,null,null,null,null,null,null,null,null,null,null,null,null,null,null,null,null,null,null,null,null,null,null,null,null,null,null,null,null,null,null,null,null,null,null,null,null,null,null,null,null,null,null,null,null,null,null,null,null,null,null,null,null,null,null,null,null,null,null,null,null,null,null,null,null,null,null,null,null,null,null,null,null,null,null,null,null,null,null,null,null,null,null,null,{"$f":"SUM(CT12:CT152)","v":2055.3999999999996},{"$f":"SUM(CU12:CU152)","v":2328.0199999999995},1964.6699999999987,1827.4999999999991,1812.4499999999994,1726.4499999999989,1833.9499999999989,1876.9499999999989,1833.9499999999994,1956.4999999999991,1801.6999999999991,1721.7199999999993,1793.0999999999988,1745.7999999999988,1489.9499999999994,1388.8999999999996,1425.0199999999993,1363.0999999999997,1214.7499999999998,1186.8,1154.55,999.32,1035.44,935.25,958.47,928.80000000000018,638.55000000000007,438.6,612.75000000000011,670.37000000000012,509.12,451.5,530.19000000000005,408.5,496.22,335.4,373.24,337.12,338.40999999999997,219.29999999999998,270.89999999999998,281.21999999999997,245.1,322.5,270.89999999999998,249.39999999999998,197.79999999999998,197.79999999999998,150.5,202.1,144.04999999999998,124.69999999999999,124.69999999999999,124.69999999999999,124.69999999999999,124.69999999999999,124.69999999999999,160.82,124.69999999999999,124.69999999999999,124.69999999999999,124.69999999999999,0,0,0,{"$f":"SUM(FG12:FG152)","v":0},"END"]
[null,null,null,null,null,null,null,null,null,null,null,null,null,null,null,null,null,null,null,null,null,null,null,null,null,null,null,null,null,null,null,null,null,null,null,null,null,null,null,null,null,null,null,null,null,null,null,null,null,null,null,null,null,null,null,null,null,null,null,null,null,null,null,null,null,null,null,null,null,null,null,null,null,null,null,null,null,null,null,null,null,null,null,null,null,null,null,null,null,null,null,null,null,null,null,null,null,null,null,null,null,null,null,null,null,null,null,null,null,null,null,null,null,null,null,null,null,null,null,null,null,null,null,null,null,null,null,null,null,null,null,null,null,null,null,null,null,null,null,null,null,null,null,null,null,null,null,null,null,null,null,null,null,null,null,null,null,null,null,null,null,null,null,"END"]
["#","#","#","#","#","#",null,null,null,null,null,null,null,null,null,null,null,null,null,null,null,null,null,null,null,null,null,null,null,null,null,null,null,null,null,null,null,null,null,null,null,null,null,null,null,null,null,null,null,null,null,null,null,null,null,null,null,null,null,null,null,null,null,null,null,null,null,null,null,null,null,null,null,null,null,null,null,null,null,null,null,null,null,null,null,null,null,null,null,null,null,null,null,null,null,null,null,null,null,null,null,null,null,null,null,null,null,null,null,null,null,null,null,null,null,null,null,null,null,null,null,null,null,null,null,null,null,null,null,null,null,null,null,null,null,null,null,null,null,null,null,null,null,null,null,null,null,null,null,null,null,null,null,null,null,null,null,null,null,null,null,null,null,"END"]
[null,null,null,null,null,null,null,null,null,null,null,null,null,null,null,null,null,null,null,null,null,null,null,null,null,null,null,null,null,null,null,null,null,null,null,null,null,null,null,null,null,null,null,null,null,null,null,null,null,null,null,null,null,null,null,null,null,null,null,null,null,null,null,null,null,null,null,null,null,null,null,null,null,null,null,null,null,null,null,null,null,null,null,null,null,null,null,null,null,null,null,null,null,null,null,null,null,null,null,null,null,null,null,null,null,null,null,null,null,null,null,null,null,null,null,null,null,null,null,null,null,null,null,null,null,null,null,null,null,null,null,null,null,null,null,null,null,null,null,null,null,null,null,null,null,null,null,null,null,null,null,null,null,null,null,null,null,null,null,null,null,null,null,"END"]
[null,null,null,null,null,null,null,null,"Stage",null,null,null,null,null,null,null,null,null,null,null,null,null,{"$f":"W11","v":"2018-07-01"},"2018-08-01","2018-09-01","2018-10-01","2018-11-01","2018-12-01","2019-01-01","2019-02-01","2019-03-01","2019-04-01","2019-05-01","2019-06-01","2019-07-01","2019-08-01","2019-09-01","2019-10-01","2019-11-01","2019-12-01","2020-01-01","2020-02-01","2020-03-01","2020-04-01","2020-05-01","2020-06-01","2020-07-01","2020-08-01","2020-09-01","2020-10-01","2020-11-01","2020-12-01","2021-01-01","2021-02-01","2021-03-01","2021-04-01","2021-05-01","2021-06-01","2021-07-01","2021-08-01","2021-09-01","2021-10-01","2021-11-01","2021-12-01","2022-01-01","2022-02-01","2022-03-01","2022-04-01","2022-05-01","2022-06-01","2022-07-01","2022-08-01","2022-09-01","2022-10-01","2022-11-01","2022-12-01","2023-01-01","2023-02-01","2023-03-01","2023-04-01","2023-05-01","2023-06-01","2023-07-01","2023-08-01","2023-09-01","2023-10-01",{"$f":"CI11","v":"2023-11-01"},"2023-12-01",null,null,null,null,null,null,null,null,"Basic Need, Approved, Ongoing",{"$f":"SUMIF($CL$15:$CL$152,$CS157,CT$15:CT$152)","v":0},{"$f":"SUMIF($CL$15:$CL$152,$CS157,CU$15:CU$152)","v":0},{"$f":"SUMIF($CL$15:$CL$152,$CS157,CV$15:CV$152)","v":0},{"$f":"SUMIF($CL$15:$CL$152,$CS157,CW$15:CW$152)","v":0},0,0,0,0,0,0,0,0,0,0,0,0,0,0,0,0,0,0,0,0,0,0,0,0,0,0,0,0,0,0,0,0,0,0,0,0,0,0,0,0,0,0,0,0,0,0,0,0,0,0,0,0,0,0,0,0,0,0,0,0,0,0,"END"]
[null,null,null,null,null,null,null,null,1,null,null,null,null,null,null,null,null,null,null,null,1,null,{"$f":"COUNTIF(W$12:W$148,1)","v":1},2,2,1,1,1,1,0,0,1,0,0,1,0,0,0,1,0,0,0,0,0,0,1,0,0,0,0,1,0,0,0,0,0,0,0,0,0,0,0,2,0,0,0,0,0,0,0,0,0,0,0,0,0,0,0,0,0,0,0,0,0,0,0,0,0,null,null,null,null,null,null,null,null,"Basic Need, Approved, On Hold",{"$f":"SUMIF($CL$15:$CL$152,$CS158,CT$15:CT$152)","v":0},0,0,0,0,0,0,0,0,0,0,0,0,0,0,0,0,0,0,0,0,0,0,0,0,0,0,0,0,0,0,0,0,0,0,0,0,0,0,0,0,0,0,0,0,0,0,0,0,0,0,0,0,0,0,0,0,0,0,0,0,0,0,0,0,0,"END"]
[null,null,null,null,null,null,null,null,2,null,null,null,null,null,null,null,null,null,null,null,2,null,{"$f":"COUNTIF(W$12:W$148,2)","v":8},6,6,7,5,4,4,6,4,3,3,2,2,2,1,1,0,1,1,1,0,0,0,0,1,0,0,0,0,1,1,1,1,0,0,0,0,0,0,0,0,2,2,0,0,0,0,0,0,0,0,0,0,0,0,0,0,0,0,0,0,0,0,0,0,0,null,null,null,null,null,null,null,null,"Basic Need, Unapproved, Ongoing",0,0,0,0,0,0,0,0,0,0,0,0,0,0,0,0,0,0,0,0,0,0,0,0,0,0,0,0,0,0,0,0,0,0,0,0,0,0,0,0,0,0,0,0,0,0,0,0,0,0,0,0,0,0,0,0,0,0,0,0,0,0,0,0,0,0,"END"]
[null,null,null,null,null,null,null,null,3,null,null,null,null,null,null,null,null,null,null,null,3,null,{"$f":"COUNTIF(W$12:W$148,3)","v":12},15,15,9,6,7,8,7,5,3,4,5,3,3,4,3,4,2,2,1,2,1,1,1,0,1,1,1,1,0,0,0,0,1,1,1,1,1,1,0,0,0,0,2,2,2,2,2,0,0,0,0,0,0,0,0,0,0,0,0,0,0,0,0,0,0,null,null,null,null,null,null,null,null,"Basic Need, Unapproved, On Hold",0,0,0,0,0,0,0,0,0,0,0,0,0,0,0,0,0,0,0,0,0,0,0,0,0,0,0,0,0,0,0,0,0,0,0,0,0,0,0,0,0,0,0,0,0,0,0,0,0,0,0,0,0,0,0,0,0,0,0,0,0,0,0,0,0,0,"END"]
[null,null,null,null,null,null,null,null,4,null,null,null,null,null,null,null,null,null,null,null,4,null,{"$f":"COUNTIF(W$12:W$148,4)","v":21},16,13,16,15,9,7,4,7,8,7,2,2,2,1,2,2,2,2,2,1,1,1,1,1,1,1,1,0,1,1,0,0,0,0,0,0,0,0,1,1,1,1,1,1,0,0,0,2,2,0,0,0,0,0,0,0,0,0,0,0,0,0,0,0,0,null,null,null,null,null,null,null,null,"Totals, Basic Need",{"$f":"SUM(CT157:CT160)","v":0},{"$f":"SUM(CU157:CU160)","v":0},0,0,0,0,0,0,0,0,0,0,0,0,0,0,0,0,0,0,0,0,0,0,0,0,0,0,0,0,0,0,0,0,0,0,0,0,0,0,0,0,0,0,0,0,0,0,0,0,0,0,0,0,0,0,0,0,0,0,0,0,0,0,0,{"$f":"SUM(FG157:FG160)","v":0},"END"]
[null,null,null,null,null,null,null,null,5,null,null,null,null,null,null,null,null,null,null,null,5,null,{"$f":"COUNTIF(W$12:W$148,5)","v":25},31,23,16,20,23,27,30,29,31,31,34,35,33,25,24,24,26,21,21,22,18,18,16,17,13,10,6,7,7,6,7,6,6,6,5,4,4,3,2,2,2,2,2,2,3,1,1,1,1,3,3,3,3,3,3,3,3,3,3,3,3,0,0,0,0,null,null,null,null,null,null,null,null,"Gen2",{"$f":"'Resource Capacity'!$G27","v":1146.5},{"$f":"'Resource Capacity'!$G27","v":1146.5},{"$f":"'Resource Capacity'!$G27","v":1146.5},{"$f":"'Resource Capacity'!$G27","v":1146.5},{"$f":"'Resource Capacity'!$G27","v":1146.5},{"$f":"'Resource Capacity'!$G27","v":1146.5},{"$f":"'Resource Capacity'!$G27","v":1146.5},{"$f":"'Resource Capacity'!$G27","v":1146.5},{"$f":"'Resource Capacity'!$G27","v":1146.5},{"$f":"'Resource Capacity'!$G27","v":1146.5},{"$f":"'Resource Capacity'!$G27","v":1146.5},{"$f":"'Resource Capacity'!$G27","v":1146.5},{"$f":"'Resource Capacity'!$G27","v":1146.5},{"$f":"'Resource Capacity'!$G27","v":1146.5},{"$f":"'Resource Capacity'!$G27","v":1146.5},{"$f":"'Resource Capacity'!$G27","v":1146.5},{"$f":"'Resource Capacity'!$G27","v":1146.5},{"$f":"'Resource Capacity'!$G27","v":1146.5},{"$f":"'Resource Capacity'!$G27","v":1146.5},{"$f":"'Resource Capacity'!$G27","v":1146.5},{"$f":"'Resource Capacity'!$G27","v":1146.5},{"$f":"'Resource Capacity'!$G27","v":1146.5},{"$f":"'Resource Capacity'!$G27","v":1146.5},{"$f":"'Resource Capacity'!$G27","v":1146.5},{"$f":"'Resource Capacity'!$G27","v":1146.5},{"$f":"'Resource Capacity'!$G27","v":1146.5},{"$f":"'Resource Capacity'!$G27","v":1146.5},{"$f":"'Resource Capacity'!$G27","v":1146.5},{"$f":"'Resource Capacity'!$G27","v":1146.5},{"$f":"'Resource Capacity'!$G27","v":1146.5},{"$f":"'Resource Capacity'!$G27","v":1146.5},{"$f":"'Resource Capacity'!$G27","v":1146.5},{"$f":"'Resource Capacity'!$G27","v":1146.5},{"$f":"'Resource Capacity'!$G27","v":1146.5},{"$f":"'Resource Capacity'!$G27","v":1146.5},{"$f":"'Resource Capacity'!$G27","v":1146.5},{"$f":"'Resource Capacity'!$G27","v":1146.5},{"$f":"'Resource Capacity'!$G27","v":1146.5},{"$f":"'Resource Capacity'!$G27","v":1146.5},{"$f":"'Resource Capacity'!$G27","v":1146.5},{"$f":"'Resource Capacity'!$G27","v":1146.5},{"$f":"'Resource Capacity'!$G27","v":1146.5},{"$f":"'Resource Capacity'!$G27","v":1146.5},{"$f":"'Resource Capacity'!$G27","v":1146.5},{"$f":"'Resource Capacity'!$G27","v":1146.5},{"$f":"'Resource Capacity'!$G27","v":1146.5},{"$f":"'Resource Capacity'!$G27","v":1146.5},{"$f":"'Resource Capacity'!$G27","v":1146.5},{"$f":"'Resource Capacity'!$G27","v":1146.5},{"$f":"'Resource Capacity'!$G27","v":1146.5},{"$f":"'Resource Capacity'!$G27","v":1146.5},{"$f":"'Resource Capacity'!$G27","v":1146.5},{"$f":"'Resource Capacity'!$G27","v":1146.5},{"$f":"'Resource Capacity'!$G27","v":1146.5},{"$f":"'Resource Capacity'!$G27","v":1146.5},{"$f":"'Resource Capacity'!$G27","v":1146.5},{"$f":"'Resource Capacity'!$G27","v":1146.5},{"$f":"'Resource Capacity'!$G27","v":1146.5},{"$f":"'Resource Capacity'!$G27","v":1146.5},{"$f":"'Resource Capacity'!$G27","v":1146.5},{"$f":"'Resource Capacity'!$G27","v":1146.5},{"$f":"'Resource Capacity'!$G27","v":1146.5},{"$f":"'Resource Capacity'!$G27","v":1146.5},{"$f":"'Resource Capacity'!$G27","v":1146.5},{"$f":"'Resource Capacity'!$G27","v":1146.5},{"$f":"'Resource Capacity'!$G27","v":1146.5},"END"]
[null,null,null,null,null,null,null,null,6,null,null,null,null,null,null,null,null,null,null,null,null,null,{"$f":"COUNTIF(W$12:W$148,6)","v":0},{"$f":"COUNTIF(X$12:X$148,6)","v":5},2,0,1,1,1,4,1,1,0,3,4,7,8,4,3,2,1,1,1,1,2,2,3,8,1,0,1,5,1,0,5,0,2,0,4,3,4,0,0,1,0,1,0,0,1,1,0,1,1,0,0,0,0,0,0,1,0,0,0,0,0,0,0,{"$f":"COUNTIF(CJ$12:CJ$148,6)","v":0},null,null,null,null,null,null,null,null,"Bench",{"$f":"'Resource Capacity'!$G28","v":331.20000000000005},{"$f":"'Resource Capacity'!$G28","v":331.20000000000005},{"$f":"'Resource Capacity'!$G28","v":331.20000000000005},{"$f":"'Resource Capacity'!$G28","v":331.20000000000005},{"$f":"'Resource Capacity'!$G28","v":331.20000000000005},{"$f":"'Resource Capacity'!$G28","v":331.20000000000005},{"$f":"'Resource Capacity'!$G28","v":331.20000000000005},{"$f":"'Resource Capacity'!$G28","v":331.20000000000005},{"$f":"'Resource Capacity'!$G28","v":331.20000000000005},{"$f":"'Resource Capacity'!$G28","v":331.20000000000005},{"$f":"'Resource Capacity'!$G28","v":331.20000000000005},{"$f":"'Resource Capacity'!$G28","v":331.20000000000005},{"$f":"'Resource Capacity'!$G28","v":331.20000000000005},{"$f":"'Resource Capacity'!$G28","v":331.20000000000005},{"$f":"'Resource Capacity'!$G28","v":331.20000000000005},{"$f":"'Resource Capacity'!$G28","v":331.20000000000005},{"$f":"'Resource Capacity'!$G28","v":331.20000000000005},{"$f":"'Resource Capacity'!$G28","v":331.20000000000005},{"$f":"'Resource Capacity'!$G28","v":331.20000000000005},{"$f":"'Resource Capacity'!$G28","v":331.20000000000005},{"$f":"'Resource Capacity'!$G28","v":331.20000000000005},{"$f":"'Resource Capacity'!$G28","v":331.20000000000005},{"$f":"'Resource Capacity'!$G28","v":331.20000000000005},{"$f":"'Resource Capacity'!$G28","v":331.20000000000005},{"$f":"'Resource Capacity'!$G28","v":331.20000000000005},{"$f":"'Resource Capacity'!$G28","v":331.20000000000005},{"$f":"'Resource Capacity'!$G28","v":331.20000000000005},{"$f":"'Resource Capacity'!$G28","v":331.20000000000005},{"$f":"'Resource Capacity'!$G28","v":331.20000000000005},{"$f":"'Resource Capacity'!$G28","v":331.20000000000005},{"$f":"'Resource Capacity'!$G28","v":331.20000000000005},{"$f":"'Resource Capacity'!$G28","v":331.20000000000005},{"$f":"'Resource Capacity'!$G28","v":331.20000000000005},{"$f":"'Resource Capacity'!$G28","v":331.20000000000005},{"$f":"'Resource Capacity'!$G28","v":331.20000000000005},{"$f":"'Resource Capacity'!$G28","v":331.20000000000005},{"$f":"'Resource Capacity'!$G28","v":331.20000000000005},{"$f":"'Resource Capacity'!$G28","v":331.20000000000005},{"$f":"'Resource Capacity'!$G28","v":331.20000000000005},{"$f":"'Resource Capacity'!$G28","v":331.20000000000005},{"$f":"'Resource Capacity'!$G28","v":331.20000000000005},{"$f":"'Resource Capacity'!$G28","v":331.20000000000005},{"$f":"'Resource Capacity'!$G28","v":331.20000000000005},{"$f":"'Resource Capacity'!$G28","v":331.20000000000005},{"$f":"'Resource Capacity'!$G28","v":331.20000000000005},{"$f":"'Resource Capacity'!$G28","v":331.20000000000005},{"$f":"'Resource Capacity'!$G28","v":331.20000000000005},{"$f":"'Resource Capacity'!$G28","v":331.20000000000005},{"$f":"'Resource Capacity'!$G28","v":331.20000000000005},{"$f":"'Resource Capacity'!$G28","v":331.20000000000005},{"$f":"'Resource Capacity'!$G28","v":331.20000000000005},{"$f":"'Resource Capacity'!$G28","v":331.20000000000005},{"$f":"'Resource Capacity'!$G28","v":331.20000000000005},{"$f":"'Resource Capacity'!$G28","v":331.20000000000005},{"$f":"'Resource Capacity'!$G28","v":331.20000000000005},{"$f":"'Resource Capacity'!$G28","v":331.20000000000005},{"$f":"'Resource Capacity'!$G28","v":331.20000000000005},{"$f":"'Resource Capacity'!$G28","v":331.20000000000005},{"$f":"'Resource Capacity'!$G28","v":331.20000000000005},{"$f":"'Resource Capacity'!$G28","v":331.20000000000005},{"$f":"'Resource Capacity'!$G28","v":331.20000000000005},{"$f":"'Resource Capacity'!$G28","v":331.20000000000005},{"$f":"'Resource Capacity'!$G28","v":331.20000000000005},{"$f":"'Resource Capacity'!$G28","v":331.20000000000005},{"$f":"'Resource Capacity'!$G28","v":331.20000000000005},{"$f":"'Resource Capacity'!$G28","v":331.20000000000005},"END"]
[null,null,null,null,null,null,null,null,null,null,null,null,null,null,null,null,null,null,null,null,null,null,{"$f":"SUM(W158:W163)","v":67},{"$f":"SUM(X158:X163)","v":75},61,49,48,45,48,51,46,47,45,46,47,47,39,34,34,33,27,26,26,21,22,21,22,23,13,8,10,14,9,8,12,7,9,6,9,8,8,3,5,6,5,6,5,5,4,4,3,4,4,3,3,3,3,3,3,4,3,3,3,3,0,0,0,{"$f":"SUM(CJ158:CJ163)","v":0},null,null,null,null,null,null,null,null,"Capacity",{"$f":"'Resource Capacity'!$G29","v":331.20000000000005},{"$f":"'Resource Capacity'!$G29","v":331.20000000000005},{"$f":"'Resource Capacity'!$G29","v":331.20000000000005},{"$f":"'Resource Capacity'!$G29","v":331.20000000000005},{"$f":"'Resource Capacity'!$G29","v":331.20000000000005},{"$f":"'Resource Capacity'!$G29","v":331.20000000000005},{"$f":"'Resource Capacity'!$G29","v":331.20000000000005},{"$f":"'Resource Capacity'!$G29","v":331.20000000000005},{"$f":"'Resource Capacity'!$G29","v":331.20000000000005},{"$f":"'Resource Capacity'!$G29","v":331.20000000000005},{"$f":"'Resource Capacity'!$G29","v":331.20000000000005},{"$f":"'Resource Capacity'!$G29","v":331.20000000000005},{"$f":"'Resource Capacity'!$G29","v":331.20000000000005},{"$f":"'Resource Capacity'!$G29","v":331.20000000000005},{"$f":"'Resource Capacity'!$G29","v":331.20000000000005},{"$f":"'Resource Capacity'!$G29","v":331.20000000000005},{"$f":"'Resource Capacity'!$G29","v":331.20000000000005},{"$f":"'Resource Capacity'!$G29","v":331.20000000000005},{"$f":"'Resource Capacity'!$G29","v":331.20000000000005},{"$f":"'Resource Capacity'!$G29","v":331.20000000000005},{"$f":"'Resource Capacity'!$G29","v":331.20000000000005},{"$f":"'Resource Capacity'!$G29","v":331.20000000000005},{"$f":"'Resource Capacity'!$G29","v":331.20000000000005},{"$f":"'Resource Capacity'!$G29","v":331.20000000000005},{"$f":"'Resource Capacity'!$G29","v":331.20000000000005},{"$f":"'Resource Capacity'!$G29","v":331.20000000000005},{"$f":"'Resource Capacity'!$G29","v":331.20000000000005},{"$f":"'Resource Capacity'!$G29","v":331.20000000000005},{"$f":"'Resource Capacity'!$G29","v":331.20000000000005},{"$f":"'Resource Capacity'!$G29","v":331.20000000000005},{"$f":"'Resource Capacity'!$G29","v":331.20000000000005},{"$f":"'Resource Capacity'!$G29","v":331.20000000000005},{"$f":"'Resource Capacity'!$G29","v":331.20000000000005},{"$f":"'Resource Capacity'!$G29","v":331.20000000000005},{"$f":"'Resource Capacity'!$G29","v":331.20000000000005},{"$f":"'Resource Capacity'!$G29","v":331.20000000000005},{"$f":"'Resource Capacity'!$G29","v":331.20000000000005},{"$f":"'Resource Capacity'!$G29","v":331.20000000000005},{"$f":"'Resource Capacity'!$G29","v":331.20000000000005},{"$f":"'Resource Capacity'!$G29","v":331.20000000000005},{"$f":"'Resource Capacity'!$G29","v":331.20000000000005},{"$f":"'Resource Capacity'!$G29","v":331.20000000000005},{"$f":"'Resource Capacity'!$G29","v":331.20000000000005},{"$f":"'Resource Capacity'!$G29","v":331.20000000000005},{"$f":"'Resource Capacity'!$G29","v":331.20000000000005},{"$f":"'Resource Capacity'!$G29","v":331.20000000000005},{"$f":"'Resource Capacity'!$G29","v":331.20000000000005},{"$f":"'Resource Capacity'!$G29","v":331.20000000000005},{"$f":"'Resource Capacity'!$G29","v":331.20000000000005},{"$f":"'Resource Capacity'!$G29","v":331.20000000000005},{"$f":"'Resource Capacity'!$G29","v":331.20000000000005},{"$f":"'Resource Capacity'!$G29","v":331.20000000000005},{"$f":"'Resource Capacity'!$G29","v":331.20000000000005},{"$f":"'Resource Capacity'!$G29","v":331.20000000000005},{"$f":"'Resource Capacity'!$G29","v":331.20000000000005},{"$f":"'Resource Capacity'!$G29","v":331.20000000000005},{"$f":"'Resource Capacity'!$G29","v":331.20000000000005},{"$f":"'Resource Capacity'!$G29","v":331.20000000000005},{"$f":"'Resource Capacity'!$G29","v":331.20000000000005},{"$f":"'Resource Capacity'!$G29","v":331.20000000000005},{"$f":"'Resource Capacity'!$G29","v":331.20000000000005},{"$f":"'Resource Capacity'!$G29","v":331.20000000000005},{"$f":"'Resource Capacity'!$G29","v":331.20000000000005},{"$f":"'Resource Capacity'!$G29","v":331.20000000000005},{"$f":"'Resource Capacity'!$G29","v":331.20000000000005},{"$f":"'Resource Capacity'!$G29","v":331.20000000000005},"END"]
[null,null,null,null,null,null,null,null,null,null,null,null,null,null,null,null,null,null,null,null,null,null,null,null,null,null,null,null,null,null,null,null,null,null,null,null,null,null,null,null,null,null,null,null,null,null,null,null,null,null,null,null,null,null,null,null,null,null,null,null,null,null,null,null,null,null,null,null,null,null,null,null,null,null,null,null,null,null,null,null,null,null,null,null,null,null,null,null,null,null,null,null,null,null,null,null,"Var (hrs)",{"$f":"SUM(CT162:CT164)-CT161","v":1808.9},{"$f":"SUM(CU162:CU164)-CU161","v":1808.9},1808.9,1808.9,1808.9,1808.9,1808.9,1808.9,1808.9,1808.9,1808.9,1808.9,1808.9,1808.9,1808.9,1808.9,1808.9,1808.9,1808.9,1808.9,1808.9,1808.9,1808.9,1808.9,1808.9,1808.9,1808.9,1808.9,1808.9,1808.9,1808.9,1808.9,1808.9,1808.9,1808.9,1808.9,1808.9,1808.9,1808.9,1808.9,1808.9,1808.9,1808.9,1808.9,1808.9,1808.9,1808.9,1808.9,1808.9,1808.9,1808.9,1808.9,1808.9,1808.9,1808.9,1808.9,1808.9,1808.9,1808.9,1808.9,1808.9,1808.9,1808.9,1808.9,1808.9,{"$f":"SUM(FG162:FG164)-FG161","v":1808.9},"END"]
[null,null,null,null,null,null,null,null,null,null,null,null,null,null,null,null,null,null,null,null,null,null,null,null,null,null,null,null,null,null,null,null,null,null,null,null,null,null,null,null,null,null,null,null,null,null,null,null,null,null,null,null,null,null,null,null,null,null,null,null,null,null,null,null,null,null,null,null,null,null,null,null,null,null,null,null,null,null,null,null,null,null,null,null,null,null,null,null,null,null,null,null,null,null,null,null,"Var (days)",{"$f":"CT165/7.5","v":241.18666666666667},{"$f":"CU165/7.5","v":241.18666666666667},{"$f":"CV165/7.5","v":241.18666666666667},241.18666666666667,241.18666666666667,241.18666666666667,241.18666666666667,241.18666666666667,241.18666666666667,241.18666666666667,241.18666666666667,{"$f":"DE165/7.5","v":241.18666666666667},{"$f":"DF165/7.5","v":241.18666666666667},241.18666666666667,241.18666666666667,241.18666666666667,241.18666666666667,241.18666666666667,241.18666666666667,241.18666666666667,241.18666666666667,241.18666666666667,241.18666666666667,241.18666666666667,241.18666666666667,241.18666666666667,241.18666666666667,241.18666666666667,241.18666666666667,241.18666666666667,241.18666666666667,241.18666666666667,241.18666666666667,241.18666666666667,241.18666666666667,241.18666666666667,241.18666666666667,241.18666666666667,241.18666666666667,241.18666666666667,241.18666666666667,241.18666666666667,241.18666666666667,241.18666666666667,241.18666666666667,241.18666666666667,241.18666666666667,241.18666666666667,241.18666666666667,241.18666666666667,241.18666666666667,241.18666666666667,241.18666666666667,241.18666666666667,241.18666666666667,241.18666666666667,241.18666666666667,241.18666666666667,241.18666666666667,241.18666666666667,241.18666666666667,241.18666666666667,241.18666666666667,241.18666666666667,241.18666666666667,241.18666666666667,"END"]
[null,null,null,null,null,null,null,null,null,null,null,null,null,null,null,null,null,null,null,null,"Date",null,null,null,null,null,null,null,null,null,null,null,null,null,null,null,null,null,null,null,null,null,null,null,null,null,null,null,null,null,null,null,null,null,null,null,null,null,null,null,null,null,null,null,null,null,null,null,null,null,null,null,null,null,null,null,null,null,null,null,null,null,null,null,null,null,null,null,null,null,null,null,null,null,null,null,null,"TOTAL ANTICIPATED MANHOURS PER MONTH",null,null,null,null,null,null,null,null,null,null,null,null,null,null,null,null,null,null,null,null,null,null,null,null,null,null,null,null,null,null,null,null,null,null,null,null,null,null,null,null,null,null,null,null,null,null,null,null,null,null,null,null,null,null,null,null,null,null,null,null,null,null,null,null,null,"END"]
[null,null,null,null,null,null,null,null,null,null,null,null,null,null,null,null,null,null,null,null,0,null,null,null,null,null,null,null,null,null,null,null,null,null,null,null,null,null,null,null,null,null,null,null,null,null,null,null,null,null,null,null,null,null,null,null,null,null,null,null,null,null,null,null,null,null,null,null,null,null,null,null,null,null,null,null,null,null,null,null,null,null,null,null,null,null,null,null,null,null,null,null,null,"Projects excl those on hold or school managed",null,null,null,null,null,null,null,null,null,null,null,null,null,null,null,null,null,null,null,null,null,null,null,null,null,null,null,null,null,null,null,null,null,null,null,null,null,null,null,null,null,null,null,null,null,null,null,null,null,null,null,null,null,null,null,null,null,null,null,null,null,null,null,null,null,null,null,null,null,"END"]
[null,null,null,null,null,null,null,null,null,null,null,null,null,null,null,null,null,null,null,null,null,null,null,null,null,null,null,null,null,null,null,null,null,null,null,null,null,null,null,null,null,null,null,null,null,null,null,null,null,null,null,null,null,null,null,null,null,null,null,null,null,null,null,null,null,null,null,null,null,null,null,null,null,null,null,null,null,null,null,null,null,null,null,null,null,null,null,null,null,null,null,null,null,null,null,null,null,{"$f":"CT11","v":"2018-07-01"},"2018-08-01","2018-09-01","2018-10-01","2018-11-01","2018-12-01","2019-01-01","2019-02-01","2019-03-01","2019-04-01","2019-05-01","2019-06-01","2019-07-01","2019-08-01","2019-09-01","2019-10-01","2019-11-01","2019-12-01","2020-01-01","2020-02-01","2020-03-01","2020-04-01","2020-05-01","2020-06-01","2020-07-01","2020-08-01","2020-09-01","2020-10-01","2020-11-01","2020-12-01","2021-01-01","2021-02-01","2021-03-01","2021-04-01","2021-05-01","2021-06-01","2021-07-01","2021-08-01","2021-09-01","2021-10-01","2021-11-01","2021-12-01","2022-01-01","2022-02-01","2022-03-01","2022-04-01","2022-05-01","2022-06-01","2022-07-01","2022-08-01","2022-09-01","2022-10-01","2022-11-01","2022-12-01","2023-01-01","2023-02-01","2023-03-01","2023-04-01","2023-05-01","2023-06-01","2023-07-01","2023-08-01","2023-09-01","2023-10-01",{"$f":"FF11","v":"2023-11-01"},"2023-12-01","END"]
[null,null,null,null,null,null,null,null,null,null,null,null,null,null,null,null,null,null,null,null,null,null,null,null,null,null,null,null,null,null,null,null,null,null,null,null,null,null,null,null,null,null,null,null,null,null,null,null,null,null,null,null,null,null,null,null,null,null,null,null,null,null,null,null,null,null,null,null,null,null,null,null,null,null,null,null,null,null,null,null,null,null,null,null,null,null,null,null,null,null,null,null,null,null,null,null,{"$f":"CS157","v":"Basic Need, Approved, Ongoing"},0,0,0,0,0,0,0,0,0,0,0,0,0,0,0,0,0,0,0,0,0,0,0,0,0,0,0,0,0,0,0,0,0,0,0,0,0,0,0,0,0,0,0,0,0,0,0,0,0,0,0,0,0,0,0,0,0,0,0,0,0,0,0,{"$f":"FE157","v":0},0,0,"END"]
[null,null,null,null,null,null,null,null,null,null,null,null,null,null,null,null,null,null,null,null,null,null,null,null,null,null,null,null,null,null,null,null,null,null,null,null,null,null,null,null,null,null,null,null,null,null,null,null,null,null,null,null,null,null,null,null,null,null,null,null,null,null,null,null,null,null,null,null,null,null,null,null,null,null,null,null,null,null,null,null,null,null,null,null,null,null,null,null,null,null,null,null,null,null,null,null,{"$f":"CS159","v":"Basic Need, Unapproved, Ongoing"},0,0,0,0,0,0,0,0,0,0,0,0,0,0,0,0,0,0,0,0,0,0,0,0,0,0,0,0,0,0,0,0,0,0,0,0,0,0,0,0,0,0,0,0,0,0,0,0,0,0,0,0,0,0,0,0,0,0,0,0,0,0,0,{"$f":"FE159","v":0},0,0,"END"]
[null,null,null,null,null,null,null,null,null,null,null,null,null,null,null,null,null,null,null,null,null,null,null,null,null,null,null,null,null,null,null,null,null,null,null,null,null,null,null,null,null,null,null,null,null,null,null,null,null,null,null,null,null,null,null,null,null,null,null,null,null,null,null,null,null,null,null,null,null,null,null,null,null,null,null,null,null,null,null,null,null,null,null,null,null,null,null,null,null,null,null,null,null,null,null,null,"Gen2",{"$f":"CT162","v":1146.5},{"$f":"CU162","v":1146.5},1146.5,1146.5,1146.5,1146.5,1146.5,1146.5,1146.5,1146.5,1146.5,1146.5,1146.5,1146.5,1146.5,1146.5,1146.5,1146.5,1146.5,1146.5,1146.5,1146.5,1146.5,1146.5,1146.5,1146.5,1146.5,1146.5,1146.5,1146.5,1146.5,1146.5,1146.5,1146.5,1146.5,1146.5,1146.5,1146.5,1146.5,1146.5,1146.5,1146.5,1146.5,1146.5,1146.5,1146.5,1146.5,1146.5,1146.5,1146.5,1146.5,1146.5,1146.5,1146.5,1146.5,1146.5,1146.5,1146.5,1146.5,1146.5,1146.5,1146.5,1146.5,1146.5,1146.5,{"$f":"FG162","v":1146.5},"END"]
[null,null,null,null,null,null,null,null,null,null,null,null,null,null,null,null,null,null,null,null,null,null,null,null,null,null,null,null,null,null,null,null,null,null,null,null,null,null,null,null,null,null,null,null,null,null,null,null,null,null,null,null,null,null,null,null,null,null,null,null,null,null,null,null,null,null,null,null,null,null,null,null,null,null,null,null,null,null,null,null,null,null,null,null,null,null,null,null,null,null,null,null,null,null,null,null,"Bench",{"$f":"CT163","v":331.20000000000005},331.20000000000005,331.20000000000005,331.20000000000005,331.20000000000005,331.20000000000005,331.20000000000005,331.20000000000005,331.20000000000005,331.20000000000005,331.20000000000005,331.20000000000005,331.20000000000005,331.20000000000005,331.20000000000005,331.20000000000005,331.20000000000005,331.20000000000005,331.20000000000005,331.20000000000005,331.20000000000005,331.20000000000005,331.20000000000005,331.20000000000005,331.20000000000005,331.20000000000005,331.20000000000005,331.20000000000005,331.20000000000005,331.20000000000005,331.20000000000005,331.20000000000005,331.20000000000005,331.20000000000005,331.20000000000005,331.20000000000005,331.20000000000005,331.20000000000005,331.20000000000005,331.20000000000005,331.20000000000005,331.20000000000005,331.20000000000005,331.20000000000005,331.20000000000005,331.20000000000005,331.20000000000005,331.20000000000005,331.20000000000005,331.20000000000005,331.20000000000005,331.20000000000005,331.20000000000005,331.20000000000005,331.20000000000005,331.20000000000005,331.20000000000005,331.20000000000005,331.20000000000005,331.20000000000005,331.20000000000005,331.20000000000005,331.20000000000005,331.20000000000005,331.20000000000005,331.20000000000005,"END"]
[null,null,null,null,null,null,null,null,null,null,null,null,null,null,null,null,null,null,null,null,null,null,null,null,null,null,null,null,null,null,null,null,null,null,null,null,null,null,null,null,null,null,null,null,null,null,null,null,null,null,null,null,null,null,null,null,null,null,null,null,null,null,null,null,null,null,null,null,null,null,null,null,null,null,null,null,null,null,null,null,null,null,null,null,null,null,null,null,null,null,null,null,null,null,null,null,"Capacity",{"$f":"CT164","v":331.20000000000005},331.20000000000005,331.20000000000005,331.20000000000005,331.20000000000005,331.20000000000005,331.20000000000005,331.20000000000005,331.20000000000005,331.20000000000005,331.20000000000005,331.20000000000005,331.20000000000005,331.20000000000005,331.20000000000005,331.20000000000005,331.20000000000005,331.20000000000005,331.20000000000005,331.20000000000005,331.20000000000005,331.20000000000005,331.20000000000005,331.20000000000005,331.20000000000005,331.20000000000005,331.20000000000005,331.20000000000005,331.20000000000005,331.20000000000005,331.20000000000005,331.20000000000005,331.20000000000005,331.20000000000005,331.20000000000005,331.20000000000005,331.20000000000005,331.20000000000005,331.20000000000005,331.20000000000005,331.20000000000005,331.20000000000005,331.20000000000005,331.20000000000005,331.20000000000005,331.20000000000005,331.20000000000005,331.20000000000005,331.20000000000005,331.20000000000005,331.20000000000005,331.20000000000005,331.20000000000005,331.20000000000005,331.20000000000005,331.20000000000005,331.20000000000005,331.20000000000005,331.20000000000005,331.20000000000005,331.20000000000005,331.20000000000005,331.20000000000005,331.20000000000005,331.20000000000005,331.20000000000005,"END"]
[null,null,null,null,null,null,null,null,null,null,null,null,null,null,null,null,null,null,null,null,null,null,null,null,null,null,null,null,null,null,null,null,null,null,null,null,null,null,null,null,null,null,null,null,null,null,null,null,null,null,null,null,null,null,null,null,null,null,null,null,null,null,null,null,null,null,null,null,null,null,null,null,null,null,null,null,null,null,null,null,null,null,null,null,null,null,null,null,null,null,null,null,null,null,null,null,null,null,null,null,null,null,null,null,null,null,null,null,null,null,null,null,null,null,null,null,null,null,null,null,null,null,null,null,null,null,null,null,null,null,null,null,null,null,null,null,null,null,null,null,null,null,null,null,null,null,null,null,null,null,null,null,null,null,null,null,null,null,null,null,null,null,null,"END"]
[null,null,null,null,null,null,null,null,null,null,null,null,null,null,null,null,null,null,null,null,null,null,null,null,null,null,null,null,null,null,null,null,null,null,null,null,null,null,null,null,null,null,null,null,null,null,null,null,null,null,null,null,null,null,null,null,null,null,null,null,null,null,null,null,null,null,null,null,null,null,null,null,null,null,null,null,null,null,null,null,null,null,null,null,null,null,null,null,null,null,null,null,null,null,null,null,null,{"$f":"CT166","v":241.18666666666667},241.18666666666667,241.18666666666667,241.18666666666667,241.18666666666667,241.18666666666667,241.18666666666667,241.18666666666667,241.18666666666667,241.18666666666667,241.18666666666667,241.18666666666667,241.18666666666667,241.18666666666667,241.18666666666667,241.18666666666667,241.18666666666667,241.18666666666667,241.18666666666667,241.18666666666667,241.18666666666667,241.18666666666667,241.18666666666667,241.18666666666667,241.18666666666667,241.18666666666667,241.18666666666667,241.18666666666667,241.18666666666667,241.18666666666667,241.18666666666667,241.18666666666667,241.18666666666667,241.18666666666667,241.18666666666667,241.18666666666667,241.18666666666667,241.18666666666667,241.18666666666667,241.18666666666667,241.18666666666667,241.18666666666667,241.18666666666667,241.18666666666667,241.18666666666667,241.18666666666667,241.18666666666667,241.18666666666667,241.18666666666667,241.18666666666667,241.18666666666667,241.18666666666667,241.18666666666667,241.18666666666667,241.18666666666667,241.18666666666667,241.18666666666667,241.18666666666667,241.18666666666667,241.18666666666667,241.18666666666667,241.18666666666667,241.18666666666667,241.18666666666667,{"$f":"FF166","v":241.18666666666667},241.18666666666667,"END"]
[null,null,null,null,null,null,null,null,null,null,null,null,null,null,null,null,null,null,null,null,null,null,null,null,null,null,null,null,null,null,null,null,null,null,null,null,null,null,null,null,null,null,null,null,null,null,null,null,null,null,null,null,null,null,null,null,null,null,null,null,null,null,null,null,null,null,null,null,null,null,null,null,null,null,null,null,null,null,null,null,null,null,null,null,null,null,null,null,null,null,null,null,null,null,null,null,null,null,null,null,null,null,null,null,null,null,null,null,null,null,null,null,null,null,null,null,null,null,null,null,null,null,null,null,null,null,null,null,null,null,null,null,null,null,null,null,null,null,null,null,null,null,null,null,null,null,null,null,null,null,null,null,null,null,null,null,null,null,null,null,null,null,null,"END"]
[null,null,null,null,null,"Trainee",null,null,null,null,null,null,null,null,null,null,null,null,null,null,null,null,null,null,null,null,null,null,null,null,null,null,null,null,null,null,null,null,null,null,null,null,null,null,null,null,null,null,null,null,null,null,null,null,null,null,null,null,null,null,null,null,null,null,null,null,null,null,null,null,null,null,null,null,null,null,null,null,null,null,null,null,null,null,null,null,null,null,null,null,null,null,null,null,null,null,null,null,null,null,null,null,null,null,null,null,null,null,null,null,null,null,null,null,null,null,null,null,null,null,null,null,null,null,null,null,null,null,null,null,null,null,null,null,null,null,null,null,null,null,null,null,null,null,null,null,null,null,null,null,null,null,null,null,null,null,null,null,null,null,null,null,null,"END"]
[null,null,null,null,null,null,null,null,null,null,null,null,null,null,null,null,null,null,null,null,null,null,null,null,null,null,null,null,null,null,null,null,null,null,null,null,null,null,null,null,null,null,null,null,null,null,null,null,null,null,null,null,null,null,null,null,null,null,null,null,null,null,null,null,null,null,null,null,null,null,null,null,null,null,null,null,null,null,null,null,null,null,null,null,null,null,null,null,null,null,null,null,null,null,null,null,null,null,null,null,null,null,null,null,null,null,null,null,null,null,null,null,null,null,null,null,null,null,null,null,null,null,null,null,null,null,null,null,null,null,null,null,null,null,null,null,null,null,null,null,null,null,null,null,null,null,null,null,null,null,null,null,null,null,null,null,null,null,null,null,null,null,null,"END"]
[null,null,null,null,null,null,null,null,null,null,null,null,null,null,null,null,null,null,null,null,null,null,null,null,null,null,null,null,null,null,null,null,null,null,null,null,null,null,null,null,null,null,null,null,null,null,null,null,null,null,null,null,null,null,null,null,null,null,null,null,null,null,null,null,null,null,null,null,null,null,null,null,null,null,null,null,null,null,null,null,null,null,null,null,null,null,null,null,null,null,null,null,null,null,null,null,null,{"$f":"CT169","v":"2018-07-01"},{"$f":"CU169","v":"2018-08-01"},{"$f":"CV169","v":"2018-09-01"},"2018-10-01","2018-11-01","2018-12-01","2019-01-01","2019-02-01","2019-03-01","2019-04-01","2019-05-01","2019-06-01","2019-07-01","2019-08-01","2019-09-01","2019-10-01","2019-11-01","2019-12-01","2020-01-01","2020-02-01","2020-03-01","2020-04-01","2020-05-01","2020-06-01","2020-07-01","2020-08-01","2020-09-01","2020-10-01","2020-11-01","2020-12-01","2021-01-01","2021-02-01","2021-03-01","2021-04-01","2021-05-01","2021-06-01","2021-07-01","2021-08-01","2021-09-01","2021-10-01","2021-11-01","2021-12-01","2022-01-01","2022-02-01","2022-03-01","2022-04-01","2022-05-01","2022-06-01","2022-07-01","2022-08-01","2022-09-01","2022-10-01","2022-11-01","2022-12-01","2023-01-01","2023-02-01","2023-03-01","2023-04-01","2023-05-01","2023-06-01","2023-07-01","2023-08-01","2023-09-01","2023-10-01","2023-11-01","2023-12-01","END"]
[null,null,null,null,null,null,null,null,null,null,null,null,null,null,null,null,null,null,null,null,null,null,null,null,null,null,null,null,null,null,null,null,null,null,null,null,null,null,null,null,null,null,null,null,null,null,null,null,null,null,null,null,null,null,null,null,null,null,null,null,null,null,null,null,null,null,null,null,null,null,null,null,null,null,null,null,null,null,null,null,null,null,null,null,null,null,null,null,null,null,null,null,null,null,null,null,{"$f":"CS170","v":"Basic Need, Approved, Ongoing"},{"$f":"CT170","v":0},{"$f":"CU170","v":0},0,0,0,0,0,0,0,0,0,0,0,0,0,0,0,0,0,0,0,0,0,0,0,0,0,0,0,0,0,0,0,0,0,0,0,0,0,0,0,0,0,0,0,0,0,0,0,0,0,0,0,0,0,0,0,0,0,0,0,0,0,0,0,0,"END"]
[null,null,null,null,null,null,null,null,null,null,null,null,null,null,null,null,null,null,null,null,null,null,null,null,null,null,null,null,null,null,null,null,null,null,null,null,null,null,null,null,null,null,null,null,null,null,null,null,null,null,null,null,null,null,null,null,null,null,null,null,null,null,null,null,null,null,null,null,null,null,null,null,null,null,null,null,null,null,null,null,null,null,null,null,null,null,null,null,null,null,null,null,null,null,null,null,{"$f":"CS171","v":"Basic Need, Unapproved, Ongoing"},{"$f":"CT171","v":0},0,0,0,0,0,0,0,0,0,0,0,0,0,0,0,0,0,0,0,0,0,0,0,0,0,0,0,0,0,0,0,0,0,0,0,0,0,0,0,0,0,0,0,0,0,0,0,0,0,0,0,0,0,0,0,0,0,0,0,0,0,0,0,0,0,"END"]
[null,null,null,null,null,null,null,null,null,null,null,null,null,null,null,null,null,null,null,null,null,null,null,null,null,null,null,null,null,null,null,null,null,null,null,null,null,null,null,null,null,null,null,null,null,null,null,null,null,null,null,null,null,null,null,null,null,null,null,null,null,null,null,null,null,null,null,null,null,null,null,null,null,null,null,null,null,null,null,null,null,null,null,null,null,null,null,null,null,null,null,null,null,null,null,null,"On hold or school managed",{"$f":"Possibles!CD17","v":0},{"$f":"Possibles!CE17","v":25.799999999999997},{"$f":"Possibles!CF17","v":64.5},{"$f":"Possibles!CG17","v":77.400000000000006},{"$f":"Possibles!CH17","v":64.5},{"$f":"Possibles!CI17","v":116.1},{"$f":"Possibles!CJ17","v":116.1},{"$f":"Possibles!CK17","v":116.1},{"$f":"Possibles!CL17","v":129},{"$f":"Possibles!CM17","v":141.89999999999998},{"$f":"Possibles!CN17","v":141.89999999999998},{"$f":"Possibles!CO17","v":180.59999999999997},{"$f":"Possibles!CP17","v":193.50000000000003},{"$f":"Possibles!CQ17","v":206.39999999999998},{"$f":"Possibles!CR17","v":167.7},{"$f":"Possibles!CS17","v":180.59999999999997},{"$f":"Possibles!CT17","v":193.5},{"$f":"Possibles!CU17","v":189.2},{"$f":"Possibles!CV17","v":214.99999999999997},{"$f":"Possibles!CW17","v":227.89999999999998},{"$f":"Possibles!CX17","v":227.89999999999998},{"$f":"Possibles!CY17","v":215},{"$f":"Possibles!CZ17","v":253.7},{"$f":"Possibles!DA17","v":320.34999999999997},{"$f":"Possibles!DB17","v":288.09999999999997},{"$f":"Possibles!DC17","v":236.49999999999997},{"$f":"Possibles!DD17","v":242.94999999999996},{"$f":"Possibles!DE17","v":236.49999999999997},{"$f":"Possibles!DF17","v":275.20000000000005},{"$f":"Possibles!DG17","v":227.9},{"$f":"Possibles!DH17","v":247.24999999999997},{"$f":"Possibles!DI17","v":240.79999999999998},{"$f":"Possibles!DJ17","v":227.9},{"$f":"Possibles!DK17","v":227.9},{"$f":"Possibles!DL17","v":227.9},{"$f":"Possibles!DM17","v":247.25},{"$f":"Possibles!DN17","v":279.5},{"$f":"Possibles!DO17","v":214.99999999999997},{"$f":"Possibles!DP17","v":176.29999999999998},{"$f":"Possibles!DQ17","v":176.29999999999998},{"$f":"Possibles!DR17","v":176.29999999999998},{"$f":"Possibles!DS17","v":150.5},{"$f":"Possibles!DT17","v":124.69999999999999},{"$f":"Possibles!DU17","v":124.69999999999999},{"$f":"Possibles!DV17","v":98.899999999999991},{"$f":"Possibles!DW17","v":98.899999999999991},{"$f":"Possibles!DX17","v":25.799999999999997},{"$f":"Possibles!DY17","v":25.799999999999997},{"$f":"Possibles!DZ17","v":45.149999999999991},{"$f":"Possibles!EA17","v":45.149999999999991},{"$f":"Possibles!EB17","v":0},{"$f":"Possibles!EC17","v":0},{"$f":"Possibles!ED17","v":19.349999999999998},{"$f":"Possibles!EE17","v":19.349999999999998},{"$f":"Possibles!EF17","v":0},{"$f":"Possibles!EG17","v":19.349999999999998},{"$f":"Possibles!EH17","v":0},{"$f":"Possibles!EI17","v":73.099999999999994},{"$f":"Possibles!EJ17","v":0},{"$f":"Possibles!EK17","v":0},{"$f":"Possibles!EL17","v":0},{"$f":"Possibles!EM17","v":19.349999999999998},{"$f":"Possibles!EN17","v":0},{"$f":"Possibles!EO17","v":0},{"$f":"Possibles!EP17","v":0},{"$f":"Possibles!EQ17","v":0},"END"]
[null,null,null,null,null,null,null,null,null,null,null,null,null,null,null,null,null,null,null,null,null,null,null,null,null,null,null,null,null,null,null,null,null,null,null,null,null,null,null,null,null,null,null,null,null,null,null,null,null,null,null,null,null,null,null,null,null,null,null,null,null,null,null,null,null,null,null,null,null,null,null,null,null,null,null,null,null,null,null,null,null,null,null,null,null,null,null,null,null,null,null,null,null,null,null,null,"Gen2",{"$f":"CT172","v":1146.5},{"$f":"CU172","v":1146.5},1146.5,1146.5,1146.5,1146.5,1146.5,1146.5,1146.5,1146.5,1146.5,1146.5,1146.5,1146.5,1146.5,1146.5,1146.5,1146.5,1146.5,1146.5,1146.5,1146.5,1146.5,1146.5,1146.5,1146.5,1146.5,1146.5,1146.5,1146.5,1146.5,1146.5,1146.5,1146.5,1146.5,1146.5,1146.5,1146.5,1146.5,1146.5,1146.5,1146.5,1146.5,1146.5,1146.5,1146.5,1146.5,1146.5,1146.5,1146.5,1146.5,1146.5,1146.5,1146.5,1146.5,1146.5,1146.5,1146.5,1146.5,1146.5,1146.5,1146.5,1146.5,1146.5,1146.5,{"$f":"FG172","v":1146.5},"END"]
[null,null,null,null,null,null,null,null,null,null,null,null,null,null,null,null,null,null,null,null,null,null,null,null,null,null,null,null,null,null,null,null,null,null,null,null,null,null,null,null,null,null,null,null,null,null,null,null,null,null,null,null,null,null,null,null,null,null,null,null,null,null,null,null,null,null,null,null,null,null,null,null,null,null,null,null,null,null,null,null,null,null,null,null,null,null,null,null,null,null,null,null,null,null,null,null,"Bench",{"$f":"CT173","v":331.20000000000005},331.20000000000005,331.20000000000005,331.20000000000005,331.20000000000005,331.20000000000005,331.20000000000005,331.20000000000005,331.20000000000005,331.20000000000005,331.20000000000005,331.20000000000005,331.20000000000005,331.20000000000005,331.20000000000005,331.20000000000005,331.20000000000005,331.20000000000005,331.20000000000005,331.20000000000005,331.20000000000005,331.20000000000005,331.20000000000005,331.20000000000005,331.20000000000005,331.20000000000005,331.20000000000005,331.20000000000005,331.20000000000005,331.20000000000005,331.20000000000005,331.20000000000005,331.20000000000005,331.20000000000005,331.20000000000005,331.20000000000005,331.20000000000005,331.20000000000005,331.20000000000005,331.20000000000005,331.20000000000005,331.20000000000005,331.20000000000005,331.20000000000005,331.20000000000005,331.20000000000005,331.20000000000005,331.20000000000005,331.20000000000005,331.20000000000005,331.20000000000005,331.20000000000005,331.20000000000005,331.20000000000005,331.20000000000005,331.20000000000005,331.20000000000005,331.20000000000005,331.20000000000005,331.20000000000005,331.20000000000005,331.20000000000005,331.20000000000005,331.20000000000005,331.20000000000005,331.20000000000005,"END"]
[null,null,null,null,null,null,null,null,null,null,null,null,null,null,null,null,null,null,null,null,null,null,null,null,null,null,null,null,null,null,null,null,null,null,null,null,null,null,null,null,null,null,null,null,null,null,null,null,null,null,null,null,null,null,null,null,null,null,null,null,null,null,null,null,null,null,null,null,null,null,null,null,null,null,null,null,null,null,null,null,null,null,null,null,null,null,null,null,null,null,null,null,null,null,null,null,"Capacity",331.20000000000005,331.20000000000005,331.20000000000005,331.20000000000005,331.20000000000005,331.20000000000005,331.20000000000005,331.20000000000005,331.20000000000005,331.20000000000005,331.20000000000005,331.20000000000005,331.20000000000005,331.20000000000005,331.20000000000005,331.20000000000005,331.20000000000005,331.20000000000005,331.20000000000005,331.20000000000005,331.20000000000005,331.20000000000005,331.20000000000005,331.20000000000005,331.20000000000005,331.20000000000005,331.20000000000005,331.20000000000005,331.20000000000005,331.20000000000005,331.20000000000005,331.20000000000005,331.20000000000005,331.20000000000005,331.20000000000005,331.20000000000005,331.20000000000005,331.20000000000005,331.20000000000005,331.20000000000005,331.20000000000005,331.20000000000005,331.20000000000005,331.20000000000005,331.20000000000005,331.20000000000005,331.20000000000005,331.20000000000005,331.20000000000005,331.20000000000005,331.20000000000005,331.20000000000005,331.20000000000005,331.20000000000005,331.20000000000005,331.20000000000005,331.20000000000005,331.20000000000005,331.20000000000005,331.20000000000005,331.20000000000005,331.20000000000005,331.20000000000005,331.20000000000005,331.20000000000005,331.20000000000005,"END"]
[null,null,null,null,null,null,null,null,null,null,null,null,null,null,null,null,null,null,null,null,null,null,null,null,null,null,null,null,null,null,null,null,null,null,null,null,null,null,null,null,null,null,null,null,null,null,null,null,null,null,null,null,null,null,null,null,null,null,null,null,null,null,null,null,null,null,null,null,null,null,null,null,null,null,null,null,null,null,null,null,null,null,null,null,null,null,null,null,null,null,null,null,null,null,null,null,null,null,null,null,null,null,null,null,null,null,null,null,null,null,null,null,null,null,null,null,null,null,null,null,null,null,null,null,null,null,null,null,null,null,null,null,null,null,null,null,null,null,null,null,null,null,null,null,null,null,null,null,null,null,null,null,null,null,null,null,null,null,null,null,null,null,null,"END"]
[null,null,null,null,null,null,null,null,null,null,null,null,null,null,null,null,null,null,null,null,null,null,null,null,null,null,null,null,null,null,null,null,null,null,null,null,null,null,null,null,null,null,null,null,null,null,null,null,null,null,null,null,null,null,null,null,null,null,null,null,null,null,null,null,null,null,null,null,null,null,null,null,null,null,null,null,null,null,null,null,null,null,null,null,null,null,null,null,null,null,null,null,null,null,null,null,null,null,null,null,null,null,null,null,null,null,null,null,null,null,null,null,null,null,null,null,null,null,null,null,null,null,null,null,null,null,null,null,null,null,null,null,null,null,null,null,null,null,null,null,null,null,null,null,null,null,null,null,null,null,null,null,null,null,null,null,null,null,null,null,null,null,null,"END"]
[null,null,null,null,null,null,null,null,null,null,null,null,null,null,null,null,null,null,null,null,null,null,null,null,null,null,null,null,null,null,null,null,null,null,null,null,null,null,null,null,null,null,null,null,null,null,null,null,null,null,null,null,null,null,null,null,null,null,null,null,null,null,null,null,null,null,null,null,null,null,null,null,null,null,null,null,null,null,null,null,null,null,null,null,null,null,null,null,null,null,null,null,null,null,null,null,null,null,null,null,null,null,null,null,null,null,null,null,null,null,null,null,null,null,null,null,null,null,null,null,null,null,null,null,null,null,null,null,null,null,null,null,null,null,null,null,null,null,null,null,null,null,null,null,null,null,null,null,null,null,null,null,null,null,null,null,null,null,null,null,null,null,null,"END"]
[null,null,null,null,null,null,null,null,null,null,null,null,null,null,null,null,null,null,null,null,null,null,null,null,null,null,null,null,null,null,null,null,null,null,null,null,null,null,null,null,null,null,null,null,null,null,null,null,null,null,null,null,null,null,null,null,null,null,null,null,null,null,null,null,null,null,null,null,null,null,null,null,null,null,null,null,null,null,null,null,null,null,null,null,null,null,null,null,null,null,null,null,null,null,null,null,null,null,null,null,null,null,null,null,null,null,null,null,null,null,null,null,null,null,null,null,null,null,null,null,null,null,null,null,null,null,null,null,null,null,null,null,null,null,null,null,null,null,null,null,null,null,null,null,null,null,null,null,null,null,null,null,null,null,null,null,null,null,null,null,null,null,null,"END"]
[null,null,null,null,null,null,null,null,null,null,null,null,null,null,null,null,null,null,null,null,null,null,null,null,null,null,null,null,null,null,null,null,null,null,null,null,null,null,null,null,null,null,null,null,null,null,null,null,null,null,null,null,null,null,null,null,null,null,null,null,null,null,null,null,null,null,null,null,null,null,null,null,null,null,null,null,null,null,null,null,null,null,null,null,null,null,null,null,null,null,null,null,null,null,null,null,null,null,null,null,null,null,null,null,null,null,null,null,null,null,null,null,null,null,null,null,null,null,null,null,null,null,null,null,null,null,null,null,null,null,null,null,null,null,null,null,null,null,null,null,null,null,null,null,null,null,null,null,null,null,null,null,null,null,null,null,null,null,null,null,null,null,null,"END"]
[null,null,null,null,null,null,null,null,null,null,null,null,null,null,null,null,null,null,null,null,null,null,null,null,null,null,null,null,null,null,null,null,null,null,null,null,null,null,null,null,null,null,null,null,null,null,null,null,null,null,null,null,null,null,null,null,null,null,null,null,null,null,null,null,null,null,null,null,null,null,null,null,null,null,null,null,null,null,null,null,null,null,null,null,null,null,null,null,null,null,null,null,null,null,null,null,null,null,null,null,null,null,null,null,null,null,null,null,null,null,null,null,null,null,null,null,null,null,null,null,null,null,null,null,null,null,null,null,null,null,null,null,null,null,null,null,null,null,null,null,null,null,null,null,null,null,null,null,null,null,null,null,null,null,null,null,null,null,null,null,null,null,null,"END"]
[null,null,null,null,null,null,null,null,null,null,null,null,null,null,null,null,null,null,null,null,null,null,null,null,null,null,null,null,null,null,null,null,null,null,null,null,null,null,null,null,null,null,null,null,null,null,null,null,null,null,null,null,null,null,null,null,null,null,null,null,null,null,null,null,null,null,null,null,null,null,null,null,null,null,null,null,null,null,null,null,null,null,null,null,null,null,null,null,null,null,null,null,null,null,null,null,null,null,null,null,null,null,null,null,null,null,null,null,null,null,null,null,null,null,null,null,null,null,null,null,null,null,null,null,null,null,null,null,null,null,null,null,null,null,null,null,null,null,null,null,null,null,null,null,null,null,null,null,null,null,null,null,null,null,null,null,null,null,null,null,null,null,null,"END"]
[null,null,null,null,null,null,null,null,null,null,null,null,null,null,null,null,null,null,null,null,null,null,null,null,null,null,null,null,null,null,null,null,null,null,null,null,null,null,null,null,null,null,null,null,null,null,null,null,null,null,null,null,null,null,null,null,null,null,null,null,null,null,null,null,null,null,null,null,null,null,null,null,null,null,null,null,null,null,null,null,null,null,null,null,null,null,null,null,null,null,null,null,null,null,null,null,null,null,null,null,null,null,null,null,null,null,null,null,null,null,null,null,null,null,null,null,null,null,null,null,null,null,null,null,null,null,null,null,null,null,null,null,null,null,null,null,null,null,null,null,null,null,null,null,null,null,null,null,null,null,null,null,null,null,null,null,null,null,null,null,null,null,null,"END"]
[null,null,null,null,null,null,null,null,null,null,null,null,null,null,null,null,null,null,null,null,null,null,null,null,null,null,null,null,null,null,null,null,null,null,null,null,null,null,null,null,null,null,null,null,null,null,null,null,null,null,null,null,null,null,null,null,null,null,null,null,null,null,null,null,null,null,null,null,null,null,null,null,null,null,null,null,null,null,null,null,null,null,null,null,null,null,null,null,null,null,null,null,null,null,null,null,null,null,null,null,null,null,null,null,null,null,null,null,null,null,null,null,null,null,null,null,null,null,null,null,null,null,null,null,null,null,null,null,null,null,null,null,null,null,null,null,null,null,null,null,null,null,null,null,null,null,null,null,null,null,null,null,null,null,null,null,null,null,null,null,null,null,null,"END"]
[null,null,null,null,null,null,null,null,null,null,null,null,null,null,null,null,null,null,null,null,null,null,null,null,null,null,null,null,null,null,null,null,null,null,null,null,null,null,null,null,null,null,null,null,null,null,null,null,null,null,null,null,null,null,null,null,null,null,null,null,null,null,null,null,null,null,null,null,null,null,null,null,null,null,null,null,null,null,null,null,null,null,null,null,null,null,null,null,null,null,null,null,null,null,null,null,null,null,null,null,null,null,null,null,null,null,null,null,null,null,null,null,null,null,null,null,null,null,null,null,null,null,null,null,null,null,null,null,null,null,null,null,null,null,null,null,null,null,null,null,null,null,null,null,null,null,null,null,null,null,null,null,null,null,null,null,null,null,null,null,null,null,null,"END"]
[null,null,null,null,null,null,null,null,null,null,null,null,null,null,null,null,null,null,null,null,null,null,null,null,null,null,null,null,null,null,null,null,null,null,null,null,null,null,null,null,null,null,null,null,null,null,null,null,null,null,null,null,null,null,null,null,null,null,null,null,null,null,null,null,null,null,null,null,null,null,null,null,null,null,null,null,null,null,null,null,null,null,null,null,null,null,null,null,null,null,null,null,null,null,null,null,null,null,null,null,null,null,null,null,null,null,null,null,null,null,null,null,null,null,null,null,null,null,null,null,null,null,null,null,null,null,null,null,null,null,null,null,null,null,null,null,null,null,null,null,null,null,null,null,null,null,null,null,null,null,null,null,null,null,null,null,null,null,null,null,null,null,null,"END"]
[null,null,null,null,null,null,null,null,null,null,null,null,null,null,null,null,null,null,null,null,null,null,null,null,null,null,null,null,null,null,null,null,null,null,null,null,null,null,null,null,null,null,null,null,null,null,null,null,null,null,null,null,null,null,null,null,null,null,null,null,null,null,null,null,null,null,null,null,null,null,null,null,null,null,null,null,null,null,null,null,null,null,null,null,null,null,null,null,null,null,null,null,null,null,null,null,null,null,null,null,null,null,null,null,null,null,null,null,null,null,null,null,null,null,null,null,null,null,null,null,null,null,null,null,null,null,null,null,null,null,null,null,null,null,null,null,null,null,null,null,null,null,null,null,null,null,null,null,null,null,null,null,null,null,null,null,null,null,null,null,null,null,null,"END"]
[null,null,null,null,null,null,null,null,null,null,null,null,null,null,null,null,null,null,null,null,null,null,null,null,null,null,null,null,null,null,null,null,null,null,null,null,null,null,null,null,null,null,null,null,null,null,null,null,null,null,null,null,null,null,null,null,null,null,null,null,null,null,null,null,null,null,null,null,null,null,null,null,null,null,null,null,null,null,null,null,null,null,null,null,null,null,null,null,null,null,null,null,null,null,null,null,null,null,null,null,null,null,null,null,null,null,null,null,null,null,null,null,null,null,null,null,null,null,null,null,null,null,null,null,null,null,null,null,null,null,null,null,null,null,null,null,null,null,null,null,null,null,null,null,null,null,null,null,null,null,null,null,null,null,null,null,null,null,null,null,null,null,null,"END"]
[null,null,null,null,null,null,null,null,null,null,null,null,null,null,null,null,null,null,null,null,null,null,null,null,null,null,null,null,null,null,null,null,null,null,null,null,null,null,null,null,null,null,null,null,null,null,null,null,null,null,null,null,null,null,null,null,null,null,null,null,null,null,null,null,null,null,null,null,null,null,null,null,null,null,null,null,null,null,null,null,null,null,null,null,null,null,null,null,null,null,null,null,null,null,null,null,null,null,null,null,null,null,null,null,null,null,null,null,null,null,null,null,null,null,null,null,null,null,null,null,null,null,null,null,null,null,null,null,null,null,null,null,null,null,null,null,null,null,null,null,null,null,null,null,null,null,null,null,null,null,null,null,null,null,null,null,null,null,null,null,null,null,null,"END"]
[null,null,null,null,null,null,null,null,null,null,null,null,null,null,null,null,null,null,null,null,null,null,null,null,null,null,null,null,null,null,null,null,null,null,null,null,null,null,null,null,null,null,null,null,null,null,null,null,null,null,null,null,null,null,null,null,null,null,null,null,null,null,null,null,null,null,null,null,null,null,null,null,null,null,null,null,null,null,null,null,null,null,null,null,null,null,null,null,null,null,null,null,null,null,null,null,null,null,null,null,null,null,null,null,null,null,null,null,null,null,null,null,null,null,null,null,null,null,null,null,null,null,null,null,null,null,null,null,null,null,null,null,null,null,null,null,null,null,null,null,null,null,null,null,null,null,null,null,null,null,null,null,null,null,null,null,null,null,null,null,null,null,null,"END"]
[null,null,null,null,null,null,null,null,null,null,null,null,null,null,null,null,null,null,null,null,null,null,null,null,null,null,null,null,null,null,null,null,null,null,null,null,null,null,null,null,null,null,null,null,null,null,null,null,null,null,null,null,null,null,null,null,null,null,null,null,null,null,null,null,null,null,null,null,null,null,null,null,null,null,null,null,null,null,null,null,null,null,null,null,null,null,null,null,null,null,null,null,null,null,null,null,null,null,null,null,null,null,null,null,null,null,null,null,null,null,null,null,null,null,null,null,null,null,null,null,null,null,null,null,null,null,null,null,null,null,null,null,null,null,null,null,null,null,null,null,null,null,null,null,null,null,null,null,null,null,null,null,null,null,null,null,null,null,null,null,null,null,null,"END"]
[null,null,null,null,null,null,null,null,null,null,null,null,null,null,null,null,null,null,null,null,null,null,null,null,null,null,null,null,null,null,null,null,null,null,null,null,null,null,null,null,null,null,null,null,null,null,null,null,null,null,null,null,null,null,null,null,null,null,null,null,null,null,null,null,null,null,null,null,null,null,null,null,null,null,null,null,null,null,null,null,null,null,null,null,null,null,null,null,null,null,null,null,null,null,null,null,null,null,null,null,null,null,null,null,null,null,null,null,null,null,null,null,null,null,null,null,null,null,null,null,null,null,null,null,null,null,null,null,null,null,null,null,null,null,null,null,null,null,null,null,null,null,null,null,null,null,null,null,null,null,null,null,null,null,null,null,null,null,null,null,null,null,null,"END"]
[null,null,null,null,null,null,null,null,null,null,null,null,null,null,null,null,null,null,null,null,null,null,null,null,null,null,null,null,null,null,null,null,null,null,null,null,null,null,null,null,null,null,null,null,null,null,null,null,null,null,null,null,null,null,null,null,null,null,null,null,null,null,null,null,null,null,null,null,null,null,null,null,null,null,null,null,null,null,null,null,null,null,null,null,null,null,null,null,null,null,null,null,null,null,null,null,null,null,null,null,null,null,null,null,null,null,null,null,null,null,null,null,null,null,null,null,null,null,null,null,null,null,null,null,null,null,null,null,null,null,null,null,null,null,null,null,null,null,null,null,null,null,null,null,null,null,null,null,null,null,null,null,null,null,null,null,null,null,null,null,null,null,null,"END"]
[null,null,null,null,null,null,null,null,null,null,null,null,null,null,null,null,null,null,null,null,null,null,null,null,null,null,null,null,null,null,null,null,null,null,null,null,null,null,null,null,null,null,null,null,null,null,null,null,null,null,null,null,null,null,null,null,null,null,null,null,null,null,null,null,null,null,null,null,null,null,null,null,null,null,null,null,null,null,null,null,null,null,null,null,null,null,null,null,null,null,null,null,null,null,null,null,null,null,null,null,null,null,null,null,null,null,null,null,null,null,null,null,null,null,null,null,null,null,null,null,null,null,null,null,null,null,null,null,null,null,null,null,null,null,null,null,null,null,null,null,null,null,null,null,null,null,null,null,null,null,null,null,null,null,null,null,null,null,null,null,null,null,null,"END"]
[null,null,null,null,null,null,null,null,null,null,null,null,null,null,null,null,null,null,null,null,null,null,null,null,null,null,null,null,null,null,null,null,null,null,null,null,null,null,null,null,null,null,null,null,null,null,null,null,null,null,null,null,null,null,null,null,null,null,null,null,null,null,null,null,null,null,null,null,null,null,null,null,null,null,null,null,null,null,null,null,null,null,null,null,null,null,null,null,null,null,null,null,null,null,null,null,null,null,null,null,null,null,null,null,null,null,null,null,null,null,null,null,null,null,null,null,null,null,null,null,null,null,null,null,null,null,null,null,null,null,null,null,null,null,null,null,null,null,null,null,null,null,null,null,null,null,null,null,null,null,null,null,null,null,null,null,null,null,null,null,null,null,null,"END"]
[null,null,null,null,null,null,null,null,null,null,null,null,null,null,null,null,null,null,null,null,null,null,null,null,null,null,null,null,null,null,null,null,null,null,null,null,null,null,null,null,null,null,null,null,null,null,null,null,null,null,null,null,null,null,null,null,null,null,null,null,null,null,null,null,null,null,null,null,null,null,null,null,null,null,null,null,null,null,null,null,null,null,null,null,null,null,null,null,null,null,null,null,null,null,null,null,null,null,null,null,null,null,null,null,null,null,null,null,null,null,null,null,null,null,null,null,null,null,null,null,null,null,null,null,null,null,null,null,null,null,null,null,null,null,null,null,null,null,null,null,null,null,null,null,null,null,null,null,null,null,null,null,null,null,null,null,null,null,null,null,null,null,null,"END"]
[null,null,null,null,null,null,null,null,null,null,null,null,null,null,null,null,null,null,null,null,null,null,null,null,null,null,null,null,null,null,null,null,null,null,null,null,null,null,null,null,null,null,null,null,null,null,null,null,null,null,null,null,null,null,null,null,null,null,null,null,null,null,null,null,null,null,null,null,null,null,null,null,null,null,null,null,null,null,null,null,null,null,null,null,null,null,null,null,null,null,null,null,null,null,null,null,null,null,null,null,null,null,null,null,null,null,null,null,null,null,null,null,null,null,null,null,null,null,null,null,null,null,null,null,null,null,null,null,null,null,null,null,null,null,null,null,null,null,null,null,null,null,null,null,null,null,null,null,null,null,null,null,null,null,null,null,null,null,null,null,null,null,null,"END"]
[null,null,null,null,null,null,null,null,null,null,null,null,null,null,null,null,null,null,null,null,null,null,null,null,null,null,null,null,null,null,null,null,null,null,null,null,null,null,null,null,null,null,null,null,null,null,null,null,null,null,null,null,null,null,null,null,null,null,null,null,null,null,null,null,null,null,null,null,null,null,null,null,null,null,null,null,null,null,null,null,null,null,null,null,null,null,null,null,null,null,null,null,null,null,null,null,null,null,null,null,null,null,null,null,null,null,null,null,null,null,null,null,null,null,null,null,null,null,null,null,null,null,null,null,null,null,null,null,null,null,null,null,null,null,null,null,null,null,null,null,null,null,null,null,null,null,null,null,null,null,null,null,null,null,null,null,null,null,null,null,null,null,null,"END"]
[null,null,null,null,null,null,null,null,null,null,null,null,null,null,null,null,null,null,null,null,null,null,null,null,null,null,null,null,null,null,null,null,null,null,null,null,null,null,null,null,null,null,null,null,null,null,null,null,null,null,null,null,null,null,null,null,null,null,null,null,null,null,null,null,null,null,null,null,null,null,null,null,null,null,null,null,null,null,null,null,null,null,null,null,null,null,null,null,null,null,null,null,null,null,null,null,null,null,null,null,null,null,null,null,null,null,null,null,null,null,null,null,null,null,null,null,null,null,null,null,null,null,null,null,null,null,null,null,null,null,null,null,null,null,null,null,null,null,null,null,null,null,null,null,null,null,null,null,null,null,null,null,null,null,null,null,null,null,null,null,null,null,null,"END"]
[null,null,null,null,null,null,null,null,null,null,null,null,null,null,null,null,null,null,null,null,null,null,null,null,null,null,null,null,null,null,null,null,null,null,null,null,null,null,null,null,null,null,null,null,null,null,null,null,null,null,null,null,null,null,null,null,null,null,null,null,null,null,null,null,null,null,null,null,null,null,null,null,null,null,null,null,null,null,null,null,null,null,null,null,null,null,null,null,null,null,null,null,null,null,null,null,null,null,null,null,null,null,null,null,null,null,null,null,null,null,null,null,null,null,null,null,null,null,null,null,null,null,null,null,null,null,null,null,null,null,null,null,null,null,null,null,null,null,null,null,null,null,null,null,null,null,null,null,null,null,null,null,null,null,null,null,null,null,null,null,null,null,null,"END"]

{"sheet":"Possibles","index":11,"n_rows":18,"n_cols":148,"rows_kept":18,"cut":false,"hidden":true,"merged":[]}
[]
["PROJECT","PROGRAMME","AREA","PROJECT MANAGER","APPROVED/\nUNAPPROVED","Construction\nPrice Band","Anticipated\nManhours","2018-07-01","2018-08-01","2018-09-01","2018-10-01","2018-11-01","2018-12-01","2019-01-01","2019-02-01","2019-03-01","2019-04-01","2019-05-01","2019-06-01","2019-07-01","2019-08-01","2019-09-01","2019-10-01","2019-11-01","2019-12-01","2020-01-01","2020-02-01","2020-03-01","2020-04-01","2020-05-01","2020-06-01","2020-07-01","2020-08-01","2020-09-01","2020-10-01","2020-11-01","2020-12-01","2021-01-01","2021-02-01","2021-03-01","2021-04-01","2021-05-01","2021-06-01","2021-07-01","2021-08-01","2021-09-01","2021-10-01","2021-11-01","2021-12-01","2022-01-01","2022-02-01","2022-03-01","2022-04-01","2022-05-01","2022-06-01","2022-07-01","2022-08-01","2022-09-01","2022-10-01","2022-11-01","2022-12-01","2023-01-01","2023-02-01","2023-03-01","2023-04-01","2023-05-01","2023-06-01","2023-07-01","2023-08-01","2023-09-01","2023-10-01","2023-11-01","2023-12-01","SUB-FILTER","Band",1,2,3,4,5,6,"2018-07-01","2018-08-01","2018-09-01","2018-10-01","2018-11-01","2018-12-01","2019-01-01","2019-02-01","2019-03-01","2019-04-01","2019-05-01","2019-06-01","2019-07-01","2019-08-01","2019-09-01","2019-10-01","2019-11-01","2019-12-01","2020-01-01","2020-02-01","2020-03-01","2020-04-01","2020-05-01","2020-06-01","2020-07-01","2020-08-01","2020-09-01","2020-10-01","2020-11-01","2020-12-01","2021-01-01","2021-02-01","2021-03-01","2021-04-01","2021-05-01","2021-06-01","2021-07-01","2021-08-01","2021-09-01","2021-10-01","2021-11-01","2021-12-01","2022-01-01","2022-02-01","2022-03-01","2022-04-01","2022-05-01","2022-06-01","2022-07-01","2022-08-01","2022-09-01","2022-10-01","2022-11-01","2022-12-01","2023-01-01","2023-02-01","2023-03-01","2023-04-01","2023-05-01","2023-06-01","2023-07-01","2023-08-01","2023-09-01","2023-10-01","2023-11-01","2023-12-01","END"]
["Dover Girls Grammar","Modernisation","South","N/A","Approved","£1 to £4 million",{"$f":"SUM(CD3:EQ3)","v":586.95000000000005},null,null,null,1,2,2,3,3,3,3,3,4,4,5,5,5,5,5,5,5,5,5,5,5,5,null,null,null,null,null,null,null,null,null,null,null,6,null,null,null,null,null,null,null,null,null,null,null,null,null,null,null,null,null,null,null,null,null,null,null,null,null,null,null,null,null,"School Managed","£1 to £4 million",{"$f":"VLOOKUP($BW3,AVEHRS_TABLE,2,0)*AVE_WKS_PER_MONTH","v":25.799999999999997},{"$f":"VLOOKUP($BW3,AVEHRS_TABLE,3,0)*AVE_WKS_PER_MONTH","v":12.899999999999999},{"$f":"VLOOKUP($BW3,AVEHRS_TABLE,4,0)*AVE_WKS_PER_MONTH","v":25.799999999999997},{"$f":"VLOOKUP($BW3,AVEHRS_TABLE,5,0)*AVE_WKS_PER_MONTH","v":38.699999999999996},{"$f":"VLOOKUP($BW3,AVEHRS_TABLE,6,0)*AVE_WKS_PER_MONTH","v":25.799999999999997},{"$f":"VLOOKUP($BW3,AVEHRS_TABLE,7,0)*AVE_WKS_PER_MONTH/2","v":19.349999999999998},{"$f":"IF(H3>0,CHOOSE(H3,$BX3,$BY3,$BZ3,$CA3,$CB3,$CC3),0)","v":0},{"$f":"IF(I3>0,CHOOSE(I3,$BX3,$BY3,$BZ3,$CA3,$CB3,$CC3),0)","v":0},0,25.799999999999997,12.899999999999999,12.899999999999999,25.799999999999997,25.799999999999997,25.799999999999997,25.799999999999997,25.799999999999997,38.699999999999996,38.699999999999996,25.799999999999997,25.799999999999997,25.799999999999997,25.799999999999997,25.799999999999997,25.799999999999997,25.799999999999997,25.799999999999997,25.799999999999997,25.799999999999997,25.799999999999997,25.799999999999997,0,0,0,0,0,0,0,0,0,0,0,19.349999999999998,0,0,0,0,0,0,0,0,0,0,0,0,0,0,0,0,0,0,0,0,0,0,0,0,0,0,0,0,{"$f":"IF(BU3>0,CHOOSE(BU3,$BX3,$BY3,$BZ3,$CA3,$CB3,$CC3),0)","v":0},"END"]
["Stone Bay School","Basic Need","East","N/A","Approved","less than £1m",{"$f":"SUM(CD4:EQ4)","v":367.65000000000003},null,null,null,null,null,1,2,2,2,3,3,3,4,4,5,5,5,5,5,null,null,null,null,null,null,null,null,null,null,null,6,null,null,null,null,null,null,null,null,null,null,null,null,null,null,null,null,null,null,null,null,null,null,null,null,null,null,null,null,null,null,null,null,null,null,null,"On Hold","less than £1m",25.799999999999997,12.899999999999999,25.799999999999997,38.699999999999996,25.799999999999997,19.349999999999998,{"$f":"IF(H4>0,CHOOSE(H4,$BX4,$BY4,$BZ4,$CA4,$CB4,$CC4),0)","v":0},0,0,0,0,25.799999999999997,12.899999999999999,12.899999999999999,12.899999999999999,25.799999999999997,25.799999999999997,25.799999999999997,38.699999999999996,38.699999999999996,25.799999999999997,25.799999999999997,25.799999999999997,25.799999999999997,25.799999999999997,0,0,0,0,0,0,0,0,0,0,0,19.349999999999998,0,0,0,0,0,0,0,0,0,0,0,0,0,0,0,0,0,0,0,0,0,0,0,0,0,0,0,0,0,0,0,0,0,0,0,"END"]
["Maidstone Boys Grammar","Basic Need","West","N/A","Approved","£1 to £4 million",354.75000000000011,null,5,5,5,5,5,5,5,5,5,5,5,5,5,null,null,null,null,null,null,null,null,null,6,null,null,null,null,null,null,null,null,null,null,null,null,null,null,null,null,null,null,null,null,null,null,null,null,null,null,null,null,null,null,null,null,null,null,null,null,null,null,null,null,null,null,"School Managed","£1 to £4 million",25.799999999999997,12.899999999999999,25.799999999999997,38.699999999999996,25.799999999999997,19.349999999999998,0,25.799999999999997,25.799999999999997,25.799999999999997,25.799999999999997,25.799999999999997,25.799999999999997,25.799999999999997,25.799999999999997,25.799999999999997,25.799999999999997,25.799999999999997,25.799999999999997,25.799999999999997,0,0,0,0,0,0,0,0,0,19.349999999999998,0,0,0,0,0,0,0,0,0,0,0,0,0,0,0,0,0,0,0,0,0,0,0,0,0,0,0,0,0,0,0,0,0,0,0,0,0,0,0,0,0,0,"END"]
["Lawn PS","Basic Need","North","N/A","Approved","£1 to £4 million",586.95000000000005,null,null,null,null,null,null,null,null,null,null,null,null,null,null,null,null,1,2,2,3,3,3,3,3,4,4,5,5,5,5,5,5,5,5,5,5,5,5,null,null,null,null,null,null,null,null,null,null,null,6,null,null,null,null,null,null,null,null,null,null,null,null,null,null,null,null,"On Hold","£1 to £4 million",25.799999999999997,12.899999999999999,25.799999999999997,38.699999999999996,25.799999999999997,19.349999999999998,0,0,0,0,0,0,0,0,0,0,0,0,0,0,0,0,25.799999999999997,12.899999999999999,12.899999999999999,25.799999999999997,25.799999999999997,25.799999999999997,25.799999999999997,25.799999999999997,38.699999999999996,38.699999999999996,25.799999999999997,25.799999999999997,25.799999999999997,25.799999999999997,25.799999999999997,25.799999999999997,25.799999999999997,25.799999999999997,25.799999999999997,25.799999999999997,25.799999999999997,25.799999999999997,0,0,0,0,0,0,0,0,0,0,0,19.349999999999998,0,0,0,0,0,0,0,0,0,0,0,0,0,0,{"$f":"IF(BT6>0,CHOOSE(BT6,$BX6,$BY6,$BZ6,$CA6,$CB6,$CC6),0)","v":0},0,"END"]
["Dunton Green PS","Basic Need","North","N/A","Approved","£1 to £4 million",586.95000000000005,null,null,null,null,null,null,null,null,null,null,null,null,null,null,null,null,null,null,null,1,2,2,3,3,3,3,3,4,4,5,5,5,5,5,5,5,5,5,5,5,5,null,null,null,null,null,null,null,null,null,null,null,6,null,null,null,null,null,null,null,null,null,null,null,null,null,"On Hold","£1 to £4 million",25.799999999999997,12.899999999999999,25.799999999999997,38.699999999999996,25.799999999999997,19.349999999999998,0,0,0,0,0,0,0,0,0,0,0,0,0,0,0,0,{"$f":"IF(X7>0,CHOOSE(X7,$BX7,$BY7,$BZ7,$CA7,$CB7,$CC7),0)","v":0},0,0,25.799999999999997,12.899999999999999,12.899999999999999,25.799999999999997,25.799999999999997,25.799999999999997,25.799999999999997,25.799999999999997,38.699999999999996,38.699999999999996,25.799999999999997,25.799999999999997,25.799999999999997,{"$f":"IF(AN7>0,CHOOSE(AN7,$BX7,$BY7,$BZ7,$CA7,$CB7,$CC7),0)","v":25.799999999999997},25.799999999999997,25.799999999999997,25.799999999999997,25.799999999999997,25.799999999999997,25.799999999999997,25.799999999999997,25.799999999999997,0,0,0,0,0,0,0,{"$f":"IF(BD7>0,CHOOSE(BD7,$BX7,$BY7,$BZ7,$CA7,$CB7,$CC7),0)","v":0},0,0,0,19.349999999999998,0,0,0,0,0,0,0,0,0,0,0,0,0,"END"]
["Copperfield Academy","Basic Need","North","N/A","Approved","£1 to £4 million",586.95000000000005,null,null,null,null,null,null,null,null,null,null,null,null,null,null,null,null,null,null,null,null,null,null,1,2,2,3,3,3,3,3,4,4,5,5,5,5,5,5,5,5,5,5,5,5,null,null,null,null,null,null,null,null,null,null,null,6,null,null,null,null,null,null,null,null,null,null,"On Hold","£1 to £4 million",25.799999999999997,12.899999999999999,25.799999999999997,38.699999999999996,25.799999999999997,19.349999999999998,0,0,0,0,0,0,0,0,0,0,0,0,0,0,0,0,0,0,0,0,0,0,25.799999999999997,12.899999999999999,12.899999999999999,25.799999999999997,25.799999999999997,25.799999999999997,25.799999999999997,25.799999999999997,38.699999999999996,38.699999999999996,25.799999999999997,25.799999999999997,25.799999999999997,25.799999999999997,25.799999999999997,25.799999999999997,25.799999999999997,25.799999999999997,25.799999999999997,25.799999999999997,25.799999999999997,25.799999999999997,0,0,0,0,0,0,0,0,0,0,0,19.349999999999998,0,0,0,0,0,0,0,0,0,0,"END"]
["Deal Parochial PS","Basic Need","South","N/A","Approved","£1 to £4 million",586.95000000000005,null,null,null,null,null,null,null,null,null,null,null,null,null,null,null,null,null,null,null,null,1,2,2,3,3,3,3,3,4,4,5,5,5,5,5,5,5,5,5,5,5,5,null,null,null,null,null,null,null,null,null,null,null,6,null,null,null,null,null,null,null,null,null,null,null,null,"On Hold","£1 to £4 million",25.799999999999997,12.899999999999999,25.799999999999997,38.699999999999996,25.799999999999997,19.349999999999998,0,0,0,0,0,0,0,0,0,0,0,0,0,0,0,0,0,0,0,0,25.799999999999997,12.899999999999999,12.899999999999999,25.799999999999997,25.799999999999997,25.799999999999997,25.799999999999997,25.799999999999997,38.699999999999996,38.699999999999996,25.799999999999997,25.799999999999997,25.799999999999997,25.799999999999997,25.799999999999997,25.799999999999997,25.799999999999997,25.799999999999997,25.799999999999997,25.799999999999997,25.799999999999997,25.799999999999997,0,0,0,0,0,0,0,0,0,0,0,19.349999999999998,0,0,0,0,0,0,0,0,0,0,0,0,"END"]
["Marden PS","Basic Need","West","N/A","Approved","£1 to £4 million",586.95000000000005,null,null,null,null,null,null,null,null,null,null,null,null,null,null,null,null,null,null,null,null,null,null,null,null,null,null,null,null,1,2,2,3,3,3,3,3,4,4,5,5,5,5,5,5,5,5,5,5,5,5,null,null,null,null,null,null,null,null,null,null,null,6,null,null,null,null,"On Hold","£1 to £4 million",25.799999999999997,12.899999999999999,25.799999999999997,38.699999999999996,25.799999999999997,19.349999999999998,0,0,0,0,0,0,0,0,0,0,0,0,0,0,0,0,0,0,0,0,0,0,0,0,0,0,0,0,25.799999999999997,12.899999999999999,12.899999999999999,25.799999999999997,25.799999999999997,25.799999999999997,25.799999999999997,25.799999999999997,38.699999999999996,38.699999999999996,25.799999999999997,25.799999999999997,25.799999999999997,25.799999999999997,25.799999999999997,25.799999999999997,25.799999999999997,25.799999999999997,25.799999999999997,25.799999999999997,25.799999999999997,25.799999999999997,0,0,0,0,0,0,0,0,0,0,0,19.349999999999998,0,0,0,0,"END"]
["Charing and Challock PS","Basic Need","South","N/A","Approved","less than £1m",341.85,null,null,2,2,2,3,3,3,4,4,5,5,5,5,5,null,null,null,null,null,null,null,null,null,null,null,6,null,null,null,null,null,null,null,null,null,null,null,null,null,null,null,null,null,null,null,null,null,null,null,null,null,null,null,null,null,null,null,null,null,null,null,null,null,null,null,"On Hold","less than £1m",25.799999999999997,12.899999999999999,25.799999999999997,38.699999999999996,25.799999999999997,19.349999999999998,0,0,12.899999999999999,12.899999999999999,12.899999999999999,25.799999999999997,25.799999999999997,25.799999999999997,38.699999999999996,38.699999999999996,25.799999999999997,25.799999999999997,25.799999999999997,25.799999999999997,25.799999999999997,0,0,0,0,0,0,0,0,0,0,0,19.349999999999998,0,0,0,0,0,0,0,0,0,0,0,0,0,0,0,0,0,0,0,0,0,0,0,0,0,0,0,0,0,0,0,0,0,0,0,0,0,0,0,"END"]
["Lady Joanna Thornhill PS","Basic Need","South","N/A","Approved","£1 to £4 million",586.95000000000005,null,null,null,null,null,null,null,null,null,null,null,null,null,null,null,1,2,2,3,3,3,3,3,4,4,5,5,5,5,5,5,5,5,5,5,5,5,null,null,null,null,null,null,null,null,null,null,null,6,null,null,null,null,null,null,null,null,null,null,null,null,null,null,null,null,null,"On Hold","£1 to £4 million",25.799999999999997,12.899999999999999,25.799999999999997,38.699999999999996,25.799999999999997,19.349999999999998,0,0,0,0,0,0,0,0,0,0,0,0,0,0,0,25.799999999999997,12.899999999999999,12.899999999999999,25.799999999999997,25.799999999999997,25.799999999999997,25.799999999999997,25.799999999999997,38.699999999999996,38.699999999999996,25.799999999999997,25.799999999999997,25.799999999999997,25.799999999999997,25.799999999999997,25.799999999999997,25.799999999999997,25.799999999999997,25.799999999999997,25.799999999999997,25.799999999999997,25.799999999999997,0,0,0,0,0,0,0,0,0,0,0,19.349999999999998,0,0,0,0,0,0,0,0,0,0,0,0,0,0,0,0,0,"END"]
["Briary PS","Basic Need","East","N/A","Approved","£1 to £4 million",586.95000000000005,null,null,1,2,2,3,3,3,3,3,4,4,5,5,5,5,5,5,5,5,5,5,5,5,null,null,null,null,null,null,null,null,null,null,null,6,null,null,null,null,null,null,null,null,null,null,null,null,null,null,null,null,null,null,null,null,null,null,null,null,null,null,null,null,null,null,"On Hold","£1 to £4 million",25.799999999999997,12.899999999999999,25.799999999999997,38.699999999999996,25.799999999999997,19.349999999999998,0,0,25.799999999999997,12.899999999999999,12.899999999999999,25.799999999999997,25.799999999999997,25.799999999999997,25.799999999999997,25.799999999999997,38.699999999999996,38.699999999999996,25.799999999999997,25.799999999999997,25.799999999999997,25.799999999999997,25.799999999999997,25.799999999999997,25.799999999999997,25.799999999999997,25.799999999999997,25.799999999999997,25.799999999999997,25.799999999999997,0,0,0,0,0,0,0,0,0,0,0,19.349999999999998,0,0,0,0,0,0,0,0,0,0,0,0,0,0,0,0,0,0,0,0,0,0,0,0,0,0,0,0,0,0,"END"]
["Skinners Kent Academy","Basic Need","West","Rachel Line","Unapproved","circa £20 million",2476.7999999999984,null,null,null,null,null,null,null,null,null,null,null,null,1,2,2,2,2,3,3,3,3,3,3,4,4,4,4,4,4,5,5,5,5,5,5,5,5,5,5,5,5,5,5,5,5,5,null,null,null,null,null,null,null,null,null,null,null,6,null,null,null,null,null,null,null,null,"On Hold","circa £20 million",25.799999999999997,51.599999999999994,60.199999999999996,94.6,73.099999999999994,{"$f":"VLOOKUP($BW14,AVEHRS_TABLE,7,0)*AVE_WKS_PER_MONTH","v":73.099999999999994},0,0,0,0,0,0,0,0,0,0,0,0,25.799999999999997,51.599999999999994,51.599999999999994,51.599999999999994,51.599999999999994,60.199999999999996,60.199999999999996,60.199999999999996,60.199999999999996,60.199999999999996,60.199999999999996,94.6,94.6,94.6,94.6,94.6,94.6,73.099999999999994,73.099999999999994,73.099999999999994,73.099999999999994,73.099999999999994,73.099999999999994,73.099999999999994,73.099999999999994,73.099999999999994,73.099999999999994,73.099999999999994,73.099999999999994,73.099999999999994,73.099999999999994,73.099999999999994,73.099999999999994,73.099999999999994,0,0,0,0,0,0,0,0,0,0,0,73.099999999999994,0,0,0,0,0,0,0,0,"END"]
["Birchwood PRU","Modernisation","West","TBC","Unapproved","less than £1m",367.65000000000003,null,null,null,null,null,null,null,null,null,null,null,1,2,2,2,3,3,3,4,4,5,5,5,5,5,null,null,null,null,null,null,null,null,null,null,null,6,null,null,null,null,null,null,null,null,null,null,null,null,null,null,null,null,null,null,null,null,null,null,null,null,null,null,null,null,null,"School Managed","less than £1m",25.799999999999997,12.899999999999999,25.799999999999997,38.699999999999996,25.799999999999997,{"$f":"VLOOKUP($BW15,AVEHRS_TABLE,7,0)*AVE_WKS_PER_MONTH/2","v":19.349999999999998},0,0,0,0,0,0,0,0,0,0,0,25.799999999999997,12.899999999999999,12.899999999999999,12.899999999999999,25.799999999999997,25.799999999999997,25.799999999999997,38.699999999999996,38.699999999999996,25.799999999999997,25.799999999999997,25.799999999999997,25.799999999999997,25.799999999999997,0,0,0,0,0,0,0,0,0,0,0,19.349999999999998,0,0,0,0,0,0,0,0,0,0,0,0,0,0,0,0,0,0,0,0,0,0,0,0,0,0,0,0,0,"END"]
[null,null,null,null,null,null,null,null,null,null,null,null,null,null,null,null,null,null,null,null,null,null,null,null,null,null,null,null,null,null,null,null,null,null,null,null,null,null,null,null,null,null,null,null,null,null,null,null,null,null,null,null,null,null,null,null,null,null,null,null,null,null,null,null,null,null,null,null,null,null,null,null,null,null,null,null,null,null,null,null,null,null,null,null,null,null,null,null,null,null,null,null,null,null,null,null,null,null,null,null,null,null,null,null,null,null,null,null,null,null,null,null,null,null,null,null,null,null,null,null,null,null,null,null,null,null,null,null,null,null,null,null,null,null,null,null,null,null,null,null,null,null,null,null,null,null,null,"END"]
[null,null,null,null,null,null,null,null,null,null,null,null,null,null,null,null,null,null,null,null,null,null,null,null,null,null,null,null,null,null,null,null,null,null,null,null,null,null,null,null,null,null,null,null,null,null,null,null,null,null,null,null,null,null,null,null,null,null,null,null,null,null,null,null,null,null,null,null,null,null,null,null,null,null,null,null,null,null,null,null,null,{"$f":"SUM(CD3:CD15)","v":0},{"$f":"SUM(CE3:CE15)","v":25.799999999999997},64.5,77.400000000000006,64.5,116.1,116.1,116.1,129,141.89999999999998,141.89999999999998,180.59999999999997,193.50000000000003,206.39999999999998,167.7,180.59999999999997,193.5,189.2,214.99999999999997,227.89999999999998,227.89999999999998,215,253.7,320.34999999999997,288.09999999999997,236.49999999999997,242.94999999999996,236.49999999999997,275.20000000000005,227.9,247.24999999999997,240.79999999999998,227.9,227.9,227.9,247.25,279.5,214.99999999999997,176.29999999999998,176.29999999999998,176.29999999999998,150.5,124.69999999999999,124.69999999999999,98.899999999999991,98.899999999999991,25.799999999999997,25.799999999999997,45.149999999999991,45.149999999999991,0,0,19.349999999999998,19.349999999999998,0,19.349999999999998,0,73.099999999999994,0,0,0,19.349999999999998,0,0,0,{"$f":"SUM(EQ3:EQ15)","v":0},"END"]
[null,null,null,null,null,null,null,null,null,null,null,null,null,null,null,null,null,null,null,null,null,null,null,null,null,null,null,null,null,null,null,null,null,null,null,null,null,null,null,null,null,null,null,null,null,null,null,null,null,null,null,null,null,null,null,null,null,null,null,null,null,null,null,null,null,null,null,null,null,null,null,null,null,null,null,null,null,null,null,null,null,null,null,null,null,null,null,null,null,null,null,null,null,null,null,null,null,null,null,null,null,null,null,null,null,null,null,null,null,null,null,null,null,null,null,null,null,null,null,null,null,null,null,null,null,null,null,null,null,null,null,null,null,null,null,null,null,null,null,null,null,null,null,null,null,null,null,"END"]

{"sheet":"Resource Demand","index":12,"n_rows":62,"n_cols":69,"rows_kept":62,"cut":false,"hidden":true,"merged":[[3,67,6,67],[3,56,6,56],[3,57,6,57],[3,58,6,58],[3,59,6,59],[3,60,6,60],[3,61,6,61],[3,62,6,62],[3,63,6,63],[3,64,6,64],[3,65,6,65],[3,66,6,66],[3,55,6,55],[3,44,6,44],[3,45,6,45],[3,46,6,46],[3,47,6,47],[3,48,6,48],[3,49,6,49],[3,50,6,50],[3,51,6,51],[3,52,6,52],[3,53,6,53],[3,54,6,54],[3,43,6,43],[3,32,6,32],[3,33,6,33],[3,34,6,34],[3,35,6,35],[3,36,6,36],[3,37,6,37],[3,38,6,38],[3,39,6,39],[3,40,6,40],[3,41,6,41],[3,42,6,42],[3,31,6,31],[3,20,6,20],[3,21,6,21],[3,22,6,22],[3,23,6,23],[3,24,6,24],[3,25,6,25],[3,26,6,26],[3,27,6,27],[3,28,6,28],[3,29,6,29],[3,30,6,30],[3,19,6,19],[3,8,6,8],[3,9,6,9],[3,10,6,10],[3,11,6,11],[3,12,6,12],[3,13,6,13],[3,14,6,14],[3,15,6,15],[3,16,6,16],[3,17,6,17],[3,18,6,18],[3,7,6,7],[3,2,6,2],[3,3,6,3],[3,4,6,4],[3,5,6,5],[3,6,6,6]]}
[null,null,null,"THIS SUMMARISES THE AVE PM MAN-HOURS REQD EACH MONTH TO DELIVER THE SERVICE",null,null,null,null,null,null,null,null,null,null,null,null,null,null,null,null,null,null,null,null,null,null,null,null,null,null,null,null,null,null,"THIS SUMMARISES THE AVE PM MAN-HOURS REQD EACH MONTH TO DELIVER THE SERVICE",null,null,null,null,null,null,null,null,null,null,null,null,null,null,null,null,null,null,null,null,null,null,null,null,null,null,null,null,null,null,null,null,null,"END"]
[null,null,null,"ACADEMIC YEAR",null,null,null,null,null,null,null,null,null,null,null,null,null,null,null,null,null,null,null,null,null,null,null,null,null,null,null,null,null,null,null,null,null,null,null,null,null,null,null,null,null,null,null,null,null,null,null,null,null,null,null,null,null,null,null,null,null,null,null,null,null,null,null,null,"END"]
[null,null,null,null,null,null,null,null,null,null,null,null,null,null,null,null,null,null,null,null,null,null,null,null,null,null,null,null,null,null,null,null,null,null,null,null,null,null,null,null,null,null,null,null,null,null,null,null,null,null,null,null,null,null,null,null,null,null,null,null,null,null,null,null,null,null,null,null,"END"]
[null,null,"2017/18","2017/18","2017/18","2018/19","2018/19","2018/19","2018/19","2018/19","2018/19","2018/19","2018/19","2018/19","2018/19","2018/19","2018/19","2019/20","2019/20","2019/20","2019/20","2019/20","2019/20","2019/20","2019/20","2019/20","2019/20","2019/20","2019/20","2020/21","2020/21","2020/21","2020/21","2020/21","2020/21","2020/21","2020/21","2020/21","2020/21","2020/21","2020/21","2021/22","2021/22","2021/22","2021/22","2021/22","2021/22","2021/22","2021/22","2021/22","2021/22","2021/22","2021/22","2022/23","2022/23","2022/23","2022/23","2022/23","2022/23","2022/23","2022/23","2022/23","2022/23","2022/23","2022/23","2023/24","2023/24","2023/24","END"]
[null,null,null,null,null,null,null,null,null,null,null,null,null,null,null,null,null,null,null,null,null,null,null,null,null,null,null,null,null,null,null,null,null,null,null,null,null,null,null,null,null,null,null,null,null,null,null,null,null,null,null,null,null,null,null,null,null,null,null,null,null,null,null,null,null,null,null,null,"END"]
[null,null,null,null,null,null,null,null,null,null,null,null,null,null,null,null,null,null,null,null,null,null,null,null,null,null,null,null,null,null,null,null,null,null,null,null,null,null,null,null,null,null,null,null,null,null,null,null,null,null,null,null,null,null,null,null,null,null,null,null,null,null,null,null,null,null,null,null,"END"]
[null,null,null,null,null,null,null,null,null,null,null,null,null,null,null,null,null,null,null,null,null,null,null,null,null,null,null,null,null,null,null,null,null,null,null,null,null,null,null,null,null,null,null,null,null,null,null,null,null,null,null,null,null,null,null,null,null,null,null,null,null,null,null,null,null,null,null,null,"END"]
[null,null,"Nr of wks in each month",null,null,null,null,null,null,null,null,null,null,null,null,null,null,null,null,null,null,null,null,null,null,null,null,null,null,null,null,null,null,null,null,null,null,null,null,null,null,null,null,null,null,null,null,null,null,null,null,null,null,null,null,null,null,null,null,null,null,null,null,null,null,null,null,null,"END"]
[null,null,null,{"$f":"(D11-C11)/7","v":4.4285714285714288},{"$f":"(E11-D11)/7","v":4.4285714285714288},{"$f":"(F11-E11)/7","v":4.2857142857142856},4.4285714285714288,4.2857142857142856,4.4285714285714288,4.4285714285714288,4,4.4285714285714288,4.2857142857142856,4.4285714285714288,4.2857142857142856,4.4285714285714288,4.4285714285714288,4.2857142857142856,4.4285714285714288,4.2857142857142856,4.4285714285714288,4.4285714285714288,4.1428571428571432,4.4285714285714288,4.2857142857142856,4.4285714285714288,4.2857142857142856,4.4285714285714288,4.4285714285714288,4.2857142857142856,4.4285714285714288,4.2857142857142856,4.4285714285714288,4.4285714285714288,4,4.4285714285714288,4.2857142857142856,4.4285714285714288,4.2857142857142856,4.4285714285714288,4.4285714285714288,4.2857142857142856,4.4285714285714288,4.2857142857142856,4.4285714285714288,4.4285714285714288,4,4.4285714285714288,4.2857142857142856,4.4285714285714288,4.2857142857142856,4.4285714285714288,4.4285714285714288,4.2857142857142856,4.4285714285714288,4.2857142857142856,4.4285714285714288,4.4285714285714288,4,4.4285714285714288,4.2857142857142856,4.4285714285714288,4.2857142857142856,4.4285714285714288,4.4285714285714288,4.2857142857142856,4.4285714285714288,4.2857142857142856,"END"]
[null,null,null,null,null,null,null,null,null,null,null,null,null,null,null,null,null,null,null,null,null,null,null,null,null,null,null,null,null,null,null,null,null,null,null,null,null,null,null,null,null,null,null,null,null,null,null,null,null,null,null,null,null,null,null,null,null,null,null,null,null,null,null,null,null,null,null,null,"END"]
[{"$f":"SUM(A12:A14)","v":119387.40000000005},"CAPACITY","2018-07-01","2018-08-01","2018-09-01","2018-10-01","2018-11-01","2018-12-01","2019-01-01","2019-02-01","2019-03-01","2019-04-01","2019-05-01","2019-06-01","2019-07-01","2019-08-01","2019-09-01","2019-10-01","2019-11-01","2019-12-01","2020-01-01","2020-02-01","2020-03-01","2020-04-01","2020-05-01","2020-06-01","2020-07-01","2020-08-01","2020-09-01","2020-10-01","2020-11-01","2020-12-01","2021-01-01","2021-02-01","2021-03-01","2021-04-01","2021-05-01","2021-06-01","2021-07-01","2021-08-01","2021-09-01","2021-10-01","2021-11-01","2021-12-01","2022-01-01","2022-02-01","2022-03-01","2022-04-01","2022-05-01","2022-06-01","2022-07-01","2022-08-01","2022-09-01","2022-10-01","2022-11-01","2022-12-01","2023-01-01","2023-02-01","2023-03-01","2023-04-01","2023-05-01","2023-06-01","2023-07-01","2023-08-01","2023-09-01","2023-10-01","2023-11-01","2023-12-01","END"]
[{"$f":"SUM(C12:BP12)","v":75669},"Gen2",{"$f":"'Resource Capacity'!$G27","v":1146.5},{"$f":"'Resource Capacity'!$G27","v":1146.5},{"$f":"'Resource Capacity'!$G27","v":1146.5},{"$f":"'Resource Capacity'!$G27","v":1146.5},{"$f":"'Resource Capacity'!$G27","v":1146.5},{"$f":"'Resource Capacity'!$G27","v":1146.5},{"$f":"'Resource Capacity'!$G27","v":1146.5},{"$f":"'Resource Capacity'!$G27","v":1146.5},{"$f":"'Resource Capacity'!$G27","v":1146.5},{"$f":"'Resource Capacity'!$G27","v":1146.5},{"$f":"'Resource Capacity'!$G27","v":1146.5},{"$f":"'Resource Capacity'!$G27","v":1146.5},{"$f":"'Resource Capacity'!$G27","v":1146.5},{"$f":"'Resource Capacity'!$G27","v":1146.5},{"$f":"'Resource Capacity'!$G27","v":1146.5},{"$f":"'Resource Capacity'!$G27","v":1146.5},{"$f":"'Resource Capacity'!$G27","v":1146.5},{"$f":"'Resource Capacity'!$G27","v":1146.5},{"$f":"'Resource Capacity'!$G27","v":1146.5},{"$f":"'Resource Capacity'!$G27","v":1146.5},{"$f":"'Resource Capacity'!$G27","v":1146.5},{"$f":"'Resource Capacity'!$G27","v":1146.5},{"$f":"'Resource Capacity'!$G27","v":1146.5},{"$f":"'Resource Capacity'!$G27","v":1146.5},{"$f":"'Resource Capacity'!$G27","v":1146.5},{"$f":"'Resource Capacity'!$G27","v":1146.5},{"$f":"'Resource Capacity'!$G27","v":1146.5},{"$f":"'Resource Capacity'!$G27","v":1146.5},{"$f":"'Resource Capacity'!$G27","v":1146.5},{"$f":"'Resource Capacity'!$G27","v":1146.5},{"$f":"'Resource Capacity'!$G27","v":1146.5},{"$f":"'Resource Capacity'!$G27","v":1146.5},{"$f":"'Resource Capacity'!$G27","v":1146.5},{"$f":"'Resource Capacity'!$G27","v":1146.5},{"$f":"'Resource Capacity'!$G27","v":1146.5},{"$f":"'Resource Capacity'!$G27","v":1146.5},{"$f":"'Resource Capacity'!$G27","v":1146.5},{"$f":"'Resource Capacity'!$G27","v":1146.5},{"$f":"'Resource Capacity'!$G27","v":1146.5},{"$f":"'Resource Capacity'!$G27","v":1146.5},{"$f":"'Resource Capacity'!$G27","v":1146.5},{"$f":"'Resource Capacity'!$G27","v":1146.5},{"$f":"'Resource Capacity'!$G27","v":1146.5},{"$f":"'Resource Capacity'!$G27","v":1146.5},{"$f":"'Resource Capacity'!$G27","v":1146.5},{"$f":"'Resource Capacity'!$G27","v":1146.5},{"$f":"'Resource Capacity'!$G27","v":1146.5},{"$f":"'Resource Capacity'!$G27","v":1146.5},{"$f":"'Resource Capacity'!$G27","v":1146.5},{"$f":"'Resource Capacity'!$G27","v":1146.5},{"$f":"'Resource Capacity'!$G27","v":1146.5},{"$f":"'Resource Capacity'!$G27","v":1146.5},{"$f":"'Resource Capacity'!$G27","v":1146.5},{"$f":"'Resource Capacity'!$G27","v":1146.5},{"$f":"'Resource Capacity'!$G27","v":1146.5},{"$f":"'Resource Capacity'!$G27","v":1146.5},{"$f":"'Resource Capacity'!$G27","v":1146.5},{"$f":"'Resource Capacity'!$G27","v":1146.5},{"$f":"'Resource Capacity'!$G27","v":1146.5},{"$f":"'Resource Capacity'!$G27","v":1146.5},{"$f":"'Resource Capacity'!$G27","v":1146.5},{"$f":"'Resource Capacity'!$G27","v":1146.5},{"$f":"'Resource Capacity'!$G27","v":1146.5},{"$f":"'Resource Capacity'!$G27","v":1146.5},{"$f":"'Resource Capacity'!$G27","v":1146.5},{"$f":"'Resource Capacity'!$G27","v":1146.5},"END"]
[{"$f":"SUM(C13:BP13)","v":21859.200000000026},"Bench",{"$f":"'Resource Capacity'!$G28","v":331.20000000000005},{"$f":"'Resource Capacity'!$G28","v":331.20000000000005},{"$f":"'Resource Capacity'!$G28","v":331.20000000000005},{"$f":"'Resource Capacity'!$G28","v":331.20000000000005},{"$f":"'Resource Capacity'!$G28","v":331.20000000000005},{"$f":"'Resource Capacity'!$G28","v":331.20000000000005},{"$f":"'Resource Capacity'!$G28","v":331.20000000000005},{"$f":"'Resource Capacity'!$G28","v":331.20000000000005},{"$f":"'Resource Capacity'!$G28","v":331.20000000000005},{"$f":"'Resource Capacity'!$G28","v":331.20000000000005},{"$f":"'Resource Capacity'!$G28","v":331.20000000000005},{"$f":"'Resource Capacity'!$G28","v":331.20000000000005},{"$f":"'Resource Capacity'!$G28","v":331.20000000000005},{"$f":"'Resource Capacity'!$G28","v":331.20000000000005},{"$f":"'Resource Capacity'!$G28","v":331.20000000000005},{"$f":"'Resource Capacity'!$G28","v":331.20000000000005},{"$f":"'Resource Capacity'!$G28","v":331.20000000000005},{"$f":"'Resource Capacity'!$G28","v":331.20000000000005},{"$f":"'Resource Capacity'!$G28","v":331.20000000000005},{"$f":"'Resource Capacity'!$G28","v":331.20000000000005},{"$f":"'Resource Capacity'!$G28","v":331.20000000000005},{"$f":"'Resource Capacity'!$G28","v":331.20000000000005},{"$f":"'Resource Capacity'!$G28","v":331.20000000000005},{"$f":"'Resource Capacity'!$G28","v":331.20000000000005},{"$f":"'Resource Capacity'!$G28","v":331.20000000000005},{"$f":"'Resource Capacity'!$G28","v":331.20000000000005},{"$f":"'Resource Capacity'!$G28","v":331.20000000000005},{"$f":"'Resource Capacity'!$G28","v":331.20000000000005},{"$f":"'Resource Capacity'!$G28","v":331.20000000000005},{"$f":"'Resource Capacity'!$G28","v":331.20000000000005},{"$f":"'Resource Capacity'!$G28","v":331.20000000000005},{"$f":"'Resource Capacity'!$G28","v":331.20000000000005},{"$f":"'Resource Capacity'!$G28","v":331.20000000000005},{"$f":"'Resource Capacity'!$G28","v":331.20000000000005},{"$f":"'Resource Capacity'!$G28","v":331.20000000000005},{"$f":"'Resource Capacity'!$G28","v":331.20000000000005},{"$f":"'Resource Capacity'!$G28","v":331.20000000000005},{"$f":"'Resource Capacity'!$G28","v":331.20000000000005},{"$f":"'Resource Capacity'!$G28","v":331.20000000000005},{"$f":"'Resource Capacity'!$G28","v":331.20000000000005},{"$f":"'Resource Capacity'!$G28","v":331.20000000000005},{"$f":"'Resource Capacity'!$G28","v":331.20000000000005},{"$f":"'Resource Capacity'!$G28","v":331.20000000000005},{"$f":"'Resource Capacity'!$G28","v":331.20000000000005},{"$f":"'Resource Capacity'!$G28","v":331.20000000000005},{"$f":"'Resource Capacity'!$G28","v":331.20000000000005},{"$f":"'Resource Capacity'!$G28","v":331.20000000000005},{"$f":"'Resource Capacity'!$G28","v":331.20000000000005},{"$f":"'Resource Capacity'!$G28","v":331.20000000000005},{"$f":"'Resource Capacity'!$G28","v":331.20000000000005},{"$f":"'Resource Capacity'!$G28","v":331.20000000000005},{"$f":"'Resource Capacity'!$G28","v":331.20000000000005},{"$f":"'Resource Capacity'!$G28","v":331.20000000000005},{"$f":"'Resource Capacity'!$G28","v":331.20000000000005},{"$f":"'Resource Capacity'!$G28","v":331.20000000000005},{"$f":"'Resource Capacity'!$G28","v":331.20000000000005},{"$f":"'Resource Capacity'!$G28","v":331.20000000000005},{"$f":"'Resource Capacity'!$G28","v":331.20000000000005},{"$f":"'Resource Capacity'!$G28","v":331.20000000000005},{"$f":"'Resource Capacity'!$G28","v":331.20000000000005},{"$f":"'Resource Capacity'!$G28","v":331.20000000000005},{"$f":"'Resource Capacity'!$G28","v":331.20000000000005},{"$f":"'Resource Capacity'!$G28","v":331.20000000000005},{"$f":"'Resource Capacity'!$G28","v":331.20000000000005},{"$f":"'Resource Capacity'!$G28","v":331.20000000000005},{"$f":"'Resource Capacity'!$G28","v":331.20000000000005},"END"]
[{"$f":"SUM(C14:BP14)","v":21859.200000000026},"Flex",{"$f":"'Resource Capacity'!$G29","v":331.20000000000005},{"$f":"'Resource Capacity'!$G29","v":331.20000000000005},{"$f":"'Resource Capacity'!$G29","v":331.20000000000005},{"$f":"'Resource Capacity'!$G29","v":331.20000000000005},{"$f":"'Resource Capacity'!$G29","v":331.20000000000005},{"$f":"'Resource Capacity'!$G29","v":331.20000000000005},{"$f":"'Resource Capacity'!$G29","v":331.20000000000005},{"$f":"'Resource Capacity'!$G29","v":331.20000000000005},{"$f":"'Resource Capacity'!$G29","v":331.20000000000005},{"$f":"'Resource Capacity'!$G29","v":331.20000000000005},{"$f":"'Resource Capacity'!$G29","v":331.20000000000005},{"$f":"'Resource Capacity'!$G29","v":331.20000000000005},{"$f":"'Resource Capacity'!$G29","v":331.20000000000005},{"$f":"'Resource Capacity'!$G29","v":331.20000000000005},{"$f":"'Resource Capacity'!$G29","v":331.20000000000005},{"$f":"'Resource Capacity'!$G29","v":331.20000000000005},{"$f":"'Resource Capacity'!$G29","v":331.20000000000005},{"$f":"'Resource Capacity'!$G29","v":331.20000000000005},{"$f":"'Resource Capacity'!$G29","v":331.20000000000005},{"$f":"'Resource Capacity'!$G29","v":331.20000000000005},{"$f":"'Resource Capacity'!$G29","v":331.20000000000005},{"$f":"'Resource Capacity'!$G29","v":331.20000000000005},{"$f":"'Resource Capacity'!$G29","v":331.20000000000005},{"$f":"'Resource Capacity'!$G29","v":331.20000000000005},{"$f":"'Resource Capacity'!$G29","v":331.20000000000005},{"$f":"'Resource Capacity'!$G29","v":331.20000000000005},{"$f":"'Resource Capacity'!$G29","v":331.20000000000005},{"$f":"'Resource Capacity'!$G29","v":331.20000000000005},{"$f":"'Resource Capacity'!$G29","v":331.20000000000005},{"$f":"'Resource Capacity'!$G29","v":331.20000000000005},{"$f":"'Resource Capacity'!$G29","v":331.20000000000005},{"$f":"'Resource Capacity'!$G29","v":331.20000000000005},{"$f":"'Resource Capacity'!$G29","v":331.20000000000005},{"$f":"'Resource Capacity'!$G29","v":331.20000000000005},{"$f":"'Resource Capacity'!$G29","v":331.20000000000005},{"$f":"'Resource Capacity'!$G29","v":331.20000000000005},{"$f":"'Resource Capacity'!$G29","v":331.20000000000005},{"$f":"'Resource Capacity'!$G29","v":331.20000000000005},{"$f":"'Resource Capacity'!$G29","v":331.20000000000005},{"$f":"'Resource Capacity'!$G29","v":331.20000000000005},{"$f":"'Resource Capacity'!$G29","v":331.20000000000005},{"$f":"'Resource Capacity'!$G29","v":331.20000000000005},{"$f":"'Resource Capacity'!$G29","v":331.20000000000005},{"$f":"'Resource Capacity'!$G29","v":331.20000000000005},{"$f":"'Resource Capacity'!$G29","v":331.20000000000005},{"$f":"'Resource Capacity'!$G29","v":331.20000000000005},{"$f":"'Resource Capacity'!$G29","v":331.20000000000005},{"$f":"'Resource Capacity'!$G29","v":331.20000000000005},{"$f":"'Resource Capacity'!$G29","v":331.20000000000005},{"$f":"'Resource Capacity'!$G29","v":331.20000000000005},{"$f":"'Resource Capacity'!$G29","v":331.20000000000005},{"$f":"'Resource Capacity'!$G29","v":331.20000000000005},{"$f":"'Resource Capacity'!$G29","v":331.20000000000005},{"$f":"'Resource Capacity'!$G29","v":331.20000000000005},{"$f":"'Resource Capacity'!$G29","v":331.20000000000005},{"$f":"'Resource Capacity'!$G29","v":331.20000000000005},{"$f":"'Resource Capacity'!$G29","v":331.20000000000005},{"$f":"'Resource Capacity'!$G29","v":331.20000000000005},{"$f":"'Resource Capacity'!$G29","v":331.20000000000005},{"$f":"'Resource Capacity'!$G29","v":331.20000000000005},{"$f":"'Resource Capacity'!$G29","v":331.20000000000005},{"$f":"'Resource Capacity'!$G29","v":331.20000000000005},{"$f":"'Resource Capacity'!$G29","v":331.20000000000005},{"$f":"'Resource Capacity'!$G29","v":331.20000000000005},{"$f":"'Resource Capacity'!$G29","v":331.20000000000005},{"$f":"'Resource Capacity'!$G29","v":331.20000000000005},"END"]
[null,null,null,null,null,null,null,null,null,null,null,null,null,null,null,null,null,null,null,null,null,null,null,null,null,null,null,null,null,null,null,null,null,null,null,null,null,null,null,null,null,null,null,null,null,null,null,null,null,null,null,null,null,null,null,null,null,null,null,null,null,null,null,null,null,null,null,null,"END"]
[null,null,null,null,null,null,null,null,null,null,null,null,null,null,null,null,null,null,null,null,null,null,null,null,null,null,null,null,null,null,null,null,null,null,null,null,null,null,null,null,null,null,null,null,null,null,null,null,null,null,null,null,null,null,null,null,null,null,null,null,null,null,null,null,null,null,null,null,"END"]
[null,"TOTAL ANTICIPATED DEMAND",null,null,null,null,null,null,null,null,null,null,null,null,null,null,null,null,null,null,null,null,null,null,null,null,null,null,null,null,null,null,null,null,null,null,null,null,null,null,null,null,null,null,null,null,null,null,null,null,null,null,null,null,null,null,null,null,null,null,null,null,null,null,null,null,null,null,"END"]
[null,null,null,null,null,null,null,null,null,null,null,null,null,null,null,null,null,null,null,null,null,null,null,null,null,null,null,null,null,null,null,null,null,null,null,null,null,null,null,null,null,null,null,null,null,null,null,null,null,null,null,null,null,null,null,null,null,null,null,null,null,null,null,null,null,null,null,null,"END"]
[{"$f":"SUM(A20:A38)","v":0},null,{"$f":"C$11","v":"2018-07-01"},{"$f":"D$11","v":"2018-08-01"},"2018-09-01","2018-10-01","2018-11-01","2018-12-01","2019-01-01","2019-02-01","2019-03-01","2019-04-01","2019-05-01","2019-06-01","2019-07-01","2019-08-01","2019-09-01","2019-10-01","2019-11-01","2019-12-01","2020-01-01","2020-02-01","2020-03-01","2020-04-01","2020-05-01","2020-06-01","2020-07-01","2020-08-01","2020-09-01","2020-10-01","2020-11-01","2020-12-01","2021-01-01","2021-02-01","2021-03-01","2021-04-01","2021-05-01","2021-06-01","2021-07-01","2021-08-01","2021-09-01","2021-10-01","2021-11-01","2021-12-01","2022-01-01","2022-02-01","2022-03-01","2022-04-01","2022-05-01","2022-06-01","2022-07-01","2022-08-01","2022-09-01","2022-10-01","2022-11-01","2022-12-01","2023-01-01","2023-02-01","2023-03-01","2023-04-01","2023-05-01","2023-06-01","2023-07-01","2023-08-01","2023-09-01","2023-10-01","2023-11-01",{"$f":"BP$11","v":"2023-12-01"},"END"]
[{"$f":"SUM(C20:BP20)","v":0},"Basic Need, Approved, completed",{"$f":"SUMIF('Resource Programme'!$CL$12:$CL$152,'Resource Demand'!$B20,'Resource Programme'!CT$12:CT$152)","v":0},{"$f":"SUMIF('Resource Programme'!$CL$12:$CL$152,'Resource Demand'!$B20,'Resource Programme'!CU$12:CU$152)","v":0},{"$f":"SUMIF('Resource Programme'!$CL$12:$CL$152,'Resource Demand'!$B20,'Resource Programme'!CV$12:CV$152)","v":0},{"$f":"SUMIF('Resource Programme'!$CL$12:$CL$152,'Resource Demand'!$B20,'Resource Programme'!CW$12:CW$152)","v":0},{"$f":"SUMIF('Resource Programme'!$CL$12:$CL$152,'Resource Demand'!$B20,'Resource Programme'!CX$12:CX$152)","v":0},{"$f":"SUMIF('Resource Programme'!$CL$12:$CL$152,'Resource Demand'!$B20,'Resource Programme'!CY$12:CY$152)","v":0},{"$f":"SUMIF('Resource Programme'!$CL$12:$CL$152,'Resource Demand'!$B20,'Resource Programme'!CZ$12:CZ$152)","v":0},{"$f":"SUMIF('Resource Programme'!$CL$12:$CL$152,'Resource Demand'!$B20,'Resource Programme'!DA$12:DA$152)","v":0},{"$f":"SUMIF('Resource Programme'!$CL$12:$CL$152,'Resource Demand'!$B20,'Resource Programme'!DB$12:DB$152)","v":0},{"$f":"SUMIF('Resource Programme'!$CL$12:$CL$152,'Resource Demand'!$B20,'Resource Programme'!DC$12:DC$152)","v":0},{"$f":"SUMIF('Resource Programme'!$CL$12:$CL$152,'Resource Demand'!$B20,'Resource Programme'!DD$12:DD$152)","v":0},{"$f":"SUMIF('Resource Programme'!$CL$12:$CL$152,'Resource Demand'!$B20,'Resource Programme'!DE$12:DE$152)","v":0},{"$f":"SUMIF('Resource Programme'!$CL$12:$CL$152,'Resource Demand'!$B20,'Resource Programme'!DF$12:DF$152)","v":0},{"$f":"SUMIF('Resource Programme'!$CL$12:$CL$152,'Resource Demand'!$B20,'Resource Programme'!DG$12:DG$152)","v":0},{"$f":"SUMIF('Resource Programme'!$CL$12:$CL$152,'Resource Demand'!$B20,'Resource Programme'!DH$12:DH$152)","v":0},{"$f":"SUMIF('Resource Programme'!$CL$12:$CL$152,'Resource Demand'!$B20,'Resource Programme'!DI$12:DI$152)","v":0},{"$f":"SUMIF('Resource Programme'!$CL$12:$CL$152,'Resource Demand'!$B20,'Resource Programme'!DJ$12:DJ$152)","v":0},{"$f":"SUMIF('Resource Programme'!$CL$12:$CL$152,'Resource Demand'!$B20,'Resource Programme'!DK$12:DK$152)","v":0},{"$f":"SUMIF('Resource Programme'!$CL$12:$CL$152,'Resource Demand'!$B20,'Resource Programme'!DL$12:DL$152)","v":0},{"$f":"SUMIF('Resource Programme'!$CL$12:$CL$152,'Resource Demand'!$B20,'Resource Programme'!DM$12:DM$152)","v":0},{"$f":"SUMIF('Resource Programme'!$CL$12:$CL$152,'Resource Demand'!$B20,'Resource Programme'!DN$12:DN$152)","v":0},{"$f":"SUMIF('Resource Programme'!$CL$12:$CL$152,'Resource Demand'!$B20,'Resource Programme'!DO$12:DO$152)","v":0},{"$f":"SUMIF('Resource Programme'!$CL$12:$CL$152,'Resource Demand'!$B20,'Resource Programme'!DP$12:DP$152)","v":0},{"$f":"SUMIF('Resource Programme'!$CL$12:$CL$152,'Resource Demand'!$B20,'Resource Programme'!DQ$12:DQ$152)","v":0},{"$f":"SUMIF('Resource Programme'!$CL$12:$CL$152,'Resource Demand'!$B20,'Resource Programme'!DR$12:DR$152)","v":0},{"$f":"SUMIF('Resource Programme'!$CL$12:$CL$152,'Resource Demand'!$B20,'Resource Programme'!DS$12:DS$152)","v":0},{"$f":"SUMIF('Resource Programme'!$CL$12:$CL$152,'Resource Demand'!$B20,'Resource Programme'!DT$12:DT$152)","v":0},{"$f":"SUMIF('Resource Programme'!$CL$12:$CL$152,'Resource Demand'!$B20,'Resource Programme'!DU$12:DU$152)","v":0},{"$f":"SUMIF('Resource Programme'!$CL$12:$CL$152,'Resource Demand'!$B20,'Resource Programme'!DV$12:DV$152)","v":0},{"$f":"SUMIF('Resource Programme'!$CL$12:$CL$152,'Resource Demand'!$B20,'Resource Programme'!DW$12:DW$152)","v":0},{"$f":"SUMIF('Resource Programme'!$CL$12:$CL$152,'Resource Demand'!$B20,'Resource Programme'!DX$12:DX$152)","v":0},{"$f":"SUMIF('Resource Programme'!$CL$12:$CL$152,'Resource Demand'!$B20,'Resource Programme'!DY$12:DY$152)","v":0},{"$f":"SUMIF('Resource Programme'!$CL$12:$CL$152,'Resource Demand'!$B20,'Resource Programme'!DZ$12:DZ$152)","v":0},{"$f":"SUMIF('Resource Programme'!$CL$12:$CL$152,'Resource Demand'!$B20,'Resource Programme'!EA$12:EA$152)","v":0},{"$f":"SUMIF('Resource Programme'!$CL$12:$CL$152,'Resource Demand'!$B20,'Resource Programme'!EB$12:EB$152)","v":0},{"$f":"SUMIF('Resource Programme'!$CL$12:$CL$152,'Resource Demand'!$B20,'Resource Programme'!EC$12:EC$152)","v":0},{"$f":"SUMIF('Resource Programme'!$CL$12:$CL$152,'Resource Demand'!$B20,'Resource Programme'!ED$12:ED$152)","v":0},{"$f":"SUMIF('Resource Programme'!$CL$12:$CL$152,'Resource Demand'!$B20,'Resource Programme'!EE$12:EE$152)","v":0},{"$f":"SUMIF('Resource Programme'!$CL$12:$CL$152,'Resource Demand'!$B20,'Resource Programme'!EF$12:EF$152)","v":0},{"$f":"SUMIF('Resource Programme'!$CL$12:$CL$152,'Resource Demand'!$B20,'Resource Programme'!EG$12:EG$152)","v":0},{"$f":"SUMIF('Resource Programme'!$CL$12:$CL$152,'Resource Demand'!$B20,'Resource Programme'!EH$12:EH$152)","v":0},{"$f":"SUMIF('Resource Programme'!$CL$12:$CL$152,'Resource Demand'!$B20,'Resource Programme'!EI$12:EI$152)","v":0},{"$f":"SUMIF('Resource Programme'!$CL$12:$CL$152,'Resource Demand'!$B20,'Resource Programme'!EJ$12:EJ$152)","v":0},{"$f":"SUMIF('Resource Programme'!$CL$12:$CL$152,'Resource Demand'!$B20,'Resource Programme'!EK$12:EK$152)","v":0},{"$f":"SUMIF('Resource Programme'!$CL$12:$CL$152,'Resource Demand'!$B20,'Resource Programme'!EL$12:EL$152)","v":0},{"$f":"SUMIF('Resource Programme'!$CL$12:$CL$152,'Resource Demand'!$B20,'Resource Programme'!EM$12:EM$152)","v":0},{"$f":"SUMIF('Resource Programme'!$CL$12:$CL$152,'Resource Demand'!$B20,'Resource Programme'!EN$12:EN$152)","v":0},{"$f":"SUMIF('Resource Programme'!$CL$12:$CL$152,'Resource Demand'!$B20,'Resource Programme'!EO$12:EO$152)","v":0},{"$f":"SUMIF('Resource Programme'!$CL$12:$CL$152,'Resource Demand'!$B20,'Resource Programme'!EP$12:EP$152)","v":0},{"$f":"SUMIF('Resource Programme'!$CL$12:$CL$152,'Resource Demand'!$B20,'Resource Programme'!EQ$12:EQ$152)","v":0},{"$f":"SUMIF('Resource Programme'!$CL$12:$CL$152,'Resource Demand'!$B20,'Resource Programme'!ER$12:ER$152)","v":0},{"$f":"SUMIF('Resource Programme'!$CL$12:$CL$152,'Resource Demand'!$B20,'Resource Programme'!ES$12:ES$152)","v":0},{"$f":"SUMIF('Resource Programme'!$CL$12:$CL$152,'Resource Demand'!$B20,'Resource Programme'!ET$12:ET$152)","v":0},{"$f":"SUMIF('Resource Programme'!$CL$12:$CL$152,'Resource Demand'!$B20,'Resource Programme'!EU$12:EU$152)","v":0},{"$f":"SUMIF('Resource Programme'!$CL$12:$CL$152,'Resource Demand'!$B20,'Resource Programme'!EV$12:EV$152)","v":0},{"$f":"SUMIF('Resource Programme'!$CL$12:$CL$152,'Resource Demand'!$B20,'Resource Programme'!EW$12:EW$152)","v":0},{"$f":"SUMIF('Resource Programme'!$CL$12:$CL$152,'Resource Demand'!$B20,'Resource Programme'!EX$12:EX$152)","v":0},{"$f":"SUMIF('Resource Programme'!$CL$12:$CL$152,'Resource Demand'!$B20,'Resource Programme'!EY$12:EY$152)","v":0},{"$f":"SUMIF('Resource Programme'!$CL$12:$CL$152,'Resource Demand'!$B20,'Resource Programme'!EZ$12:EZ$152)","v":0},{"$f":"SUMIF('Resource Programme'!$CL$12:$CL$152,'Resource Demand'!$B20,'Resource Programme'!FA$12:FA$152)","v":0},{"$f":"SUMIF('Resource Programme'!$CL$12:$CL$152,'Resource Demand'!$B20,'Resource Programme'!FB$12:FB$152)","v":0},{"$f":"SUMIF('Resource Programme'!$CL$12:$CL$152,'Resource Demand'!$B20,'Resource Programme'!FC$12:FC$152)","v":0},{"$f":"SUMIF('Resource Programme'!$CL$12:$CL$152,'Resource Demand'!$B20,'Resource Programme'!FD$12:FD$152)","v":0},{"$f":"SUMIF('Resource Programme'!$CL$12:$CL$152,'Resource Demand'!$B20,'Resource Programme'!FE$12:FE$152)","v":0},{"$f":"SUMIF('Resource Programme'!$CL$12:$CL$152,'Resource Demand'!$B20,'Resource Programme'!FF$12:FF$152)","v":0},{"$f":"SUMIF('Resource Programme'!$CL$12:$CL$152,'Resource Demand'!$B20,'Resource Programme'!FG$12:FG$152)","v":0},"END"]
[0,"Basic Need, Approved, On Hold",{"$f":"SUMIF('Resource Programme'!$CL$12:$CL$152,'Resource Demand'!$B21,'Resource Programme'!CT$12:CT$152)","v":0},{"$f":"SUMIF('Resource Programme'!$CL$12:$CL$152,'Resource Demand'!$B21,'Resource Programme'!CU$12:CU$152)","v":0},{"$f":"SUMIF('Resource Programme'!$CL$12:$CL$152,'Resource Demand'!$B21,'Resource Programme'!CV$12:CV$152)","v":0},{"$f":"SUMIF('Resource Programme'!$CL$12:$CL$152,'Resource Demand'!$B21,'Resource Programme'!CW$12:CW$152)","v":0},{"$f":"SUMIF('Resource Programme'!$CL$12:$CL$152,'Resource Demand'!$B21,'Resource Programme'!CX$12:CX$152)","v":0},{"$f":"SUMIF('Resource Programme'!$CL$12:$CL$152,'Resource Demand'!$B21,'Resource Programme'!CY$12:CY$152)","v":0},{"$f":"SUMIF('Resource Programme'!$CL$12:$CL$152,'Resource Demand'!$B21,'Resource Programme'!CZ$12:CZ$152)","v":0},{"$f":"SUMIF('Resource Programme'!$CL$12:$CL$152,'Resource Demand'!$B21,'Resource Programme'!DA$12:DA$152)","v":0},{"$f":"SUMIF('Resource Programme'!$CL$12:$CL$152,'Resource Demand'!$B21,'Resource Programme'!DB$12:DB$152)","v":0},{"$f":"SUMIF('Resource Programme'!$CL$12:$CL$152,'Resource Demand'!$B21,'Resource Programme'!DC$12:DC$152)","v":0},{"$f":"SUMIF('Resource Programme'!$CL$12:$CL$152,'Resource Demand'!$B21,'Resource Programme'!DD$12:DD$152)","v":0},{"$f":"SUMIF('Resource Programme'!$CL$12:$CL$152,'Resource Demand'!$B21,'Resource Programme'!DE$12:DE$152)","v":0},{"$f":"SUMIF('Resource Programme'!$CL$12:$CL$152,'Resource Demand'!$B21,'Resource Programme'!DF$12:DF$152)","v":0},{"$f":"SUMIF('Resource Programme'!$CL$12:$CL$152,'Resource Demand'!$B21,'Resource Programme'!DG$12:DG$152)","v":0},{"$f":"SUMIF('Resource Programme'!$CL$12:$CL$152,'Resource Demand'!$B21,'Resource Programme'!DH$12:DH$152)","v":0},{"$f":"SUMIF('Resource Programme'!$CL$12:$CL$152,'Resource Demand'!$B21,'Resource Programme'!DI$12:DI$152)","v":0},{"$f":"SUMIF('Resource Programme'!$CL$12:$CL$152,'Resource Demand'!$B21,'Resource Programme'!DJ$12:DJ$152)","v":0},{"$f":"SUMIF('Resource Programme'!$CL$12:$CL$152,'Resource Demand'!$B21,'Resource Programme'!DK$12:DK$152)","v":0},{"$f":"SUMIF('Resource Programme'!$CL$12:$CL$152,'Resource Demand'!$B21,'Resource Programme'!DL$12:DL$152)","v":0},{"$f":"SUMIF('Resource Programme'!$CL$12:$CL$152,'Resource Demand'!$B21,'Resource Programme'!DM$12:DM$152)","v":0},{"$f":"SUMIF('Resource Programme'!$CL$12:$CL$152,'Resource Demand'!$B21,'Resource Programme'!DN$12:DN$152)","v":0},{"$f":"SUMIF('Resource Programme'!$CL$12:$CL$152,'Resource Demand'!$B21,'Resource Programme'!DO$12:DO$152)","v":0},{"$f":"SUMIF('Resource Programme'!$CL$12:$CL$152,'Resource Demand'!$B21,'Resource Programme'!DP$12:DP$152)","v":0},{"$f":"SUMIF('Resource Programme'!$CL$12:$CL$152,'Resource Demand'!$B21,'Resource Programme'!DQ$12:DQ$152)","v":0},{"$f":"SUMIF('Resource Programme'!$CL$12:$CL$152,'Resource Demand'!$B21,'Resource Programme'!DR$12:DR$152)","v":0},{"$f":"SUMIF('Resource Programme'!$CL$12:$CL$152,'Resource Demand'!$B21,'Resource Programme'!DS$12:DS$152)","v":0},{"$f":"SUMIF('Resource Programme'!$CL$12:$CL$152,'Resource Demand'!$B21,'Resource Programme'!DT$12:DT$152)","v":0},{"$f":"SUMIF('Resource Programme'!$CL$12:$CL$152,'Resource Demand'!$B21,'Resource Programme'!DU$12:DU$152)","v":0},{"$f":"SUMIF('Resource Programme'!$CL$12:$CL$152,'Resource Demand'!$B21,'Resource Programme'!DV$12:DV$152)","v":0},{"$f":"SUMIF('Resource Programme'!$CL$12:$CL$152,'Resource Demand'!$B21,'Resource Programme'!DW$12:DW$152)","v":0},{"$f":"SUMIF('Resource Programme'!$CL$12:$CL$152,'Resource Demand'!$B21,'Resource Programme'!DX$12:DX$152)","v":0},{"$f":"SUMIF('Resource Programme'!$CL$12:$CL$152,'Resource Demand'!$B21,'Resource Programme'!DY$12:DY$152)","v":0},{"$f":"SUMIF('Resource Programme'!$CL$12:$CL$152,'Resource Demand'!$B21,'Resource Programme'!DZ$12:DZ$152)","v":0},{"$f":"SUMIF('Resource Programme'!$CL$12:$CL$152,'Resource Demand'!$B21,'Resource Programme'!EA$12:EA$152)","v":0},{"$f":"SUMIF('Resource Programme'!$CL$12:$CL$152,'Resource Demand'!$B21,'Resource Programme'!EB$12:EB$152)","v":0},{"$f":"SUMIF('Resource Programme'!$CL$12:$CL$152,'Resource Demand'!$B21,'Resource Programme'!EC$12:EC$152)","v":0},{"$f":"SUMIF('Resource Programme'!$CL$12:$CL$152,'Resource Demand'!$B21,'Resource Programme'!ED$12:ED$152)","v":0},{"$f":"SUMIF('Resource Programme'!$CL$12:$CL$152,'Resource Demand'!$B21,'Resource Programme'!EE$12:EE$152)","v":0},{"$f":"SUMIF('Resource Programme'!$CL$12:$CL$152,'Resource Demand'!$B21,'Resource Programme'!EF$12:EF$152)","v":0},{"$f":"SUMIF('Resource Programme'!$CL$12:$CL$152,'Resource Demand'!$B21,'Resource Programme'!EG$12:EG$152)","v":0},{"$f":"SUMIF('Resource Programme'!$CL$12:$CL$152,'Resource Demand'!$B21,'Resource Programme'!EH$12:EH$152)","v":0},{"$f":"SUMIF('Resource Programme'!$CL$12:$CL$152,'Resource Demand'!$B21,'Resource Programme'!EI$12:EI$152)","v":0},{"$f":"SUMIF('Resource Programme'!$CL$12:$CL$152,'Resource Demand'!$B21,'Resource Programme'!EJ$12:EJ$152)","v":0},{"$f":"SUMIF('Resource Programme'!$CL$12:$CL$152,'Resource Demand'!$B21,'Resource Programme'!EK$12:EK$152)","v":0},{"$f":"SUMIF('Resource Programme'!$CL$12:$CL$152,'Resource Demand'!$B21,'Resource Programme'!EL$12:EL$152)","v":0},{"$f":"SUMIF('Resource Programme'!$CL$12:$CL$152,'Resource Demand'!$B21,'Resource Programme'!EM$12:EM$152)","v":0},{"$f":"SUMIF('Resource Programme'!$CL$12:$CL$152,'Resource Demand'!$B21,'Resource Programme'!EN$12:EN$152)","v":0},{"$f":"SUMIF('Resource Programme'!$CL$12:$CL$152,'Resource Demand'!$B21,'Resource Programme'!EO$12:EO$152)","v":0},{"$f":"SUMIF('Resource Programme'!$CL$12:$CL$152,'Resource Demand'!$B21,'Resource Programme'!EP$12:EP$152)","v":0},{"$f":"SUMIF('Resource Programme'!$CL$12:$CL$152,'Resource Demand'!$B21,'Resource Programme'!EQ$12:EQ$152)","v":0},{"$f":"SUMIF('Resource Programme'!$CL$12:$CL$152,'Resource Demand'!$B21,'Resource Programme'!ER$12:ER$152)","v":0},{"$f":"SUMIF('Resource Programme'!$CL$12:$CL$152,'Resource Demand'!$B21,'Resource Programme'!ES$12:ES$152)","v":0},{"$f":"SUMIF('Resource Programme'!$CL$12:$CL$152,'Resource Demand'!$B21,'Resource Programme'!ET$12:ET$152)","v":0},{"$f":"SUMIF('Resource Programme'!$CL$12:$CL$152,'Resource Demand'!$B21,'Resource Programme'!EU$12:EU$152)","v":0},{"$f":"SUMIF('Resource Programme'!$CL$12:$CL$152,'Resource Demand'!$B21,'Resource Programme'!EV$12:EV$152)","v":0},{"$f":"SUMIF('Resource Programme'!$CL$12:$CL$152,'Resource Demand'!$B21,'Resource Programme'!EW$12:EW$152)","v":0},{"$f":"SUMIF('Resource Programme'!$CL$12:$CL$152,'Resource Demand'!$B21,'Resource Programme'!EX$12:EX$152)","v":0},{"$f":"SUMIF('Resource Programme'!$CL$12:$CL$152,'Resource Demand'!$B21,'Resource Programme'!EY$12:EY$152)","v":0},{"$f":"SUMIF('Resource Programme'!$CL$12:$CL$152,'Resource Demand'!$B21,'Resource Programme'!EZ$12:EZ$152)","v":0},{"$f":"SUMIF('Resource Programme'!$CL$12:$CL$152,'Resource Demand'!$B21,'Resource Programme'!FA$12:FA$152)","v":0},{"$f":"SUMIF('Resource Programme'!$CL$12:$CL$152,'Resource Demand'!$B21,'Resource Programme'!FB$12:FB$152)","v":0},{"$f":"SUMIF('Resource Programme'!$CL$12:$CL$152,'Resource Demand'!$B21,'Resource Programme'!FC$12:FC$152)","v":0},{"$f":"SUMIF('Resource Programme'!$CL$12:$CL$152,'Resource Demand'!$B21,'Resource Programme'!FD$12:FD$152)","v":0},{"$f":"SUMIF('Resource Programme'!$CL$12:$CL$152,'Resource Demand'!$B21,'Resource Programme'!FE$12:FE$152)","v":0},{"$f":"SUMIF('Resource Programme'!$CL$12:$CL$152,'Resource Demand'!$B21,'Resource Programme'!FF$12:FF$152)","v":0},{"$f":"SUMIF('Resource Programme'!$CL$12:$CL$152,'Resource Demand'!$B21,'Resource Programme'!FG$12:FG$152)","v":0},"END"]
[0,"Basic Need, Approved, Ongoing",{"$f":"SUMIF('Resource Programme'!$CL$12:$CL$152,'Resource Demand'!$B22,'Resource Programme'!CT$12:CT$152)","v":0},{"$f":"SUMIF('Resource Programme'!$CL$12:$CL$152,'Resource Demand'!$B22,'Resource Programme'!CU$12:CU$152)","v":0},{"$f":"SUMIF('Resource Programme'!$CL$12:$CL$152,'Resource Demand'!$B22,'Resource Programme'!CV$12:CV$152)","v":0},{"$f":"SUMIF('Resource Programme'!$CL$12:$CL$152,'Resource Demand'!$B22,'Resource Programme'!CW$12:CW$152)","v":0},{"$f":"SUMIF('Resource Programme'!$CL$12:$CL$152,'Resource Demand'!$B22,'Resource Programme'!CX$12:CX$152)","v":0},{"$f":"SUMIF('Resource Programme'!$CL$12:$CL$152,'Resource Demand'!$B22,'Resource Programme'!CY$12:CY$152)","v":0},{"$f":"SUMIF('Resource Programme'!$CL$12:$CL$152,'Resource Demand'!$B22,'Resource Programme'!CZ$12:CZ$152)","v":0},{"$f":"SUMIF('Resource Programme'!$CL$12:$CL$152,'Resource Demand'!$B22,'Resource Programme'!DA$12:DA$152)","v":0},{"$f":"SUMIF('Resource Programme'!$CL$12:$CL$152,'Resource Demand'!$B22,'Resource Programme'!DB$12:DB$152)","v":0},{"$f":"SUMIF('Resource Programme'!$CL$12:$CL$152,'Resource Demand'!$B22,'Resource Programme'!DC$12:DC$152)","v":0},{"$f":"SUMIF('Resource Programme'!$CL$12:$CL$152,'Resource Demand'!$B22,'Resource Programme'!DD$12:DD$152)","v":0},{"$f":"SUMIF('Resource Programme'!$CL$12:$CL$152,'Resource Demand'!$B22,'Resource Programme'!DE$12:DE$152)","v":0},{"$f":"SUMIF('Resource Programme'!$CL$12:$CL$152,'Resource Demand'!$B22,'Resource Programme'!DF$12:DF$152)","v":0},{"$f":"SUMIF('Resource Programme'!$CL$12:$CL$152,'Resource Demand'!$B22,'Resource Programme'!DG$12:DG$152)","v":0},{"$f":"SUMIF('Resource Programme'!$CL$12:$CL$152,'Resource Demand'!$B22,'Resource Programme'!DH$12:DH$152)","v":0},{"$f":"SUMIF('Resource Programme'!$CL$12:$CL$152,'Resource Demand'!$B22,'Resource Programme'!DI$12:DI$152)","v":0},{"$f":"SUMIF('Resource Programme'!$CL$12:$CL$152,'Resource Demand'!$B22,'Resource Programme'!DJ$12:DJ$152)","v":0},{"$f":"SUMIF('Resource Programme'!$CL$12:$CL$152,'Resource Demand'!$B22,'Resource Programme'!DK$12:DK$152)","v":0},{"$f":"SUMIF('Resource Programme'!$CL$12:$CL$152,'Resource Demand'!$B22,'Resource Programme'!DL$12:DL$152)","v":0},{"$f":"SUMIF('Resource Programme'!$CL$12:$CL$152,'Resource Demand'!$B22,'Resource Programme'!DM$12:DM$152)","v":0},{"$f":"SUMIF('Resource Programme'!$CL$12:$CL$152,'Resource Demand'!$B22,'Resource Programme'!DN$12:DN$152)","v":0},{"$f":"SUMIF('Resource Programme'!$CL$12:$CL$152,'Resource Demand'!$B22,'Resource Programme'!DO$12:DO$152)","v":0},{"$f":"SUMIF('Resource Programme'!$CL$12:$CL$152,'Resource Demand'!$B22,'Resource Programme'!DP$12:DP$152)","v":0},{"$f":"SUMIF('Resource Programme'!$CL$12:$CL$152,'Resource Demand'!$B22,'Resource Programme'!DQ$12:DQ$152)","v":0},{"$f":"SUMIF('Resource Programme'!$CL$12:$CL$152,'Resource Demand'!$B22,'Resource Programme'!DR$12:DR$152)","v":0},{"$f":"SUMIF('Resource Programme'!$CL$12:$CL$152,'Resource Demand'!$B22,'Resource Programme'!DS$12:DS$152)","v":0},{"$f":"SUMIF('Resource Programme'!$CL$12:$CL$152,'Resource Demand'!$B22,'Resource Programme'!DT$12:DT$152)","v":0},{"$f":"SUMIF('Resource Programme'!$CL$12:$CL$152,'Resource Demand'!$B22,'Resource Programme'!DU$12:DU$152)","v":0},{"$f":"SUMIF('Resource Programme'!$CL$12:$CL$152,'Resource Demand'!$B22,'Resource Programme'!DV$12:DV$152)","v":0},{"$f":"SUMIF('Resource Programme'!$CL$12:$CL$152,'Resource Demand'!$B22,'Resource Programme'!DW$12:DW$152)","v":0},{"$f":"SUMIF('Resource Programme'!$CL$12:$CL$152,'Resource Demand'!$B22,'Resource Programme'!DX$12:DX$152)","v":0},{"$f":"SUMIF('Resource Programme'!$CL$12:$CL$152,'Resource Demand'!$B22,'Resource Programme'!DY$12:DY$152)","v":0},{"$f":"SUMIF('Resource Programme'!$CL$12:$CL$152,'Resource Demand'!$B22,'Resource Programme'!DZ$12:DZ$152)","v":0},{"$f":"SUMIF('Resource Programme'!$CL$12:$CL$152,'Resource Demand'!$B22,'Resource Programme'!EA$12:EA$152)","v":0},{"$f":"SUMIF('Resource Programme'!$CL$12:$CL$152,'Resource Demand'!$B22,'Resource Programme'!EB$12:EB$152)","v":0},{"$f":"SUMIF('Resource Programme'!$CL$12:$CL$152,'Resource Demand'!$B22,'Resource Programme'!EC$12:EC$152)","v":0},{"$f":"SUMIF('Resource Programme'!$CL$12:$CL$152,'Resource Demand'!$B22,'Resource Programme'!ED$12:ED$152)","v":0},{"$f":"SUMIF('Resource Programme'!$CL$12:$CL$152,'Resource Demand'!$B22,'Resource Programme'!EE$12:EE$152)","v":0},{"$f":"SUMIF('Resource Programme'!$CL$12:$CL$152,'Resource Demand'!$B22,'Resource Programme'!EF$12:EF$152)","v":0},{"$f":"SUMIF('Resource Programme'!$CL$12:$CL$152,'Resource Demand'!$B22,'Resource Programme'!EG$12:EG$152)","v":0},{"$f":"SUMIF('Resource Programme'!$CL$12:$CL$152,'Resource Demand'!$B22,'Resource Programme'!EH$12:EH$152)","v":0},{"$f":"SUMIF('Resource Programme'!$CL$12:$CL$152,'Resource Demand'!$B22,'Resource Programme'!EI$12:EI$152)","v":0},{"$f":"SUMIF('Resource Programme'!$CL$12:$CL$152,'Resource Demand'!$B22,'Resource Programme'!EJ$12:EJ$152)","v":0},{"$f":"SUMIF('Resource Programme'!$CL$12:$CL$152,'Resource Demand'!$B22,'Resource Programme'!EK$12:EK$152)","v":0},{"$f":"SUMIF('Resource Programme'!$CL$12:$CL$152,'Resource Demand'!$B22,'Resource Programme'!EL$12:EL$152)","v":0},{"$f":"SUMIF('Resource Programme'!$CL$12:$CL$152,'Resource Demand'!$B22,'Resource Programme'!EM$12:EM$152)","v":0},{"$f":"SUMIF('Resource Programme'!$CL$12:$CL$152,'Resource Demand'!$B22,'Resource Programme'!EN$12:EN$152)","v":0},{"$f":"SUMIF('Resource Programme'!$CL$12:$CL$152,'Resource Demand'!$B22,'Resource Programme'!EO$12:EO$152)","v":0},{"$f":"SUMIF('Resource Programme'!$CL$12:$CL$152,'Resource Demand'!$B22,'Resource Programme'!EP$12:EP$152)","v":0},{"$f":"SUMIF('Resource Programme'!$CL$12:$CL$152,'Resource Demand'!$B22,'Resource Programme'!EQ$12:EQ$152)","v":0},{"$f":"SUMIF('Resource Programme'!$CL$12:$CL$152,'Resource Demand'!$B22,'Resource Programme'!ER$12:ER$152)","v":0},{"$f":"SUMIF('Resource Programme'!$CL$12:$CL$152,'Resource Demand'!$B22,'Resource Programme'!ES$12:ES$152)","v":0},{"$f":"SUMIF('Resource Programme'!$CL$12:$CL$152,'Resource Demand'!$B22,'Resource Programme'!ET$12:ET$152)","v":0},{"$f":"SUMIF('Resource Programme'!$CL$12:$CL$152,'Resource Demand'!$B22,'Resource Programme'!EU$12:EU$152)","v":0},{"$f":"SUMIF('Resource Programme'!$CL$12:$CL$152,'Resource Demand'!$B22,'Resource Programme'!EV$12:EV$152)","v":0},{"$f":"SUMIF('Resource Programme'!$CL$12:$CL$152,'Resource Demand'!$B22,'Resource Programme'!EW$12:EW$152)","v":0},{"$f":"SUMIF('Resource Programme'!$CL$12:$CL$152,'Resource Demand'!$B22,'Resource Programme'!EX$12:EX$152)","v":0},{"$f":"SUMIF('Resource Programme'!$CL$12:$CL$152,'Resource Demand'!$B22,'Resource Programme'!EY$12:EY$152)","v":0},{"$f":"SUMIF('Resource Programme'!$CL$12:$CL$152,'Resource Demand'!$B22,'Resource Programme'!EZ$12:EZ$152)","v":0},{"$f":"SUMIF('Resource Programme'!$CL$12:$CL$152,'Resource Demand'!$B22,'Resource Programme'!FA$12:FA$152)","v":0},{"$f":"SUMIF('Resource Programme'!$CL$12:$CL$152,'Resource Demand'!$B22,'Resource Programme'!FB$12:FB$152)","v":0},{"$f":"SUMIF('Resource Programme'!$CL$12:$CL$152,'Resource Demand'!$B22,'Resource Programme'!FC$12:FC$152)","v":0},{"$f":"SUMIF('Resource Programme'!$CL$12:$CL$152,'Resource Demand'!$B22,'Resource Programme'!FD$12:FD$152)","v":0},{"$f":"SUMIF('Resource Programme'!$CL$12:$CL$152,'Resource Demand'!$B22,'Resource Programme'!FE$12:FE$152)","v":0},{"$f":"SUMIF('Resource Programme'!$CL$12:$CL$152,'Resource Demand'!$B22,'Resource Programme'!FF$12:FF$152)","v":0},{"$f":"SUMIF('Resource Programme'!$CL$12:$CL$152,'Resource Demand'!$B22,'Resource Programme'!FG$12:FG$152)","v":0},"END"]
[0,"Basic Need, Approved, School Managed",{"$f":"SUMIF('Resource Programme'!$CL$12:$CL$152,'Resource Demand'!$B23,'Resource Programme'!CT$12:CT$152)","v":0},{"$f":"SUMIF('Resource Programme'!$CL$12:$CL$152,'Resource Demand'!$B23,'Resource Programme'!CU$12:CU$152)","v":0},{"$f":"SUMIF('Resource Programme'!$CL$12:$CL$152,'Resource Demand'!$B23,'Resource Programme'!CV$12:CV$152)","v":0},{"$f":"SUMIF('Resource Programme'!$CL$12:$CL$152,'Resource Demand'!$B23,'Resource Programme'!CW$12:CW$152)","v":0},{"$f":"SUMIF('Resource Programme'!$CL$12:$CL$152,'Resource Demand'!$B23,'Resource Programme'!CX$12:CX$152)","v":0},{"$f":"SUMIF('Resource Programme'!$CL$12:$CL$152,'Resource Demand'!$B23,'Resource Programme'!CY$12:CY$152)","v":0},{"$f":"SUMIF('Resource Programme'!$CL$12:$CL$152,'Resource Demand'!$B23,'Resource Programme'!CZ$12:CZ$152)","v":0},{"$f":"SUMIF('Resource Programme'!$CL$12:$CL$152,'Resource Demand'!$B23,'Resource Programme'!DA$12:DA$152)","v":0},{"$f":"SUMIF('Resource Programme'!$CL$12:$CL$152,'Resource Demand'!$B23,'Resource Programme'!DB$12:DB$152)","v":0},{"$f":"SUMIF('Resource Programme'!$CL$12:$CL$152,'Resource Demand'!$B23,'Resource Programme'!DC$12:DC$152)","v":0},{"$f":"SUMIF('Resource Programme'!$CL$12:$CL$152,'Resource Demand'!$B23,'Resource Programme'!DD$12:DD$152)","v":0},{"$f":"SUMIF('Resource Programme'!$CL$12:$CL$152,'Resource Demand'!$B23,'Resource Programme'!DE$12:DE$152)","v":0},{"$f":"SUMIF('Resource Programme'!$CL$12:$CL$152,'Resource Demand'!$B23,'Resource Programme'!DF$12:DF$152)","v":0},{"$f":"SUMIF('Resource Programme'!$CL$12:$CL$152,'Resource Demand'!$B23,'Resource Programme'!DG$12:DG$152)","v":0},{"$f":"SUMIF('Resource Programme'!$CL$12:$CL$152,'Resource Demand'!$B23,'Resource Programme'!DH$12:DH$152)","v":0},{"$f":"SUMIF('Resource Programme'!$CL$12:$CL$152,'Resource Demand'!$B23,'Resource Programme'!DI$12:DI$152)","v":0},{"$f":"SUMIF('Resource Programme'!$CL$12:$CL$152,'Resource Demand'!$B23,'Resource Programme'!DJ$12:DJ$152)","v":0},{"$f":"SUMIF('Resource Programme'!$CL$12:$CL$152,'Resource Demand'!$B23,'Resource Programme'!DK$12:DK$152)","v":0},{"$f":"SUMIF('Resource Programme'!$CL$12:$CL$152,'Resource Demand'!$B23,'Resource Programme'!DL$12:DL$152)","v":0},{"$f":"SUMIF('Resource Programme'!$CL$12:$CL$152,'Resource Demand'!$B23,'Resource Programme'!DM$12:DM$152)","v":0},{"$f":"SUMIF('Resource Programme'!$CL$12:$CL$152,'Resource Demand'!$B23,'Resource Programme'!DN$12:DN$152)","v":0},{"$f":"SUMIF('Resource Programme'!$CL$12:$CL$152,'Resource Demand'!$B23,'Resource Programme'!DO$12:DO$152)","v":0},{"$f":"SUMIF('Resource Programme'!$CL$12:$CL$152,'Resource Demand'!$B23,'Resource Programme'!DP$12:DP$152)","v":0},{"$f":"SUMIF('Resource Programme'!$CL$12:$CL$152,'Resource Demand'!$B23,'Resource Programme'!DQ$12:DQ$152)","v":0},{"$f":"SUMIF('Resource Programme'!$CL$12:$CL$152,'Resource Demand'!$B23,'Resource Programme'!DR$12:DR$152)","v":0},{"$f":"SUMIF('Resource Programme'!$CL$12:$CL$152,'Resource Demand'!$B23,'Resource Programme'!DS$12:DS$152)","v":0},{"$f":"SUMIF('Resource Programme'!$CL$12:$CL$152,'Resource Demand'!$B23,'Resource Programme'!DT$12:DT$152)","v":0},{"$f":"SUMIF('Resource Programme'!$CL$12:$CL$152,'Resource Demand'!$B23,'Resource Programme'!DU$12:DU$152)","v":0},{"$f":"SUMIF('Resource Programme'!$CL$12:$CL$152,'Resource Demand'!$B23,'Resource Programme'!DV$12:DV$152)","v":0},{"$f":"SUMIF('Resource Programme'!$CL$12:$CL$152,'Resource Demand'!$B23,'Resource Programme'!DW$12:DW$152)","v":0},{"$f":"SUMIF('Resource Programme'!$CL$12:$CL$152,'Resource Demand'!$B23,'Resource Programme'!DX$12:DX$152)","v":0},{"$f":"SUMIF('Resource Programme'!$CL$12:$CL$152,'Resource Demand'!$B23,'Resource Programme'!DY$12:DY$152)","v":0},{"$f":"SUMIF('Resource Programme'!$CL$12:$CL$152,'Resource Demand'!$B23,'Resource Programme'!DZ$12:DZ$152)","v":0},{"$f":"SUMIF('Resource Programme'!$CL$12:$CL$152,'Resource Demand'!$B23,'Resource Programme'!EA$12:EA$152)","v":0},{"$f":"SUMIF('Resource Programme'!$CL$12:$CL$152,'Resource Demand'!$B23,'Resource Programme'!EB$12:EB$152)","v":0},{"$f":"SUMIF('Resource Programme'!$CL$12:$CL$152,'Resource Demand'!$B23,'Resource Programme'!EC$12:EC$152)","v":0},{"$f":"SUMIF('Resource Programme'!$CL$12:$CL$152,'Resource Demand'!$B23,'Resource Programme'!ED$12:ED$152)","v":0},{"$f":"SUMIF('Resource Programme'!$CL$12:$CL$152,'Resource Demand'!$B23,'Resource Programme'!EE$12:EE$152)","v":0},{"$f":"SUMIF('Resource Programme'!$CL$12:$CL$152,'Resource Demand'!$B23,'Resource Programme'!EF$12:EF$152)","v":0},{"$f":"SUMIF('Resource Programme'!$CL$12:$CL$152,'Resource Demand'!$B23,'Resource Programme'!EG$12:EG$152)","v":0},{"$f":"SUMIF('Resource Programme'!$CL$12:$CL$152,'Resource Demand'!$B23,'Resource Programme'!EH$12:EH$152)","v":0},{"$f":"SUMIF('Resource Programme'!$CL$12:$CL$152,'Resource Demand'!$B23,'Resource Programme'!EI$12:EI$152)","v":0},{"$f":"SUMIF('Resource Programme'!$CL$12:$CL$152,'Resource Demand'!$B23,'Resource Programme'!EJ$12:EJ$152)","v":0},{"$f":"SUMIF('Resource Programme'!$CL$12:$CL$152,'Resource Demand'!$B23,'Resource Programme'!EK$12:EK$152)","v":0},{"$f":"SUMIF('Resource Programme'!$CL$12:$CL$152,'Resource Demand'!$B23,'Resource Programme'!EL$12:EL$152)","v":0},{"$f":"SUMIF('Resource Programme'!$CL$12:$CL$152,'Resource Demand'!$B23,'Resource Programme'!EM$12:EM$152)","v":0},{"$f":"SUMIF('Resource Programme'!$CL$12:$CL$152,'Resource Demand'!$B23,'Resource Programme'!EN$12:EN$152)","v":0},{"$f":"SUMIF('Resource Programme'!$CL$12:$CL$152,'Resource Demand'!$B23,'Resource Programme'!EO$12:EO$152)","v":0},{"$f":"SUMIF('Resource Programme'!$CL$12:$CL$152,'Resource Demand'!$B23,'Resource Programme'!EP$12:EP$152)","v":0},{"$f":"SUMIF('Resource Programme'!$CL$12:$CL$152,'Resource Demand'!$B23,'Resource Programme'!EQ$12:EQ$152)","v":0},{"$f":"SUMIF('Resource Programme'!$CL$12:$CL$152,'Resource Demand'!$B23,'Resource Programme'!ER$12:ER$152)","v":0},{"$f":"SUMIF('Resource Programme'!$CL$12:$CL$152,'Resource Demand'!$B23,'Resource Programme'!ES$12:ES$152)","v":0},{"$f":"SUMIF('Resource Programme'!$CL$12:$CL$152,'Resource Demand'!$B23,'Resource Programme'!ET$12:ET$152)","v":0},{"$f":"SUMIF('Resource Programme'!$CL$12:$CL$152,'Resource Demand'!$B23,'Resource Programme'!EU$12:EU$152)","v":0},{"$f":"SUMIF('Resource Programme'!$CL$12:$CL$152,'Resource Demand'!$B23,'Resource Programme'!EV$12:EV$152)","v":0},{"$f":"SUMIF('Resource Programme'!$CL$12:$CL$152,'Resource Demand'!$B23,'Resource Programme'!EW$12:EW$152)","v":0},{"$f":"SUMIF('Resource Programme'!$CL$12:$CL$152,'Resource Demand'!$B23,'Resource Programme'!EX$12:EX$152)","v":0},{"$f":"SUMIF('Resource Programme'!$CL$12:$CL$152,'Resource Demand'!$B23,'Resource Programme'!EY$12:EY$152)","v":0},{"$f":"SUMIF('Resource Programme'!$CL$12:$CL$152,'Resource Demand'!$B23,'Resource Programme'!EZ$12:EZ$152)","v":0},{"$f":"SUMIF('Resource Programme'!$CL$12:$CL$152,'Resource Demand'!$B23,'Resource Programme'!FA$12:FA$152)","v":0},{"$f":"SUMIF('Resource Programme'!$CL$12:$CL$152,'Resource Demand'!$B23,'Resource Programme'!FB$12:FB$152)","v":0},{"$f":"SUMIF('Resource Programme'!$CL$12:$CL$152,'Resource Demand'!$B23,'Resource Programme'!FC$12:FC$152)","v":0},{"$f":"SUMIF('Resource Programme'!$CL$12:$CL$152,'Resource Demand'!$B23,'Resource Programme'!FD$12:FD$152)","v":0},{"$f":"SUMIF('Resource Programme'!$CL$12:$CL$152,'Resource Demand'!$B23,'Resource Programme'!FE$12:FE$152)","v":0},{"$f":"SUMIF('Resource Programme'!$CL$12:$CL$152,'Resource Demand'!$B23,'Resource Programme'!FF$12:FF$152)","v":0},{"$f":"SUMIF('Resource Programme'!$CL$12:$CL$152,'Resource Demand'!$B23,'Resource Programme'!FG$12:FG$152)","v":0},"END"]
[0,"Basic Need, Unapproved, On Hold",{"$f":"SUMIF('Resource Programme'!$CL$12:$CL$152,'Resource Demand'!$B24,'Resource Programme'!CT$12:CT$152)","v":0},{"$f":"SUMIF('Resource Programme'!$CL$12:$CL$152,'Resource Demand'!$B24,'Resource Programme'!CU$12:CU$152)","v":0},{"$f":"SUMIF('Resource Programme'!$CL$12:$CL$152,'Resource Demand'!$B24,'Resource Programme'!CV$12:CV$152)","v":0},{"$f":"SUMIF('Resource Programme'!$CL$12:$CL$152,'Resource Demand'!$B24,'Resource Programme'!CW$12:CW$152)","v":0},{"$f":"SUMIF('Resource Programme'!$CL$12:$CL$152,'Resource Demand'!$B24,'Resource Programme'!CX$12:CX$152)","v":0},{"$f":"SUMIF('Resource Programme'!$CL$12:$CL$152,'Resource Demand'!$B24,'Resource Programme'!CY$12:CY$152)","v":0},{"$f":"SUMIF('Resource Programme'!$CL$12:$CL$152,'Resource Demand'!$B24,'Resource Programme'!CZ$12:CZ$152)","v":0},{"$f":"SUMIF('Resource Programme'!$CL$12:$CL$152,'Resource Demand'!$B24,'Resource Programme'!DA$12:DA$152)","v":0},{"$f":"SUMIF('Resource Programme'!$CL$12:$CL$152,'Resource Demand'!$B24,'Resource Programme'!DB$12:DB$152)","v":0},{"$f":"SUMIF('Resource Programme'!$CL$12:$CL$152,'Resource Demand'!$B24,'Resource Programme'!DC$12:DC$152)","v":0},{"$f":"SUMIF('Resource Programme'!$CL$12:$CL$152,'Resource Demand'!$B24,'Resource Programme'!DD$12:DD$152)","v":0},{"$f":"SUMIF('Resource Programme'!$CL$12:$CL$152,'Resource Demand'!$B24,'Resource Programme'!DE$12:DE$152)","v":0},{"$f":"SUMIF('Resource Programme'!$CL$12:$CL$152,'Resource Demand'!$B24,'Resource Programme'!DF$12:DF$152)","v":0},{"$f":"SUMIF('Resource Programme'!$CL$12:$CL$152,'Resource Demand'!$B24,'Resource Programme'!DG$12:DG$152)","v":0},{"$f":"SUMIF('Resource Programme'!$CL$12:$CL$152,'Resource Demand'!$B24,'Resource Programme'!DH$12:DH$152)","v":0},{"$f":"SUMIF('Resource Programme'!$CL$12:$CL$152,'Resource Demand'!$B24,'Resource Programme'!DI$12:DI$152)","v":0},{"$f":"SUMIF('Resource Programme'!$CL$12:$CL$152,'Resource Demand'!$B24,'Resource Programme'!DJ$12:DJ$152)","v":0},{"$f":"SUMIF('Resource Programme'!$CL$12:$CL$152,'Resource Demand'!$B24,'Resource Programme'!DK$12:DK$152)","v":0},{"$f":"SUMIF('Resource Programme'!$CL$12:$CL$152,'Resource Demand'!$B24,'Resource Programme'!DL$12:DL$152)","v":0},{"$f":"SUMIF('Resource Programme'!$CL$12:$CL$152,'Resource Demand'!$B24,'Resource Programme'!DM$12:DM$152)","v":0},{"$f":"SUMIF('Resource Programme'!$CL$12:$CL$152,'Resource Demand'!$B24,'Resource Programme'!DN$12:DN$152)","v":0},{"$f":"SUMIF('Resource Programme'!$CL$12:$CL$152,'Resource Demand'!$B24,'Resource Programme'!DO$12:DO$152)","v":0},{"$f":"SUMIF('Resource Programme'!$CL$12:$CL$152,'Resource Demand'!$B24,'Resource Programme'!DP$12:DP$152)","v":0},{"$f":"SUMIF('Resource Programme'!$CL$12:$CL$152,'Resource Demand'!$B24,'Resource Programme'!DQ$12:DQ$152)","v":0},{"$f":"SUMIF('Resource Programme'!$CL$12:$CL$152,'Resource Demand'!$B24,'Resource Programme'!DR$12:DR$152)","v":0},{"$f":"SUMIF('Resource Programme'!$CL$12:$CL$152,'Resource Demand'!$B24,'Resource Programme'!DS$12:DS$152)","v":0},{"$f":"SUMIF('Resource Programme'!$CL$12:$CL$152,'Resource Demand'!$B24,'Resource Programme'!DT$12:DT$152)","v":0},{"$f":"SUMIF('Resource Programme'!$CL$12:$CL$152,'Resource Demand'!$B24,'Resource Programme'!DU$12:DU$152)","v":0},{"$f":"SUMIF('Resource Programme'!$CL$12:$CL$152,'Resource Demand'!$B24,'Resource Programme'!DV$12:DV$152)","v":0},{"$f":"SUMIF('Resource Programme'!$CL$12:$CL$152,'Resource Demand'!$B24,'Resource Programme'!DW$12:DW$152)","v":0},{"$f":"SUMIF('Resource Programme'!$CL$12:$CL$152,'Resource Demand'!$B24,'Resource Programme'!DX$12:DX$152)","v":0},{"$f":"SUMIF('Resource Programme'!$CL$12:$CL$152,'Resource Demand'!$B24,'Resource Programme'!DY$12:DY$152)","v":0},{"$f":"SUMIF('Resource Programme'!$CL$12:$CL$152,'Resource Demand'!$B24,'Resource Programme'!DZ$12:DZ$152)","v":0},{"$f":"SUMIF('Resource Programme'!$CL$12:$CL$152,'Resource Demand'!$B24,'Resource Programme'!EA$12:EA$152)","v":0},{"$f":"SUMIF('Resource Programme'!$CL$12:$CL$152,'Resource Demand'!$B24,'Resource Programme'!EB$12:EB$152)","v":0},{"$f":"SUMIF('Resource Programme'!$CL$12:$CL$152,'Resource Demand'!$B24,'Resource Programme'!EC$12:EC$152)","v":0},{"$f":"SUMIF('Resource Programme'!$CL$12:$CL$152,'Resource Demand'!$B24,'Resource Programme'!ED$12:ED$152)","v":0},{"$f":"SUMIF('Resource Programme'!$CL$12:$CL$152,'Resource Demand'!$B24,'Resource Programme'!EE$12:EE$152)","v":0},{"$f":"SUMIF('Resource Programme'!$CL$12:$CL$152,'Resource Demand'!$B24,'Resource Programme'!EF$12:EF$152)","v":0},{"$f":"SUMIF('Resource Programme'!$CL$12:$CL$152,'Resource Demand'!$B24,'Resource Programme'!EG$12:EG$152)","v":0},{"$f":"SUMIF('Resource Programme'!$CL$12:$CL$152,'Resource Demand'!$B24,'Resource Programme'!EH$12:EH$152)","v":0},{"$f":"SUMIF('Resource Programme'!$CL$12:$CL$152,'Resource Demand'!$B24,'Resource Programme'!EI$12:EI$152)","v":0},{"$f":"SUMIF('Resource Programme'!$CL$12:$CL$152,'Resource Demand'!$B24,'Resource Programme'!EJ$12:EJ$152)","v":0},{"$f":"SUMIF('Resource Programme'!$CL$12:$CL$152,'Resource Demand'!$B24,'Resource Programme'!EK$12:EK$152)","v":0},{"$f":"SUMIF('Resource Programme'!$CL$12:$CL$152,'Resource Demand'!$B24,'Resource Programme'!EL$12:EL$152)","v":0},{"$f":"SUMIF('Resource Programme'!$CL$12:$CL$152,'Resource Demand'!$B24,'Resource Programme'!EM$12:EM$152)","v":0},{"$f":"SUMIF('Resource Programme'!$CL$12:$CL$152,'Resource Demand'!$B24,'Resource Programme'!EN$12:EN$152)","v":0},{"$f":"SUMIF('Resource Programme'!$CL$12:$CL$152,'Resource Demand'!$B24,'Resource Programme'!EO$12:EO$152)","v":0},{"$f":"SUMIF('Resource Programme'!$CL$12:$CL$152,'Resource Demand'!$B24,'Resource Programme'!EP$12:EP$152)","v":0},{"$f":"SUMIF('Resource Programme'!$CL$12:$CL$152,'Resource Demand'!$B24,'Resource Programme'!EQ$12:EQ$152)","v":0},{"$f":"SUMIF('Resource Programme'!$CL$12:$CL$152,'Resource Demand'!$B24,'Resource Programme'!ER$12:ER$152)","v":0},{"$f":"SUMIF('Resource Programme'!$CL$12:$CL$152,'Resource Demand'!$B24,'Resource Programme'!ES$12:ES$152)","v":0},{"$f":"SUMIF('Resource Programme'!$CL$12:$CL$152,'Resource Demand'!$B24,'Resource Programme'!ET$12:ET$152)","v":0},{"$f":"SUMIF('Resource Programme'!$CL$12:$CL$152,'Resource Demand'!$B24,'Resource Programme'!EU$12:EU$152)","v":0},{"$f":"SUMIF('Resource Programme'!$CL$12:$CL$152,'Resource Demand'!$B24,'Resource Programme'!EV$12:EV$152)","v":0},{"$f":"SUMIF('Resource Programme'!$CL$12:$CL$152,'Resource Demand'!$B24,'Resource Programme'!EW$12:EW$152)","v":0},{"$f":"SUMIF('Resource Programme'!$CL$12:$CL$152,'Resource Demand'!$B24,'Resource Programme'!EX$12:EX$152)","v":0},{"$f":"SUMIF('Resource Programme'!$CL$12:$CL$152,'Resource Demand'!$B24,'Resource Programme'!EY$12:EY$152)","v":0},{"$f":"SUMIF('Resource Programme'!$CL$12:$CL$152,'Resource Demand'!$B24,'Resource Programme'!EZ$12:EZ$152)","v":0},{"$f":"SUMIF('Resource Programme'!$CL$12:$CL$152,'Resource Demand'!$B24,'Resource Programme'!FA$12:FA$152)","v":0},{"$f":"SUMIF('Resource Programme'!$CL$12:$CL$152,'Resource Demand'!$B24,'Resource Programme'!FB$12:FB$152)","v":0},{"$f":"SUMIF('Resource Programme'!$CL$12:$CL$152,'Resource Demand'!$B24,'Resource Programme'!FC$12:FC$152)","v":0},{"$f":"SUMIF('Resource Programme'!$CL$12:$CL$152,'Resource Demand'!$B24,'Resource Programme'!FD$12:FD$152)","v":0},{"$f":"SUMIF('Resource Programme'!$CL$12:$CL$152,'Resource Demand'!$B24,'Resource Programme'!FE$12:FE$152)","v":0},{"$f":"SUMIF('Resource Programme'!$CL$12:$CL$152,'Resource Demand'!$B24,'Resource Programme'!FF$12:FF$152)","v":0},{"$f":"SUMIF('Resource Programme'!$CL$12:$CL$152,'Resource Demand'!$B24,'Resource Programme'!FG$12:FG$152)","v":0},"END"]
[0,"Basic Need, Unapproved, Ongoing",{"$f":"SUMIF('Resource Programme'!$CL$12:$CL$152,'Resource Demand'!$B25,'Resource Programme'!CT$12:CT$152)","v":0},{"$f":"SUMIF('Resource Programme'!$CL$12:$CL$152,'Resource Demand'!$B25,'Resource Programme'!CU$12:CU$152)","v":0},{"$f":"SUMIF('Resource Programme'!$CL$12:$CL$152,'Resource Demand'!$B25,'Resource Programme'!CV$12:CV$152)","v":0},{"$f":"SUMIF('Resource Programme'!$CL$12:$CL$152,'Resource Demand'!$B25,'Resource Programme'!CW$12:CW$152)","v":0},{"$f":"SUMIF('Resource Programme'!$CL$12:$CL$152,'Resource Demand'!$B25,'Resource Programme'!CX$12:CX$152)","v":0},{"$f":"SUMIF('Resource Programme'!$CL$12:$CL$152,'Resource Demand'!$B25,'Resource Programme'!CY$12:CY$152)","v":0},{"$f":"SUMIF('Resource Programme'!$CL$12:$CL$152,'Resource Demand'!$B25,'Resource Programme'!CZ$12:CZ$152)","v":0},{"$f":"SUMIF('Resource Programme'!$CL$12:$CL$152,'Resource Demand'!$B25,'Resource Programme'!DA$12:DA$152)","v":0},{"$f":"SUMIF('Resource Programme'!$CL$12:$CL$152,'Resource Demand'!$B25,'Resource Programme'!DB$12:DB$152)","v":0},{"$f":"SUMIF('Resource Programme'!$CL$12:$CL$152,'Resource Demand'!$B25,'Resource Programme'!DC$12:DC$152)","v":0},{"$f":"SUMIF('Resource Programme'!$CL$12:$CL$152,'Resource Demand'!$B25,'Resource Programme'!DD$12:DD$152)","v":0},{"$f":"SUMIF('Resource Programme'!$CL$12:$CL$152,'Resource Demand'!$B25,'Resource Programme'!DE$12:DE$152)","v":0},{"$f":"SUMIF('Resource Programme'!$CL$12:$CL$152,'Resource Demand'!$B25,'Resource Programme'!DF$12:DF$152)","v":0},{"$f":"SUMIF('Resource Programme'!$CL$12:$CL$152,'Resource Demand'!$B25,'Resource Programme'!DG$12:DG$152)","v":0},{"$f":"SUMIF('Resource Programme'!$CL$12:$CL$152,'Resource Demand'!$B25,'Resource Programme'!DH$12:DH$152)","v":0},{"$f":"SUMIF('Resource Programme'!$CL$12:$CL$152,'Resource Demand'!$B25,'Resource Programme'!DI$12:DI$152)","v":0},{"$f":"SUMIF('Resource Programme'!$CL$12:$CL$152,'Resource Demand'!$B25,'Resource Programme'!DJ$12:DJ$152)","v":0},{"$f":"SUMIF('Resource Programme'!$CL$12:$CL$152,'Resource Demand'!$B25,'Resource Programme'!DK$12:DK$152)","v":0},{"$f":"SUMIF('Resource Programme'!$CL$12:$CL$152,'Resource Demand'!$B25,'Resource Programme'!DL$12:DL$152)","v":0},{"$f":"SUMIF('Resource Programme'!$CL$12:$CL$152,'Resource Demand'!$B25,'Resource Programme'!DM$12:DM$152)","v":0},{"$f":"SUMIF('Resource Programme'!$CL$12:$CL$152,'Resource Demand'!$B25,'Resource Programme'!DN$12:DN$152)","v":0},{"$f":"SUMIF('Resource Programme'!$CL$12:$CL$152,'Resource Demand'!$B25,'Resource Programme'!DO$12:DO$152)","v":0},{"$f":"SUMIF('Resource Programme'!$CL$12:$CL$152,'Resource Demand'!$B25,'Resource Programme'!DP$12:DP$152)","v":0},{"$f":"SUMIF('Resource Programme'!$CL$12:$CL$152,'Resource Demand'!$B25,'Resource Programme'!DQ$12:DQ$152)","v":0},{"$f":"SUMIF('Resource Programme'!$CL$12:$CL$152,'Resource Demand'!$B25,'Resource Programme'!DR$12:DR$152)","v":0},{"$f":"SUMIF('Resource Programme'!$CL$12:$CL$152,'Resource Demand'!$B25,'Resource Programme'!DS$12:DS$152)","v":0},{"$f":"SUMIF('Resource Programme'!$CL$12:$CL$152,'Resource Demand'!$B25,'Resource Programme'!DT$12:DT$152)","v":0},{"$f":"SUMIF('Resource Programme'!$CL$12:$CL$152,'Resource Demand'!$B25,'Resource Programme'!DU$12:DU$152)","v":0},{"$f":"SUMIF('Resource Programme'!$CL$12:$CL$152,'Resource Demand'!$B25,'Resource Programme'!DV$12:DV$152)","v":0},{"$f":"SUMIF('Resource Programme'!$CL$12:$CL$152,'Resource Demand'!$B25,'Resource Programme'!DW$12:DW$152)","v":0},{"$f":"SUMIF('Resource Programme'!$CL$12:$CL$152,'Resource Demand'!$B25,'Resource Programme'!DX$12:DX$152)","v":0},{"$f":"SUMIF('Resource Programme'!$CL$12:$CL$152,'Resource Demand'!$B25,'Resource Programme'!DY$12:DY$152)","v":0},{"$f":"SUMIF('Resource Programme'!$CL$12:$CL$152,'Resource Demand'!$B25,'Resource Programme'!DZ$12:DZ$152)","v":0},{"$f":"SUMIF('Resource Programme'!$CL$12:$CL$152,'Resource Demand'!$B25,'Resource Programme'!EA$12:EA$152)","v":0},{"$f":"SUMIF('Resource Programme'!$CL$12:$CL$152,'Resource Demand'!$B25,'Resource Programme'!EB$12:EB$152)","v":0},{"$f":"SUMIF('Resource Programme'!$CL$12:$CL$152,'Resource Demand'!$B25,'Resource Programme'!EC$12:EC$152)","v":0},{"$f":"SUMIF('Resource Programme'!$CL$12:$CL$152,'Resource Demand'!$B25,'Resource Programme'!ED$12:ED$152)","v":0},{"$f":"SUMIF('Resource Programme'!$CL$12:$CL$152,'Resource Demand'!$B25,'Resource Programme'!EE$12:EE$152)","v":0},{"$f":"SUMIF('Resource Programme'!$CL$12:$CL$152,'Resource Demand'!$B25,'Resource Programme'!EF$12:EF$152)","v":0},{"$f":"SUMIF('Resource Programme'!$CL$12:$CL$152,'Resource Demand'!$B25,'Resource Programme'!EG$12:EG$152)","v":0},{"$f":"SUMIF('Resource Programme'!$CL$12:$CL$152,'Resource Demand'!$B25,'Resource Programme'!EH$12:EH$152)","v":0},{"$f":"SUMIF('Resource Programme'!$CL$12:$CL$152,'Resource Demand'!$B25,'Resource Programme'!EI$12:EI$152)","v":0},{"$f":"SUMIF('Resource Programme'!$CL$12:$CL$152,'Resource Demand'!$B25,'Resource Programme'!EJ$12:EJ$152)","v":0},{"$f":"SUMIF('Resource Programme'!$CL$12:$CL$152,'Resource Demand'!$B25,'Resource Programme'!EK$12:EK$152)","v":0},{"$f":"SUMIF('Resource Programme'!$CL$12:$CL$152,'Resource Demand'!$B25,'Resource Programme'!EL$12:EL$152)","v":0},{"$f":"SUMIF('Resource Programme'!$CL$12:$CL$152,'Resource Demand'!$B25,'Resource Programme'!EM$12:EM$152)","v":0},{"$f":"SUMIF('Resource Programme'!$CL$12:$CL$152,'Resource Demand'!$B25,'Resource Programme'!EN$12:EN$152)","v":0},{"$f":"SUMIF('Resource Programme'!$CL$12:$CL$152,'Resource Demand'!$B25,'Resource Programme'!EO$12:EO$152)","v":0},{"$f":"SUMIF('Resource Programme'!$CL$12:$CL$152,'Resource Demand'!$B25,'Resource Programme'!EP$12:EP$152)","v":0},{"$f":"SUMIF('Resource Programme'!$CL$12:$CL$152,'Resource Demand'!$B25,'Resource Programme'!EQ$12:EQ$152)","v":0},{"$f":"SUMIF('Resource Programme'!$CL$12:$CL$152,'Resource Demand'!$B25,'Resource Programme'!ER$12:ER$152)","v":0},{"$f":"SUMIF('Resource Programme'!$CL$12:$CL$152,'Resource Demand'!$B25,'Resource Programme'!ES$12:ES$152)","v":0},{"$f":"SUMIF('Resource Programme'!$CL$12:$CL$152,'Resource Demand'!$B25,'Resource Programme'!ET$12:ET$152)","v":0},{"$f":"SUMIF('Resource Programme'!$CL$12:$CL$152,'Resource Demand'!$B25,'Resource Programme'!EU$12:EU$152)","v":0},{"$f":"SUMIF('Resource Programme'!$CL$12:$CL$152,'Resource Demand'!$B25,'Resource Programme'!EV$12:EV$152)","v":0},{"$f":"SUMIF('Resource Programme'!$CL$12:$CL$152,'Resource Demand'!$B25,'Resource Programme'!EW$12:EW$152)","v":0},{"$f":"SUMIF('Resource Programme'!$CL$12:$CL$152,'Resource Demand'!$B25,'Resource Programme'!EX$12:EX$152)","v":0},{"$f":"SUMIF('Resource Programme'!$CL$12:$CL$152,'Resource Demand'!$B25,'Resource Programme'!EY$12:EY$152)","v":0},{"$f":"SUMIF('Resource Programme'!$CL$12:$CL$152,'Resource Demand'!$B25,'Resource Programme'!EZ$12:EZ$152)","v":0},{"$f":"SUMIF('Resource Programme'!$CL$12:$CL$152,'Resource Demand'!$B25,'Resource Programme'!FA$12:FA$152)","v":0},{"$f":"SUMIF('Resource Programme'!$CL$12:$CL$152,'Resource Demand'!$B25,'Resource Programme'!FB$12:FB$152)","v":0},{"$f":"SUMIF('Resource Programme'!$CL$12:$CL$152,'Resource Demand'!$B25,'Resource Programme'!FC$12:FC$152)","v":0},{"$f":"SUMIF('Resource Programme'!$CL$12:$CL$152,'Resource Demand'!$B25,'Resource Programme'!FD$12:FD$152)","v":0},{"$f":"SUMIF('Resource Programme'!$CL$12:$CL$152,'Resource Demand'!$B25,'Resource Programme'!FE$12:FE$152)","v":0},{"$f":"SUMIF('Resource Programme'!$CL$12:$CL$152,'Resource Demand'!$B25,'Resource Programme'!FF$12:FF$152)","v":0},{"$f":"SUMIF('Resource Programme'!$CL$12:$CL$152,'Resource Demand'!$B25,'Resource Programme'!FG$12:FG$152)","v":0},"END"]
[0,"Corporate, Approved, Ongoing",{"$f":"SUMIF('Resource Programme'!$CL$12:$CL$152,'Resource Demand'!$B26,'Resource Programme'!CT$12:CT$152)","v":0},{"$f":"SUMIF('Resource Programme'!$CL$12:$CL$152,'Resource Demand'!$B26,'Resource Programme'!CU$12:CU$152)","v":0},{"$f":"SUMIF('Resource Programme'!$CL$12:$CL$152,'Resource Demand'!$B26,'Resource Programme'!CV$12:CV$152)","v":0},{"$f":"SUMIF('Resource Programme'!$CL$12:$CL$152,'Resource Demand'!$B26,'Resource Programme'!CW$12:CW$152)","v":0},{"$f":"SUMIF('Resource Programme'!$CL$12:$CL$152,'Resource Demand'!$B26,'Resource Programme'!CX$12:CX$152)","v":0},{"$f":"SUMIF('Resource Programme'!$CL$12:$CL$152,'Resource Demand'!$B26,'Resource Programme'!CY$12:CY$152)","v":0},{"$f":"SUMIF('Resource Programme'!$CL$12:$CL$152,'Resource Demand'!$B26,'Resource Programme'!CZ$12:CZ$152)","v":0},{"$f":"SUMIF('Resource Programme'!$CL$12:$CL$152,'Resource Demand'!$B26,'Resource Programme'!DA$12:DA$152)","v":0},{"$f":"SUMIF('Resource Programme'!$CL$12:$CL$152,'Resource Demand'!$B26,'Resource Programme'!DB$12:DB$152)","v":0},{"$f":"SUMIF('Resource Programme'!$CL$12:$CL$152,'Resource Demand'!$B26,'Resource Programme'!DC$12:DC$152)","v":0},{"$f":"SUMIF('Resource Programme'!$CL$12:$CL$152,'Resource Demand'!$B26,'Resource Programme'!DD$12:DD$152)","v":0},{"$f":"SUMIF('Resource Programme'!$CL$12:$CL$152,'Resource Demand'!$B26,'Resource Programme'!DE$12:DE$152)","v":0},{"$f":"SUMIF('Resource Programme'!$CL$12:$CL$152,'Resource Demand'!$B26,'Resource Programme'!DF$12:DF$152)","v":0},{"$f":"SUMIF('Resource Programme'!$CL$12:$CL$152,'Resource Demand'!$B26,'Resource Programme'!DG$12:DG$152)","v":0},{"$f":"SUMIF('Resource Programme'!$CL$12:$CL$152,'Resource Demand'!$B26,'Resource Programme'!DH$12:DH$152)","v":0},{"$f":"SUMIF('Resource Programme'!$CL$12:$CL$152,'Resource Demand'!$B26,'Resource Programme'!DI$12:DI$152)","v":0},{"$f":"SUMIF('Resource Programme'!$CL$12:$CL$152,'Resource Demand'!$B26,'Resource Programme'!DJ$12:DJ$152)","v":0},{"$f":"SUMIF('Resource Programme'!$CL$12:$CL$152,'Resource Demand'!$B26,'Resource Programme'!DK$12:DK$152)","v":0},{"$f":"SUMIF('Resource Programme'!$CL$12:$CL$152,'Resource Demand'!$B26,'Resource Programme'!DL$12:DL$152)","v":0},{"$f":"SUMIF('Resource Programme'!$CL$12:$CL$152,'Resource Demand'!$B26,'Resource Programme'!DM$12:DM$152)","v":0},{"$f":"SUMIF('Resource Programme'!$CL$12:$CL$152,'Resource Demand'!$B26,'Resource Programme'!DN$12:DN$152)","v":0},{"$f":"SUMIF('Resource Programme'!$CL$12:$CL$152,'Resource Demand'!$B26,'Resource Programme'!DO$12:DO$152)","v":0},{"$f":"SUMIF('Resource Programme'!$CL$12:$CL$152,'Resource Demand'!$B26,'Resource Programme'!DP$12:DP$152)","v":0},{"$f":"SUMIF('Resource Programme'!$CL$12:$CL$152,'Resource Demand'!$B26,'Resource Programme'!DQ$12:DQ$152)","v":0},{"$f":"SUMIF('Resource Programme'!$CL$12:$CL$152,'Resource Demand'!$B26,'Resource Programme'!DR$12:DR$152)","v":0},{"$f":"SUMIF('Resource Programme'!$CL$12:$CL$152,'Resource Demand'!$B26,'Resource Programme'!DS$12:DS$152)","v":0},{"$f":"SUMIF('Resource Programme'!$CL$12:$CL$152,'Resource Demand'!$B26,'Resource Programme'!DT$12:DT$152)","v":0},{"$f":"SUMIF('Resource Programme'!$CL$12:$CL$152,'Resource Demand'!$B26,'Resource Programme'!DU$12:DU$152)","v":0},{"$f":"SUMIF('Resource Programme'!$CL$12:$CL$152,'Resource Demand'!$B26,'Resource Programme'!DV$12:DV$152)","v":0},{"$f":"SUMIF('Resource Programme'!$CL$12:$CL$152,'Resource Demand'!$B26,'Resource Programme'!DW$12:DW$152)","v":0},{"$f":"SUMIF('Resource Programme'!$CL$12:$CL$152,'Resource Demand'!$B26,'Resource Programme'!DX$12:DX$152)","v":0},{"$f":"SUMIF('Resource Programme'!$CL$12:$CL$152,'Resource Demand'!$B26,'Resource Programme'!DY$12:DY$152)","v":0},{"$f":"SUMIF('Resource Programme'!$CL$12:$CL$152,'Resource Demand'!$B26,'Resource Programme'!DZ$12:DZ$152)","v":0},{"$f":"SUMIF('Resource Programme'!$CL$12:$CL$152,'Resource Demand'!$B26,'Resource Programme'!EA$12:EA$152)","v":0},{"$f":"SUMIF('Resource Programme'!$CL$12:$CL$152,'Resource Demand'!$B26,'Resource Programme'!EB$12:EB$152)","v":0},{"$f":"SUMIF('Resource Programme'!$CL$12:$CL$152,'Resource Demand'!$B26,'Resource Programme'!EC$12:EC$152)","v":0},{"$f":"SUMIF('Resource Programme'!$CL$12:$CL$152,'Resource Demand'!$B26,'Resource Programme'!ED$12:ED$152)","v":0},{"$f":"SUMIF('Resource Programme'!$CL$12:$CL$152,'Resource Demand'!$B26,'Resource Programme'!EE$12:EE$152)","v":0},{"$f":"SUMIF('Resource Programme'!$CL$12:$CL$152,'Resource Demand'!$B26,'Resource Programme'!EF$12:EF$152)","v":0},{"$f":"SUMIF('Resource Programme'!$CL$12:$CL$152,'Resource Demand'!$B26,'Resource Programme'!EG$12:EG$152)","v":0},{"$f":"SUMIF('Resource Programme'!$CL$12:$CL$152,'Resource Demand'!$B26,'Resource Programme'!EH$12:EH$152)","v":0},{"$f":"SUMIF('Resource Programme'!$CL$12:$CL$152,'Resource Demand'!$B26,'Resource Programme'!EI$12:EI$152)","v":0},{"$f":"SUMIF('Resource Programme'!$CL$12:$CL$152,'Resource Demand'!$B26,'Resource Programme'!EJ$12:EJ$152)","v":0},{"$f":"SUMIF('Resource Programme'!$CL$12:$CL$152,'Resource Demand'!$B26,'Resource Programme'!EK$12:EK$152)","v":0},{"$f":"SUMIF('Resource Programme'!$CL$12:$CL$152,'Resource Demand'!$B26,'Resource Programme'!EL$12:EL$152)","v":0},{"$f":"SUMIF('Resource Programme'!$CL$12:$CL$152,'Resource Demand'!$B26,'Resource Programme'!EM$12:EM$152)","v":0},{"$f":"SUMIF('Resource Programme'!$CL$12:$CL$152,'Resource Demand'!$B26,'Resource Programme'!EN$12:EN$152)","v":0},{"$f":"SUMIF('Resource Programme'!$CL$12:$CL$152,'Resource Demand'!$B26,'Resource Programme'!EO$12:EO$152)","v":0},{"$f":"SUMIF('Resource Programme'!$CL$12:$CL$152,'Resource Demand'!$B26,'Resource Programme'!EP$12:EP$152)","v":0},{"$f":"SUMIF('Resource Programme'!$CL$12:$CL$152,'Resource Demand'!$B26,'Resource Programme'!EQ$12:EQ$152)","v":0},{"$f":"SUMIF('Resource Programme'!$CL$12:$CL$152,'Resource Demand'!$B26,'Resource Programme'!ER$12:ER$152)","v":0},{"$f":"SUMIF('Resource Programme'!$CL$12:$CL$152,'Resource Demand'!$B26,'Resource Programme'!ES$12:ES$152)","v":0},{"$f":"SUMIF('Resource Programme'!$CL$12:$CL$152,'Resource Demand'!$B26,'Resource Programme'!ET$12:ET$152)","v":0},{"$f":"SUMIF('Resource Programme'!$CL$12:$CL$152,'Resource Demand'!$B26,'Resource Programme'!EU$12:EU$152)","v":0},{"$f":"SUMIF('Resource Programme'!$CL$12:$CL$152,'Resource Demand'!$B26,'Resource Programme'!EV$12:EV$152)","v":0},{"$f":"SUMIF('Resource Programme'!$CL$12:$CL$152,'Resource Demand'!$B26,'Resource Programme'!EW$12:EW$152)","v":0},{"$f":"SUMIF('Resource Programme'!$CL$12:$CL$152,'Resource Demand'!$B26,'Resource Programme'!EX$12:EX$152)","v":0},{"$f":"SUMIF('Resource Programme'!$CL$12:$CL$152,'Resource Demand'!$B26,'Resource Programme'!EY$12:EY$152)","v":0},{"$f":"SUMIF('Resource Programme'!$CL$12:$CL$152,'Resource Demand'!$B26,'Resource Programme'!EZ$12:EZ$152)","v":0},{"$f":"SUMIF('Resource Programme'!$CL$12:$CL$152,'Resource Demand'!$B26,'Resource Programme'!FA$12:FA$152)","v":0},{"$f":"SUMIF('Resource Programme'!$CL$12:$CL$152,'Resource Demand'!$B26,'Resource Programme'!FB$12:FB$152)","v":0},{"$f":"SUMIF('Resource Programme'!$CL$12:$CL$152,'Resource Demand'!$B26,'Resource Programme'!FC$12:FC$152)","v":0},{"$f":"SUMIF('Resource Programme'!$CL$12:$CL$152,'Resource Demand'!$B26,'Resource Programme'!FD$12:FD$152)","v":0},{"$f":"SUMIF('Resource Programme'!$CL$12:$CL$152,'Resource Demand'!$B26,'Resource Programme'!FE$12:FE$152)","v":0},{"$f":"SUMIF('Resource Programme'!$CL$12:$CL$152,'Resource Demand'!$B26,'Resource Programme'!FF$12:FF$152)","v":0},{"$f":"SUMIF('Resource Programme'!$CL$12:$CL$152,'Resource Demand'!$B26,'Resource Programme'!FG$12:FG$152)","v":0},"END"]
[0,"ESFA Managed, Approved, Ongoing",{"$f":"SUMIF('Resource Programme'!$CL$12:$CL$152,'Resource Demand'!$B27,'Resource Programme'!CT$12:CT$152)","v":0},{"$f":"SUMIF('Resource Programme'!$CL$12:$CL$152,'Resource Demand'!$B27,'Resource Programme'!CU$12:CU$152)","v":0},{"$f":"SUMIF('Resource Programme'!$CL$12:$CL$152,'Resource Demand'!$B27,'Resource Programme'!CV$12:CV$152)","v":0},{"$f":"SUMIF('Resource Programme'!$CL$12:$CL$152,'Resource Demand'!$B27,'Resource Programme'!CW$12:CW$152)","v":0},{"$f":"SUMIF('Resource Programme'!$CL$12:$CL$152,'Resource Demand'!$B27,'Resource Programme'!CX$12:CX$152)","v":0},{"$f":"SUMIF('Resource Programme'!$CL$12:$CL$152,'Resource Demand'!$B27,'Resource Programme'!CY$12:CY$152)","v":0},{"$f":"SUMIF('Resource Programme'!$CL$12:$CL$152,'Resource Demand'!$B27,'Resource Programme'!CZ$12:CZ$152)","v":0},{"$f":"SUMIF('Resource Programme'!$CL$12:$CL$152,'Resource Demand'!$B27,'Resource Programme'!DA$12:DA$152)","v":0},{"$f":"SUMIF('Resource Programme'!$CL$12:$CL$152,'Resource Demand'!$B27,'Resource Programme'!DB$12:DB$152)","v":0},{"$f":"SUMIF('Resource Programme'!$CL$12:$CL$152,'Resource Demand'!$B27,'Resource Programme'!DC$12:DC$152)","v":0},{"$f":"SUMIF('Resource Programme'!$CL$12:$CL$152,'Resource Demand'!$B27,'Resource Programme'!DD$12:DD$152)","v":0},{"$f":"SUMIF('Resource Programme'!$CL$12:$CL$152,'Resource Demand'!$B27,'Resource Programme'!DE$12:DE$152)","v":0},{"$f":"SUMIF('Resource Programme'!$CL$12:$CL$152,'Resource Demand'!$B27,'Resource Programme'!DF$12:DF$152)","v":0},{"$f":"SUMIF('Resource Programme'!$CL$12:$CL$152,'Resource Demand'!$B27,'Resource Programme'!DG$12:DG$152)","v":0},{"$f":"SUMIF('Resource Programme'!$CL$12:$CL$152,'Resource Demand'!$B27,'Resource Programme'!DH$12:DH$152)","v":0},{"$f":"SUMIF('Resource Programme'!$CL$12:$CL$152,'Resource Demand'!$B27,'Resource Programme'!DI$12:DI$152)","v":0},{"$f":"SUMIF('Resource Programme'!$CL$12:$CL$152,'Resource Demand'!$B27,'Resource Programme'!DJ$12:DJ$152)","v":0},{"$f":"SUMIF('Resource Programme'!$CL$12:$CL$152,'Resource Demand'!$B27,'Resource Programme'!DK$12:DK$152)","v":0},{"$f":"SUMIF('Resource Programme'!$CL$12:$CL$152,'Resource Demand'!$B27,'Resource Programme'!DL$12:DL$152)","v":0},{"$f":"SUMIF('Resource Programme'!$CL$12:$CL$152,'Resource Demand'!$B27,'Resource Programme'!DM$12:DM$152)","v":0},{"$f":"SUMIF('Resource Programme'!$CL$12:$CL$152,'Resource Demand'!$B27,'Resource Programme'!DN$12:DN$152)","v":0},{"$f":"SUMIF('Resource Programme'!$CL$12:$CL$152,'Resource Demand'!$B27,'Resource Programme'!DO$12:DO$152)","v":0},{"$f":"SUMIF('Resource Programme'!$CL$12:$CL$152,'Resource Demand'!$B27,'Resource Programme'!DP$12:DP$152)","v":0},{"$f":"SUMIF('Resource Programme'!$CL$12:$CL$152,'Resource Demand'!$B27,'Resource Programme'!DQ$12:DQ$152)","v":0},{"$f":"SUMIF('Resource Programme'!$CL$12:$CL$152,'Resource Demand'!$B27,'Resource Programme'!DR$12:DR$152)","v":0},{"$f":"SUMIF('Resource Programme'!$CL$12:$CL$152,'Resource Demand'!$B27,'Resource Programme'!DS$12:DS$152)","v":0},{"$f":"SUMIF('Resource Programme'!$CL$12:$CL$152,'Resource Demand'!$B27,'Resource Programme'!DT$12:DT$152)","v":0},{"$f":"SUMIF('Resource Programme'!$CL$12:$CL$152,'Resource Demand'!$B27,'Resource Programme'!DU$12:DU$152)","v":0},{"$f":"SUMIF('Resource Programme'!$CL$12:$CL$152,'Resource Demand'!$B27,'Resource Programme'!DV$12:DV$152)","v":0},{"$f":"SUMIF('Resource Programme'!$CL$12:$CL$152,'Resource Demand'!$B27,'Resource Programme'!DW$12:DW$152)","v":0},{"$f":"SUMIF('Resource Programme'!$CL$12:$CL$152,'Resource Demand'!$B27,'Resource Programme'!DX$12:DX$152)","v":0},{"$f":"SUMIF('Resource Programme'!$CL$12:$CL$152,'Resource Demand'!$B27,'Resource Programme'!DY$12:DY$152)","v":0},{"$f":"SUMIF('Resource Programme'!$CL$12:$CL$152,'Resource Demand'!$B27,'Resource Programme'!DZ$12:DZ$152)","v":0},{"$f":"SUMIF('Resource Programme'!$CL$12:$CL$152,'Resource Demand'!$B27,'Resource Programme'!EA$12:EA$152)","v":0},{"$f":"SUMIF('Resource Programme'!$CL$12:$CL$152,'Resource Demand'!$B27,'Resource Programme'!EB$12:EB$152)","v":0},{"$f":"SUMIF('Resource Programme'!$CL$12:$CL$152,'Resource Demand'!$B27,'Resource Programme'!EC$12:EC$152)","v":0},{"$f":"SUMIF('Resource Programme'!$CL$12:$CL$152,'Resource Demand'!$B27,'Resource Programme'!ED$12:ED$152)","v":0},{"$f":"SUMIF('Resource Programme'!$CL$12:$CL$152,'Resource Demand'!$B27,'Resource Programme'!EE$12:EE$152)","v":0},{"$f":"SUMIF('Resource Programme'!$CL$12:$CL$152,'Resource Demand'!$B27,'Resource Programme'!EF$12:EF$152)","v":0},{"$f":"SUMIF('Resource Programme'!$CL$12:$CL$152,'Resource Demand'!$B27,'Resource Programme'!EG$12:EG$152)","v":0},{"$f":"SUMIF('Resource Programme'!$CL$12:$CL$152,'Resource Demand'!$B27,'Resource Programme'!EH$12:EH$152)","v":0},{"$f":"SUMIF('Resource Programme'!$CL$12:$CL$152,'Resource Demand'!$B27,'Resource Programme'!EI$12:EI$152)","v":0},{"$f":"SUMIF('Resource Programme'!$CL$12:$CL$152,'Resource Demand'!$B27,'Resource Programme'!EJ$12:EJ$152)","v":0},{"$f":"SUMIF('Resource Programme'!$CL$12:$CL$152,'Resource Demand'!$B27,'Resource Programme'!EK$12:EK$152)","v":0},{"$f":"SUMIF('Resource Programme'!$CL$12:$CL$152,'Resource Demand'!$B27,'Resource Programme'!EL$12:EL$152)","v":0},{"$f":"SUMIF('Resource Programme'!$CL$12:$CL$152,'Resource Demand'!$B27,'Resource Programme'!EM$12:EM$152)","v":0},{"$f":"SUMIF('Resource Programme'!$CL$12:$CL$152,'Resource Demand'!$B27,'Resource Programme'!EN$12:EN$152)","v":0},{"$f":"SUMIF('Resource Programme'!$CL$12:$CL$152,'Resource Demand'!$B27,'Resource Programme'!EO$12:EO$152)","v":0},{"$f":"SUMIF('Resource Programme'!$CL$12:$CL$152,'Resource Demand'!$B27,'Resource Programme'!EP$12:EP$152)","v":0},{"$f":"SUMIF('Resource Programme'!$CL$12:$CL$152,'Resource Demand'!$B27,'Resource Programme'!EQ$12:EQ$152)","v":0},{"$f":"SUMIF('Resource Programme'!$CL$12:$CL$152,'Resource Demand'!$B27,'Resource Programme'!ER$12:ER$152)","v":0},{"$f":"SUMIF('Resource Programme'!$CL$12:$CL$152,'Resource Demand'!$B27,'Resource Programme'!ES$12:ES$152)","v":0},{"$f":"SUMIF('Resource Programme'!$CL$12:$CL$152,'Resource Demand'!$B27,'Resource Programme'!ET$12:ET$152)","v":0},{"$f":"SUMIF('Resource Programme'!$CL$12:$CL$152,'Resource Demand'!$B27,'Resource Programme'!EU$12:EU$152)","v":0},{"$f":"SUMIF('Resource Programme'!$CL$12:$CL$152,'Resource Demand'!$B27,'Resource Programme'!EV$12:EV$152)","v":0},{"$f":"SUMIF('Resource Programme'!$CL$12:$CL$152,'Resource Demand'!$B27,'Resource Programme'!EW$12:EW$152)","v":0},{"$f":"SUMIF('Resource Programme'!$CL$12:$CL$152,'Resource Demand'!$B27,'Resource Programme'!EX$12:EX$152)","v":0},{"$f":"SUMIF('Resource Programme'!$CL$12:$CL$152,'Resource Demand'!$B27,'Resource Programme'!EY$12:EY$152)","v":0},{"$f":"SUMIF('Resource Programme'!$CL$12:$CL$152,'Resource Demand'!$B27,'Resource Programme'!EZ$12:EZ$152)","v":0},{"$f":"SUMIF('Resource Programme'!$CL$12:$CL$152,'Resource Demand'!$B27,'Resource Programme'!FA$12:FA$152)","v":0},{"$f":"SUMIF('Resource Programme'!$CL$12:$CL$152,'Resource Demand'!$B27,'Resource Programme'!FB$12:FB$152)","v":0},{"$f":"SUMIF('Resource Programme'!$CL$12:$CL$152,'Resource Demand'!$B27,'Resource Programme'!FC$12:FC$152)","v":0},{"$f":"SUMIF('Resource Programme'!$CL$12:$CL$152,'Resource Demand'!$B27,'Resource Programme'!FD$12:FD$152)","v":0},{"$f":"SUMIF('Resource Programme'!$CL$12:$CL$152,'Resource Demand'!$B27,'Resource Programme'!FE$12:FE$152)","v":0},{"$f":"SUMIF('Resource Programme'!$CL$12:$CL$152,'Resource Demand'!$B27,'Resource Programme'!FF$12:FF$152)","v":0},{"$f":"SUMIF('Resource Programme'!$CL$12:$CL$152,'Resource Demand'!$B27,'Resource Programme'!FG$12:FG$152)","v":0},"END"]
[0,"GET, Approved, Ongoing",{"$f":"SUMIF('Resource Programme'!$CL$12:$CL$152,'Resource Demand'!$B28,'Resource Programme'!CT$12:CT$152)","v":0},{"$f":"SUMIF('Resource Programme'!$CL$12:$CL$152,'Resource Demand'!$B28,'Resource Programme'!CU$12:CU$152)","v":0},{"$f":"SUMIF('Resource Programme'!$CL$12:$CL$152,'Resource Demand'!$B28,'Resource Programme'!CV$12:CV$152)","v":0},{"$f":"SUMIF('Resource Programme'!$CL$12:$CL$152,'Resource Demand'!$B28,'Resource Programme'!CW$12:CW$152)","v":0},{"$f":"SUMIF('Resource Programme'!$CL$12:$CL$152,'Resource Demand'!$B28,'Resource Programme'!CX$12:CX$152)","v":0},{"$f":"SUMIF('Resource Programme'!$CL$12:$CL$152,'Resource Demand'!$B28,'Resource Programme'!CY$12:CY$152)","v":0},{"$f":"SUMIF('Resource Programme'!$CL$12:$CL$152,'Resource Demand'!$B28,'Resource Programme'!CZ$12:CZ$152)","v":0},{"$f":"SUMIF('Resource Programme'!$CL$12:$CL$152,'Resource Demand'!$B28,'Resource Programme'!DA$12:DA$152)","v":0},{"$f":"SUMIF('Resource Programme'!$CL$12:$CL$152,'Resource Demand'!$B28,'Resource Programme'!DB$12:DB$152)","v":0},{"$f":"SUMIF('Resource Programme'!$CL$12:$CL$152,'Resource Demand'!$B28,'Resource Programme'!DC$12:DC$152)","v":0},{"$f":"SUMIF('Resource Programme'!$CL$12:$CL$152,'Resource Demand'!$B28,'Resource Programme'!DD$12:DD$152)","v":0},{"$f":"SUMIF('Resource Programme'!$CL$12:$CL$152,'Resource Demand'!$B28,'Resource Programme'!DE$12:DE$152)","v":0},{"$f":"SUMIF('Resource Programme'!$CL$12:$CL$152,'Resource Demand'!$B28,'Resource Programme'!DF$12:DF$152)","v":0},{"$f":"SUMIF('Resource Programme'!$CL$12:$CL$152,'Resource Demand'!$B28,'Resource Programme'!DG$12:DG$152)","v":0},{"$f":"SUMIF('Resource Programme'!$CL$12:$CL$152,'Resource Demand'!$B28,'Resource Programme'!DH$12:DH$152)","v":0},{"$f":"SUMIF('Resource Programme'!$CL$12:$CL$152,'Resource Demand'!$B28,'Resource Programme'!DI$12:DI$152)","v":0},{"$f":"SUMIF('Resource Programme'!$CL$12:$CL$152,'Resource Demand'!$B28,'Resource Programme'!DJ$12:DJ$152)","v":0},{"$f":"SUMIF('Resource Programme'!$CL$12:$CL$152,'Resource Demand'!$B28,'Resource Programme'!DK$12:DK$152)","v":0},{"$f":"SUMIF('Resource Programme'!$CL$12:$CL$152,'Resource Demand'!$B28,'Resource Programme'!DL$12:DL$152)","v":0},{"$f":"SUMIF('Resource Programme'!$CL$12:$CL$152,'Resource Demand'!$B28,'Resource Programme'!DM$12:DM$152)","v":0},{"$f":"SUMIF('Resource Programme'!$CL$12:$CL$152,'Resource Demand'!$B28,'Resource Programme'!DN$12:DN$152)","v":0},{"$f":"SUMIF('Resource Programme'!$CL$12:$CL$152,'Resource Demand'!$B28,'Resource Programme'!DO$12:DO$152)","v":0},{"$f":"SUMIF('Resource Programme'!$CL$12:$CL$152,'Resource Demand'!$B28,'Resource Programme'!DP$12:DP$152)","v":0},{"$f":"SUMIF('Resource Programme'!$CL$12:$CL$152,'Resource Demand'!$B28,'Resource Programme'!DQ$12:DQ$152)","v":0},{"$f":"SUMIF('Resource Programme'!$CL$12:$CL$152,'Resource Demand'!$B28,'Resource Programme'!DR$12:DR$152)","v":0},{"$f":"SUMIF('Resource Programme'!$CL$12:$CL$152,'Resource Demand'!$B28,'Resource Programme'!DS$12:DS$152)","v":0},{"$f":"SUMIF('Resource Programme'!$CL$12:$CL$152,'Resource Demand'!$B28,'Resource Programme'!DT$12:DT$152)","v":0},{"$f":"SUMIF('Resource Programme'!$CL$12:$CL$152,'Resource Demand'!$B28,'Resource Programme'!DU$12:DU$152)","v":0},{"$f":"SUMIF('Resource Programme'!$CL$12:$CL$152,'Resource Demand'!$B28,'Resource Programme'!DV$12:DV$152)","v":0},{"$f":"SUMIF('Resource Programme'!$CL$12:$CL$152,'Resource Demand'!$B28,'Resource Programme'!DW$12:DW$152)","v":0},{"$f":"SUMIF('Resource Programme'!$CL$12:$CL$152,'Resource Demand'!$B28,'Resource Programme'!DX$12:DX$152)","v":0},{"$f":"SUMIF('Resource Programme'!$CL$12:$CL$152,'Resource Demand'!$B28,'Resource Programme'!DY$12:DY$152)","v":0},{"$f":"SUMIF('Resource Programme'!$CL$12:$CL$152,'Resource Demand'!$B28,'Resource Programme'!DZ$12:DZ$152)","v":0},{"$f":"SUMIF('Resource Programme'!$CL$12:$CL$152,'Resource Demand'!$B28,'Resource Programme'!EA$12:EA$152)","v":0},{"$f":"SUMIF('Resource Programme'!$CL$12:$CL$152,'Resource Demand'!$B28,'Resource Programme'!EB$12:EB$152)","v":0},{"$f":"SUMIF('Resource Programme'!$CL$12:$CL$152,'Resource Demand'!$B28,'Resource Programme'!EC$12:EC$152)","v":0},{"$f":"SUMIF('Resource Programme'!$CL$12:$CL$152,'Resource Demand'!$B28,'Resource Programme'!ED$12:ED$152)","v":0},{"$f":"SUMIF('Resource Programme'!$CL$12:$CL$152,'Resource Demand'!$B28,'Resource Programme'!EE$12:EE$152)","v":0},{"$f":"SUMIF('Resource Programme'!$CL$12:$CL$152,'Resource Demand'!$B28,'Resource Programme'!EF$12:EF$152)","v":0},{"$f":"SUMIF('Resource Programme'!$CL$12:$CL$152,'Resource Demand'!$B28,'Resource Programme'!EG$12:EG$152)","v":0},{"$f":"SUMIF('Resource Programme'!$CL$12:$CL$152,'Resource Demand'!$B28,'Resource Programme'!EH$12:EH$152)","v":0},{"$f":"SUMIF('Resource Programme'!$CL$12:$CL$152,'Resource Demand'!$B28,'Resource Programme'!EI$12:EI$152)","v":0},{"$f":"SUMIF('Resource Programme'!$CL$12:$CL$152,'Resource Demand'!$B28,'Resource Programme'!EJ$12:EJ$152)","v":0},{"$f":"SUMIF('Resource Programme'!$CL$12:$CL$152,'Resource Demand'!$B28,'Resource Programme'!EK$12:EK$152)","v":0},{"$f":"SUMIF('Resource Programme'!$CL$12:$CL$152,'Resource Demand'!$B28,'Resource Programme'!EL$12:EL$152)","v":0},{"$f":"SUMIF('Resource Programme'!$CL$12:$CL$152,'Resource Demand'!$B28,'Resource Programme'!EM$12:EM$152)","v":0},{"$f":"SUMIF('Resource Programme'!$CL$12:$CL$152,'Resource Demand'!$B28,'Resource Programme'!EN$12:EN$152)","v":0},{"$f":"SUMIF('Resource Programme'!$CL$12:$CL$152,'Resource Demand'!$B28,'Resource Programme'!EO$12:EO$152)","v":0},{"$f":"SUMIF('Resource Programme'!$CL$12:$CL$152,'Resource Demand'!$B28,'Resource Programme'!EP$12:EP$152)","v":0},{"$f":"SUMIF('Resource Programme'!$CL$12:$CL$152,'Resource Demand'!$B28,'Resource Programme'!EQ$12:EQ$152)","v":0},{"$f":"SUMIF('Resource Programme'!$CL$12:$CL$152,'Resource Demand'!$B28,'Resource Programme'!ER$12:ER$152)","v":0},{"$f":"SUMIF('Resource Programme'!$CL$12:$CL$152,'Resource Demand'!$B28,'Resource Programme'!ES$12:ES$152)","v":0},{"$f":"SUMIF('Resource Programme'!$CL$12:$CL$152,'Resource Demand'!$B28,'Resource Programme'!ET$12:ET$152)","v":0},{"$f":"SUMIF('Resource Programme'!$CL$12:$CL$152,'Resource Demand'!$B28,'Resource Programme'!EU$12:EU$152)","v":0},{"$f":"SUMIF('Resource Programme'!$CL$12:$CL$152,'Resource Demand'!$B28,'Resource Programme'!EV$12:EV$152)","v":0},{"$f":"SUMIF('Resource Programme'!$CL$12:$CL$152,'Resource Demand'!$B28,'Resource Programme'!EW$12:EW$152)","v":0},{"$f":"SUMIF('Resource Programme'!$CL$12:$CL$152,'Resource Demand'!$B28,'Resource Programme'!EX$12:EX$152)","v":0},{"$f":"SUMIF('Resource Programme'!$CL$12:$CL$152,'Resource Demand'!$B28,'Resource Programme'!EY$12:EY$152)","v":0},{"$f":"SUMIF('Resource Programme'!$CL$12:$CL$152,'Resource Demand'!$B28,'Resource Programme'!EZ$12:EZ$152)","v":0},{"$f":"SUMIF('Resource Programme'!$CL$12:$CL$152,'Resource Demand'!$B28,'Resource Programme'!FA$12:FA$152)","v":0},{"$f":"SUMIF('Resource Programme'!$CL$12:$CL$152,'Resource Demand'!$B28,'Resource Programme'!FB$12:FB$152)","v":0},{"$f":"SUMIF('Resource Programme'!$CL$12:$CL$152,'Resource Demand'!$B28,'Resource Programme'!FC$12:FC$152)","v":0},{"$f":"SUMIF('Resource Programme'!$CL$12:$CL$152,'Resource Demand'!$B28,'Resource Programme'!FD$12:FD$152)","v":0},{"$f":"SUMIF('Resource Programme'!$CL$12:$CL$152,'Resource Demand'!$B28,'Resource Programme'!FE$12:FE$152)","v":0},{"$f":"SUMIF('Resource Programme'!$CL$12:$CL$152,'Resource Demand'!$B28,'Resource Programme'!FF$12:FF$152)","v":0},{"$f":"SUMIF('Resource Programme'!$CL$12:$CL$152,'Resource Demand'!$B28,'Resource Programme'!FG$12:FG$152)","v":0},"END"]
[0,"Modernisation, Approved, Ongoing",{"$f":"SUMIF('Resource Programme'!$CL$12:$CL$152,'Resource Demand'!$B29,'Resource Programme'!CT$12:CT$152)","v":0},{"$f":"SUMIF('Resource Programme'!$CL$12:$CL$152,'Resource Demand'!$B29,'Resource Programme'!CU$12:CU$152)","v":0},{"$f":"SUMIF('Resource Programme'!$CL$12:$CL$152,'Resource Demand'!$B29,'Resource Programme'!CV$12:CV$152)","v":0},{"$f":"SUMIF('Resource Programme'!$CL$12:$CL$152,'Resource Demand'!$B29,'Resource Programme'!CW$12:CW$152)","v":0},{"$f":"SUMIF('Resource Programme'!$CL$12:$CL$152,'Resource Demand'!$B29,'Resource Programme'!CX$12:CX$152)","v":0},{"$f":"SUMIF('Resource Programme'!$CL$12:$CL$152,'Resource Demand'!$B29,'Resource Programme'!CY$12:CY$152)","v":0},{"$f":"SUMIF('Resource Programme'!$CL$12:$CL$152,'Resource Demand'!$B29,'Resource Programme'!CZ$12:CZ$152)","v":0},{"$f":"SUMIF('Resource Programme'!$CL$12:$CL$152,'Resource Demand'!$B29,'Resource Programme'!DA$12:DA$152)","v":0},{"$f":"SUMIF('Resource Programme'!$CL$12:$CL$152,'Resource Demand'!$B29,'Resource Programme'!DB$12:DB$152)","v":0},{"$f":"SUMIF('Resource Programme'!$CL$12:$CL$152,'Resource Demand'!$B29,'Resource Programme'!DC$12:DC$152)","v":0},{"$f":"SUMIF('Resource Programme'!$CL$12:$CL$152,'Resource Demand'!$B29,'Resource Programme'!DD$12:DD$152)","v":0},{"$f":"SUMIF('Resource Programme'!$CL$12:$CL$152,'Resource Demand'!$B29,'Resource Programme'!DE$12:DE$152)","v":0},{"$f":"SUMIF('Resource Programme'!$CL$12:$CL$152,'Resource Demand'!$B29,'Resource Programme'!DF$12:DF$152)","v":0},{"$f":"SUMIF('Resource Programme'!$CL$12:$CL$152,'Resource Demand'!$B29,'Resource Programme'!DG$12:DG$152)","v":0},{"$f":"SUMIF('Resource Programme'!$CL$12:$CL$152,'Resource Demand'!$B29,'Resource Programme'!DH$12:DH$152)","v":0},{"$f":"SUMIF('Resource Programme'!$CL$12:$CL$152,'Resource Demand'!$B29,'Resource Programme'!DI$12:DI$152)","v":0},{"$f":"SUMIF('Resource Programme'!$CL$12:$CL$152,'Resource Demand'!$B29,'Resource Programme'!DJ$12:DJ$152)","v":0},{"$f":"SUMIF('Resource Programme'!$CL$12:$CL$152,'Resource Demand'!$B29,'Resource Programme'!DK$12:DK$152)","v":0},{"$f":"SUMIF('Resource Programme'!$CL$12:$CL$152,'Resource Demand'!$B29,'Resource Programme'!DL$12:DL$152)","v":0},{"$f":"SUMIF('Resource Programme'!$CL$12:$CL$152,'Resource Demand'!$B29,'Resource Programme'!DM$12:DM$152)","v":0},{"$f":"SUMIF('Resource Programme'!$CL$12:$CL$152,'Resource Demand'!$B29,'Resource Programme'!DN$12:DN$152)","v":0},{"$f":"SUMIF('Resource Programme'!$CL$12:$CL$152,'Resource Demand'!$B29,'Resource Programme'!DO$12:DO$152)","v":0},{"$f":"SUMIF('Resource Programme'!$CL$12:$CL$152,'Resource Demand'!$B29,'Resource Programme'!DP$12:DP$152)","v":0},{"$f":"SUMIF('Resource Programme'!$CL$12:$CL$152,'Resource Demand'!$B29,'Resource Programme'!DQ$12:DQ$152)","v":0},{"$f":"SUMIF('Resource Programme'!$CL$12:$CL$152,'Resource Demand'!$B29,'Resource Programme'!DR$12:DR$152)","v":0},{"$f":"SUMIF('Resource Programme'!$CL$12:$CL$152,'Resource Demand'!$B29,'Resource Programme'!DS$12:DS$152)","v":0},{"$f":"SUMIF('Resource Programme'!$CL$12:$CL$152,'Resource Demand'!$B29,'Resource Programme'!DT$12:DT$152)","v":0},{"$f":"SUMIF('Resource Programme'!$CL$12:$CL$152,'Resource Demand'!$B29,'Resource Programme'!DU$12:DU$152)","v":0},{"$f":"SUMIF('Resource Programme'!$CL$12:$CL$152,'Resource Demand'!$B29,'Resource Programme'!DV$12:DV$152)","v":0},{"$f":"SUMIF('Resource Programme'!$CL$12:$CL$152,'Resource Demand'!$B29,'Resource Programme'!DW$12:DW$152)","v":0},{"$f":"SUMIF('Resource Programme'!$CL$12:$CL$152,'Resource Demand'!$B29,'Resource Programme'!DX$12:DX$152)","v":0},{"$f":"SUMIF('Resource Programme'!$CL$12:$CL$152,'Resource Demand'!$B29,'Resource Programme'!DY$12:DY$152)","v":0},{"$f":"SUMIF('Resource Programme'!$CL$12:$CL$152,'Resource Demand'!$B29,'Resource Programme'!DZ$12:DZ$152)","v":0},{"$f":"SUMIF('Resource Programme'!$CL$12:$CL$152,'Resource Demand'!$B29,'Resource Programme'!EA$12:EA$152)","v":0},{"$f":"SUMIF('Resource Programme'!$CL$12:$CL$152,'Resource Demand'!$B29,'Resource Programme'!EB$12:EB$152)","v":0},{"$f":"SUMIF('Resource Programme'!$CL$12:$CL$152,'Resource Demand'!$B29,'Resource Programme'!EC$12:EC$152)","v":0},{"$f":"SUMIF('Resource Programme'!$CL$12:$CL$152,'Resource Demand'!$B29,'Resource Programme'!ED$12:ED$152)","v":0},{"$f":"SUMIF('Resource Programme'!$CL$12:$CL$152,'Resource Demand'!$B29,'Resource Programme'!EE$12:EE$152)","v":0},{"$f":"SUMIF('Resource Programme'!$CL$12:$CL$152,'Resource Demand'!$B29,'Resource Programme'!EF$12:EF$152)","v":0},{"$f":"SUMIF('Resource Programme'!$CL$12:$CL$152,'Resource Demand'!$B29,'Resource Programme'!EG$12:EG$152)","v":0},{"$f":"SUMIF('Resource Programme'!$CL$12:$CL$152,'Resource Demand'!$B29,'Resource Programme'!EH$12:EH$152)","v":0},{"$f":"SUMIF('Resource Programme'!$CL$12:$CL$152,'Resource Demand'!$B29,'Resource Programme'!EI$12:EI$152)","v":0},{"$f":"SUMIF('Resource Programme'!$CL$12:$CL$152,'Resource Demand'!$B29,'Resource Programme'!EJ$12:EJ$152)","v":0},{"$f":"SUMIF('Resource Programme'!$CL$12:$CL$152,'Resource Demand'!$B29,'Resource Programme'!EK$12:EK$152)","v":0},{"$f":"SUMIF('Resource Programme'!$CL$12:$CL$152,'Resource Demand'!$B29,'Resource Programme'!EL$12:EL$152)","v":0},{"$f":"SUMIF('Resource Programme'!$CL$12:$CL$152,'Resource Demand'!$B29,'Resource Programme'!EM$12:EM$152)","v":0},{"$f":"SUMIF('Resource Programme'!$CL$12:$CL$152,'Resource Demand'!$B29,'Resource Programme'!EN$12:EN$152)","v":0},{"$f":"SUMIF('Resource Programme'!$CL$12:$CL$152,'Resource Demand'!$B29,'Resource Programme'!EO$12:EO$152)","v":0},{"$f":"SUMIF('Resource Programme'!$CL$12:$CL$152,'Resource Demand'!$B29,'Resource Programme'!EP$12:EP$152)","v":0},{"$f":"SUMIF('Resource Programme'!$CL$12:$CL$152,'Resource Demand'!$B29,'Resource Programme'!EQ$12:EQ$152)","v":0},{"$f":"SUMIF('Resource Programme'!$CL$12:$CL$152,'Resource Demand'!$B29,'Resource Programme'!ER$12:ER$152)","v":0},{"$f":"SUMIF('Resource Programme'!$CL$12:$CL$152,'Resource Demand'!$B29,'Resource Programme'!ES$12:ES$152)","v":0},{"$f":"SUMIF('Resource Programme'!$CL$12:$CL$152,'Resource Demand'!$B29,'Resource Programme'!ET$12:ET$152)","v":0},{"$f":"SUMIF('Resource Programme'!$CL$12:$CL$152,'Resource Demand'!$B29,'Resource Programme'!EU$12:EU$152)","v":0},{"$f":"SUMIF('Resource Programme'!$CL$12:$CL$152,'Resource Demand'!$B29,'Resource Programme'!EV$12:EV$152)","v":0},{"$f":"SUMIF('Resource Programme'!$CL$12:$CL$152,'Resource Demand'!$B29,'Resource Programme'!EW$12:EW$152)","v":0},{"$f":"SUMIF('Resource Programme'!$CL$12:$CL$152,'Resource Demand'!$B29,'Resource Programme'!EX$12:EX$152)","v":0},{"$f":"SUMIF('Resource Programme'!$CL$12:$CL$152,'Resource Demand'!$B29,'Resource Programme'!EY$12:EY$152)","v":0},{"$f":"SUMIF('Resource Programme'!$CL$12:$CL$152,'Resource Demand'!$B29,'Resource Programme'!EZ$12:EZ$152)","v":0},{"$f":"SUMIF('Resource Programme'!$CL$12:$CL$152,'Resource Demand'!$B29,'Resource Programme'!FA$12:FA$152)","v":0},{"$f":"SUMIF('Resource Programme'!$CL$12:$CL$152,'Resource Demand'!$B29,'Resource Programme'!FB$12:FB$152)","v":0},{"$f":"SUMIF('Resource Programme'!$CL$12:$CL$152,'Resource Demand'!$B29,'Resource Programme'!FC$12:FC$152)","v":0},{"$f":"SUMIF('Resource Programme'!$CL$12:$CL$152,'Resource Demand'!$B29,'Resource Programme'!FD$12:FD$152)","v":0},{"$f":"SUMIF('Resource Programme'!$CL$12:$CL$152,'Resource Demand'!$B29,'Resource Programme'!FE$12:FE$152)","v":0},{"$f":"SUMIF('Resource Programme'!$CL$12:$CL$152,'Resource Demand'!$B29,'Resource Programme'!FF$12:FF$152)","v":0},{"$f":"SUMIF('Resource Programme'!$CL$12:$CL$152,'Resource Demand'!$B29,'Resource Programme'!FG$12:FG$152)","v":0},"END"]
[0,"Modernisation, Approved, School Managed",{"$f":"SUMIF('Resource Programme'!$CL$12:$CL$152,'Resource Demand'!$B30,'Resource Programme'!CT$12:CT$152)","v":0},{"$f":"SUMIF('Resource Programme'!$CL$12:$CL$152,'Resource Demand'!$B30,'Resource Programme'!CU$12:CU$152)","v":0},{"$f":"SUMIF('Resource Programme'!$CL$12:$CL$152,'Resource Demand'!$B30,'Resource Programme'!CV$12:CV$152)","v":0},{"$f":"SUMIF('Resource Programme'!$CL$12:$CL$152,'Resource Demand'!$B30,'Resource Programme'!CW$12:CW$152)","v":0},{"$f":"SUMIF('Resource Programme'!$CL$12:$CL$152,'Resource Demand'!$B30,'Resource Programme'!CX$12:CX$152)","v":0},{"$f":"SUMIF('Resource Programme'!$CL$12:$CL$152,'Resource Demand'!$B30,'Resource Programme'!CY$12:CY$152)","v":0},{"$f":"SUMIF('Resource Programme'!$CL$12:$CL$152,'Resource Demand'!$B30,'Resource Programme'!CZ$12:CZ$152)","v":0},{"$f":"SUMIF('Resource Programme'!$CL$12:$CL$152,'Resource Demand'!$B30,'Resource Programme'!DA$12:DA$152)","v":0},{"$f":"SUMIF('Resource Programme'!$CL$12:$CL$152,'Resource Demand'!$B30,'Resource Programme'!DB$12:DB$152)","v":0},{"$f":"SUMIF('Resource Programme'!$CL$12:$CL$152,'Resource Demand'!$B30,'Resource Programme'!DC$12:DC$152)","v":0},{"$f":"SUMIF('Resource Programme'!$CL$12:$CL$152,'Resource Demand'!$B30,'Resource Programme'!DD$12:DD$152)","v":0},{"$f":"SUMIF('Resource Programme'!$CL$12:$CL$152,'Resource Demand'!$B30,'Resource Programme'!DE$12:DE$152)","v":0},{"$f":"SUMIF('Resource Programme'!$CL$12:$CL$152,'Resource Demand'!$B30,'Resource Programme'!DF$12:DF$152)","v":0},{"$f":"SUMIF('Resource Programme'!$CL$12:$CL$152,'Resource Demand'!$B30,'Resource Programme'!DG$12:DG$152)","v":0},{"$f":"SUMIF('Resource Programme'!$CL$12:$CL$152,'Resource Demand'!$B30,'Resource Programme'!DH$12:DH$152)","v":0},{"$f":"SUMIF('Resource Programme'!$CL$12:$CL$152,'Resource Demand'!$B30,'Resource Programme'!DI$12:DI$152)","v":0},{"$f":"SUMIF('Resource Programme'!$CL$12:$CL$152,'Resource Demand'!$B30,'Resource Programme'!DJ$12:DJ$152)","v":0},{"$f":"SUMIF('Resource Programme'!$CL$12:$CL$152,'Resource Demand'!$B30,'Resource Programme'!DK$12:DK$152)","v":0},{"$f":"SUMIF('Resource Programme'!$CL$12:$CL$152,'Resource Demand'!$B30,'Resource Programme'!DL$12:DL$152)","v":0},{"$f":"SUMIF('Resource Programme'!$CL$12:$CL$152,'Resource Demand'!$B30,'Resource Programme'!DM$12:DM$152)","v":0},{"$f":"SUMIF('Resource Programme'!$CL$12:$CL$152,'Resource Demand'!$B30,'Resource Programme'!DN$12:DN$152)","v":0},{"$f":"SUMIF('Resource Programme'!$CL$12:$CL$152,'Resource Demand'!$B30,'Resource Programme'!DO$12:DO$152)","v":0},{"$f":"SUMIF('Resource Programme'!$CL$12:$CL$152,'Resource Demand'!$B30,'Resource Programme'!DP$12:DP$152)","v":0},{"$f":"SUMIF('Resource Programme'!$CL$12:$CL$152,'Resource Demand'!$B30,'Resource Programme'!DQ$12:DQ$152)","v":0},{"$f":"SUMIF('Resource Programme'!$CL$12:$CL$152,'Resource Demand'!$B30,'Resource Programme'!DR$12:DR$152)","v":0},{"$f":"SUMIF('Resource Programme'!$CL$12:$CL$152,'Resource Demand'!$B30,'Resource Programme'!DS$12:DS$152)","v":0},{"$f":"SUMIF('Resource Programme'!$CL$12:$CL$152,'Resource Demand'!$B30,'Resource Programme'!DT$12:DT$152)","v":0},{"$f":"SUMIF('Resource Programme'!$CL$12:$CL$152,'Resource Demand'!$B30,'Resource Programme'!DU$12:DU$152)","v":0},{"$f":"SUMIF('Resource Programme'!$CL$12:$CL$152,'Resource Demand'!$B30,'Resource Programme'!DV$12:DV$152)","v":0},{"$f":"SUMIF('Resource Programme'!$CL$12:$CL$152,'Resource Demand'!$B30,'Resource Programme'!DW$12:DW$152)","v":0},{"$f":"SUMIF('Resource Programme'!$CL$12:$CL$152,'Resource Demand'!$B30,'Resource Programme'!DX$12:DX$152)","v":0},{"$f":"SUMIF('Resource Programme'!$CL$12:$CL$152,'Resource Demand'!$B30,'Resource Programme'!DY$12:DY$152)","v":0},{"$f":"SUMIF('Resource Programme'!$CL$12:$CL$152,'Resource Demand'!$B30,'Resource Programme'!DZ$12:DZ$152)","v":0},{"$f":"SUMIF('Resource Programme'!$CL$12:$CL$152,'Resource Demand'!$B30,'Resource Programme'!EA$12:EA$152)","v":0},{"$f":"SUMIF('Resource Programme'!$CL$12:$CL$152,'Resource Demand'!$B30,'Resource Programme'!EB$12:EB$152)","v":0},{"$f":"SUMIF('Resource Programme'!$CL$12:$CL$152,'Resource Demand'!$B30,'Resource Programme'!EC$12:EC$152)","v":0},{"$f":"SUMIF('Resource Programme'!$CL$12:$CL$152,'Resource Demand'!$B30,'Resource Programme'!ED$12:ED$152)","v":0},{"$f":"SUMIF('Resource Programme'!$CL$12:$CL$152,'Resource Demand'!$B30,'Resource Programme'!EE$12:EE$152)","v":0},{"$f":"SUMIF('Resource Programme'!$CL$12:$CL$152,'Resource Demand'!$B30,'Resource Programme'!EF$12:EF$152)","v":0},{"$f":"SUMIF('Resource Programme'!$CL$12:$CL$152,'Resource Demand'!$B30,'Resource Programme'!EG$12:EG$152)","v":0},{"$f":"SUMIF('Resource Programme'!$CL$12:$CL$152,'Resource Demand'!$B30,'Resource Programme'!EH$12:EH$152)","v":0},{"$f":"SUMIF('Resource Programme'!$CL$12:$CL$152,'Resource Demand'!$B30,'Resource Programme'!EI$12:EI$152)","v":0},{"$f":"SUMIF('Resource Programme'!$CL$12:$CL$152,'Resource Demand'!$B30,'Resource Programme'!EJ$12:EJ$152)","v":0},{"$f":"SUMIF('Resource Programme'!$CL$12:$CL$152,'Resource Demand'!$B30,'Resource Programme'!EK$12:EK$152)","v":0},{"$f":"SUMIF('Resource Programme'!$CL$12:$CL$152,'Resource Demand'!$B30,'Resource Programme'!EL$12:EL$152)","v":0},{"$f":"SUMIF('Resource Programme'!$CL$12:$CL$152,'Resource Demand'!$B30,'Resource Programme'!EM$12:EM$152)","v":0},{"$f":"SUMIF('Resource Programme'!$CL$12:$CL$152,'Resource Demand'!$B30,'Resource Programme'!EN$12:EN$152)","v":0},{"$f":"SUMIF('Resource Programme'!$CL$12:$CL$152,'Resource Demand'!$B30,'Resource Programme'!EO$12:EO$152)","v":0},{"$f":"SUMIF('Resource Programme'!$CL$12:$CL$152,'Resource Demand'!$B30,'Resource Programme'!EP$12:EP$152)","v":0},{"$f":"SUMIF('Resource Programme'!$CL$12:$CL$152,'Resource Demand'!$B30,'Resource Programme'!EQ$12:EQ$152)","v":0},{"$f":"SUMIF('Resource Programme'!$CL$12:$CL$152,'Resource Demand'!$B30,'Resource Programme'!ER$12:ER$152)","v":0},{"$f":"SUMIF('Resource Programme'!$CL$12:$CL$152,'Resource Demand'!$B30,'Resource Programme'!ES$12:ES$152)","v":0},{"$f":"SUMIF('Resource Programme'!$CL$12:$CL$152,'Resource Demand'!$B30,'Resource Programme'!ET$12:ET$152)","v":0},{"$f":"SUMIF('Resource Programme'!$CL$12:$CL$152,'Resource Demand'!$B30,'Resource Programme'!EU$12:EU$152)","v":0},{"$f":"SUMIF('Resource Programme'!$CL$12:$CL$152,'Resource Demand'!$B30,'Resource Programme'!EV$12:EV$152)","v":0},{"$f":"SUMIF('Resource Programme'!$CL$12:$CL$152,'Resource Demand'!$B30,'Resource Programme'!EW$12:EW$152)","v":0},{"$f":"SUMIF('Resource Programme'!$CL$12:$CL$152,'Resource Demand'!$B30,'Resource Programme'!EX$12:EX$152)","v":0},{"$f":"SUMIF('Resource Programme'!$CL$12:$CL$152,'Resource Demand'!$B30,'Resource Programme'!EY$12:EY$152)","v":0},{"$f":"SUMIF('Resource Programme'!$CL$12:$CL$152,'Resource Demand'!$B30,'Resource Programme'!EZ$12:EZ$152)","v":0},{"$f":"SUMIF('Resource Programme'!$CL$12:$CL$152,'Resource Demand'!$B30,'Resource Programme'!FA$12:FA$152)","v":0},{"$f":"SUMIF('Resource Programme'!$CL$12:$CL$152,'Resource Demand'!$B30,'Resource Programme'!FB$12:FB$152)","v":0},{"$f":"SUMIF('Resource Programme'!$CL$12:$CL$152,'Resource Demand'!$B30,'Resource Programme'!FC$12:FC$152)","v":0},{"$f":"SUMIF('Resource Programme'!$CL$12:$CL$152,'Resource Demand'!$B30,'Resource Programme'!FD$12:FD$152)","v":0},{"$f":"SUMIF('Resource Programme'!$CL$12:$CL$152,'Resource Demand'!$B30,'Resource Programme'!FE$12:FE$152)","v":0},{"$f":"SUMIF('Resource Programme'!$CL$12:$CL$152,'Resource Demand'!$B30,'Resource Programme'!FF$12:FF$152)","v":0},{"$f":"SUMIF('Resource Programme'!$CL$12:$CL$152,'Resource Demand'!$B30,'Resource Programme'!FG$12:FG$152)","v":0},"END"]
[0,"Modernisation, Unapproved, Ongoing",{"$f":"SUMIF('Resource Programme'!$CL$12:$CL$152,'Resource Demand'!$B31,'Resource Programme'!CT$12:CT$152)","v":0},{"$f":"SUMIF('Resource Programme'!$CL$12:$CL$152,'Resource Demand'!$B31,'Resource Programme'!CU$12:CU$152)","v":0},{"$f":"SUMIF('Resource Programme'!$CL$12:$CL$152,'Resource Demand'!$B31,'Resource Programme'!CV$12:CV$152)","v":0},{"$f":"SUMIF('Resource Programme'!$CL$12:$CL$152,'Resource Demand'!$B31,'Resource Programme'!CW$12:CW$152)","v":0},{"$f":"SUMIF('Resource Programme'!$CL$12:$CL$152,'Resource Demand'!$B31,'Resource Programme'!CX$12:CX$152)","v":0},{"$f":"SUMIF('Resource Programme'!$CL$12:$CL$152,'Resource Demand'!$B31,'Resource Programme'!CY$12:CY$152)","v":0},{"$f":"SUMIF('Resource Programme'!$CL$12:$CL$152,'Resource Demand'!$B31,'Resource Programme'!CZ$12:CZ$152)","v":0},{"$f":"SUMIF('Resource Programme'!$CL$12:$CL$152,'Resource Demand'!$B31,'Resource Programme'!DA$12:DA$152)","v":0},{"$f":"SUMIF('Resource Programme'!$CL$12:$CL$152,'Resource Demand'!$B31,'Resource Programme'!DB$12:DB$152)","v":0},{"$f":"SUMIF('Resource Programme'!$CL$12:$CL$152,'Resource Demand'!$B31,'Resource Programme'!DC$12:DC$152)","v":0},{"$f":"SUMIF('Resource Programme'!$CL$12:$CL$152,'Resource Demand'!$B31,'Resource Programme'!DD$12:DD$152)","v":0},{"$f":"SUMIF('Resource Programme'!$CL$12:$CL$152,'Resource Demand'!$B31,'Resource Programme'!DE$12:DE$152)","v":0},{"$f":"SUMIF('Resource Programme'!$CL$12:$CL$152,'Resource Demand'!$B31,'Resource Programme'!DF$12:DF$152)","v":0},{"$f":"SUMIF('Resource Programme'!$CL$12:$CL$152,'Resource Demand'!$B31,'Resource Programme'!DG$12:DG$152)","v":0},{"$f":"SUMIF('Resource Programme'!$CL$12:$CL$152,'Resource Demand'!$B31,'Resource Programme'!DH$12:DH$152)","v":0},{"$f":"SUMIF('Resource Programme'!$CL$12:$CL$152,'Resource Demand'!$B31,'Resource Programme'!DI$12:DI$152)","v":0},{"$f":"SUMIF('Resource Programme'!$CL$12:$CL$152,'Resource Demand'!$B31,'Resource Programme'!DJ$12:DJ$152)","v":0},{"$f":"SUMIF('Resource Programme'!$CL$12:$CL$152,'Resource Demand'!$B31,'Resource Programme'!DK$12:DK$152)","v":0},{"$f":"SUMIF('Resource Programme'!$CL$12:$CL$152,'Resource Demand'!$B31,'Resource Programme'!DL$12:DL$152)","v":0},{"$f":"SUMIF('Resource Programme'!$CL$12:$CL$152,'Resource Demand'!$B31,'Resource Programme'!DM$12:DM$152)","v":0},{"$f":"SUMIF('Resource Programme'!$CL$12:$CL$152,'Resource Demand'!$B31,'Resource Programme'!DN$12:DN$152)","v":0},{"$f":"SUMIF('Resource Programme'!$CL$12:$CL$152,'Resource Demand'!$B31,'Resource Programme'!DO$12:DO$152)","v":0},{"$f":"SUMIF('Resource Programme'!$CL$12:$CL$152,'Resource Demand'!$B31,'Resource Programme'!DP$12:DP$152)","v":0},{"$f":"SUMIF('Resource Programme'!$CL$12:$CL$152,'Resource Demand'!$B31,'Resource Programme'!DQ$12:DQ$152)","v":0},{"$f":"SUMIF('Resource Programme'!$CL$12:$CL$152,'Resource Demand'!$B31,'Resource Programme'!DR$12:DR$152)","v":0},{"$f":"SUMIF('Resource Programme'!$CL$12:$CL$152,'Resource Demand'!$B31,'Resource Programme'!DS$12:DS$152)","v":0},{"$f":"SUMIF('Resource Programme'!$CL$12:$CL$152,'Resource Demand'!$B31,'Resource Programme'!DT$12:DT$152)","v":0},{"$f":"SUMIF('Resource Programme'!$CL$12:$CL$152,'Resource Demand'!$B31,'Resource Programme'!DU$12:DU$152)","v":0},{"$f":"SUMIF('Resource Programme'!$CL$12:$CL$152,'Resource Demand'!$B31,'Resource Programme'!DV$12:DV$152)","v":0},{"$f":"SUMIF('Resource Programme'!$CL$12:$CL$152,'Resource Demand'!$B31,'Resource Programme'!DW$12:DW$152)","v":0},{"$f":"SUMIF('Resource Programme'!$CL$12:$CL$152,'Resource Demand'!$B31,'Resource Programme'!DX$12:DX$152)","v":0},{"$f":"SUMIF('Resource Programme'!$CL$12:$CL$152,'Resource Demand'!$B31,'Resource Programme'!DY$12:DY$152)","v":0},{"$f":"SUMIF('Resource Programme'!$CL$12:$CL$152,'Resource Demand'!$B31,'Resource Programme'!DZ$12:DZ$152)","v":0},{"$f":"SUMIF('Resource Programme'!$CL$12:$CL$152,'Resource Demand'!$B31,'Resource Programme'!EA$12:EA$152)","v":0},{"$f":"SUMIF('Resource Programme'!$CL$12:$CL$152,'Resource Demand'!$B31,'Resource Programme'!EB$12:EB$152)","v":0},{"$f":"SUMIF('Resource Programme'!$CL$12:$CL$152,'Resource Demand'!$B31,'Resource Programme'!EC$12:EC$152)","v":0},{"$f":"SUMIF('Resource Programme'!$CL$12:$CL$152,'Resource Demand'!$B31,'Resource Programme'!ED$12:ED$152)","v":0},{"$f":"SUMIF('Resource Programme'!$CL$12:$CL$152,'Resource Demand'!$B31,'Resource Programme'!EE$12:EE$152)","v":0},{"$f":"SUMIF('Resource Programme'!$CL$12:$CL$152,'Resource Demand'!$B31,'Resource Programme'!EF$12:EF$152)","v":0},{"$f":"SUMIF('Resource Programme'!$CL$12:$CL$152,'Resource Demand'!$B31,'Resource Programme'!EG$12:EG$152)","v":0},{"$f":"SUMIF('Resource Programme'!$CL$12:$CL$152,'Resource Demand'!$B31,'Resource Programme'!EH$12:EH$152)","v":0},{"$f":"SUMIF('Resource Programme'!$CL$12:$CL$152,'Resource Demand'!$B31,'Resource Programme'!EI$12:EI$152)","v":0},{"$f":"SUMIF('Resource Programme'!$CL$12:$CL$152,'Resource Demand'!$B31,'Resource Programme'!EJ$12:EJ$152)","v":0},{"$f":"SUMIF('Resource Programme'!$CL$12:$CL$152,'Resource Demand'!$B31,'Resource Programme'!EK$12:EK$152)","v":0},{"$f":"SUMIF('Resource Programme'!$CL$12:$CL$152,'Resource Demand'!$B31,'Resource Programme'!EL$12:EL$152)","v":0},{"$f":"SUMIF('Resource Programme'!$CL$12:$CL$152,'Resource Demand'!$B31,'Resource Programme'!EM$12:EM$152)","v":0},{"$f":"SUMIF('Resource Programme'!$CL$12:$CL$152,'Resource Demand'!$B31,'Resource Programme'!EN$12:EN$152)","v":0},{"$f":"SUMIF('Resource Programme'!$CL$12:$CL$152,'Resource Demand'!$B31,'Resource Programme'!EO$12:EO$152)","v":0},{"$f":"SUMIF('Resource Programme'!$CL$12:$CL$152,'Resource Demand'!$B31,'Resource Programme'!EP$12:EP$152)","v":0},{"$f":"SUMIF('Resource Programme'!$CL$12:$CL$152,'Resource Demand'!$B31,'Resource Programme'!EQ$12:EQ$152)","v":0},{"$f":"SUMIF('Resource Programme'!$CL$12:$CL$152,'Resource Demand'!$B31,'Resource Programme'!ER$12:ER$152)","v":0},{"$f":"SUMIF('Resource Programme'!$CL$12:$CL$152,'Resource Demand'!$B31,'Resource Programme'!ES$12:ES$152)","v":0},{"$f":"SUMIF('Resource Programme'!$CL$12:$CL$152,'Resource Demand'!$B31,'Resource Programme'!ET$12:ET$152)","v":0},{"$f":"SUMIF('Resource Programme'!$CL$12:$CL$152,'Resource Demand'!$B31,'Resource Programme'!EU$12:EU$152)","v":0},{"$f":"SUMIF('Resource Programme'!$CL$12:$CL$152,'Resource Demand'!$B31,'Resource Programme'!EV$12:EV$152)","v":0},{"$f":"SUMIF('Resource Programme'!$CL$12:$CL$152,'Resource Demand'!$B31,'Resource Programme'!EW$12:EW$152)","v":0},{"$f":"SUMIF('Resource Programme'!$CL$12:$CL$152,'Resource Demand'!$B31,'Resource Programme'!EX$12:EX$152)","v":0},{"$f":"SUMIF('Resource Programme'!$CL$12:$CL$152,'Resource Demand'!$B31,'Resource Programme'!EY$12:EY$152)","v":0},{"$f":"SUMIF('Resource Programme'!$CL$12:$CL$152,'Resource Demand'!$B31,'Resource Programme'!EZ$12:EZ$152)","v":0},{"$f":"SUMIF('Resource Programme'!$CL$12:$CL$152,'Resource Demand'!$B31,'Resource Programme'!FA$12:FA$152)","v":0},{"$f":"SUMIF('Resource Programme'!$CL$12:$CL$152,'Resource Demand'!$B31,'Resource Programme'!FB$12:FB$152)","v":0},{"$f":"SUMIF('Resource Programme'!$CL$12:$CL$152,'Resource Demand'!$B31,'Resource Programme'!FC$12:FC$152)","v":0},{"$f":"SUMIF('Resource Programme'!$CL$12:$CL$152,'Resource Demand'!$B31,'Resource Programme'!FD$12:FD$152)","v":0},{"$f":"SUMIF('Resource Programme'!$CL$12:$CL$152,'Resource Demand'!$B31,'Resource Programme'!FE$12:FE$152)","v":0},{"$f":"SUMIF('Resource Programme'!$CL$12:$CL$152,'Resource Demand'!$B31,'Resource Programme'!FF$12:FF$152)","v":0},{"$f":"SUMIF('Resource Programme'!$CL$12:$CL$152,'Resource Demand'!$B31,'Resource Programme'!FG$12:FG$152)","v":0},"END"]
[0,"Modernisation, Unapproved, School Managed",{"$f":"SUMIF('Resource Programme'!$CL$12:$CL$152,'Resource Demand'!$B32,'Resource Programme'!CT$12:CT$152)","v":0},{"$f":"SUMIF('Resource Programme'!$CL$12:$CL$152,'Resource Demand'!$B32,'Resource Programme'!CU$12:CU$152)","v":0},{"$f":"SUMIF('Resource Programme'!$CL$12:$CL$152,'Resource Demand'!$B32,'Resource Programme'!CV$12:CV$152)","v":0},{"$f":"SUMIF('Resource Programme'!$CL$12:$CL$152,'Resource Demand'!$B32,'Resource Programme'!CW$12:CW$152)","v":0},{"$f":"SUMIF('Resource Programme'!$CL$12:$CL$152,'Resource Demand'!$B32,'Resource Programme'!CX$12:CX$152)","v":0},{"$f":"SUMIF('Resource Programme'!$CL$12:$CL$152,'Resource Demand'!$B32,'Resource Programme'!CY$12:CY$152)","v":0},{"$f":"SUMIF('Resource Programme'!$CL$12:$CL$152,'Resource Demand'!$B32,'Resource Programme'!CZ$12:CZ$152)","v":0},{"$f":"SUMIF('Resource Programme'!$CL$12:$CL$152,'Resource Demand'!$B32,'Resource Programme'!DA$12:DA$152)","v":0},{"$f":"SUMIF('Resource Programme'!$CL$12:$CL$152,'Resource Demand'!$B32,'Resource Programme'!DB$12:DB$152)","v":0},{"$f":"SUMIF('Resource Programme'!$CL$12:$CL$152,'Resource Demand'!$B32,'Resource Programme'!DC$12:DC$152)","v":0},{"$f":"SUMIF('Resource Programme'!$CL$12:$CL$152,'Resource Demand'!$B32,'Resource Programme'!DD$12:DD$152)","v":0},{"$f":"SUMIF('Resource Programme'!$CL$12:$CL$152,'Resource Demand'!$B32,'Resource Programme'!DE$12:DE$152)","v":0},{"$f":"SUMIF('Resource Programme'!$CL$12:$CL$152,'Resource Demand'!$B32,'Resource Programme'!DF$12:DF$152)","v":0},{"$f":"SUMIF('Resource Programme'!$CL$12:$CL$152,'Resource Demand'!$B32,'Resource Programme'!DG$12:DG$152)","v":0},{"$f":"SUMIF('Resource Programme'!$CL$12:$CL$152,'Resource Demand'!$B32,'Resource Programme'!DH$12:DH$152)","v":0},{"$f":"SUMIF('Resource Programme'!$CL$12:$CL$152,'Resource Demand'!$B32,'Resource Programme'!DI$12:DI$152)","v":0},{"$f":"SUMIF('Resource Programme'!$CL$12:$CL$152,'Resource Demand'!$B32,'Resource Programme'!DJ$12:DJ$152)","v":0},{"$f":"SUMIF('Resource Programme'!$CL$12:$CL$152,'Resource Demand'!$B32,'Resource Programme'!DK$12:DK$152)","v":0},{"$f":"SUMIF('Resource Programme'!$CL$12:$CL$152,'Resource Demand'!$B32,'Resource Programme'!DL$12:DL$152)","v":0},{"$f":"SUMIF('Resource Programme'!$CL$12:$CL$152,'Resource Demand'!$B32,'Resource Programme'!DM$12:DM$152)","v":0},{"$f":"SUMIF('Resource Programme'!$CL$12:$CL$152,'Resource Demand'!$B32,'Resource Programme'!DN$12:DN$152)","v":0},{"$f":"SUMIF('Resource Programme'!$CL$12:$CL$152,'Resource Demand'!$B32,'Resource Programme'!DO$12:DO$152)","v":0},{"$f":"SUMIF('Resource Programme'!$CL$12:$CL$152,'Resource Demand'!$B32,'Resource Programme'!DP$12:DP$152)","v":0},{"$f":"SUMIF('Resource Programme'!$CL$12:$CL$152,'Resource Demand'!$B32,'Resource Programme'!DQ$12:DQ$152)","v":0},{"$f":"SUMIF('Resource Programme'!$CL$12:$CL$152,'Resource Demand'!$B32,'Resource Programme'!DR$12:DR$152)","v":0},{"$f":"SUMIF('Resource Programme'!$CL$12:$CL$152,'Resource Demand'!$B32,'Resource Programme'!DS$12:DS$152)","v":0},{"$f":"SUMIF('Resource Programme'!$CL$12:$CL$152,'Resource Demand'!$B32,'Resource Programme'!DT$12:DT$152)","v":0},{"$f":"SUMIF('Resource Programme'!$CL$12:$CL$152,'Resource Demand'!$B32,'Resource Programme'!DU$12:DU$152)","v":0},{"$f":"SUMIF('Resource Programme'!$CL$12:$CL$152,'Resource Demand'!$B32,'Resource Programme'!DV$12:DV$152)","v":0},{"$f":"SUMIF('Resource Programme'!$CL$12:$CL$152,'Resource Demand'!$B32,'Resource Programme'!DW$12:DW$152)","v":0},{"$f":"SUMIF('Resource Programme'!$CL$12:$CL$152,'Resource Demand'!$B32,'Resource Programme'!DX$12:DX$152)","v":0},{"$f":"SUMIF('Resource Programme'!$CL$12:$CL$152,'Resource Demand'!$B32,'Resource Programme'!DY$12:DY$152)","v":0},{"$f":"SUMIF('Resource Programme'!$CL$12:$CL$152,'Resource Demand'!$B32,'Resource Programme'!DZ$12:DZ$152)","v":0},{"$f":"SUMIF('Resource Programme'!$CL$12:$CL$152,'Resource Demand'!$B32,'Resource Programme'!EA$12:EA$152)","v":0},{"$f":"SUMIF('Resource Programme'!$CL$12:$CL$152,'Resource Demand'!$B32,'Resource Programme'!EB$12:EB$152)","v":0},{"$f":"SUMIF('Resource Programme'!$CL$12:$CL$152,'Resource Demand'!$B32,'Resource Programme'!EC$12:EC$152)","v":0},{"$f":"SUMIF('Resource Programme'!$CL$12:$CL$152,'Resource Demand'!$B32,'Resource Programme'!ED$12:ED$152)","v":0},{"$f":"SUMIF('Resource Programme'!$CL$12:$CL$152,'Resource Demand'!$B32,'Resource Programme'!EE$12:EE$152)","v":0},{"$f":"SUMIF('Resource Programme'!$CL$12:$CL$152,'Resource Demand'!$B32,'Resource Programme'!EF$12:EF$152)","v":0},{"$f":"SUMIF('Resource Programme'!$CL$12:$CL$152,'Resource Demand'!$B32,'Resource Programme'!EG$12:EG$152)","v":0},{"$f":"SUMIF('Resource Programme'!$CL$12:$CL$152,'Resource Demand'!$B32,'Resource Programme'!EH$12:EH$152)","v":0},{"$f":"SUMIF('Resource Programme'!$CL$12:$CL$152,'Resource Demand'!$B32,'Resource Programme'!EI$12:EI$152)","v":0},{"$f":"SUMIF('Resource Programme'!$CL$12:$CL$152,'Resource Demand'!$B32,'Resource Programme'!EJ$12:EJ$152)","v":0},{"$f":"SUMIF('Resource Programme'!$CL$12:$CL$152,'Resource Demand'!$B32,'Resource Programme'!EK$12:EK$152)","v":0},{"$f":"SUMIF('Resource Programme'!$CL$12:$CL$152,'Resource Demand'!$B32,'Resource Programme'!EL$12:EL$152)","v":0},{"$f":"SUMIF('Resource Programme'!$CL$12:$CL$152,'Resource Demand'!$B32,'Resource Programme'!EM$12:EM$152)","v":0},{"$f":"SUMIF('Resource Programme'!$CL$12:$CL$152,'Resource Demand'!$B32,'Resource Programme'!EN$12:EN$152)","v":0},{"$f":"SUMIF('Resource Programme'!$CL$12:$CL$152,'Resource Demand'!$B32,'Resource Programme'!EO$12:EO$152)","v":0},{"$f":"SUMIF('Resource Programme'!$CL$12:$CL$152,'Resource Demand'!$B32,'Resource Programme'!EP$12:EP$152)","v":0},{"$f":"SUMIF('Resource Programme'!$CL$12:$CL$152,'Resource Demand'!$B32,'Resource Programme'!EQ$12:EQ$152)","v":0},{"$f":"SUMIF('Resource Programme'!$CL$12:$CL$152,'Resource Demand'!$B32,'Resource Programme'!ER$12:ER$152)","v":0},{"$f":"SUMIF('Resource Programme'!$CL$12:$CL$152,'Resource Demand'!$B32,'Resource Programme'!ES$12:ES$152)","v":0},{"$f":"SUMIF('Resource Programme'!$CL$12:$CL$152,'Resource Demand'!$B32,'Resource Programme'!ET$12:ET$152)","v":0},{"$f":"SUMIF('Resource Programme'!$CL$12:$CL$152,'Resource Demand'!$B32,'Resource Programme'!EU$12:EU$152)","v":0},{"$f":"SUMIF('Resource Programme'!$CL$12:$CL$152,'Resource Demand'!$B32,'Resource Programme'!EV$12:EV$152)","v":0},{"$f":"SUMIF('Resource Programme'!$CL$12:$CL$152,'Resource Demand'!$B32,'Resource Programme'!EW$12:EW$152)","v":0},{"$f":"SUMIF('Resource Programme'!$CL$12:$CL$152,'Resource Demand'!$B32,'Resource Programme'!EX$12:EX$152)","v":0},{"$f":"SUMIF('Resource Programme'!$CL$12:$CL$152,'Resource Demand'!$B32,'Resource Programme'!EY$12:EY$152)","v":0},{"$f":"SUMIF('Resource Programme'!$CL$12:$CL$152,'Resource Demand'!$B32,'Resource Programme'!EZ$12:EZ$152)","v":0},{"$f":"SUMIF('Resource Programme'!$CL$12:$CL$152,'Resource Demand'!$B32,'Resource Programme'!FA$12:FA$152)","v":0},{"$f":"SUMIF('Resource Programme'!$CL$12:$CL$152,'Resource Demand'!$B32,'Resource Programme'!FB$12:FB$152)","v":0},{"$f":"SUMIF('Resource Programme'!$CL$12:$CL$152,'Resource Demand'!$B32,'Resource Programme'!FC$12:FC$152)","v":0},{"$f":"SUMIF('Resource Programme'!$CL$12:$CL$152,'Resource Demand'!$B32,'Resource Programme'!FD$12:FD$152)","v":0},{"$f":"SUMIF('Resource Programme'!$CL$12:$CL$152,'Resource Demand'!$B32,'Resource Programme'!FE$12:FE$152)","v":0},{"$f":"SUMIF('Resource Programme'!$CL$12:$CL$152,'Resource Demand'!$B32,'Resource Programme'!FF$12:FF$152)","v":0},{"$f":"SUMIF('Resource Programme'!$CL$12:$CL$152,'Resource Demand'!$B32,'Resource Programme'!FG$12:FG$152)","v":0},"END"]
[0,"NWoW, Approved, Ongoing",{"$f":"SUMIF('Resource Programme'!$CL$12:$CL$152,'Resource Demand'!$B33,'Resource Programme'!CT$12:CT$152)","v":0},{"$f":"SUMIF('Resource Programme'!$CL$12:$CL$152,'Resource Demand'!$B33,'Resource Programme'!CU$12:CU$152)","v":0},{"$f":"SUMIF('Resource Programme'!$CL$12:$CL$152,'Resource Demand'!$B33,'Resource Programme'!CV$12:CV$152)","v":0},{"$f":"SUMIF('Resource Programme'!$CL$12:$CL$152,'Resource Demand'!$B33,'Resource Programme'!CW$12:CW$152)","v":0},{"$f":"SUMIF('Resource Programme'!$CL$12:$CL$152,'Resource Demand'!$B33,'Resource Programme'!CX$12:CX$152)","v":0},{"$f":"SUMIF('Resource Programme'!$CL$12:$CL$152,'Resource Demand'!$B33,'Resource Programme'!CY$12:CY$152)","v":0},{"$f":"SUMIF('Resource Programme'!$CL$12:$CL$152,'Resource Demand'!$B33,'Resource Programme'!CZ$12:CZ$152)","v":0},{"$f":"SUMIF('Resource Programme'!$CL$12:$CL$152,'Resource Demand'!$B33,'Resource Programme'!DA$12:DA$152)","v":0},{"$f":"SUMIF('Resource Programme'!$CL$12:$CL$152,'Resource Demand'!$B33,'Resource Programme'!DB$12:DB$152)","v":0},{"$f":"SUMIF('Resource Programme'!$CL$12:$CL$152,'Resource Demand'!$B33,'Resource Programme'!DC$12:DC$152)","v":0},{"$f":"SUMIF('Resource Programme'!$CL$12:$CL$152,'Resource Demand'!$B33,'Resource Programme'!DD$12:DD$152)","v":0},{"$f":"SUMIF('Resource Programme'!$CL$12:$CL$152,'Resource Demand'!$B33,'Resource Programme'!DE$12:DE$152)","v":0},{"$f":"SUMIF('Resource Programme'!$CL$12:$CL$152,'Resource Demand'!$B33,'Resource Programme'!DF$12:DF$152)","v":0},{"$f":"SUMIF('Resource Programme'!$CL$12:$CL$152,'Resource Demand'!$B33,'Resource Programme'!DG$12:DG$152)","v":0},{"$f":"SUMIF('Resource Programme'!$CL$12:$CL$152,'Resource Demand'!$B33,'Resource Programme'!DH$12:DH$152)","v":0},{"$f":"SUMIF('Resource Programme'!$CL$12:$CL$152,'Resource Demand'!$B33,'Resource Programme'!DI$12:DI$152)","v":0},{"$f":"SUMIF('Resource Programme'!$CL$12:$CL$152,'Resource Demand'!$B33,'Resource Programme'!DJ$12:DJ$152)","v":0},{"$f":"SUMIF('Resource Programme'!$CL$12:$CL$152,'Resource Demand'!$B33,'Resource Programme'!DK$12:DK$152)","v":0},{"$f":"SUMIF('Resource Programme'!$CL$12:$CL$152,'Resource Demand'!$B33,'Resource Programme'!DL$12:DL$152)","v":0},{"$f":"SUMIF('Resource Programme'!$CL$12:$CL$152,'Resource Demand'!$B33,'Resource Programme'!DM$12:DM$152)","v":0},{"$f":"SUMIF('Resource Programme'!$CL$12:$CL$152,'Resource Demand'!$B33,'Resource Programme'!DN$12:DN$152)","v":0},{"$f":"SUMIF('Resource Programme'!$CL$12:$CL$152,'Resource Demand'!$B33,'Resource Programme'!DO$12:DO$152)","v":0},{"$f":"SUMIF('Resource Programme'!$CL$12:$CL$152,'Resource Demand'!$B33,'Resource Programme'!DP$12:DP$152)","v":0},{"$f":"SUMIF('Resource Programme'!$CL$12:$CL$152,'Resource Demand'!$B33,'Resource Programme'!DQ$12:DQ$152)","v":0},{"$f":"SUMIF('Resource Programme'!$CL$12:$CL$152,'Resource Demand'!$B33,'Resource Programme'!DR$12:DR$152)","v":0},{"$f":"SUMIF('Resource Programme'!$CL$12:$CL$152,'Resource Demand'!$B33,'Resource Programme'!DS$12:DS$152)","v":0},{"$f":"SUMIF('Resource Programme'!$CL$12:$CL$152,'Resource Demand'!$B33,'Resource Programme'!DT$12:DT$152)","v":0},{"$f":"SUMIF('Resource Programme'!$CL$12:$CL$152,'Resource Demand'!$B33,'Resource Programme'!DU$12:DU$152)","v":0},{"$f":"SUMIF('Resource Programme'!$CL$12:$CL$152,'Resource Demand'!$B33,'Resource Programme'!DV$12:DV$152)","v":0},{"$f":"SUMIF('Resource Programme'!$CL$12:$CL$152,'Resource Demand'!$B33,'Resource Programme'!DW$12:DW$152)","v":0},{"$f":"SUMIF('Resource Programme'!$CL$12:$CL$152,'Resource Demand'!$B33,'Resource Programme'!DX$12:DX$152)","v":0},{"$f":"SUMIF('Resource Programme'!$CL$12:$CL$152,'Resource Demand'!$B33,'Resource Programme'!DY$12:DY$152)","v":0},{"$f":"SUMIF('Resource Programme'!$CL$12:$CL$152,'Resource Demand'!$B33,'Resource Programme'!DZ$12:DZ$152)","v":0},{"$f":"SUMIF('Resource Programme'!$CL$12:$CL$152,'Resource Demand'!$B33,'Resource Programme'!EA$12:EA$152)","v":0},{"$f":"SUMIF('Resource Programme'!$CL$12:$CL$152,'Resource Demand'!$B33,'Resource Programme'!EB$12:EB$152)","v":0},{"$f":"SUMIF('Resource Programme'!$CL$12:$CL$152,'Resource Demand'!$B33,'Resource Programme'!EC$12:EC$152)","v":0},{"$f":"SUMIF('Resource Programme'!$CL$12:$CL$152,'Resource Demand'!$B33,'Resource Programme'!ED$12:ED$152)","v":0},{"$f":"SUMIF('Resource Programme'!$CL$12:$CL$152,'Resource Demand'!$B33,'Resource Programme'!EE$12:EE$152)","v":0},{"$f":"SUMIF('Resource Programme'!$CL$12:$CL$152,'Resource Demand'!$B33,'Resource Programme'!EF$12:EF$152)","v":0},{"$f":"SUMIF('Resource Programme'!$CL$12:$CL$152,'Resource Demand'!$B33,'Resource Programme'!EG$12:EG$152)","v":0},{"$f":"SUMIF('Resource Programme'!$CL$12:$CL$152,'Resource Demand'!$B33,'Resource Programme'!EH$12:EH$152)","v":0},{"$f":"SUMIF('Resource Programme'!$CL$12:$CL$152,'Resource Demand'!$B33,'Resource Programme'!EI$12:EI$152)","v":0},{"$f":"SUMIF('Resource Programme'!$CL$12:$CL$152,'Resource Demand'!$B33,'Resource Programme'!EJ$12:EJ$152)","v":0},{"$f":"SUMIF('Resource Programme'!$CL$12:$CL$152,'Resource Demand'!$B33,'Resource Programme'!EK$12:EK$152)","v":0},{"$f":"SUMIF('Resource Programme'!$CL$12:$CL$152,'Resource Demand'!$B33,'Resource Programme'!EL$12:EL$152)","v":0},{"$f":"SUMIF('Resource Programme'!$CL$12:$CL$152,'Resource Demand'!$B33,'Resource Programme'!EM$12:EM$152)","v":0},{"$f":"SUMIF('Resource Programme'!$CL$12:$CL$152,'Resource Demand'!$B33,'Resource Programme'!EN$12:EN$152)","v":0},{"$f":"SUMIF('Resource Programme'!$CL$12:$CL$152,'Resource Demand'!$B33,'Resource Programme'!EO$12:EO$152)","v":0},{"$f":"SUMIF('Resource Programme'!$CL$12:$CL$152,'Resource Demand'!$B33,'Resource Programme'!EP$12:EP$152)","v":0},{"$f":"SUMIF('Resource Programme'!$CL$12:$CL$152,'Resource Demand'!$B33,'Resource Programme'!EQ$12:EQ$152)","v":0},{"$f":"SUMIF('Resource Programme'!$CL$12:$CL$152,'Resource Demand'!$B33,'Resource Programme'!ER$12:ER$152)","v":0},{"$f":"SUMIF('Resource Programme'!$CL$12:$CL$152,'Resource Demand'!$B33,'Resource Programme'!ES$12:ES$152)","v":0},{"$f":"SUMIF('Resource Programme'!$CL$12:$CL$152,'Resource Demand'!$B33,'Resource Programme'!ET$12:ET$152)","v":0},{"$f":"SUMIF('Resource Programme'!$CL$12:$CL$152,'Resource Demand'!$B33,'Resource Programme'!EU$12:EU$152)","v":0},{"$f":"SUMIF('Resource Programme'!$CL$12:$CL$152,'Resource Demand'!$B33,'Resource Programme'!EV$12:EV$152)","v":0},{"$f":"SUMIF('Resource Programme'!$CL$12:$CL$152,'Resource Demand'!$B33,'Resource Programme'!EW$12:EW$152)","v":0},{"$f":"SUMIF('Resource Programme'!$CL$12:$CL$152,'Resource Demand'!$B33,'Resource Programme'!EX$12:EX$152)","v":0},{"$f":"SUMIF('Resource Programme'!$CL$12:$CL$152,'Resource Demand'!$B33,'Resource Programme'!EY$12:EY$152)","v":0},{"$f":"SUMIF('Resource Programme'!$CL$12:$CL$152,'Resource Demand'!$B33,'Resource Programme'!EZ$12:EZ$152)","v":0},{"$f":"SUMIF('Resource Programme'!$CL$12:$CL$152,'Resource Demand'!$B33,'Resource Programme'!FA$12:FA$152)","v":0},{"$f":"SUMIF('Resource Programme'!$CL$12:$CL$152,'Resource Demand'!$B33,'Resource Programme'!FB$12:FB$152)","v":0},{"$f":"SUMIF('Resource Programme'!$CL$12:$CL$152,'Resource Demand'!$B33,'Resource Programme'!FC$12:FC$152)","v":0},{"$f":"SUMIF('Resource Programme'!$CL$12:$CL$152,'Resource Demand'!$B33,'Resource Programme'!FD$12:FD$152)","v":0},{"$f":"SUMIF('Resource Programme'!$CL$12:$CL$152,'Resource Demand'!$B33,'Resource Programme'!FE$12:FE$152)","v":0},{"$f":"SUMIF('Resource Programme'!$CL$12:$CL$152,'Resource Demand'!$B33,'Resource Programme'!FF$12:FF$152)","v":0},{"$f":"SUMIF('Resource Programme'!$CL$12:$CL$152,'Resource Demand'!$B33,'Resource Programme'!FG$12:FG$152)","v":0},"END"]
[0,"Other, Approved, Completed",{"$f":"SUMIF('Resource Programme'!$CL$12:$CL$152,'Resource Demand'!$B34,'Resource Programme'!CT$12:CT$152)","v":0},{"$f":"SUMIF('Resource Programme'!$CL$12:$CL$152,'Resource Demand'!$B34,'Resource Programme'!CU$12:CU$152)","v":0},{"$f":"SUMIF('Resource Programme'!$CL$12:$CL$152,'Resource Demand'!$B34,'Resource Programme'!CV$12:CV$152)","v":0},{"$f":"SUMIF('Resource Programme'!$CL$12:$CL$152,'Resource Demand'!$B34,'Resource Programme'!CW$12:CW$152)","v":0},{"$f":"SUMIF('Resource Programme'!$CL$12:$CL$152,'Resource Demand'!$B34,'Resource Programme'!CX$12:CX$152)","v":0},{"$f":"SUMIF('Resource Programme'!$CL$12:$CL$152,'Resource Demand'!$B34,'Resource Programme'!CY$12:CY$152)","v":0},{"$f":"SUMIF('Resource Programme'!$CL$12:$CL$152,'Resource Demand'!$B34,'Resource Programme'!CZ$12:CZ$152)","v":0},{"$f":"SUMIF('Resource Programme'!$CL$12:$CL$152,'Resource Demand'!$B34,'Resource Programme'!DA$12:DA$152)","v":0},{"$f":"SUMIF('Resource Programme'!$CL$12:$CL$152,'Resource Demand'!$B34,'Resource Programme'!DB$12:DB$152)","v":0},{"$f":"SUMIF('Resource Programme'!$CL$12:$CL$152,'Resource Demand'!$B34,'Resource Programme'!DC$12:DC$152)","v":0},{"$f":"SUMIF('Resource Programme'!$CL$12:$CL$152,'Resource Demand'!$B34,'Resource Programme'!DD$12:DD$152)","v":0},{"$f":"SUMIF('Resource Programme'!$CL$12:$CL$152,'Resource Demand'!$B34,'Resource Programme'!DE$12:DE$152)","v":0},{"$f":"SUMIF('Resource Programme'!$CL$12:$CL$152,'Resource Demand'!$B34,'Resource Programme'!DF$12:DF$152)","v":0},{"$f":"SUMIF('Resource Programme'!$CL$12:$CL$152,'Resource Demand'!$B34,'Resource Programme'!DG$12:DG$152)","v":0},{"$f":"SUMIF('Resource Programme'!$CL$12:$CL$152,'Resource Demand'!$B34,'Resource Programme'!DH$12:DH$152)","v":0},{"$f":"SUMIF('Resource Programme'!$CL$12:$CL$152,'Resource Demand'!$B34,'Resource Programme'!DI$12:DI$152)","v":0},{"$f":"SUMIF('Resource Programme'!$CL$12:$CL$152,'Resource Demand'!$B34,'Resource Programme'!DJ$12:DJ$152)","v":0},{"$f":"SUMIF('Resource Programme'!$CL$12:$CL$152,'Resource Demand'!$B34,'Resource Programme'!DK$12:DK$152)","v":0},{"$f":"SUMIF('Resource Programme'!$CL$12:$CL$152,'Resource Demand'!$B34,'Resource Programme'!DL$12:DL$152)","v":0},{"$f":"SUMIF('Resource Programme'!$CL$12:$CL$152,'Resource Demand'!$B34,'Resource Programme'!DM$12:DM$152)","v":0},{"$f":"SUMIF('Resource Programme'!$CL$12:$CL$152,'Resource Demand'!$B34,'Resource Programme'!DN$12:DN$152)","v":0},{"$f":"SUMIF('Resource Programme'!$CL$12:$CL$152,'Resource Demand'!$B34,'Resource Programme'!DO$12:DO$152)","v":0},{"$f":"SUMIF('Resource Programme'!$CL$12:$CL$152,'Resource Demand'!$B34,'Resource Programme'!DP$12:DP$152)","v":0},{"$f":"SUMIF('Resource Programme'!$CL$12:$CL$152,'Resource Demand'!$B34,'Resource Programme'!DQ$12:DQ$152)","v":0},{"$f":"SUMIF('Resource Programme'!$CL$12:$CL$152,'Resource Demand'!$B34,'Resource Programme'!DR$12:DR$152)","v":0},{"$f":"SUMIF('Resource Programme'!$CL$12:$CL$152,'Resource Demand'!$B34,'Resource Programme'!DS$12:DS$152)","v":0},{"$f":"SUMIF('Resource Programme'!$CL$12:$CL$152,'Resource Demand'!$B34,'Resource Programme'!DT$12:DT$152)","v":0},{"$f":"SUMIF('Resource Programme'!$CL$12:$CL$152,'Resource Demand'!$B34,'Resource Programme'!DU$12:DU$152)","v":0},{"$f":"SUMIF('Resource Programme'!$CL$12:$CL$152,'Resource Demand'!$B34,'Resource Programme'!DV$12:DV$152)","v":0},{"$f":"SUMIF('Resource Programme'!$CL$12:$CL$152,'Resource Demand'!$B34,'Resource Programme'!DW$12:DW$152)","v":0},{"$f":"SUMIF('Resource Programme'!$CL$12:$CL$152,'Resource Demand'!$B34,'Resource Programme'!DX$12:DX$152)","v":0},{"$f":"SUMIF('Resource Programme'!$CL$12:$CL$152,'Resource Demand'!$B34,'Resource Programme'!DY$12:DY$152)","v":0},{"$f":"SUMIF('Resource Programme'!$CL$12:$CL$152,'Resource Demand'!$B34,'Resource Programme'!DZ$12:DZ$152)","v":0},{"$f":"SUMIF('Resource Programme'!$CL$12:$CL$152,'Resource Demand'!$B34,'Resource Programme'!EA$12:EA$152)","v":0},{"$f":"SUMIF('Resource Programme'!$CL$12:$CL$152,'Resource Demand'!$B34,'Resource Programme'!EB$12:EB$152)","v":0},{"$f":"SUMIF('Resource Programme'!$CL$12:$CL$152,'Resource Demand'!$B34,'Resource Programme'!EC$12:EC$152)","v":0},{"$f":"SUMIF('Resource Programme'!$CL$12:$CL$152,'Resource Demand'!$B34,'Resource Programme'!ED$12:ED$152)","v":0},{"$f":"SUMIF('Resource Programme'!$CL$12:$CL$152,'Resource Demand'!$B34,'Resource Programme'!EE$12:EE$152)","v":0},{"$f":"SUMIF('Resource Programme'!$CL$12:$CL$152,'Resource Demand'!$B34,'Resource Programme'!EF$12:EF$152)","v":0},{"$f":"SUMIF('Resource Programme'!$CL$12:$CL$152,'Resource Demand'!$B34,'Resource Programme'!EG$12:EG$152)","v":0},{"$f":"SUMIF('Resource Programme'!$CL$12:$CL$152,'Resource Demand'!$B34,'Resource Programme'!EH$12:EH$152)","v":0},{"$f":"SUMIF('Resource Programme'!$CL$12:$CL$152,'Resource Demand'!$B34,'Resource Programme'!EI$12:EI$152)","v":0},{"$f":"SUMIF('Resource Programme'!$CL$12:$CL$152,'Resource Demand'!$B34,'Resource Programme'!EJ$12:EJ$152)","v":0},{"$f":"SUMIF('Resource Programme'!$CL$12:$CL$152,'Resource Demand'!$B34,'Resource Programme'!EK$12:EK$152)","v":0},{"$f":"SUMIF('Resource Programme'!$CL$12:$CL$152,'Resource Demand'!$B34,'Resource Programme'!EL$12:EL$152)","v":0},{"$f":"SUMIF('Resource Programme'!$CL$12:$CL$152,'Resource Demand'!$B34,'Resource Programme'!EM$12:EM$152)","v":0},{"$f":"SUMIF('Resource Programme'!$CL$12:$CL$152,'Resource Demand'!$B34,'Resource Programme'!EN$12:EN$152)","v":0},{"$f":"SUMIF('Resource Programme'!$CL$12:$CL$152,'Resource Demand'!$B34,'Resource Programme'!EO$12:EO$152)","v":0},{"$f":"SUMIF('Resource Programme'!$CL$12:$CL$152,'Resource Demand'!$B34,'Resource Programme'!EP$12:EP$152)","v":0},{"$f":"SUMIF('Resource Programme'!$CL$12:$CL$152,'Resource Demand'!$B34,'Resource Programme'!EQ$12:EQ$152)","v":0},{"$f":"SUMIF('Resource Programme'!$CL$12:$CL$152,'Resource Demand'!$B34,'Resource Programme'!ER$12:ER$152)","v":0},{"$f":"SUMIF('Resource Programme'!$CL$12:$CL$152,'Resource Demand'!$B34,'Resource Programme'!ES$12:ES$152)","v":0},{"$f":"SUMIF('Resource Programme'!$CL$12:$CL$152,'Resource Demand'!$B34,'Resource Programme'!ET$12:ET$152)","v":0},{"$f":"SUMIF('Resource Programme'!$CL$12:$CL$152,'Resource Demand'!$B34,'Resource Programme'!EU$12:EU$152)","v":0},{"$f":"SUMIF('Resource Programme'!$CL$12:$CL$152,'Resource Demand'!$B34,'Resource Programme'!EV$12:EV$152)","v":0},{"$f":"SUMIF('Resource Programme'!$CL$12:$CL$152,'Resource Demand'!$B34,'Resource Programme'!EW$12:EW$152)","v":0},{"$f":"SUMIF('Resource Programme'!$CL$12:$CL$152,'Resource Demand'!$B34,'Resource Programme'!EX$12:EX$152)","v":0},{"$f":"SUMIF('Resource Programme'!$CL$12:$CL$152,'Resource Demand'!$B34,'Resource Programme'!EY$12:EY$152)","v":0},{"$f":"SUMIF('Resource Programme'!$CL$12:$CL$152,'Resource Demand'!$B34,'Resource Programme'!EZ$12:EZ$152)","v":0},{"$f":"SUMIF('Resource Programme'!$CL$12:$CL$152,'Resource Demand'!$B34,'Resource Programme'!FA$12:FA$152)","v":0},{"$f":"SUMIF('Resource Programme'!$CL$12:$CL$152,'Resource Demand'!$B34,'Resource Programme'!FB$12:FB$152)","v":0},{"$f":"SUMIF('Resource Programme'!$CL$12:$CL$152,'Resource Demand'!$B34,'Resource Programme'!FC$12:FC$152)","v":0},{"$f":"SUMIF('Resource Programme'!$CL$12:$CL$152,'Resource Demand'!$B34,'Resource Programme'!FD$12:FD$152)","v":0},{"$f":"SUMIF('Resource Programme'!$CL$12:$CL$152,'Resource Demand'!$B34,'Resource Programme'!FE$12:FE$152)","v":0},{"$f":"SUMIF('Resource Programme'!$CL$12:$CL$152,'Resource Demand'!$B34,'Resource Programme'!FF$12:FF$152)","v":0},{"$f":"SUMIF('Resource Programme'!$CL$12:$CL$152,'Resource Demand'!$B34,'Resource Programme'!FG$12:FG$152)","v":0},"END"]
[0,"Other, Approved, no programme",{"$f":"SUMIF('Resource Programme'!$CL$12:$CL$152,'Resource Demand'!$B35,'Resource Programme'!CT$12:CT$152)","v":0},{"$f":"SUMIF('Resource Programme'!$CL$12:$CL$152,'Resource Demand'!$B35,'Resource Programme'!CU$12:CU$152)","v":0},{"$f":"SUMIF('Resource Programme'!$CL$12:$CL$152,'Resource Demand'!$B35,'Resource Programme'!CV$12:CV$152)","v":0},{"$f":"SUMIF('Resource Programme'!$CL$12:$CL$152,'Resource Demand'!$B35,'Resource Programme'!CW$12:CW$152)","v":0},{"$f":"SUMIF('Resource Programme'!$CL$12:$CL$152,'Resource Demand'!$B35,'Resource Programme'!CX$12:CX$152)","v":0},{"$f":"SUMIF('Resource Programme'!$CL$12:$CL$152,'Resource Demand'!$B35,'Resource Programme'!CY$12:CY$152)","v":0},{"$f":"SUMIF('Resource Programme'!$CL$12:$CL$152,'Resource Demand'!$B35,'Resource Programme'!CZ$12:CZ$152)","v":0},{"$f":"SUMIF('Resource Programme'!$CL$12:$CL$152,'Resource Demand'!$B35,'Resource Programme'!DA$12:DA$152)","v":0},{"$f":"SUMIF('Resource Programme'!$CL$12:$CL$152,'Resource Demand'!$B35,'Resource Programme'!DB$12:DB$152)","v":0},{"$f":"SUMIF('Resource Programme'!$CL$12:$CL$152,'Resource Demand'!$B35,'Resource Programme'!DC$12:DC$152)","v":0},{"$f":"SUMIF('Resource Programme'!$CL$12:$CL$152,'Resource Demand'!$B35,'Resource Programme'!DD$12:DD$152)","v":0},{"$f":"SUMIF('Resource Programme'!$CL$12:$CL$152,'Resource Demand'!$B35,'Resource Programme'!DE$12:DE$152)","v":0},{"$f":"SUMIF('Resource Programme'!$CL$12:$CL$152,'Resource Demand'!$B35,'Resource Programme'!DF$12:DF$152)","v":0},{"$f":"SUMIF('Resource Programme'!$CL$12:$CL$152,'Resource Demand'!$B35,'Resource Programme'!DG$12:DG$152)","v":0},{"$f":"SUMIF('Resource Programme'!$CL$12:$CL$152,'Resource Demand'!$B35,'Resource Programme'!DH$12:DH$152)","v":0},{"$f":"SUMIF('Resource Programme'!$CL$12:$CL$152,'Resource Demand'!$B35,'Resource Programme'!DI$12:DI$152)","v":0},{"$f":"SUMIF('Resource Programme'!$CL$12:$CL$152,'Resource Demand'!$B35,'Resource Programme'!DJ$12:DJ$152)","v":0},{"$f":"SUMIF('Resource Programme'!$CL$12:$CL$152,'Resource Demand'!$B35,'Resource Programme'!DK$12:DK$152)","v":0},{"$f":"SUMIF('Resource Programme'!$CL$12:$CL$152,'Resource Demand'!$B35,'Resource Programme'!DL$12:DL$152)","v":0},{"$f":"SUMIF('Resource Programme'!$CL$12:$CL$152,'Resource Demand'!$B35,'Resource Programme'!DM$12:DM$152)","v":0},{"$f":"SUMIF('Resource Programme'!$CL$12:$CL$152,'Resource Demand'!$B35,'Resource Programme'!DN$12:DN$152)","v":0},{"$f":"SUMIF('Resource Programme'!$CL$12:$CL$152,'Resource Demand'!$B35,'Resource Programme'!DO$12:DO$152)","v":0},{"$f":"SUMIF('Resource Programme'!$CL$12:$CL$152,'Resource Demand'!$B35,'Resource Programme'!DP$12:DP$152)","v":0},{"$f":"SUMIF('Resource Programme'!$CL$12:$CL$152,'Resource Demand'!$B35,'Resource Programme'!DQ$12:DQ$152)","v":0},{"$f":"SUMIF('Resource Programme'!$CL$12:$CL$152,'Resource Demand'!$B35,'Resource Programme'!DR$12:DR$152)","v":0},{"$f":"SUMIF('Resource Programme'!$CL$12:$CL$152,'Resource Demand'!$B35,'Resource Programme'!DS$12:DS$152)","v":0},{"$f":"SUMIF('Resource Programme'!$CL$12:$CL$152,'Resource Demand'!$B35,'Resource Programme'!DT$12:DT$152)","v":0},{"$f":"SUMIF('Resource Programme'!$CL$12:$CL$152,'Resource Demand'!$B35,'Resource Programme'!DU$12:DU$152)","v":0},{"$f":"SUMIF('Resource Programme'!$CL$12:$CL$152,'Resource Demand'!$B35,'Resource Programme'!DV$12:DV$152)","v":0},{"$f":"SUMIF('Resource Programme'!$CL$12:$CL$152,'Resource Demand'!$B35,'Resource Programme'!DW$12:DW$152)","v":0},{"$f":"SUMIF('Resource Programme'!$CL$12:$CL$152,'Resource Demand'!$B35,'Resource Programme'!DX$12:DX$152)","v":0},{"$f":"SUMIF('Resource Programme'!$CL$12:$CL$152,'Resource Demand'!$B35,'Resource Programme'!DY$12:DY$152)","v":0},{"$f":"SUMIF('Resource Programme'!$CL$12:$CL$152,'Resource Demand'!$B35,'Resource Programme'!DZ$12:DZ$152)","v":0},{"$f":"SUMIF('Resource Programme'!$CL$12:$CL$152,'Resource Demand'!$B35,'Resource Programme'!EA$12:EA$152)","v":0},{"$f":"SUMIF('Resource Programme'!$CL$12:$CL$152,'Resource Demand'!$B35,'Resource Programme'!EB$12:EB$152)","v":0},{"$f":"SUMIF('Resource Programme'!$CL$12:$CL$152,'Resource Demand'!$B35,'Resource Programme'!EC$12:EC$152)","v":0},{"$f":"SUMIF('Resource Programme'!$CL$12:$CL$152,'Resource Demand'!$B35,'Resource Programme'!ED$12:ED$152)","v":0},{"$f":"SUMIF('Resource Programme'!$CL$12:$CL$152,'Resource Demand'!$B35,'Resource Programme'!EE$12:EE$152)","v":0},{"$f":"SUMIF('Resource Programme'!$CL$12:$CL$152,'Resource Demand'!$B35,'Resource Programme'!EF$12:EF$152)","v":0},{"$f":"SUMIF('Resource Programme'!$CL$12:$CL$152,'Resource Demand'!$B35,'Resource Programme'!EG$12:EG$152)","v":0},{"$f":"SUMIF('Resource Programme'!$CL$12:$CL$152,'Resource Demand'!$B35,'Resource Programme'!EH$12:EH$152)","v":0},{"$f":"SUMIF('Resource Programme'!$CL$12:$CL$152,'Resource Demand'!$B35,'Resource Programme'!EI$12:EI$152)","v":0},{"$f":"SUMIF('Resource Programme'!$CL$12:$CL$152,'Resource Demand'!$B35,'Resource Programme'!EJ$12:EJ$152)","v":0},{"$f":"SUMIF('Resource Programme'!$CL$12:$CL$152,'Resource Demand'!$B35,'Resource Programme'!EK$12:EK$152)","v":0},{"$f":"SUMIF('Resource Programme'!$CL$12:$CL$152,'Resource Demand'!$B35,'Resource Programme'!EL$12:EL$152)","v":0},{"$f":"SUMIF('Resource Programme'!$CL$12:$CL$152,'Resource Demand'!$B35,'Resource Programme'!EM$12:EM$152)","v":0},{"$f":"SUMIF('Resource Programme'!$CL$12:$CL$152,'Resource Demand'!$B35,'Resource Programme'!EN$12:EN$152)","v":0},{"$f":"SUMIF('Resource Programme'!$CL$12:$CL$152,'Resource Demand'!$B35,'Resource Programme'!EO$12:EO$152)","v":0},{"$f":"SUMIF('Resource Programme'!$CL$12:$CL$152,'Resource Demand'!$B35,'Resource Programme'!EP$12:EP$152)","v":0},{"$f":"SUMIF('Resource Programme'!$CL$12:$CL$152,'Resource Demand'!$B35,'Resource Programme'!EQ$12:EQ$152)","v":0},{"$f":"SUMIF('Resource Programme'!$CL$12:$CL$152,'Resource Demand'!$B35,'Resource Programme'!ER$12:ER$152)","v":0},{"$f":"SUMIF('Resource Programme'!$CL$12:$CL$152,'Resource Demand'!$B35,'Resource Programme'!ES$12:ES$152)","v":0},{"$f":"SUMIF('Resource Programme'!$CL$12:$CL$152,'Resource Demand'!$B35,'Resource Programme'!ET$12:ET$152)","v":0},{"$f":"SUMIF('Resource Programme'!$CL$12:$CL$152,'Resource Demand'!$B35,'Resource Programme'!EU$12:EU$152)","v":0},{"$f":"SUMIF('Resource Programme'!$CL$12:$CL$152,'Resource Demand'!$B35,'Resource Programme'!EV$12:EV$152)","v":0},{"$f":"SUMIF('Resource Programme'!$CL$12:$CL$152,'Resource Demand'!$B35,'Resource Programme'!EW$12:EW$152)","v":0},{"$f":"SUMIF('Resource Programme'!$CL$12:$CL$152,'Resource Demand'!$B35,'Resource Programme'!EX$12:EX$152)","v":0},{"$f":"SUMIF('Resource Programme'!$CL$12:$CL$152,'Resource Demand'!$B35,'Resource Programme'!EY$12:EY$152)","v":0},{"$f":"SUMIF('Resource Programme'!$CL$12:$CL$152,'Resource Demand'!$B35,'Resource Programme'!EZ$12:EZ$152)","v":0},{"$f":"SUMIF('Resource Programme'!$CL$12:$CL$152,'Resource Demand'!$B35,'Resource Programme'!FA$12:FA$152)","v":0},{"$f":"SUMIF('Resource Programme'!$CL$12:$CL$152,'Resource Demand'!$B35,'Resource Programme'!FB$12:FB$152)","v":0},{"$f":"SUMIF('Resource Programme'!$CL$12:$CL$152,'Resource Demand'!$B35,'Resource Programme'!FC$12:FC$152)","v":0},{"$f":"SUMIF('Resource Programme'!$CL$12:$CL$152,'Resource Demand'!$B35,'Resource Programme'!FD$12:FD$152)","v":0},{"$f":"SUMIF('Resource Programme'!$CL$12:$CL$152,'Resource Demand'!$B35,'Resource Programme'!FE$12:FE$152)","v":0},{"$f":"SUMIF('Resource Programme'!$CL$12:$CL$152,'Resource Demand'!$B35,'Resource Programme'!FF$12:FF$152)","v":0},{"$f":"SUMIF('Resource Programme'!$CL$12:$CL$152,'Resource Demand'!$B35,'Resource Programme'!FG$12:FG$152)","v":0},"END"]
[0,"Other, Approved, Ongoing",{"$f":"SUMIF('Resource Programme'!$CL$12:$CL$152,'Resource Demand'!$B36,'Resource Programme'!CT$12:CT$152)","v":0},{"$f":"SUMIF('Resource Programme'!$CL$12:$CL$152,'Resource Demand'!$B36,'Resource Programme'!CU$12:CU$152)","v":0},{"$f":"SUMIF('Resource Programme'!$CL$12:$CL$152,'Resource Demand'!$B36,'Resource Programme'!CV$12:CV$152)","v":0},{"$f":"SUMIF('Resource Programme'!$CL$12:$CL$152,'Resource Demand'!$B36,'Resource Programme'!CW$12:CW$152)","v":0},{"$f":"SUMIF('Resource Programme'!$CL$12:$CL$152,'Resource Demand'!$B36,'Resource Programme'!CX$12:CX$152)","v":0},{"$f":"SUMIF('Resource Programme'!$CL$12:$CL$152,'Resource Demand'!$B36,'Resource Programme'!CY$12:CY$152)","v":0},{"$f":"SUMIF('Resource Programme'!$CL$12:$CL$152,'Resource Demand'!$B36,'Resource Programme'!CZ$12:CZ$152)","v":0},{"$f":"SUMIF('Resource Programme'!$CL$12:$CL$152,'Resource Demand'!$B36,'Resource Programme'!DA$12:DA$152)","v":0},{"$f":"SUMIF('Resource Programme'!$CL$12:$CL$152,'Resource Demand'!$B36,'Resource Programme'!DB$12:DB$152)","v":0},{"$f":"SUMIF('Resource Programme'!$CL$12:$CL$152,'Resource Demand'!$B36,'Resource Programme'!DC$12:DC$152)","v":0},{"$f":"SUMIF('Resource Programme'!$CL$12:$CL$152,'Resource Demand'!$B36,'Resource Programme'!DD$12:DD$152)","v":0},{"$f":"SUMIF('Resource Programme'!$CL$12:$CL$152,'Resource Demand'!$B36,'Resource Programme'!DE$12:DE$152)","v":0},{"$f":"SUMIF('Resource Programme'!$CL$12:$CL$152,'Resource Demand'!$B36,'Resource Programme'!DF$12:DF$152)","v":0},{"$f":"SUMIF('Resource Programme'!$CL$12:$CL$152,'Resource Demand'!$B36,'Resource Programme'!DG$12:DG$152)","v":0},{"$f":"SUMIF('Resource Programme'!$CL$12:$CL$152,'Resource Demand'!$B36,'Resource Programme'!DH$12:DH$152)","v":0},{"$f":"SUMIF('Resource Programme'!$CL$12:$CL$152,'Resource Demand'!$B36,'Resource Programme'!DI$12:DI$152)","v":0},{"$f":"SUMIF('Resource Programme'!$CL$12:$CL$152,'Resource Demand'!$B36,'Resource Programme'!DJ$12:DJ$152)","v":0},{"$f":"SUMIF('Resource Programme'!$CL$12:$CL$152,'Resource Demand'!$B36,'Resource Programme'!DK$12:DK$152)","v":0},{"$f":"SUMIF('Resource Programme'!$CL$12:$CL$152,'Resource Demand'!$B36,'Resource Programme'!DL$12:DL$152)","v":0},{"$f":"SUMIF('Resource Programme'!$CL$12:$CL$152,'Resource Demand'!$B36,'Resource Programme'!DM$12:DM$152)","v":0},{"$f":"SUMIF('Resource Programme'!$CL$12:$CL$152,'Resource Demand'!$B36,'Resource Programme'!DN$12:DN$152)","v":0},{"$f":"SUMIF('Resource Programme'!$CL$12:$CL$152,'Resource Demand'!$B36,'Resource Programme'!DO$12:DO$152)","v":0},{"$f":"SUMIF('Resource Programme'!$CL$12:$CL$152,'Resource Demand'!$B36,'Resource Programme'!DP$12:DP$152)","v":0},{"$f":"SUMIF('Resource Programme'!$CL$12:$CL$152,'Resource Demand'!$B36,'Resource Programme'!DQ$12:DQ$152)","v":0},{"$f":"SUMIF('Resource Programme'!$CL$12:$CL$152,'Resource Demand'!$B36,'Resource Programme'!DR$12:DR$152)","v":0},{"$f":"SUMIF('Resource Programme'!$CL$12:$CL$152,'Resource Demand'!$B36,'Resource Programme'!DS$12:DS$152)","v":0},{"$f":"SUMIF('Resource Programme'!$CL$12:$CL$152,'Resource Demand'!$B36,'Resource Programme'!DT$12:DT$152)","v":0},{"$f":"SUMIF('Resource Programme'!$CL$12:$CL$152,'Resource Demand'!$B36,'Resource Programme'!DU$12:DU$152)","v":0},{"$f":"SUMIF('Resource Programme'!$CL$12:$CL$152,'Resource Demand'!$B36,'Resource Programme'!DV$12:DV$152)","v":0},{"$f":"SUMIF('Resource Programme'!$CL$12:$CL$152,'Resource Demand'!$B36,'Resource Programme'!DW$12:DW$152)","v":0},{"$f":"SUMIF('Resource Programme'!$CL$12:$CL$152,'Resource Demand'!$B36,'Resource Programme'!DX$12:DX$152)","v":0},{"$f":"SUMIF('Resource Programme'!$CL$12:$CL$152,'Resource Demand'!$B36,'Resource Programme'!DY$12:DY$152)","v":0},{"$f":"SUMIF('Resource Programme'!$CL$12:$CL$152,'Resource Demand'!$B36,'Resource Programme'!DZ$12:DZ$152)","v":0},{"$f":"SUMIF('Resource Programme'!$CL$12:$CL$152,'Resource Demand'!$B36,'Resource Programme'!EA$12:EA$152)","v":0},{"$f":"SUMIF('Resource Programme'!$CL$12:$CL$152,'Resource Demand'!$B36,'Resource Programme'!EB$12:EB$152)","v":0},{"$f":"SUMIF('Resource Programme'!$CL$12:$CL$152,'Resource Demand'!$B36,'Resource Programme'!EC$12:EC$152)","v":0},{"$f":"SUMIF('Resource Programme'!$CL$12:$CL$152,'Resource Demand'!$B36,'Resource Programme'!ED$12:ED$152)","v":0},{"$f":"SUMIF('Resource Programme'!$CL$12:$CL$152,'Resource Demand'!$B36,'Resource Programme'!EE$12:EE$152)","v":0},{"$f":"SUMIF('Resource Programme'!$CL$12:$CL$152,'Resource Demand'!$B36,'Resource Programme'!EF$12:EF$152)","v":0},{"$f":"SUMIF('Resource Programme'!$CL$12:$CL$152,'Resource Demand'!$B36,'Resource Programme'!EG$12:EG$152)","v":0},{"$f":"SUMIF('Resource Programme'!$CL$12:$CL$152,'Resource Demand'!$B36,'Resource Programme'!EH$12:EH$152)","v":0},{"$f":"SUMIF('Resource Programme'!$CL$12:$CL$152,'Resource Demand'!$B36,'Resource Programme'!EI$12:EI$152)","v":0},{"$f":"SUMIF('Resource Programme'!$CL$12:$CL$152,'Resource Demand'!$B36,'Resource Programme'!EJ$12:EJ$152)","v":0},{"$f":"SUMIF('Resource Programme'!$CL$12:$CL$152,'Resource Demand'!$B36,'Resource Programme'!EK$12:EK$152)","v":0},{"$f":"SUMIF('Resource Programme'!$CL$12:$CL$152,'Resource Demand'!$B36,'Resource Programme'!EL$12:EL$152)","v":0},{"$f":"SUMIF('Resource Programme'!$CL$12:$CL$152,'Resource Demand'!$B36,'Resource Programme'!EM$12:EM$152)","v":0},{"$f":"SUMIF('Resource Programme'!$CL$12:$CL$152,'Resource Demand'!$B36,'Resource Programme'!EN$12:EN$152)","v":0},{"$f":"SUMIF('Resource Programme'!$CL$12:$CL$152,'Resource Demand'!$B36,'Resource Programme'!EO$12:EO$152)","v":0},{"$f":"SUMIF('Resource Programme'!$CL$12:$CL$152,'Resource Demand'!$B36,'Resource Programme'!EP$12:EP$152)","v":0},{"$f":"SUMIF('Resource Programme'!$CL$12:$CL$152,'Resource Demand'!$B36,'Resource Programme'!EQ$12:EQ$152)","v":0},{"$f":"SUMIF('Resource Programme'!$CL$12:$CL$152,'Resource Demand'!$B36,'Resource Programme'!ER$12:ER$152)","v":0},{"$f":"SUMIF('Resource Programme'!$CL$12:$CL$152,'Resource Demand'!$B36,'Resource Programme'!ES$12:ES$152)","v":0},{"$f":"SUMIF('Resource Programme'!$CL$12:$CL$152,'Resource Demand'!$B36,'Resource Programme'!ET$12:ET$152)","v":0},{"$f":"SUMIF('Resource Programme'!$CL$12:$CL$152,'Resource Demand'!$B36,'Resource Programme'!EU$12:EU$152)","v":0},{"$f":"SUMIF('Resource Programme'!$CL$12:$CL$152,'Resource Demand'!$B36,'Resource Programme'!EV$12:EV$152)","v":0},{"$f":"SUMIF('Resource Programme'!$CL$12:$CL$152,'Resource Demand'!$B36,'Resource Programme'!EW$12:EW$152)","v":0},{"$f":"SUMIF('Resource Programme'!$CL$12:$CL$152,'Resource Demand'!$B36,'Resource Programme'!EX$12:EX$152)","v":0},{"$f":"SUMIF('Resource Programme'!$CL$12:$CL$152,'Resource Demand'!$B36,'Resource Programme'!EY$12:EY$152)","v":0},{"$f":"SUMIF('Resource Programme'!$CL$12:$CL$152,'Resource Demand'!$B36,'Resource Programme'!EZ$12:EZ$152)","v":0},{"$f":"SUMIF('Resource Programme'!$CL$12:$CL$152,'Resource Demand'!$B36,'Resource Programme'!FA$12:FA$152)","v":0},{"$f":"SUMIF('Resource Programme'!$CL$12:$CL$152,'Resource Demand'!$B36,'Resource Programme'!FB$12:FB$152)","v":0},{"$f":"SUMIF('Resource Programme'!$CL$12:$CL$152,'Resource Demand'!$B36,'Resource Programme'!FC$12:FC$152)","v":0},{"$f":"SUMIF('Resource Programme'!$CL$12:$CL$152,'Resource Demand'!$B36,'Resource Programme'!FD$12:FD$152)","v":0},{"$f":"SUMIF('Resource Programme'!$CL$12:$CL$152,'Resource Demand'!$B36,'Resource Programme'!FE$12:FE$152)","v":0},{"$f":"SUMIF('Resource Programme'!$CL$12:$CL$152,'Resource Demand'!$B36,'Resource Programme'!FF$12:FF$152)","v":0},{"$f":"SUMIF('Resource Programme'!$CL$12:$CL$152,'Resource Demand'!$B36,'Resource Programme'!FG$12:FG$152)","v":0},"END"]
[0,"PSBP, Approved, Ongoing",{"$f":"SUMIF('Resource Programme'!$CL$12:$CL$152,'Resource Demand'!$B37,'Resource Programme'!CT$12:CT$152)","v":0},{"$f":"SUMIF('Resource Programme'!$CL$12:$CL$152,'Resource Demand'!$B37,'Resource Programme'!CU$12:CU$152)","v":0},{"$f":"SUMIF('Resource Programme'!$CL$12:$CL$152,'Resource Demand'!$B37,'Resource Programme'!CV$12:CV$152)","v":0},{"$f":"SUMIF('Resource Programme'!$CL$12:$CL$152,'Resource Demand'!$B37,'Resource Programme'!CW$12:CW$152)","v":0},{"$f":"SUMIF('Resource Programme'!$CL$12:$CL$152,'Resource Demand'!$B37,'Resource Programme'!CX$12:CX$152)","v":0},{"$f":"SUMIF('Resource Programme'!$CL$12:$CL$152,'Resource Demand'!$B37,'Resource Programme'!CY$12:CY$152)","v":0},{"$f":"SUMIF('Resource Programme'!$CL$12:$CL$152,'Resource Demand'!$B37,'Resource Programme'!CZ$12:CZ$152)","v":0},{"$f":"SUMIF('Resource Programme'!$CL$12:$CL$152,'Resource Demand'!$B37,'Resource Programme'!DA$12:DA$152)","v":0},{"$f":"SUMIF('Resource Programme'!$CL$12:$CL$152,'Resource Demand'!$B37,'Resource Programme'!DB$12:DB$152)","v":0},{"$f":"SUMIF('Resource Programme'!$CL$12:$CL$152,'Resource Demand'!$B37,'Resource Programme'!DC$12:DC$152)","v":0},{"$f":"SUMIF('Resource Programme'!$CL$12:$CL$152,'Resource Demand'!$B37,'Resource Programme'!DD$12:DD$152)","v":0},{"$f":"SUMIF('Resource Programme'!$CL$12:$CL$152,'Resource Demand'!$B37,'Resource Programme'!DE$12:DE$152)","v":0},{"$f":"SUMIF('Resource Programme'!$CL$12:$CL$152,'Resource Demand'!$B37,'Resource Programme'!DF$12:DF$152)","v":0},{"$f":"SUMIF('Resource Programme'!$CL$12:$CL$152,'Resource Demand'!$B37,'Resource Programme'!DG$12:DG$152)","v":0},{"$f":"SUMIF('Resource Programme'!$CL$12:$CL$152,'Resource Demand'!$B37,'Resource Programme'!DH$12:DH$152)","v":0},{"$f":"SUMIF('Resource Programme'!$CL$12:$CL$152,'Resource Demand'!$B37,'Resource Programme'!DI$12:DI$152)","v":0},{"$f":"SUMIF('Resource Programme'!$CL$12:$CL$152,'Resource Demand'!$B37,'Resource Programme'!DJ$12:DJ$152)","v":0},{"$f":"SUMIF('Resource Programme'!$CL$12:$CL$152,'Resource Demand'!$B37,'Resource Programme'!DK$12:DK$152)","v":0},{"$f":"SUMIF('Resource Programme'!$CL$12:$CL$152,'Resource Demand'!$B37,'Resource Programme'!DL$12:DL$152)","v":0},{"$f":"SUMIF('Resource Programme'!$CL$12:$CL$152,'Resource Demand'!$B37,'Resource Programme'!DM$12:DM$152)","v":0},{"$f":"SUMIF('Resource Programme'!$CL$12:$CL$152,'Resource Demand'!$B37,'Resource Programme'!DN$12:DN$152)","v":0},{"$f":"SUMIF('Resource Programme'!$CL$12:$CL$152,'Resource Demand'!$B37,'Resource Programme'!DO$12:DO$152)","v":0},{"$f":"SUMIF('Resource Programme'!$CL$12:$CL$152,'Resource Demand'!$B37,'Resource Programme'!DP$12:DP$152)","v":0},{"$f":"SUMIF('Resource Programme'!$CL$12:$CL$152,'Resource Demand'!$B37,'Resource Programme'!DQ$12:DQ$152)","v":0},{"$f":"SUMIF('Resource Programme'!$CL$12:$CL$152,'Resource Demand'!$B37,'Resource Programme'!DR$12:DR$152)","v":0},{"$f":"SUMIF('Resource Programme'!$CL$12:$CL$152,'Resource Demand'!$B37,'Resource Programme'!DS$12:DS$152)","v":0},{"$f":"SUMIF('Resource Programme'!$CL$12:$CL$152,'Resource Demand'!$B37,'Resource Programme'!DT$12:DT$152)","v":0},{"$f":"SUMIF('Resource Programme'!$CL$12:$CL$152,'Resource Demand'!$B37,'Resource Programme'!DU$12:DU$152)","v":0},{"$f":"SUMIF('Resource Programme'!$CL$12:$CL$152,'Resource Demand'!$B37,'Resource Programme'!DV$12:DV$152)","v":0},{"$f":"SUMIF('Resource Programme'!$CL$12:$CL$152,'Resource Demand'!$B37,'Resource Programme'!DW$12:DW$152)","v":0},{"$f":"SUMIF('Resource Programme'!$CL$12:$CL$152,'Resource Demand'!$B37,'Resource Programme'!DX$12:DX$152)","v":0},{"$f":"SUMIF('Resource Programme'!$CL$12:$CL$152,'Resource Demand'!$B37,'Resource Programme'!DY$12:DY$152)","v":0},{"$f":"SUMIF('Resource Programme'!$CL$12:$CL$152,'Resource Demand'!$B37,'Resource Programme'!DZ$12:DZ$152)","v":0},{"$f":"SUMIF('Resource Programme'!$CL$12:$CL$152,'Resource Demand'!$B37,'Resource Programme'!EA$12:EA$152)","v":0},{"$f":"SUMIF('Resource Programme'!$CL$12:$CL$152,'Resource Demand'!$B37,'Resource Programme'!EB$12:EB$152)","v":0},{"$f":"SUMIF('Resource Programme'!$CL$12:$CL$152,'Resource Demand'!$B37,'Resource Programme'!EC$12:EC$152)","v":0},{"$f":"SUMIF('Resource Programme'!$CL$12:$CL$152,'Resource Demand'!$B37,'Resource Programme'!ED$12:ED$152)","v":0},{"$f":"SUMIF('Resource Programme'!$CL$12:$CL$152,'Resource Demand'!$B37,'Resource Programme'!EE$12:EE$152)","v":0},{"$f":"SUMIF('Resource Programme'!$CL$12:$CL$152,'Resource Demand'!$B37,'Resource Programme'!EF$12:EF$152)","v":0},{"$f":"SUMIF('Resource Programme'!$CL$12:$CL$152,'Resource Demand'!$B37,'Resource Programme'!EG$12:EG$152)","v":0},{"$f":"SUMIF('Resource Programme'!$CL$12:$CL$152,'Resource Demand'!$B37,'Resource Programme'!EH$12:EH$152)","v":0},{"$f":"SUMIF('Resource Programme'!$CL$12:$CL$152,'Resource Demand'!$B37,'Resource Programme'!EI$12:EI$152)","v":0},{"$f":"SUMIF('Resource Programme'!$CL$12:$CL$152,'Resource Demand'!$B37,'Resource Programme'!EJ$12:EJ$152)","v":0},{"$f":"SUMIF('Resource Programme'!$CL$12:$CL$152,'Resource Demand'!$B37,'Resource Programme'!EK$12:EK$152)","v":0},{"$f":"SUMIF('Resource Programme'!$CL$12:$CL$152,'Resource Demand'!$B37,'Resource Programme'!EL$12:EL$152)","v":0},{"$f":"SUMIF('Resource Programme'!$CL$12:$CL$152,'Resource Demand'!$B37,'Resource Programme'!EM$12:EM$152)","v":0},{"$f":"SUMIF('Resource Programme'!$CL$12:$CL$152,'Resource Demand'!$B37,'Resource Programme'!EN$12:EN$152)","v":0},{"$f":"SUMIF('Resource Programme'!$CL$12:$CL$152,'Resource Demand'!$B37,'Resource Programme'!EO$12:EO$152)","v":0},{"$f":"SUMIF('Resource Programme'!$CL$12:$CL$152,'Resource Demand'!$B37,'Resource Programme'!EP$12:EP$152)","v":0},{"$f":"SUMIF('Resource Programme'!$CL$12:$CL$152,'Resource Demand'!$B37,'Resource Programme'!EQ$12:EQ$152)","v":0},{"$f":"SUMIF('Resource Programme'!$CL$12:$CL$152,'Resource Demand'!$B37,'Resource Programme'!ER$12:ER$152)","v":0},{"$f":"SUMIF('Resource Programme'!$CL$12:$CL$152,'Resource Demand'!$B37,'Resource Programme'!ES$12:ES$152)","v":0},{"$f":"SUMIF('Resource Programme'!$CL$12:$CL$152,'Resource Demand'!$B37,'Resource Programme'!ET$12:ET$152)","v":0},{"$f":"SUMIF('Resource Programme'!$CL$12:$CL$152,'Resource Demand'!$B37,'Resource Programme'!EU$12:EU$152)","v":0},{"$f":"SUMIF('Resource Programme'!$CL$12:$CL$152,'Resource Demand'!$B37,'Resource Programme'!EV$12:EV$152)","v":0},{"$f":"SUMIF('Resource Programme'!$CL$12:$CL$152,'Resource Demand'!$B37,'Resource Programme'!EW$12:EW$152)","v":0},{"$f":"SUMIF('Resource Programme'!$CL$12:$CL$152,'Resource Demand'!$B37,'Resource Programme'!EX$12:EX$152)","v":0},{"$f":"SUMIF('Resource Programme'!$CL$12:$CL$152,'Resource Demand'!$B37,'Resource Programme'!EY$12:EY$152)","v":0},{"$f":"SUMIF('Resource Programme'!$CL$12:$CL$152,'Resource Demand'!$B37,'Resource Programme'!EZ$12:EZ$152)","v":0},{"$f":"SUMIF('Resource Programme'!$CL$12:$CL$152,'Resource Demand'!$B37,'Resource Programme'!FA$12:FA$152)","v":0},{"$f":"SUMIF('Resource Programme'!$CL$12:$CL$152,'Resource Demand'!$B37,'Resource Programme'!FB$12:FB$152)","v":0},{"$f":"SUMIF('Resource Programme'!$CL$12:$CL$152,'Resource Demand'!$B37,'Resource Programme'!FC$12:FC$152)","v":0},{"$f":"SUMIF('Resource Programme'!$CL$12:$CL$152,'Resource Demand'!$B37,'Resource Programme'!FD$12:FD$152)","v":0},{"$f":"SUMIF('Resource Programme'!$CL$12:$CL$152,'Resource Demand'!$B37,'Resource Programme'!FE$12:FE$152)","v":0},{"$f":"SUMIF('Resource Programme'!$CL$12:$CL$152,'Resource Demand'!$B37,'Resource Programme'!FF$12:FF$152)","v":0},{"$f":"SUMIF('Resource Programme'!$CL$12:$CL$152,'Resource Demand'!$B37,'Resource Programme'!FG$12:FG$152)","v":0},"END"]
[0,"SSR, Approved, Ongoing",{"$f":"SUMIF('Resource Programme'!$CL$12:$CL$152,'Resource Demand'!$B38,'Resource Programme'!CT$12:CT$152)","v":0},{"$f":"SUMIF('Resource Programme'!$CL$12:$CL$152,'Resource Demand'!$B38,'Resource Programme'!CU$12:CU$152)","v":0},{"$f":"SUMIF('Resource Programme'!$CL$12:$CL$152,'Resource Demand'!$B38,'Resource Programme'!CV$12:CV$152)","v":0},{"$f":"SUMIF('Resource Programme'!$CL$12:$CL$152,'Resource Demand'!$B38,'Resource Programme'!CW$12:CW$152)","v":0},{"$f":"SUMIF('Resource Programme'!$CL$12:$CL$152,'Resource Demand'!$B38,'Resource Programme'!CX$12:CX$152)","v":0},{"$f":"SUMIF('Resource Programme'!$CL$12:$CL$152,'Resource Demand'!$B38,'Resource Programme'!CY$12:CY$152)","v":0},{"$f":"SUMIF('Resource Programme'!$CL$12:$CL$152,'Resource Demand'!$B38,'Resource Programme'!CZ$12:CZ$152)","v":0},{"$f":"SUMIF('Resource Programme'!$CL$12:$CL$152,'Resource Demand'!$B38,'Resource Programme'!DA$12:DA$152)","v":0},{"$f":"SUMIF('Resource Programme'!$CL$12:$CL$152,'Resource Demand'!$B38,'Resource Programme'!DB$12:DB$152)","v":0},{"$f":"SUMIF('Resource Programme'!$CL$12:$CL$152,'Resource Demand'!$B38,'Resource Programme'!DC$12:DC$152)","v":0},{"$f":"SUMIF('Resource Programme'!$CL$12:$CL$152,'Resource Demand'!$B38,'Resource Programme'!DD$12:DD$152)","v":0},{"$f":"SUMIF('Resource Programme'!$CL$12:$CL$152,'Resource Demand'!$B38,'Resource Programme'!DE$12:DE$152)","v":0},{"$f":"SUMIF('Resource Programme'!$CL$12:$CL$152,'Resource Demand'!$B38,'Resource Programme'!DF$12:DF$152)","v":0},{"$f":"SUMIF('Resource Programme'!$CL$12:$CL$152,'Resource Demand'!$B38,'Resource Programme'!DG$12:DG$152)","v":0},{"$f":"SUMIF('Resource Programme'!$CL$12:$CL$152,'Resource Demand'!$B38,'Resource Programme'!DH$12:DH$152)","v":0},{"$f":"SUMIF('Resource Programme'!$CL$12:$CL$152,'Resource Demand'!$B38,'Resource Programme'!DI$12:DI$152)","v":0},{"$f":"SUMIF('Resource Programme'!$CL$12:$CL$152,'Resource Demand'!$B38,'Resource Programme'!DJ$12:DJ$152)","v":0},{"$f":"SUMIF('Resource Programme'!$CL$12:$CL$152,'Resource Demand'!$B38,'Resource Programme'!DK$12:DK$152)","v":0},{"$f":"SUMIF('Resource Programme'!$CL$12:$CL$152,'Resource Demand'!$B38,'Resource Programme'!DL$12:DL$152)","v":0},{"$f":"SUMIF('Resource Programme'!$CL$12:$CL$152,'Resource Demand'!$B38,'Resource Programme'!DM$12:DM$152)","v":0},{"$f":"SUMIF('Resource Programme'!$CL$12:$CL$152,'Resource Demand'!$B38,'Resource Programme'!DN$12:DN$152)","v":0},{"$f":"SUMIF('Resource Programme'!$CL$12:$CL$152,'Resource Demand'!$B38,'Resource Programme'!DO$12:DO$152)","v":0},{"$f":"SUMIF('Resource Programme'!$CL$12:$CL$152,'Resource Demand'!$B38,'Resource Programme'!DP$12:DP$152)","v":0},{"$f":"SUMIF('Resource Programme'!$CL$12:$CL$152,'Resource Demand'!$B38,'Resource Programme'!DQ$12:DQ$152)","v":0},{"$f":"SUMIF('Resource Programme'!$CL$12:$CL$152,'Resource Demand'!$B38,'Resource Programme'!DR$12:DR$152)","v":0},{"$f":"SUMIF('Resource Programme'!$CL$12:$CL$152,'Resource Demand'!$B38,'Resource Programme'!DS$12:DS$152)","v":0},{"$f":"SUMIF('Resource Programme'!$CL$12:$CL$152,'Resource Demand'!$B38,'Resource Programme'!DT$12:DT$152)","v":0},{"$f":"SUMIF('Resource Programme'!$CL$12:$CL$152,'Resource Demand'!$B38,'Resource Programme'!DU$12:DU$152)","v":0},{"$f":"SUMIF('Resource Programme'!$CL$12:$CL$152,'Resource Demand'!$B38,'Resource Programme'!DV$12:DV$152)","v":0},{"$f":"SUMIF('Resource Programme'!$CL$12:$CL$152,'Resource Demand'!$B38,'Resource Programme'!DW$12:DW$152)","v":0},{"$f":"SUMIF('Resource Programme'!$CL$12:$CL$152,'Resource Demand'!$B38,'Resource Programme'!DX$12:DX$152)","v":0},{"$f":"SUMIF('Resource Programme'!$CL$12:$CL$152,'Resource Demand'!$B38,'Resource Programme'!DY$12:DY$152)","v":0},{"$f":"SUMIF('Resource Programme'!$CL$12:$CL$152,'Resource Demand'!$B38,'Resource Programme'!DZ$12:DZ$152)","v":0},{"$f":"SUMIF('Resource Programme'!$CL$12:$CL$152,'Resource Demand'!$B38,'Resource Programme'!EA$12:EA$152)","v":0},{"$f":"SUMIF('Resource Programme'!$CL$12:$CL$152,'Resource Demand'!$B38,'Resource Programme'!EB$12:EB$152)","v":0},{"$f":"SUMIF('Resource Programme'!$CL$12:$CL$152,'Resource Demand'!$B38,'Resource Programme'!EC$12:EC$152)","v":0},{"$f":"SUMIF('Resource Programme'!$CL$12:$CL$152,'Resource Demand'!$B38,'Resource Programme'!ED$12:ED$152)","v":0},{"$f":"SUMIF('Resource Programme'!$CL$12:$CL$152,'Resource Demand'!$B38,'Resource Programme'!EE$12:EE$152)","v":0},{"$f":"SUMIF('Resource Programme'!$CL$12:$CL$152,'Resource Demand'!$B38,'Resource Programme'!EF$12:EF$152)","v":0},{"$f":"SUMIF('Resource Programme'!$CL$12:$CL$152,'Resource Demand'!$B38,'Resource Programme'!EG$12:EG$152)","v":0},{"$f":"SUMIF('Resource Programme'!$CL$12:$CL$152,'Resource Demand'!$B38,'Resource Programme'!EH$12:EH$152)","v":0},{"$f":"SUMIF('Resource Programme'!$CL$12:$CL$152,'Resource Demand'!$B38,'Resource Programme'!EI$12:EI$152)","v":0},{"$f":"SUMIF('Resource Programme'!$CL$12:$CL$152,'Resource Demand'!$B38,'Resource Programme'!EJ$12:EJ$152)","v":0},{"$f":"SUMIF('Resource Programme'!$CL$12:$CL$152,'Resource Demand'!$B38,'Resource Programme'!EK$12:EK$152)","v":0},{"$f":"SUMIF('Resource Programme'!$CL$12:$CL$152,'Resource Demand'!$B38,'Resource Programme'!EL$12:EL$152)","v":0},{"$f":"SUMIF('Resource Programme'!$CL$12:$CL$152,'Resource Demand'!$B38,'Resource Programme'!EM$12:EM$152)","v":0},{"$f":"SUMIF('Resource Programme'!$CL$12:$CL$152,'Resource Demand'!$B38,'Resource Programme'!EN$12:EN$152)","v":0},{"$f":"SUMIF('Resource Programme'!$CL$12:$CL$152,'Resource Demand'!$B38,'Resource Programme'!EO$12:EO$152)","v":0},{"$f":"SUMIF('Resource Programme'!$CL$12:$CL$152,'Resource Demand'!$B38,'Resource Programme'!EP$12:EP$152)","v":0},{"$f":"SUMIF('Resource Programme'!$CL$12:$CL$152,'Resource Demand'!$B38,'Resource Programme'!EQ$12:EQ$152)","v":0},{"$f":"SUMIF('Resource Programme'!$CL$12:$CL$152,'Resource Demand'!$B38,'Resource Programme'!ER$12:ER$152)","v":0},{"$f":"SUMIF('Resource Programme'!$CL$12:$CL$152,'Resource Demand'!$B38,'Resource Programme'!ES$12:ES$152)","v":0},{"$f":"SUMIF('Resource Programme'!$CL$12:$CL$152,'Resource Demand'!$B38,'Resource Programme'!ET$12:ET$152)","v":0},{"$f":"SUMIF('Resource Programme'!$CL$12:$CL$152,'Resource Demand'!$B38,'Resource Programme'!EU$12:EU$152)","v":0},{"$f":"SUMIF('Resource Programme'!$CL$12:$CL$152,'Resource Demand'!$B38,'Resource Programme'!EV$12:EV$152)","v":0},{"$f":"SUMIF('Resource Programme'!$CL$12:$CL$152,'Resource Demand'!$B38,'Resource Programme'!EW$12:EW$152)","v":0},{"$f":"SUMIF('Resource Programme'!$CL$12:$CL$152,'Resource Demand'!$B38,'Resource Programme'!EX$12:EX$152)","v":0},{"$f":"SUMIF('Resource Programme'!$CL$12:$CL$152,'Resource Demand'!$B38,'Resource Programme'!EY$12:EY$152)","v":0},{"$f":"SUMIF('Resource Programme'!$CL$12:$CL$152,'Resource Demand'!$B38,'Resource Programme'!EZ$12:EZ$152)","v":0},{"$f":"SUMIF('Resource Programme'!$CL$12:$CL$152,'Resource Demand'!$B38,'Resource Programme'!FA$12:FA$152)","v":0},{"$f":"SUMIF('Resource Programme'!$CL$12:$CL$152,'Resource Demand'!$B38,'Resource Programme'!FB$12:FB$152)","v":0},{"$f":"SUMIF('Resource Programme'!$CL$12:$CL$152,'Resource Demand'!$B38,'Resource Programme'!FC$12:FC$152)","v":0},{"$f":"SUMIF('Resource Programme'!$CL$12:$CL$152,'Resource Demand'!$B38,'Resource Programme'!FD$12:FD$152)","v":0},{"$f":"SUMIF('Resource Programme'!$CL$12:$CL$152,'Resource Demand'!$B38,'Resource Programme'!FE$12:FE$152)","v":0},{"$f":"SUMIF('Resource Programme'!$CL$12:$CL$152,'Resource Demand'!$B38,'Resource Programme'!FF$12:FF$152)","v":0},{"$f":"SUMIF('Resource Programme'!$CL$12:$CL$152,'Resource Demand'!$B38,'Resource Programme'!FG$12:FG$152)","v":0},"END"]
[{"$f":"SUM(C39:BP39)","v":0},"Totals",{"$f":"SUM(C20:C38)","v":0},{"$f":"SUM(D20:D38)","v":0},0,0,0,0,0,0,0,0,0,0,0,0,0,0,0,0,0,0,0,0,0,0,0,0,0,0,0,0,0,0,0,0,0,0,0,0,0,0,0,0,0,0,0,0,0,0,0,0,0,0,0,0,0,0,0,0,0,0,0,0,0,0,0,{"$f":"SUM(BP20:BP38)","v":0},"END"]
[{"$f":"SUM(C40:BP40)","v":50657.87},"Target",{"$f":"'Resource Programme'!CT153","v":2055.3999999999996},{"$f":"'Resource Programme'!CU153","v":2328.0199999999995},{"$f":"'Resource Programme'!CV153","v":1964.6699999999987},{"$f":"'Resource Programme'!CW153","v":1827.4999999999991},{"$f":"'Resource Programme'!CX153","v":1812.4499999999994},{"$f":"'Resource Programme'!CY153","v":1726.4499999999989},{"$f":"'Resource Programme'!CZ153","v":1833.9499999999989},{"$f":"'Resource Programme'!DA153","v":1876.9499999999989},{"$f":"'Resource Programme'!DB153","v":1833.9499999999994},{"$f":"'Resource Programme'!DC153","v":1956.4999999999991},{"$f":"'Resource Programme'!DD153","v":1801.6999999999991},{"$f":"'Resource Programme'!DE153","v":1721.7199999999993},{"$f":"'Resource Programme'!DF153","v":1793.0999999999988},{"$f":"'Resource Programme'!DG153","v":1745.7999999999988},{"$f":"'Resource Programme'!DH153","v":1489.9499999999994},{"$f":"'Resource Programme'!DI153","v":1388.8999999999996},{"$f":"'Resource Programme'!DJ153","v":1425.0199999999993},{"$f":"'Resource Programme'!DK153","v":1363.0999999999997},{"$f":"'Resource Programme'!DL153","v":1214.7499999999998},{"$f":"'Resource Programme'!DM153","v":1186.8},{"$f":"'Resource Programme'!DN153","v":1154.55},{"$f":"'Resource Programme'!DO153","v":999.32},{"$f":"'Resource Programme'!DP153","v":1035.44},{"$f":"'Resource Programme'!DQ153","v":935.25},{"$f":"'Resource Programme'!DR153","v":958.47},{"$f":"'Resource Programme'!DS153","v":928.80000000000018},{"$f":"'Resource Programme'!DT153","v":638.55000000000007},{"$f":"'Resource Programme'!DU153","v":438.6},{"$f":"'Resource Programme'!DV153","v":612.75000000000011},{"$f":"'Resource Programme'!DW153","v":670.37000000000012},{"$f":"'Resource Programme'!DX153","v":509.12},{"$f":"'Resource Programme'!DY153","v":451.5},{"$f":"'Resource Programme'!DZ153","v":530.19000000000005},{"$f":"'Resource Programme'!EA153","v":408.5},{"$f":"'Resource Programme'!EB153","v":496.22},{"$f":"'Resource Programme'!EC153","v":335.4},{"$f":"'Resource Programme'!ED153","v":373.24},{"$f":"'Resource Programme'!EE153","v":337.12},{"$f":"'Resource Programme'!EF153","v":338.40999999999997},{"$f":"'Resource Programme'!EG153","v":219.29999999999998},{"$f":"'Resource Programme'!EH153","v":270.89999999999998},{"$f":"'Resource Programme'!EI153","v":281.21999999999997},{"$f":"'Resource Programme'!EJ153","v":245.1},{"$f":"'Resource Programme'!EK153","v":322.5},{"$f":"'Resource Programme'!EL153","v":270.89999999999998},{"$f":"'Resource Programme'!EM153","v":249.39999999999998},{"$f":"'Resource Programme'!EN153","v":197.79999999999998},{"$f":"'Resource Programme'!EO153","v":197.79999999999998},{"$f":"'Resource Programme'!EP153","v":150.5},{"$f":"'Resource Programme'!EQ153","v":202.1},{"$f":"'Resource Programme'!ER153","v":144.04999999999998},{"$f":"'Resource Programme'!ES153","v":124.69999999999999},{"$f":"'Resource Programme'!ET153","v":124.69999999999999},{"$f":"'Resource Programme'!EU153","v":124.69999999999999},{"$f":"'Resource Programme'!EV153","v":124.69999999999999},{"$f":"'Resource Programme'!EW153","v":124.69999999999999},{"$f":"'Resource Programme'!EX153","v":124.69999999999999},{"$f":"'Resource Programme'!EY153","v":160.82},{"$f":"'Resource Programme'!EZ153","v":124.69999999999999},{"$f":"'Resource Programme'!FA153","v":124.69999999999999},{"$f":"'Resource Programme'!FB153","v":124.69999999999999},{"$f":"'Resource Programme'!FC153","v":124.69999999999999},{"$f":"'Resource Programme'!FD153","v":0},{"$f":"'Resource Programme'!FE153","v":0},{"$f":"'Resource Programme'!FF153","v":0},{"$f":"'Resource Programme'!FG153","v":0},"END"]
[null,null,null,null,null,null,null,null,null,null,null,null,null,null,null,null,null,null,null,null,null,null,null,null,null,null,null,null,null,null,null,null,null,null,null,null,null,null,null,null,null,null,null,null,null,null,null,null,null,null,null,null,null,null,null,null,null,null,null,null,null,null,null,null,null,null,null,null,"END"]
["This data informs the Resource Histogram"]
[]
[null,"OVERALL DEMAND vs CAPACITY",{"$f":"C19","v":"2018-07-01"},{"$f":"D19","v":"2018-08-01"},"2018-09-01","2018-10-01","2018-11-01","2018-12-01","2019-01-01","2019-02-01","2019-03-01","2019-04-01","2019-05-01","2019-06-01","2019-07-01","2019-08-01","2019-09-01","2019-10-01","2019-11-01","2019-12-01","2020-01-01","2020-02-01","2020-03-01","2020-04-01","2020-05-01","2020-06-01","2020-07-01","2020-08-01","2020-09-01","2020-10-01","2020-11-01","2020-12-01","2021-01-01","2021-02-01","2021-03-01","2021-04-01","2021-05-01","2021-06-01","2021-07-01","2021-08-01","2021-09-01","2021-10-01","2021-11-01","2021-12-01","2022-01-01","2022-02-01","2022-03-01","2022-04-01","2022-05-01","2022-06-01","2022-07-01","2022-08-01","2022-09-01","2022-10-01","2022-11-01","2022-12-01","2023-01-01","2023-02-01","2023-03-01","2023-04-01","2023-05-01","2023-06-01","2023-07-01","2023-08-01","2023-09-01","2023-10-01","2023-11-01",{"$f":"BP19","v":"2023-12-01"},"END"]
[null,{"$f":"B12","v":"Gen2"},1146.5,1146.5,1146.5,1146.5,1146.5,1146.5,1146.5,1146.5,1146.5,1146.5,1146.5,1146.5,1146.5,1146.5,1146.5,1146.5,1146.5,1146.5,1146.5,1146.5,1146.5,1146.5,1146.5,1146.5,1146.5,1146.5,1146.5,1146.5,1146.5,1146.5,1146.5,1146.5,1146.5,1146.5,1146.5,1146.5,1146.5,1146.5,1146.5,1146.5,1146.5,1146.5,1146.5,1146.5,1146.5,1146.5,1146.5,1146.5,1146.5,1146.5,1146.5,1146.5,1146.5,1146.5,1146.5,1146.5,1146.5,1146.5,1146.5,1146.5,1146.5,1146.5,1146.5,{"$f":"BN12","v":1146.5},1146.5,{"$f":"BP12","v":1146.5},"END"]
[null,"Bench",331.20000000000005,331.20000000000005,331.20000000000005,331.20000000000005,331.20000000000005,331.20000000000005,331.20000000000005,331.20000000000005,331.20000000000005,331.20000000000005,331.20000000000005,331.20000000000005,331.20000000000005,331.20000000000005,331.20000000000005,331.20000000000005,331.20000000000005,331.20000000000005,331.20000000000005,331.20000000000005,331.20000000000005,331.20000000000005,331.20000000000005,331.20000000000005,331.20000000000005,331.20000000000005,331.20000000000005,331.20000000000005,331.20000000000005,331.20000000000005,331.20000000000005,331.20000000000005,331.20000000000005,331.20000000000005,331.20000000000005,331.20000000000005,331.20000000000005,331.20000000000005,331.20000000000005,331.20000000000005,331.20000000000005,331.20000000000005,331.20000000000005,331.20000000000005,331.20000000000005,331.20000000000005,331.20000000000005,331.20000000000005,331.20000000000005,331.20000000000005,331.20000000000005,331.20000000000005,331.20000000000005,331.20000000000005,331.20000000000005,331.20000000000005,331.20000000000005,331.20000000000005,331.20000000000005,331.20000000000005,331.20000000000005,331.20000000000005,331.20000000000005,331.20000000000005,331.20000000000005,{"$f":"BP13","v":331.20000000000005},"END"]
[null,"Flex",331.20000000000005,331.20000000000005,331.20000000000005,331.20000000000005,331.20000000000005,331.20000000000005,331.20000000000005,331.20000000000005,331.20000000000005,331.20000000000005,331.20000000000005,331.20000000000005,331.20000000000005,331.20000000000005,331.20000000000005,331.20000000000005,331.20000000000005,331.20000000000005,331.20000000000005,331.20000000000005,331.20000000000005,331.20000000000005,331.20000000000005,331.20000000000005,331.20000000000005,331.20000000000005,331.20000000000005,331.20000000000005,331.20000000000005,331.20000000000005,331.20000000000005,331.20000000000005,331.20000000000005,331.20000000000005,331.20000000000005,331.20000000000005,331.20000000000005,331.20000000000005,331.20000000000005,331.20000000000005,331.20000000000005,331.20000000000005,331.20000000000005,331.20000000000005,331.20000000000005,331.20000000000005,331.20000000000005,331.20000000000005,331.20000000000005,331.20000000000005,331.20000000000005,331.20000000000005,331.20000000000005,331.20000000000005,331.20000000000005,331.20000000000005,331.20000000000005,331.20000000000005,331.20000000000005,331.20000000000005,331.20000000000005,331.20000000000005,331.20000000000005,331.20000000000005,331.20000000000005,{"$f":"BP14","v":331.20000000000005},"END"]
[{"$f":"SUM(C48:BP48)","v":0},"Basic Need, approved",{"$f":"SUM(C20:C23)","v":0},{"$f":"SUM(D20:D23)","v":0},0,0,0,0,0,0,0,0,0,0,0,0,0,0,0,0,0,0,0,0,0,0,0,0,0,0,0,0,0,0,0,0,0,0,0,0,0,0,0,0,0,0,0,0,0,0,0,0,0,0,0,0,0,0,0,0,0,0,0,0,0,0,0,{"$f":"SUM(BP20:BP23)","v":0},"END"]
[0,"Basic Need, unapproved",{"$f":"SUM(C24:C25)","v":0},{"$f":"SUM(D24:D25)","v":0},0,0,0,0,0,0,0,0,0,0,0,0,0,0,0,0,0,0,0,0,0,0,0,0,0,0,0,0,0,0,0,0,0,0,0,0,0,0,0,0,0,0,0,0,0,0,0,0,0,0,0,0,0,0,0,0,0,0,0,0,0,0,0,{"$f":"SUM(BP24:BP25)","v":0}]
[0,"Corporate",{"$f":"C26","v":0},{"$f":"D26","v":0},0,0,0,0,0,0,0,0,0,0,0,0,0,0,0,0,0,0,0,0,0,0,0,0,0,0,0,0,0,0,0,0,0,0,0,0,0,0,0,0,0,0,0,0,0,0,0,0,0,0,0,0,0,0,0,0,0,0,0,0,0,0,0,{"$f":"BP26","v":0},"END"]
[0,"ESFA Managed",{"$f":"C27","v":0},0,0,0,0,0,0,0,0,0,0,0,0,0,0,0,0,0,0,0,0,0,0,0,0,0,0,0,0,0,0,0,0,0,0,0,0,0,0,0,0,0,0,0,0,0,0,0,0,0,0,0,0,0,0,0,0,0,0,0,0,0,0,0,0,{"$f":"BP27","v":0},"END"]
[0,"GET",{"$f":"C28","v":0},0,0,0,0,0,0,0,0,0,0,0,0,0,0,0,0,0,0,0,0,0,0,0,0,0,0,0,0,0,0,0,0,0,0,0,0,0,0,0,0,0,0,0,0,0,0,0,0,0,0,0,0,0,0,0,0,0,0,0,0,0,0,0,0,{"$f":"BP28","v":0},"END"]
[0,"Modernisation",{"$f":"SUM(C29:C32)","v":0},{"$f":"SUM(D29:D32)","v":0},0,0,0,0,0,0,0,0,0,0,0,0,0,0,0,0,0,0,0,0,0,0,0,0,0,0,0,0,0,0,0,0,0,0,0,0,0,0,0,0,0,0,0,0,0,0,0,0,0,0,0,0,0,0,0,0,0,0,0,0,0,0,0,{"$f":"SUM(BP29:BP32)","v":0},"END"]
[0,"NWoW",{"$f":"C33","v":0},{"$f":"D33","v":0},0,0,0,0,0,0,0,0,0,0,0,0,0,0,0,0,0,0,0,0,0,0,0,0,0,0,0,0,0,0,0,0,0,0,0,0,0,0,0,0,0,0,0,0,0,0,0,0,0,0,0,0,0,0,0,0,0,0,0,0,0,0,0,{"$f":"BP33","v":0},"END"]
[0,"Other",{"$f":"SUM(C34:C36)","v":0},{"$f":"SUM(D34:D36)","v":0},0,0,0,0,0,0,0,0,0,0,0,0,0,0,0,0,0,0,0,0,0,0,0,0,0,0,0,0,0,0,0,0,0,0,0,0,0,0,0,0,0,0,0,0,0,0,0,0,0,0,0,0,0,0,0,0,0,0,0,0,0,0,0,{"$f":"SUM(BP34:BP36)","v":0},"END"]
[0,"PSBP",{"$f":"C37","v":0},{"$f":"D37","v":0},0,0,0,0,0,0,0,0,0,0,0,0,0,0,0,0,0,0,0,0,0,0,0,0,0,0,0,0,0,0,0,0,0,0,0,0,0,0,0,0,0,0,0,0,0,0,0,0,0,0,0,0,0,0,0,0,0,0,0,0,0,0,0,{"$f":"BP37","v":0},"END"]
[0,"SSR",{"$f":"C38","v":0},0,0,0,0,0,0,0,0,0,0,0,0,0,0,0,0,0,0,0,0,0,0,0,0,0,0,0,0,0,0,0,0,0,0,0,0,0,0,0,0,0,0,0,0,0,0,0,0,0,0,0,0,0,0,0,0,0,0,0,0,0,0,0,0,{"$f":"BP38","v":0},"END"]
[null,"Possibles",{"$f":"Possibles!CD17","v":0},{"$f":"Possibles!CE17","v":25.799999999999997},{"$f":"Possibles!CF17","v":64.5},{"$f":"Possibles!CG17","v":77.400000000000006},{"$f":"Possibles!CH17","v":64.5},{"$f":"Possibles!CI17","v":116.1},{"$f":"Possibles!CJ17","v":116.1},{"$f":"Possibles!CK17","v":116.1},{"$f":"Possibles!CL17","v":129},{"$f":"Possibles!CM17","v":141.89999999999998},{"$f":"Possibles!CN17","v":141.89999999999998},{"$f":"Possibles!CO17","v":180.59999999999997},{"$f":"Possibles!CP17","v":193.50000000000003},{"$f":"Possibles!CQ17","v":206.39999999999998},{"$f":"Possibles!CR17","v":167.7},{"$f":"Possibles!CS17","v":180.59999999999997},{"$f":"Possibles!CT17","v":193.5},{"$f":"Possibles!CU17","v":189.2},{"$f":"Possibles!CV17","v":214.99999999999997},{"$f":"Possibles!CW17","v":227.89999999999998},{"$f":"Possibles!CX17","v":227.89999999999998},{"$f":"Possibles!CY17","v":215},{"$f":"Possibles!CZ17","v":253.7},{"$f":"Possibles!DA17","v":320.34999999999997},{"$f":"Possibles!DB17","v":288.09999999999997},{"$f":"Possibles!DC17","v":236.49999999999997},{"$f":"Possibles!DD17","v":242.94999999999996},{"$f":"Possibles!DE17","v":236.49999999999997},{"$f":"Possibles!DF17","v":275.20000000000005},{"$f":"Possibles!DG17","v":227.9},{"$f":"Possibles!DH17","v":247.24999999999997},{"$f":"Possibles!DI17","v":240.79999999999998},{"$f":"Possibles!DJ17","v":227.9},{"$f":"Possibles!DK17","v":227.9},{"$f":"Possibles!DL17","v":227.9},{"$f":"Possibles!DM17","v":247.25},{"$f":"Possibles!DN17","v":279.5},{"$f":"Possibles!DO17","v":214.99999999999997},{"$f":"Possibles!DP17","v":176.29999999999998},{"$f":"Possibles!DQ17","v":176.29999999999998},{"$f":"Possibles!DR17","v":176.29999999999998},{"$f":"Possibles!DS17","v":150.5},{"$f":"Possibles!DT17","v":124.69999999999999},{"$f":"Possibles!DU17","v":124.69999999999999},{"$f":"Possibles!DV17","v":98.899999999999991},{"$f":"Possibles!DW17","v":98.899999999999991},{"$f":"Possibles!DX17","v":25.799999999999997},{"$f":"Possibles!DY17","v":25.799999999999997},{"$f":"Possibles!DZ17","v":45.149999999999991},{"$f":"Possibles!EA17","v":45.149999999999991},{"$f":"Possibles!EB17","v":0},{"$f":"Possibles!EC17","v":0},{"$f":"Possibles!ED17","v":19.349999999999998},{"$f":"Possibles!EE17","v":19.349999999999998},{"$f":"Possibles!EF17","v":0},{"$f":"Possibles!EG17","v":19.349999999999998},{"$f":"Possibles!EH17","v":0},{"$f":"Possibles!EI17","v":73.099999999999994},{"$f":"Possibles!EJ17","v":0},{"$f":"Possibles!EK17","v":0},{"$f":"Possibles!EL17","v":0},{"$f":"Possibles!EM17","v":19.349999999999998},{"$f":"Possibles!EN17","v":0},{"$f":"Possibles!EO17","v":0},{"$f":"Possibles!EP17","v":0},{"$f":"Possibles!EQ17","v":0},"END"]
[{"$f":"SUM(A48:A57)","v":0},"Totals",{"$f":"SUM(C48:C57)","v":0},{"$f":"SUM(D48:D57)","v":0},0,0,0,0,0,0,0,0,0,0,0,0,{"$f":"SUM(Q48:Q57)","v":0},0,0,0,0,0,0,0,0,0,0,0,0,0,0,0,0,0,0,0,0,0,0,0,0,0,0,0,0,0,0,0,0,0,0,0,0,0,0,0,0,0,0,0,0,0,0,0,0,0,0,{"$f":"SUM(BP48:BP57)","v":0},"END"]
[{"$f":"IF(A59=A39,\"ok\",\"!!\")","v":"ok"},null,{"$f":"IF(C59=C39,\"ok\",\"!!\")","v":"ok"},{"$f":"IF(D59=D39,\"ok\",\"!!\")","v":"ok"},"ok","ok","ok","ok","ok","ok","ok","ok","ok","ok","ok","ok","ok","ok","ok","ok","ok","ok","ok","ok","ok","ok","ok","ok","ok","ok","ok","ok","ok","ok","ok","ok","ok","ok","ok","ok","ok","ok","ok","ok","ok","ok","ok","ok","ok","ok","ok","ok","ok","ok","ok","ok","ok","ok","ok","ok","ok","ok","ok","ok","ok","ok","ok",{"$f":"IF(BP59=BP39,\"ok\",\"!!\")","v":"ok"},"END"]
[null,"separate spreadsheet",null,null,null,null,null,null,null,null,null,null,null,null,null,null,null,null,null,null,null,null,null,null,null,null,null,null,null,null,null,null,null,null,null,null,null,null,null,null,null,null,null,null,null,null,null,null,null,null,null,null,null,null,null,null,null,null,null,null,null,null,null,null,null,null,null,null,"END"]
[null,null,null,null,null,null,null,null,null,null,null,null,null,null,null,null,null,null,null,null,null,null,null,null,null,null,null,null,null,null,null,null,null,null,null,null,null,null,null,null,null,null,null,null,null,null,null,null,null,null,null,null,null,null,null,null,null,null,null,null,null,null,null,null,null,null,null,null,"END"]

{"sheet":"Resource Capacity","index":13,"n_rows":36,"n_cols":8,"rows_kept":36,"cut":false,"hidden":true,"merged":[]}
[]
[]
[null,"TOTAL ANTICIPATED MANHOURS PER MONTH"]
[null,"PM Resource Capacity"]
[]
[null,"Resource","Status","Days","Hrs per \nweek","Efficiency\n(excl hols)","Hrs per month\n(x 4.3 ave)"]
[null,"Andrew Fleming","Gen2",5,{"$f":"D7*7.5","v":37.5},{"$f":"G$36","v":0.79},{"$f":"ROUND(E7*4.3*F7,1)","v":127.4}]
[null,"Banji Adegunju","Bench",3,22.5,{"$f":"G$36","v":0.79},{"$f":"ROUND(E8*4.3*F8,1)","v":76.400000000000006}]
[null,"Brian Hirst","Flex",5,37.5,0.79,127.4]
[null,"Chris Wrench","Bench",5,37.5,0.79,127.4]
[null,"David Harris","Gen2",5,37.5,0.79,127.4]
[null,"David Mounter","Gen2",5,37.5,0.79,127.4]
[null,"Emily Stapley","Gen2",5,37.5,0.79,127.4]
[null,"Esther Larner","Gen2",5,37.5,0.79,127.4]
[null,"James Drew","Flex",3,22.5,0.79,76.400000000000006]
[null,"Janet Streek","Gen2",4,30,0.79,101.9]
[null,"Joanna Ashby","Gen2",5,37.5,0.79,127.4]
[null,"Joanne Taylor","Gen2",3,22.5,0.79,76.400000000000006]
[null,"Natasha Petley","Gen2",2,15,0.79,51]
[null,"Paula Malpeli","Gen2",3,22.5,0.79,76.400000000000006]
[null,"Rachel Line","Bench",5,37.5,0.79,127.4]
[null,"Sue Meads","Gen2",3,22.5,0.79,76.400000000000006]
[null,"Joanne Taylor","Flex",2,15,0.79,51]
[null,"Ben Sherreard","Flex",3,22.5,0.79,76.400000000000006]
[]
[null,"Personnel","Source",null,null,null,"Ave manhrs PCM","%age"]
[null,{"$f":"COUNTIF(C$7:C$24,C27)","v":11},"Gen2",null,null,null,{"$f":"SUMIF(C$7:C$24,C27,G$7:G$24)","v":1146.5},{"$f":"G27/SUM(G$27:G$29)","v":0.63381060312897342}]
[null,{"$f":"COUNTIF(C$7:C$24,C28)","v":3},"Bench",null,null,null,{"$f":"SUMIF(C$7:C$24,C28,G$7:G$24)","v":331.20000000000005},{"$f":"G28/SUM(G$27:G$29)","v":0.18309469843551332}]
[null,{"$f":"COUNTIF(C$7:C$24,C29)","v":4},"Flex",null,null,null,{"$f":"SUMIF(C$7:C$24,C29,G$7:G$24)","v":331.20000000000005},0.18309469843551332]
[null,null,null,null,null,null,{"$f":"SUM(G27:G29)","v":1808.9}]
[null,"Productivity"]
[null,"Hours per annum",265,7.5,{"$f":"PRODUCT(C32:D32)","v":1987.5}]
[null,"Weekends",-52,15,{"$f":"PRODUCT(C33:D33)","v":-780},{"$f":"SUM(E32:E33)","v":1207.5}]
[null,"Annual leave",-25,7.5,{"$f":"PRODUCT(C34:D34)","v":-187.5}]
[null,"Bank Hols",-9,7.5,{"$f":"PRODUCT(C35:D35)","v":-67.5}]
[null,null,null,null,null,{"$f":"SUM(E32:E35)","v":952.5},{"$f":"ROUND(F36/F33,2)","v":0.79}]

{"sheet":"Resource histogram (2)","index":14,"n_rows":0,"n_cols":0,"rows_kept":0,"cut":false,"hidden":true,"merged":[]}

{"sheet":"Gateway Forecast","index":15,"n_rows":97,"n_cols":10,"rows_kept":97,"cut":false,"hidden":true,"merged":[[2,0,2,9]]}
[]
[null,"Gateways not requiring sign off by Client"]
["Gateways Tracker"]
["Project","PM","Gateway","Deadline","Submitted to KCC","Meeting Arranged","Comments Received","Additional Information Submitted","Approval Received","Query Responses"]
["Portal House ","Sue Meads","5&6","2018-11-09","2018-10-31","2018-11-06",null,null,null,"Meeting arranged for Friday 8th March"]
["Bennett Memorial","Emily Stapley",3,"2018-12-07","2019-01-09","2018-01-23",null,null,null,"Awaiting feedback"]
["St Greg's","Paula Malpeli",3,"2018-12-07","2019-01-15","2019-01-16",null,null,null,"Awaiting feedback"]
["TWGSB","Paula Malpeli",3,"2018-12-07","2019-01-15","2019-01-16",null,null,null,"Ben addressing"]
["Temple Hill ","Jo Taylor","5&6","2018-12-14","2018-12-20","2018-12-21",null,null,null,"Awaiting Sign Off"]
["Judd","Erica Pavlis ",3,"2018-12-21",null,null,null,null,null,"BS to discuss with EP"]
["Hawkenbury ","Emily Stapley",4,"2019-01-04","2019-01-17","2019-01-25",null,null,null,"Awaiting feedback"]
["Ursuline ","Sue Meads",4,"2019-01-11"]
["Faversham Library ","David Harris","5&6","2019-01-18"]
["Archbishops","David Harris","5&6","2019-01-18"]
["Dartford Clinic","David Harris","5&6","2019-01-18"]
["Barton Court Free School","Chris Wrench",2,"2019-01-18",null,null,null,null,null,"Awaiting copy of the signed gateway form"]
["St John’s Secondary (PFI)","David Mounter",1,"2019-01-18"]
["Thamesview (PFI)","David Mounter",1,"2019-01-18"]
["Sittingbourne CC","Paula Malpeli","5&6","2019-01-25",null,null,null,null,null,"PM off sick"]
["Edenbridge","Jo Taylor","5&6","2019-01-25"]
["Dover Discovery Centre","Andrew Fleming",2,"2019-02-01"]
["Herne Bay Library","Sue Meads",3,"2019-02-12"]
["Craylands","Natasha Petley","5&6","2019-02-21"]
["Harrietsham ","David Mounter",4,"2019-02-21"]
["Chilmington ","Emily Stapley",3,"2019-03-22"]
["Dartford Grammar Girls","Bisi Ogunbambi",4,"2019-03-22"]
["St Andrews Free School","Emily Stapley",2,"2019-03-22"]
["Mapleston Oaks","Emily Stapley",3,"2019-03-22"]
["Trinity ","Esther Larner",4,"2019-03-29"]
["Mayfield Grammar","Esther Larner",2,"2019-03-29"]
["St Georges Broadstairs","Jo Johnson","5&6","2019-03-29"]
["Headcorn PS","Paula Malpeli",7,"2019-03-29"]
["Sunny Bank PS","Bisi Ogunbambi",0,"2019-03-29"]
["Hermitage Lane","Fran Dampier",0,"2019-03-29"]
["Southborough Hub ","Andrew Fleming",4,"2019-04-05"]
["Wilmington Academy","Esther Larner",4,"2019-04-12"]
["Wilmington Grammar","Esther Larner",4,"2019-04-12"]
["RSD","Bisi Ogunbambi",2,"2019-04-12"]
["West Hill PS","Jo Johnson",0,"2019-04-15"]
["Preston Primary School","Natasha Petley","5&6","2019-04-30"]
["Hampton ","David Mounter","5&6","2019-04-30"]
["Finberry PS","Jo Johnson",4,"2019-04-30"]
["Mayfield - Kitchen - Phase 2","Esther Larner","5&6","2019-05-24"]
["Mayfield - Science Block - Phase 4","Esther Larner","5&6","2019-05-24"]
["Skinners Kent Academy","Chris Wrench",2,"2019-05-24"]
["Ryarsh ","Jo Johnson","5&6","2019-05-28"]
["Regis Manor","Brian Hirst","5&6","2019-05-30"]
["Pilgrims Way PS","Jo Johnson",2,"2019-05-31"]
["Northfleet School for Girls","Erica Pavlis",3,"2019-07-21"]
["Park Way","James Drew","5&6","2019-09-29"]
["Whitfield Aspen School","Sue Meads","5&6","2019-09-30"]
["Darenth Primary ","David Harris","5&6","2019-10-08"]
["St John Catholic","David Mounter","5&6","2019-10-15"]
["St Georges Gravesham","Angela Heselgrave","5&6","2019-10-28"]
["Bennenden ","Jo Johnson","5&6","2019-10-29"]
["Spires - Modular Unit","David Harris","5&6","2019-10-29"]
["Seal PS","Emily Stapley","5&6","2019-10-30"]
["Meadowfield ","Sue Meads","5&6","2019-10-30"]
["Swadelands","Erica Pavlis","5&6","2020-02-28"]
["Mayfield - Eisec Newton - Phase 3","Esther Larner",4,"TBC"]
["Platt","Erica Pavlis",2,"TBC"]
["Coroners Phase 2 / Oakwood","Andrew Fleming",2,"TBC"]
["Sellinge PS","James Drew",2,"TBC"]
["Ebbsfleet Green","Jo Johnson",2,"TBC"]
["Tunbridge Wells Cultural Hub","Aidan Webb","5&6","TBC"]
[]
[]
[]
[]
[]
[]
[]
[]
[]
[]
[]
[]
[]
[]
[]
[]
[]
[]
[]
[]
[]
[]
[]
[]
[null,null,null,"Status","Planned reviews",16]
[null,null,null,null,"Signed off",14]
[null,null,null,null,"On hold/cancelled",0]
[null,null,null,null,"Minor outstanding queries",4]
[null,null,null,null,"Outstanding queries",0]
[null,null,null,null,"QA Queries",5]
[null,null,null,null,"Below threshold",10]
[null,null,null,null,null,{"$f":"SUM(F91:F96)","v":33}]

{"sheet":"Unapproved Summary","index":16,"n_rows":28,"n_cols":9,"rows_kept":28,"cut":false,"hidden":true,"merged":[[2,1,2,5],[3,1,3,5],[4,1,4,5]]}
["Unapproved Programme Summary Sheet"]
[]
["Status 1","Identified by as a priority and currenlty progressing"]
["Status 2","Not identified as a priority but progressing"]
["Status 3","Not identified as a priority and currently On Hold"]
[]
[]
["Status","No of Projects","Budget","Spend to Date"]
[1,18,60747528,3242192]
[2,7,45600000,42950]
[3,6,60500000,3600]
["TOTAL",{"$f":"SUM(B9:B11)","v":31},{"$f":"SUM(C9:C11)","v":166847528},{"$f":"SUM(D9:D11)","v":3288742}]
[]
[]
[null,null,"Spend To Date","Overall Budget"]
[null,null,{"$f":"D12","v":3288742},6000000]
[]
["To date","2018-08-01","2018-09-01","2018/19 Q3","2018/19 Q4","2019/20","2020/21","2021/22 +","Total"]
[{"$f":"SUM('Project Information'!#REF!)","v":{"$error":"#REF!"}},1850430,{"$f":"'Project Information'!#REF!","v":{"$error":"#REF!"}},10128026,7692682.25,53086157,20651441,{"$f":"'Project Information'!#REF!","v":{"$error":"#REF!"}},{"$f":"SUM(A19:H19)","v":{"$error":"#REF!"}}]
[{"$f":"D12","v":3288742},{"$f":"SUM(A20+B19)","v":5139172},{"$f":"SUM(B20+C19)","v":{"$error":"#REF!"}},{"$error":"#REF!"},{"$error":"#REF!"},{"$f":"SUM(E20+F19)","v":{"$error":"#REF!"}},{"$error":"#REF!"},{"$error":"#REF!"}]
[]
[]
[]
[]
["RSD CASH FLOW"]
["To Date","2018-10-01","2018-11-01","2018-12-01","Q4 18/19","19/20","20/21","Total"]
[36750,34735,2200,6950000,19629.75,6746990,13159695.25]
[{"$f":"A27","v":36750},{"$f":"SUM(A28+B27)","v":71485},{"$f":"SUM(B28+C27)","v":73685},{"$f":"SUM(C28+D27)","v":7023685},{"$f":"SUM(D28+E27)","v":7043314.75},{"$f":"SUM(E28+F27)","v":13790304.75},{"$f":"SUM(F28+G27)","v":26950000},{"$f":"SUM(G28+H27)","v":26950000}]

{"sheet":"Unapproved dashboard ","index":17,"n_rows":27,"n_cols":10,"rows_kept":27,"cut":false,"hidden":true,"merged":[[1,2,1,4]]}
[]
[null,null,"Unapproved dashboard "]
[]
[]
[]
[]
[]
[]
[]
[]
[]
[]
[]
[]
[]
[]
[]
[]
[]
[]
[]
[]
[]
[]
["To date","2018-07-01","2018-08-01","2018-09-01","2018/19 Q3","2018/19 Q4","2019/20","2020/21","2021/22 +","Total"]
[1692770,1668338,2796517,1617928,10365769,6669503,54498771,31446035,56091897,166847528]
[1692770,3361108,6157625,7775553,18141322,24810825,79309596,110755631,166847528]

{"sheet":"Priorities Next Month","index":18,"n_rows":14,"n_cols":3,"rows_kept":14,"cut":false,"hidden":true,"merged":[]}
["Item","Project","Programme"]
["Confirmation of KCC JCT 2016 Amendment position ","ALL","ALL"]
["Commission for Oakwood Coroners Project","Oakwood Coroners","GET"]
["Gateways","As outlined in tracker","ALL"]
["S106 Land Transfer to be completed by 31st January","Whitfield Aspen","Basic Need"]
["Temporary arrangements for Sept 2019","St Gregs, Wilmington Academy, Mayfield","Basic Need"]
["Understand any planning implications to proposed redesign due to VE","Harrietsham","Basic Need"]
["Transport Feasibility","SKA","Basic Need"]
["Development Agreement and associated documentation","Tunbridge Wells Cultural Hub","GET"]
["Tender Analysis and Contract Award (following gateways)","Judd","Basic Need"]
["Hawkenbury CSA and contract","Hawkenbury","Basic Need"]
["Contract agreed and start on site","Meadowfield","Basic Need"]
["Agree procurement route - SCAPE recommneded","Ebbsfleet Primary School","Basic Need"]
["Analyse feasibility batch tenders","Varied","Basic Need"]

{"sheet":"Action Log","index":19,"n_rows":113,"n_cols":9,"rows_kept":113,"cut":false,"hidden":true,"merged":[]}
["Gen 2 Action Log"]
[]
["Action","Required By","Responsible","Importance","Status","Generated from Meeting","Item Link",null,"Date Completed"]
["Arrange meeting with KCC Infrastructure, Education and Gen2 to asses priority schemes within 'Unapproved' BN Programme","2018-06-29","AC","A",{"$f":"IF(I4>0,\"Complete\",\"In Progress\")","v":"Complete"},"Capital Operations Meeting - 21 June","Decisions Required from KCC - 1",null,"2018-06-29"]
["Provide Away Day Agenda item detail to Andrew Chauvin","2018-06-30","BS","G","Complete","Capital Operations Meeting - 21 June","N/A",null,"2018-06-28"]
["Andrew to attend Gen2 July Away Day - NOW N/A DUE TO AC LEAVE","2018-07-19","AC","G","Complete","Capital Operations Meeting - 21 June","N/A",null,"2018-06-28"]
["Discuss potential timescales with Lowry's if order approved by 22 June","2018-06-22","JT","R","Complete","Capital Operations Meeting - 21 June","Decisions Required from KCC - 6",null,"2018-06-21"]
["Raise Park Way procurment with Karen and Rebecca to allow for appointment of Lowry's for potential September delivery ","2018-06-22","AC","R","Complete","Capital Operations Meeting - 21 June","Decisions Required from KCC - 6",null,"2018-06-21"]
["Confirm contract amendment for McAvoy off site manufacture for Mayfield School","2018-06-22","AC","R","Complete","Capital Operations Meeting - 21 June","Decisions Required from KCC - 8",null,"2018-06-25"]
["Confirm Mayfield UKPN Substation iProc order approved by Rebecca","2018-06-22","AC","A","Complete","Capital Operations Meeting - 21 June","Decisions Required from KCC - 7",null,"2018-06-25"]
["Approval to proceed with Laleham Gap following single tender return from PCF","2018-06-22","AC","R","Complete","Capital Operations Meeting - 21 June",null,null,"2018-07-12"]
["Approval from Selena to prepare St John's Primary School contract","2018-06-22","Gen 2","R","Complete","Capital Operations Meeting - 21 June","Decisions Required from KCC - 4",null,"2018-06-22"]
["Approval from Selena to issue PCSA for Hawkenbury","2018-06-22","Gen 2","R","Complete","Capital Operations Meeting - 21 June","Exceptions Item - 5",null,"2018-06-22"]
["Provide Turner Trust Business Case to Andrew prior to issue to ESFA","2018-06-28","JS","A","Complete","Capital Operations Meeting - 21 June","Decisions Required from KCC - 2",null,"2018-06-29"]
["Provide rationale for Coroners Procurement through D&B or review possibility of Traditional route","2018-06-29","BS","G","Complete","Capital Operations Meeting - 21 June","N/A",null,"2018-06-28"]
["Review and approve Minor Works Contract Amendments suggested by Dominic ","2018-06-29","AC","A","Complete","Capital Operations Meeting - 21 June","Decisions Required from KCC - 9 - 12",null,"2018-06-29"]
["Review process for escalation/tender failure","2018-06-29","AC","A","Complete","Capital Operations Meeting - 21 June","N/A",null,"2018-06-29"]
["Discuss Baxalls JCT 2016 Amendments Report with Selena","2018-06-29","AC","R","Complete","Capital Operations Meeting - 21 June","N/A",null,"2018-06-29"]
["Invite Andrew to K2 Demo session with Trevor and Scott","2018-06-22","BS","G","Complete","Capital Operations Meeting - 21 June","N/A",null,"2018-06-26"]
["Arrange K2 meeting with Trevor, Aaron and Andrew","2018-06-29","BS","G","Complete","Capital Operations Meeting - 21 June","N/A",null,"2018-06-26"]
["Break line","Break line","Break line","Break line","Break line","Break line","Break line"]
["Provide Dashboard Update for 18/19 Delivery","2018-06-22","Gen 2","R","Complete","Capital Review Meeting - 15 June","N/A",null,"2018-06-21"]
["Provide Resource Tracker for Gen2 PM forecasting","2018-06-22","Gen 2","R","Complete","Capital Review Meeting - 15 June","N/A",null,"2018-06-21"]
["Provide forecast of £6m approved spending","2018-06-22","Gen 2","R","Complete","Capital Review Meeting - 15 June","N/A",null,"2018-06-21"]
["Provide detail of 'ON HOLD' projects","2018-06-22","Gen 2","A","Complete","Capital Review Meeting - 15 June","N/A",null,"2018-06-21"]
["Provide detailed phasing for Projects","2018-06-29","Gen 2","A","Complete","Capital Review Meeting - 22 June ","N/A",null,"2018-06-27"]
["Provide Dashboard Graphic displaying 'on target' delivery by year","2018-06-29","Gen 2","A","Complete","Capital Review Meeting - 22 June","N/A",null,"2018-06-27"]
["Provide Dashboard Graphic displaying budget position","2018-07-06","Gen 2","R","Complete","Capital Review Meeting - 29 June","N/A",null,"2018-07-06"]
["Sharing of Project capital Reporting to MOA+","2018-07-06","Gen 2","G","Complete","Capital Review Meeting - 29 June","N/A",null,"2018-07-03"]
["Add in Riba Stage to cost tracker","2018-07-20","Gen 2","A","Complete","Capital Review Meeting - 06 July","N/A",null,"2018-07-20"]
["Pick up Approval Form issue on Mayfield, Laleham and Archbishop with legal","2018-07-09","Gen 2","R","Complete","Capital Review Meeting - 06 July","N/A",null,"2018-07-09"]
["Pick up Approval Form issue generally with legal","2018-07-13","AC","A","Complete","Capital Review Meeting - 06 July","N/A",null,"2018-07-13"]
["Set out Framework Use Reporting, finance/spend/company monitoring expectations - KPIs","2018-07-20","Gen 2","A","Complete","Capital Review Meeting - 06 July","N/A",null,"2018-07-20"]
["Adding pipeline to the Ops Meeting Agenda","2018-07-13","Gen 2","R","Complete","Capital Review Meeting - 06 July","N/A",null,"2018-07-20"]
["Set out Pipeline Batching process ","2018-07-20","Gen 2 ","A","Complete","Capital Review Meeting - 06 July","N/A",null,"2018-07-20"]
["Discuss with Karen how to give Gen 2 visability of unseen pipeline ","2018-07-20","AC","R","Complete","Capital Review Meeting - 06 July","N/A",null,"2018-07-20"]
["Baselining Project Timeline ","2018-07-20","Gen 2","R","Complete","Capital Review Meeting - 06 July","N/A",null,"2018-07-20"]
["Data on £per pupil/£per m2/delivery by school place against KCP","2018-09-07","Gen 2","R","In Progress","Capital Review Meeting - 06 July","N/A"]
["Dummy audit along ESFA lines","2018-08-23","Gen 2","R","Complete","Capital Review Meeting - 20 July","N/A",null,"Superseded by actual audit questionnaire"]
["ESFA modular team audit","2018-09-07","Gen 2","R","Complete","Capital Review Meeting - 20 July","N/A",null,"2018-09-07"]
["Add modualr consideration process to Capital Ops meeting and Gateway review process","2018-08-26","Gen 2","A","Complete","Capital Review Meeting - 20 July","N/A",null,"2018-08-07"]
["Look at Grants to apply for funding fro Benenden","2018-08-17","Gen 2","R","Complete","Capital Review Meeting - 20 July","N/A",null,"2018-08-17"]
["Lessons learned on Hawkenbury","2018-08-23","Gen 2","A","Complete","Capital Review Meeting - 20 July","N/A",null,"2018-08-17"]
["Dummy gateway on St Greg's - TWBGS","2018-08-31","Gen 2 ","A","Complete","Capital Review Meeting - 20 July","N/A",null,"2018-08-31"]
["Line up survey work for RSD","2018-08-15","BS","R","Complete","Capital Review Meeting - 3 August","N/A",null,"2018-08-17"]
["Discuss modular presumption with RSD design team","2018-08-08","BS","A","Complete","Capital Review Meeting - 3 August","N/A",null,"2018-08-03"]
["Refresh RSD Feasibility cost estimate","2018-08-28","Gleeds","A","Complete","Capital Review Meeting - 3 August","N/A",null,"2018-08-29"]
["Arrange Meeting with Finance to reconcile cashflow tracker across whole programme","2018-08-17","BS","R","Complete","Capital Review Meeting - 3 August","N/A",null,"2018-08-23"]
["Email Andrew Chauvin with breakdown of Chilmington Green land issues","2018-08-17","JT","G","Complete","Capital Review Meeting - 3 August","N/A",null,"2018-08-14"]
["Raise Chilmington Green, Ursuline, Bennett, St Gregs and TWBGS to red","2018-08-17","BS","A","Complete","Capital Review Meeting - 3 August","N/A",null,"2018-08-23"]
["Confirm ANC/License issues with David Mounter for PFI schemes","2018-08-17","BS","A","Complete","Capital Review Meeting - 3 August","N/A",null,"2018-08-13"]
["Link David Mounter with Nick Harris to ensure wider project team formed","2018-08-17","BS","A","Complete","Capital Review Meeting - 3 August","N/A",null,"2018-08-14"]
["Discuss planning history at Thamesview with David Mounter","2018-08-08","BS","G","Complete","Capital Review Meeting - 3 August","N/A",null,"2018-08-07"]
["Confirm who is looking at title issues at Ursuline","2018-08-17","BS","G","Complete","Capital Review Meeting - 3 August","N/A",null,"2018-08-21"]
["Review of Woodley Coles","2018-09-06","Gen 2","A","Complete","Capital Review Meeting - 3 August","N/A",null,"2018-09-06"]
["Judd Stage 3 Gateway ","2018-08-31","BS","A","Complete","Capital Review Meeting - 3 August","N/A",null,"2018-08-23"]
["RSD Stage 2 Gateway","2018-08-31","BS","A","Complete","Capital Review Meeting - 3 August","N/A",null,"2018-08-23"]
["Confirm sign of for School Managed Business Cases and timeframes for St Georges and Westlands","2018-08-28","Gen 2","G","Complete","Capital Review Meeting - 3 August","N/A",null,"2018-08-28"]
["CYPE/INF meeting to discuss and agree 'on hold' projects (21 June action)","2018-08-23","AC","R","Complete","Capital Review Meeting - 3 August","N/A",null,"2018-09-03"]
["Confirm plan/programme for Skinners Kent Academy ","2018-08-28","Gen 2","A","Complete","Capital Review Meeting - 3 August","N/A",null,"2018-09-04"]
["Baseline for resource requirement","2018-08-23","Gen 2","R","Complete","Capital Review Meeting - 3 August","N/A",null,"2018-08-22"]
["Provide baseline Commission for Unapproved Programme","2018-08-31","AC","R","Complete","Capital Review Meeting - 3 August","N/A",null,"2018-09-19"]
["Tighten up contingency budgets vs forecast spend - Approved and Unapproved","2018-08-31","BS","R","Complete","Capital Review Meeting - 3 August","N/A",null,"2018-10-04"]
["Invite AC to future AEO meetings","2018-08-17","BS","R","Complete","Capital Review Meeting - 3 August","N/A",null,"2018-08-21"]
["Confirm cost for RSD to Rebecca once received from Gleeds. ","2018-08-30","BS","A","Complete","Capital Review Meeting - 24 August",null,null,"2018-09-06"]
["Instruct David Mounter to liaise with Nick Harris re: procedure and timescales","2018-09-07","BS","G","Complete","Capital Review Meeting - 24 August",null,null,"2018-09-06"]
["AC to attend AEO meetings to assess priorities","Ongoing","AC","R","Complete","Capital Review Meeting - 24 August",null,null,"2018-09-05"]
["Lessons learned on Seal tender/planning programme","2018-09-07","JT","G","Complete","Capital Review Meeting - 24 August",null,null,"2018-09-07"]
["Estates Commission related to Harrietsham ","2018-09-07","AC","G","In Progress","Capital Review Meeting - 24 August"]
["Budget indexing to include base date","2018-09-28","Gen 2","R","In Progress","Capital Review Meeting - 24 August"]
["Benenden approval form to be sent to Rebecca","2018-09-07","JT","G","Complete","Capital Review Meeting - 24 August",null,null,"2018-08-28"]
["Confirmation of 2016 Amendments and instruction to Gen 2","2018-09-07","AC","R","In Progress","Capital Review Meeting - 24 August"]
["Escalate Chilmington Green within David Smith's Economic Regen team to understand wider implications if developer struggles with viability issues. ","2018-09-07","Gen 2","A","Complete","Capital Review Meeting - 24 August",null,null,"2018-08-28"]
["Have Highways England commented on Trinity","2018-09-07","BS","A","Complete","Capital Review Meeting - 24 August",null,null,"2018-08-28"]
["Investigate potential recourse to design team on Thanet Skills Centre","2018-09-07","Gen 2","R","Complete","Capital Review Meeting - 24 August",null,null,"2018-09-06"]
["Are there more buildings at which we would expect similar issues to TSS","2018-09-07","Gen 2","R","Complete","Capital Review Meeting - 24 August",null,null,"2018-09-06"]
["AEO meetings - priorities results feed back to EAB","2018-09-21","AC","A","Complete","Capital Review Meeting - 7 September",null,null,"2018-09-21"]
["Pipeline visibility as part of Capital Programming - October ","2018-10-27","AC","R","In Progress","Capital Review Meeting - 7 September"]
["Benchmarking in line? Cost per pupil? Part of ESFA evidence","2018-09-17","Gen 2","A","Complete","Capital Review Meeting - 7 September",null,null,"2018-09-10"]
["Push hard on the Major Maintenance programme – 20% committed/50% through year - meeting between DC and AC","2018-09-17","Gen 2","G","Complete","Capital Review Meeting - 7 September",null,null,"2018-09-08"]
["Remove Hawkenbury from Exceptions","2018-09-17","Gen 2","G","Complete","Capital Review Meeting - 7 September",null,null,"2018-09-28"]
["Ask Ian Watts regarding parking bays  St Georges ","2018-09-17","Gen 2","G","Complete","Capital Review Meeting - 7 September",null,null,"2018-09-10"]
["Define principles for Batching","2018-09-24","Gen 2","R","Complete","Capital Review Meeting - 7 September",null,null,"2018-10-05"]
["Gen 2/KCC project infrastructure – proactive approach to solving issues ","2018-09-24","Gen 2","R","Complete","Capital Review Meeting - 7 September",null,null,"2018-09-24"]
["Write to Gen2 confirming the arrangement for delegated authority against change control for costs on projects. ","2018-09-14","AC","R","In Progress","Capital Review Meeting - 7 September"]
["Pick out high priority strategic projects and suggest ‘Project Team’ across disciplines ","2018-09-24","Gen 2","R","In Progress","Capital Review Meeting - 7 September"]
["Break line","Break line","Break line","Break line","Break line","Break line","Break line"]
["Craylands PFI Issue - Andrew to brief KR and Nick Harris","2018-07-06","AC","A","Complete","Capital Programme Meeting - 28 June","Exceptions Item - 11",null,"2018-06-28"]
["Add Exec Summary tab to Programme Report","2018-07-20","BS","G","Complete","Capital Programme Meeting - 28 June","N/A",null,"2018-06-28"]
["Forward Plan Gateway Signoffs for Next month","2018-07-20","BS","A","Complete","Capital Programme Meeting - 28 June","N/A",null,"2018-07-20"]
["Gateway reports reviewed by Andrew","2018-07-13","AC","A","Complete","Capital Programme Meeting - 28 June","N/A",null,"2018-07-13"]
["Discuss contingency reporting with Rebecca/Karen and Keith Abbott","2018-08-17","AC","A","In Progress","Capital programme Meeting - July 2018"]
["Programme Level Contingency","2018-07-20","BS","R","Complete","09/07/18 Conversation with AC",null,null,"2018-07-23"]
["Natasha to attend future Review Meetings","2018-10-31","BS","A",{"$f":"IF(I94>0,\"Complete\",\"In Progress\")","v":"In Progress"},"Capital Programme Meeting 28 Sept"]
["Baseline Change Control forms for Approved Programme","2018-10-31","BS/AC","R","In Progress","Capital Programme Meeting 28 Sept"]
["Speak to finance regarding CP visability","2018-10-31","AC","A","In Progress","Capital Programme Meeting 28 Sept"]
["Reschedule Gateways","2018-10-31","BS/NP","R","In Progress","Capital Programme Meeting 28 Sept"]
["Gateway documents uploaded to Sharepoint - not on email","2018-10-31","NP","A","In Progress","Capital Programme Meeting 28 Sept"]
["Consider timing of Gateway 5 ","2018-10-31","AC","G","In Progress","Capital Programme Meeting 28 Sept"]
["Send over EAB slide pack to Ben and Jo","2018-10-31","AC","G","In Progress","Capital Programme Meeting 28 Sept"]
["BS update on £6m spend","2018-10-31","BS","A","In Progress","Capital Programme Meeting 28 Sept"]
["Meeting with Joy Lane ","2018-10-31","JT","A","In Progress","Capital Programme Meeting 28 Sept"]
["Change Control Form for Seal","2018-10-31","JT","G","In Progress","Capital Programme Meeting 28 Sept"]
["Change Control and Gateway for Meadowfield","2018-10-31","BS/BH","G","In Progress","Capital Programme Meeting 28 Sept"]
["Gateway review to examine QS reports for Sellinge","2018-10-31","BS/ES","G","In Progress","Capital Programme Meeting 28 Sept"]
["Apply ESFA Amendments to Lenham","2018-10-31","BS/JT","G","In Progress","Capital Programme Meeting 28 Sept"]
["Check Gen2 commissioned to manage the land acquisition at Hawkenbury","2018-10-31","AC","A","In Progress","Capital Programme Meeting 28 Sept"]
["BS advise whether Rebecca Spore intervention required on TW land issue","2018-10-31","BS","A","In Progress","Capital Programme Meeting 28 Sept"]
["Approach Tenex Trust for funding agreement letter regarding Bennett","2018-10-31","BS/JSt","A","In Progress","Capital Programme Meeting 28 Sept"]
["Escalation of Martelo to commissioning if communication issues continue","2018-10-31","BS","A","In Progress","Capital Programme Meeting 28 Sept"]
["Escalate land issue at Harrietsham if not resolved this month","2018-10-31","BS","A","In Progress","Capital Programme Meeting 28 Sept"]
["Batch tender for Feasibilities","2018-10-31","BS","A","In Progress","Capital Programme Meeting 28 Sept"]
["Review Feasibility Study templates","2018-10-31","AC","A","In Progress","Capital Programme Meeting 28 Sept"]

{"sheet":"Pipeline Batching","index":20,"n_rows":5,"n_cols":4,"rows_kept":5,"cut":false,"hidden":true,"merged":[]}
["BATCH 1"]
["School name","Start on Site","Forecast Completion ","Estimated Contract Sum "]
["St Gregory's ","2018-11-29","2019-08-31"]
["TWBGS","2018-11-29","2019-08-31"]
["Bennet Memorial ","2018-12-01","2020-05-02"]

{"sheet":"Ave Project timescales","index":21,"n_rows":102,"n_cols":47,"rows_kept":102,"cut":false,"hidden":true,"merged":[]}
[]
[null,"PROJECT INFORMATION",null,null,null,null,null,null,null,"PROGRAMME INFORMATION",null,null,null,null,null,null,null,null,null,null,null,null,"COST INFORMATION",null,null,null,null,null,null,null,null,null,null,"  CASHFLOW"]
["line","PROGRAMME","PROJECT","Value","Post Contract\n(weeks)","Pre-Contract\n(weeks)","AREA","PROJECT MANAGER","APPROVED/\nUNAPPROVED","RIBA STAGE","END OF RIBA STAGE 0","END OF RIBA STAGE 1","END OF RIBA STAGE 2","END OF RIBA STAGE 3","END OF RIBA STAGE 4","END OF RIBA STAGE 5","PLANNING DECISION","START ON SITE DATE","AGREED COMPLETION DATE","FORECAST COMPLETION DATE","Academic Year Required","ON TIME","APPROX GIFA","APPROX COST PER M²","ROD","KCC CONTRIBUTION","CONTRIBUTION BY OTHERS","AGREED BUDGET","CONTRACT SUM","SPEND TO DATE","FORECAST SPEND","PROJECT CONTINGENCY",null,"To date","2018-07-01","2018-08-01","2018-09-01","2018/19 Q3","2018/19 Q4","2019/20","2020/21","2021/22 +","Total",null,null,"AGREED MONTH","AGREED YEAR"]
[82,"Basic Need","West Borough PS",{"$f":"AC4","v":141440.97},{"$f":"(S4-R4)/7","v":6},{"$f":"(O4-K4)/7","v":46.857142857142854},"West","David Harris","Approved",7,"2016-07-21","2016-07-21","2017-07-21","2017-06-14","2017-06-14","2018-10-16","N/A","2017-07-24","2017-09-04","2017-09-04","17/18","C",104,1708.3036538461538,"N/A",180000,0,180000,141440.97,177663.58,177663.58400000003,{"$f":"SUM(AB4-AE4)","v":2336.4159999999683},null,null,null,null,null,null,null,null,null,null,null,null,null,{"$f":"MONTH(S4)","v":9},{"$f":"YEAR(S4)","v":2017}]
[94,"Basic Need","Finberry PS",{"$f":"AC5","v":5657026},50.428571428571431,89.285714285714292,"South","Emily Stapley","Approved",7,"2014-10-01","2015-01-01","2015-04-01","2015-07-14","2016-06-17","2017-07-20","2015-10-21","2016-08-01","2017-07-20","2017-08-04","17/18","C",2471,{"$f":"AE5/W5","v":2521.1190206394172},6000000,6600000,"N/A",6600000,5657026,6171742.2599999998,6229685.0999999996,370314.90000000037,null,null,null,null,null,null,null,null,null,null,null,null,null,7,2017]
[95,"Basic Need","Birchington PS",{"$f":"AC6","v":2290000},53,34.142857142857146,"East","Emily Stapley","Approved",7,"2015-10-01","2015-12-01","2016-02-01","2017-03-01","2016-05-27","2017-06-05","2015-12-22","2016-05-30","2017-06-05","2017-04-10","17/18","C",2755,{"$f":"AE6/W6","v":919.57279128856624},2750000,2750000,55131,2750000,2290000,2381712.92,2533423.04,216576.95999999996,null,null,null,null,null,null,null,null,null,null,null,null,null,6,2017]
[96,"Basic Need","South Borough PS",{"$f":"AC7","v":1782692.57},33,63.428571428571431,"West","Emily Stapley","Approved",7,"2015-09-01","2015-12-01","2016-02-01","2016-04-01","2016-11-18","2017-07-10","2016-07-14","2016-11-21","2017-07-10","2017-07-03","17/18","C",676,{"$f":"AE7/W7","v":3160.9908431952663},2600000,2600000,94073.14,2600000,1782692.57,2047756.73,2136829.81,463170.18999999994,null,null,null,null,null,null,null,null,null,null,null,null,null,7,2017]
[97,"Basic Need","Oakley PS (Nursery)",{"$f":"AC8","v":963070},18.428571428571427,29.857142857142858,"West","Emily Stapley","Approved",7,"2016-10-01","2017-12-01","2017-02-01","2017-03-01","2017-04-28","2017-09-08","2017-04-24","2017-05-02","2017-09-08","2017-08-15","17/18","C",194.1,{"$f":"AE8/W8","v":5454.677485832045},586000,1100000,"N/A",1100000,963070,1058752.8999999999,1058752.8999999999,41247.100000000093,null,null,null,null,null,null,null,null,null,null,null,null,null,9,2017]
[10,"Basic Need","Wilmington Academy",{"$f":"AB9","v":7200000},68.857142857142861,92.571428571428569,"North","Esther Larner","Approved",6,"2015-09-22","2015-09-22","2015-09-22","Phase 1-3 ","2017-07-01","2018-10-20","2020-02-14","2018-10-20","2020-02-14","2019-12-31","17/18","C",3200,2837.5,7200000,7200000,"N/A",7200000,0,1720000,9080000,-1880000,null,null,null,null,null,null,null,null,null,null,null,null,null,2,2020]
[17,"Basic Need","Wilmington Grammar",{"$f":"AC10","v":4000000},68.857142857142861,160.57142857142858,"North","Esther Larner","Approved",6,"2015-09-22","2015-09-22","2015-09-22","2018-05-15","2018-10-20","2018-10-20","2020-02-14","2018-10-20","2020-02-14","2019-12-31","19/20","C",null,null,2800000,2800000,1100000,3900000,4000000,null,null,3900000,null,null,null,null,null,null,null,null,null,null,null,null,null,2,2020]
[26,"Basic Need","Brent PS",2333586.84,66.285714285714292,64.285714285714292,"North","Janet Streek","Approved",6,"2016-03-01","2016-03-31","2016-09-26","2017-01-20","2017-05-25","2018-06-27","16/03/2017 & 03/11/2017","2017-03-20","2018-06-27","2018-06-27","18/19","Y",1270,2834,4600000,4600000,"N/A",4600000,2333586.84,3306811.51,4338067.84,261932.16000000015,null,null,null,null,null,null,null,null,null,null,null,null,null,6,2018]
[27,"Basic Need","Edenbridge PS",696647.95,18.285714285714285,70,"North","Joanne Taylor","Approved",6,"2015-11-16","2016-02-29","2016-09-26","2016-11-28","2017-03-20","2018-07-01","2017-03-14","2017-10-14","2018-02-19","2018-02-19","18/19","Y",303,3240.12,850000,850000,"N/A",999037,696647.95,981759.49,979995,19042,null,null,null,null,null,null,null,null,null,null,null,null,null,2,2018]
[51,"Basic Need","Langley Park PS",2461413,40,46.857142857142854,"West","Joanna Ashby","Approved",6,"2017-01-03","2017-02-26","2017-05-30","2017-07-21","2017-11-27","2018-06-22","2015-09-14","2017-11-27","2018-09-03","2018-06-22","18/19","C",957.73,{"$f":"AE13/W13","v":2673.8084742046294},2600000,2600000,"N/A",2600000,2461413,2443126,2560786.59,39213.410000000149,null,null,null,null,null,null,null,null,null,null,null,null,null,9,2018]
[83,"Basic Need","Weald PS",387969,29,74.714285714285708,"North","Natasha Petley","Approved",6,"2016-03-16","2016-03-16","2017-02-28","2017-07-28","2017-08-21","2018-03-12","2017-07-26","2017-08-21","2018-03-12","2018-03-12","17/18","C",128.30000000000001,{"$f":"AE14/W14","v":3647.4590802805919},"N/A",480334,0,480334,387969,430298,467969,12365,null,null,null,null,null,null,null,null,null,null,null,null,null,3,2018]
[87,"Basic Need","Joy Lane Primary School Phase 2",3236525,52.857142857142854,25.571428571428573,"East","Janet Streek","Approved",6,"2016-03-04","2016-03-04","2016-03-04","2016-07-04","2016-08-30","2017-09-04","2016-05-24","2016-08-30","2017-09-04","2017-09-04","17/18","C",655,{"$f":"AE15/W15","v":5568.8283664122137},3500000,3850000,"N/A",3850000,3236525,3560582.58,3647582.58,202417.41999999993,null,null,null,null,null,null,null,null,null,null,null,null,null,9,2017]
[88,"NWoW","Avenue of Remembrance",1958666.59,57.285714285714285,20.428571428571427,"East","Janet Streek","Approved",6,"2016-02-16","2016-02-16","2016-05-04","2016-07-08","2016-07-08","2017-12-20","2018-01-05","2016-11-14","2017-12-20","2017-12-20",null,"C","N/A","N/A",1850000,2176614.1800000002,"N/A",2176614.1800000002,1958666.59,2063691.25,2123277.25,53336.930000000168,null,null,null,null,null,null,null,null,null,null,null,null,null,12,2017]
[21,"Basic Need","Mayfield Grammar",8000000,60.571428571428569,140.14285714285714,"North","Esther Larner","Approved",5,"2015-09-22","2015-09-22","2015-09-22","2018-01-08","2018-05-30","2018-12-31","2018-05-16","2018-07-03","2019-08-31","2018-12-31","18/19","N",null,null,5200000,5200000,2000000,8900000,8000000,null,null,8900000,null,null,null,null,null,null,null,null,null,null,null,null,null,8,2019]
[29,"Basic Need","Temple Hill PS",2474423,59.857142857142854,65.428571428571431,"North","Joanne Taylor","Approved",5,"2016-04-04","2016-05-03","2016-09-05","2016-12-05","2017-07-06","2019-08-20","2017-01-06","2017-07-10","2018-09-02","2018-08-29","18/19","Y",915,2704.28,2400000,2400000,"N/A",2486000,2474423,2222891.3199999998,2965973,-479973,null,null,null,null,null,null,null,null,null,null,null,null,null,9,2018]
[40,"Basic Need","Preston PS",242812.83,5.5714285714285712,74.428571428571431,"South","Natasha Petley","Approved",5,"2017-02-10","2017-05-10","2017-06-14","2017-08-02","2018-07-16","2018-08-31","2017-08-02","2018-07-23","2018-08-31","2018-08-31","18/19","Y",76,{"$f":"AE19/W19","v":3612.4276315789475},300000,300000,"N/A",300000,242812.83,16219.5,274544.5,25455.5,null,null,null,null,null,null,null,null,null,null,null,null,null,8,2018]
[45,"Basic Need","Hampton PS",184666.07,13.142857142857142,28.285714285714285,"East","David Mounter","Approved",5,"2017-11-24","2018-02-15","2018-02-15","2018-02-15","2018-06-10","2018-09-03","15/11/17 PD","2018-06-10","2018-09-10","2018-09-03","18/19","Y",89,{"$f":"AE20/W20","v":2596.9438202247193},300000,300000,"N/A",300000,184666.07,45376,231128,68872,null,null,null,null,null,null,null,null,null,null,null,null,null,9,2018]
[46,"Basic Need","Bysing Wood PS",3022869.25,51.571428571428569,51.285714285714285,"East","Joanne Taylor","Approved",5,"2015-03-31","2015-06-29","2015-10-12","2016-01-11","2016-03-24","2018-06-23","2016-12-01","2017-01-23","2018-01-19","2018-06-23","17/18","B",973,3106,3200000,3200000,"N/A",3500000,3022869.25,3336750.66,3487386.63,12613.370000000112,null,null,null,null,null,null,null,null,null,null,null,null,null,1,2018]
[48,"Basic Need","Regis Manor PS",2290691.37,41.285714285714285,62.857142857142854,"East","Paula Malpeli","Approved",5,"2016-11-01","2016-12-01","2017-03-23","2017-07-25","2018-01-15","2018-10-31","2017-07-25","2018-01-15","2018-10-31","2018-10-31","18/19","Y",955,{"$f":"AE22/W22","v":2660.4941151832459},3300000,3300000,"N/A",2580000,2290691.37,146724.14000000001,2540771.88,39228.120000000112,null,null,null,null,null,null,null,null,null,null,null,null,null,10,2018]
[49,"Basic Need","Sittingbourne CC",6077029,72,94.571428571428569,"East","Paula Malpeli","Approved",5,"2015-09-17","2015-09-17","2015-12-01","2016-05-20","2017-07-10","2018-11-06","2016-11-14","2017-07-10","2018-11-26","2018-11-06","18/19","Y",2322,{"$f":"AE23/W23","v":2785.7515073212749},6000000,6000000,"N/A",6600000,6077029,5326000,6468515,131485,null,null,null,null,null,null,null,null,null,null,null,null,null,11,2018]
[50,"Basic Need","Maplesden Noakes Secondary Expansion ",603000,9.8571428571428577,15.428571428571429,"West","Emily Stapley","Approved",5,"2018-04-01","2018-04-30","2018-05-15","2018-05-31","2018-07-18","2018-09-25","N/A","2018-07-18","2018-09-25","2018-09-25","18/19","Y","N/A","-","N/A",650000,"N/A",650000,603000,0,621090,28910,null,null,null,null,null,null,null,null,null,null,null,null,null,9,2018]
[53,"Basic Need","Harrietsham PS",2900000,125.14285714285714,89.285714285714292,"West","David Mounter","Approved",5,"2016-09-28","2017-10-06","2018-01-15","2018-03-18","2018-06-15","TBC","Bulge - 05/01/2018 PD\nMain Phase - Due Sept 2018","2018-04-09","2020-09-01","2020-09-01","20/21","Y",892,{"$f":"AE25/W25","v":4016.8262331838564},3000000,3000000,"N/A",3300000,2900000,196849,3583009,-283009,null,null,null,null,null,null,null,null,null,null,null,null,null,9,2020]
[58,"Basic Need","St John's Secondary School (PFI)",{"$f":"AB26","v":400000},5.5714285714285712,13.428571428571429,"North","David Mounter","Unapproved",5,"2018-03-30","2018-04-25","2018-05-25","2018-06-01","2018-07-02","2018-09-01","PD","2018-07-24","2018-09-01","2018-09-01","18/19","Y","TBC","TBC","TBC","TBC","TBC",400000,"TBC",2500,300000,100000,null,{"$f":"AD26","v":2500},44250,253250,null,null,null,null,null,null,{"$f":"SUM(AH26:AP26)","v":300000},null,null,9,2018]
[60,"Basic Need","Thamesview School (PFI)",{"$f":"AB27","v":50000},2,28.285714285714285,"North","David Mounter","Unapproved",5,"2017-12-12","2018-04-25","2018-05-25","2018-06-01","2018-06-28","2018-09-01","NA","2018-07-16","2018-07-30","2018-07-30","18/19","Y","TBC","TBC","TBC","TBC","TBC",50000,"TBC",6800,50000,0,null,{"$f":"AD27","v":6800},23000,20200,null,null,null,null,null,null,{"$f":"SUM(AH27:AP27)","v":50000},null,null,7,2018]
[73,"Basic Need","Laleham Gap",{"$f":"AC28","v":696623.42},13.571428571428571,42,"East","Joanna Ashby","Approved",5,"2017-08-01","2017-10-01","2018-01-09","2018-02-23","2018-05-22","2018-09-21","2018-05-17","2018-06-18","2018-09-21","2018-09-21","18/19","B",316.5,{"$f":"AE28/W28","v":2474.1488783570298},"N/A",800000,0,800000,696623.42,"TBC",783068.12,16931.880000000005,null,null,null,null,null,null,null,null,null,null,null,null,null,9,2018]
[74,"Modernisation","The Archbishops School",760711,16.571428571428573,57.714285714285715,"East","David Harris","Approved",5,"2017-06-05","2017-06-26","2017-11-09","2017-11-29","2018-07-14","2018-11-09","2018-03-06","2018-07-16","2018-11-09","2018-11-09",null,"Y",521,1713.015057581574,"N/A",1000000,0,1000000,760711,4340,837319.55,162680.44999999995,null,null,null,null,null,null,null,null,null,null,null,null,null,11,2018]
[77,"Other","Dartford Sexual Health Clinic",195950,12,{"$error":"#VALUE!"},"North","David Harris","Approved",5,"-","-","-","2017-01-30","2017-09-25","2018-07-20","N/A","2018-02-05","2018-04-30","2018-08-03",null,"N",150,1460.1999999999998,"N/A",250000,0,250000,195950,179556.15,219029.99999999997,30970.000000000029,null,null,null,null,null,null,null,null,null,null,null,null,null,4,2018]
[4,"Basic Need","Dartford Girls Grammar","TBC",14.857142857142858,26.714285714285715,"North","Ben Sherreard","Unapproved",4,"2018-03-01","2018-01-14","2018-03-03","2018-05-05","2018-09-04","2018-12-17","PD","2018-09-04","2018-12-17","2018-12-17","18/19","Y",130,"TBC",600000,600000,"N/A",600000,"TBC",16503,600000,0,null,{"$f":"AD31","v":16503},82000,77000,95000,329497,null,null,null,null,{"$f":"SUM(AH31:AP31)","v":600000},null,null,12,2018]
[5,"Basic Need","St George's PS (Gravesham)",5801635.8899999997,40.285714285714285,72.571428571428569,"North","Joanne Taylor","Approved",4,"2017-03-31","2017-06-01","2017-09-04","2017-12-18","2018-08-21","2019-05-31","2017-12-07","2018-08-22","2019-05-31","2019-05-31","19/20","Y",2266,2838.7431067961165,7100000,7100000,"N/A",7100000,5801635.8899999997,624071.99,6432591.8799999999,667408.12000000011,null,null,null,null,null,null,null,null,null,null,null,null,null,5,2019]
[8,"Basic Need","St Johns Catholic PS",3198658.38,5.8571428571428568,{"$error":"#VALUE!"},"North","David Mounter","Approved",4,"-","2015-10-16","-","2016-06-03","2018-03-01","2018-11-12","2017-06-12","2018-07-23","2018-09-02","2018-11-12","19/20","Y",889,{"$f":"AE33/W33","v":3960.523633295838},null,{"$f":"2800000-975050","v":1824950},"N/A",3524950,3198658.38,null,{"$f":"2490383.38+710500+320022.13","v":3520905.51},4044.4900000002235,null,null,null,null,null,null,null,null,null,null,null,null,null,9,2018]
[9,"Basic Need","St Johns Catholic PS",0,5.8571428571428568,{"$error":"#VALUE!"},"North","David Mounter","Approved",4,"-","2015-10-16","-","2016-06-03","2018-06-18","2019-06-26","2017-06-12","2018-07-23","2018-09-02","2019-06-26","19/20","Y",null,null,null,null,null,null,null,null,null,null,null,null,null,null,null,null,null,null,null,null,null,null,null,9,2018]
[28,"Basic Need","Seal CoE PS",2555000,{"$error":"#VALUE!"},117.28571428571429,"North","Joanne Taylor","Approved",4,"2015-05-22","2015-08-03","2016-03-07","2017-12-01","2017-08-20","2019-08-01","First Planning Refusal Decision 06/12/2016\n\nSecond Planning  Decision Due July 2018","Phase 1 (Internal) - 01/08/2018\n\nPhase 2 - TBC","Phase 1 - 31/08/2016\n\nPhase 2 - 01/08/2017","2017-09-01","19/20","N",1230,2736.87,2980000,2980000,"N/A",3399033,2555000,523255.88,3366351.71,{"$f":"SUM(AB35-AE35)","v":32681.290000000037},null,null,null,null,null,null,null,null,null,null,null,null,null,{"$error":"#VALUE!"},{"$error":"#VALUE!"}]
[33,"Basic Need","Craylands School",0,{"$error":"#VALUE!"},{"$error":"#VALUE!"},"North","Natasha Petley","Approved",4,"-","-","-",null,"Subject to lenders approval","Subject to lenders approval","2017-02-21","Subject to lenders approval","Subject to lenders approval","Subject to lenders approval","18/19","Y"]
[35,"Basic Need","Trinity Free School","TBC",34.857142857142854,37.857142857142854,"North","Esther Larner","Unapproved",4,"2017-09-30","2017-09-30","2018-01-31","2018-05-25","2018-06-22","2019-09-02","TBC","2019-01-01","2019-09-02","2019-09-02","19/20","Y",2620,"TBC",null,null,null,null,"TBC",null,null,{"$f":"SUM(AB37-AE37)","v":0},null,null,null,null,null,null,null,null,null,null,null,null,null,{"$f":"MONTH(S37)","v":9},{"$f":"YEAR(S37)","v":2019}]
[36,"Basic Need","Trinity Free School","TBC",25.857142857142858,37.857142857142854,"North","Esther Larner","Unapproved",4,"2017-09-30","2017-09-30","2018-01-31","2018-05-25","2018-06-22","2020-03-04","TBC","2019-09-05","2020-03-04","2020-03-04","20/21","Y","N/A","TBC",null,null,null,null,"TBC",null,null,0,null,null,null,null,null,null,null,null,null,null,null,null,null,{"$f":"MONTH(S38)","v":3},{"$f":"YEAR(S38)","v":2020}]
[37,"Basic Need","Trinity Free School","TBC",{"$error":"#VALUE!"},37.857142857142854,"North","Esther Larner","Unapproved",4,"2017-09-30","2017-09-30","2018-01-31","2018-05-25","2018-06-22","2020-08-31","TBC","05./03/2020","2020-08-31","2020-08-31","20/21","Y","N/A","TBC",null,null,null,null,"TBC",null,null,0,null,null,null,null,null,null,null,null,null,null,null,null,null,{"$f":"MONTH(S39)","v":8},{"$f":"YEAR(S39)","v":2020}]
[38,"Basic Need","Trinity Free School","TBC",5.5714285714285712,37.857142857142854,"North","Esther Larner","Unapproved",4,"2017-09-30","2017-09-30","2018-01-31","2018-05-25","2018-06-22","2020-09-02","TBC","2020-07-25","2020-09-02","2020-09-02","20/21","Y","N/A","TBC",null,null,null,null,"TBC",null,null,0,null,null,null,null,null,null,null,null,null,null,null,null,null,{"$f":"MONTH(S40)","v":9},{"$f":"YEAR(S40)","v":2020}]
[41,"Basic Need","Whitfield Aspen School",6520000,10.857142857142858,{"$error":"#VALUE!"},"South","Sue Meads","Approved",4,"-","-","-","2018-04-07","2018-09-16","2019-04-28","2018-03-27","2018-10-01","2018-12-16","2019-04-28","18/19","B",3722,{"$f":"AE41/W41","v":1964.3605588393336},7990000,4490000,3500000,7990000,6520000,580095,7311350,678650,null,null,null,null,null,null,null,null,null,null,null,null,null,{"$f":"MONTH(S41)","v":12},{"$f":"YEAR(S41)","v":2018}]
[43,"Basic Need","Palmarsh PS",1800000,{"$error":"#VALUE!"},{"$error":"#VALUE!"},"South","Sue Meads","Approved",4,"-","-","-","-","2018-09-30","TBC","TBC","TBC","TBC","TBS","TBC","Y",448,{"$f":"AE42/W42","v":4426.859375},2200000,2200000,"N/A",2200000,1800000,410499,1983233,216767]
[47,"Basic Need","St George's CoE Foundation PS",2345000,30.285714285714285,64.142857142857139,"East","Joanna Ashby","Approved",4,"2017-05-02","2017-06-01","2017-08-28","2017-11-03","2018-07-25","2019-02-22","TBC","2018-07-25","2019-02-22","2018-02-22","19/20","Y",757.88,{"$f":"AE43/W43","v":3236.6759909220459},2600000,2600000,"N/A",2600000,2345000,142577.92000000001,2453012,146988,null,null,null,null,null,null,null,null,null,null,null,null,null,{"$f":"MONTH(S43)","v":2},{"$f":"YEAR(S43)","v":2019}]
[62,"Basic Need","Ursuline College","TBC",0.2857142857142857,{"$error":"#VALUE!"},"East","Sue Meads","Unapproved",4,"-","-","-","2018-04-28","2018-08-31","2019-01-01","NA","2019-01-01","2019-01-03","2019-06-13","18/19","B","TBC","-",null,null,"N/A",300000,"TBC",30130,300000,0,null,{"$f":"AD44","v":30130},108450,161420,null,null,null,null,null,null,{"$f":"SUM(AH44:AP44)","v":300000},null,null,1,2019]
[69,"PSBP","Swadelands/The Lenham School",2500000,51.142857142857146,114.28571428571429,"West","Esther Larner","Approved",4,"2016-05-31","2016-05-31","2016-07-31","2018-05-11","2018-08-09","2019-09-15","2016-11-29","2019-01-07","2019-12-31","2019-09-15","19/20","Y",1086,2766,"Funded by ESFA, ROD confirms budget to be covered.","None ","ESFA","Not Yet Confirmed",2500000,145142,2355017,{"$error":"#VALUE!"},null,null,null,null,null,null,null,null,null,null,null,null,null,12,2019]
[70,"Basic Need","Spires",53714,{"$error":"#VALUE!"},52,"East","Natasha Petley","Approved",4,"2017-10-01","-","-","2018-04-03","2018-09-30","2018-10-30","2017-05-08","TBC","2018-10-30","2018-10-30","18/19","B",188,{"$f":"AE46/W46","v":287.2340425531915},3000000,3000000,0,3000000,53714,"TBC",54000,2946000,null,null,null,null,null,null,null,null,null,null,null,null,null,10,2018]
[75,"Modernisation","Darenth Community Primary School",890000,27.714285714285715,86.428571428571431,"North","David Harris","Approved",4,"2017-01-01","2017-07-19","2017-12-08","2018-04-13","2018-08-29","2019-01-12","2018-06-18","2018-07-02","2019-01-12","2019-01-12",null,"Y",430,2111.6750999999999,"N/A",1000000,0,1000000,890000,53228.6,998273,1727,null,null,null,null,null,null,null,null,null,null,null,null,null,1,2019]
[76,"Other","Faversham Library ",149666.79999999999,6.2857142857142856,21.285714285714285,"East","David Harris","Approved",4,"2017-10-09","2017-10-09","2017-10-20","2018-03-07","2018-03-07","2018-10-31","N/A","2018-09-17","2018-10-31","2018-10-31",null,"Y",579,293.60967184801382,"N/A",170000,0,170000,149666.79999999999,0,170000,0,null,null,null,null,null,null,null,null,null,null,null,null,null,10,2018]
[78,"Modernisation","Pent Valley - Sharman Block",180000,4.7142857142857144,{"$error":"#VALUE!"},"East","David Harris","Approved",4,"-","-","-","2018-05-25","2018-05-25","2018-08-27","2018-03-23","2018-07-25","2018-08-27","2018-08-27",null,"Y",360,555.55555555555554,"N/A",200000,0,200000,180000,0,200000,0,null,null,null,null,null,null,null,null,null,null,null,null,null,8,2018]
[79,"Corporate","Invicta Car Park",800000,8,{"$error":"#VALUE!"},"West","David Harris","Approved",4,"-","-","-","2016-06-01","2018-11-10","2018-09-10","N/A","2018-08-13","2018-10-08","2018-10-08",null,"N",2100,452.38095238095241,"N/A",1000000,0,1000000,800000,23663,950000,50000,null,null,null,null,null,null,null,null,null,null,null,null,null,10,2018]
[85,"Modernisation","Ryarsh PS",848533.49,31.571428571428573,124.85714285714286,"West","Joanna Ashby","Approved",4,"2016-03-01","2016-03-01","2016-05-31","2017-11-06","2018-07-23","2019-03-01","2017-11-06","2018-07-23","2019-03-01","2019-03-01",null,"Y",343,{"$f":"AE51/W51","v":2836.1891836734694},"N/A",715000,225000,992000,848533.49,80640.72,972812.89,19187.109999999986,null,null,null,null,null,null,null,null,null,null,null,null,null,3,2019]
[119,"Basic Need","Royal Harbour School / Laleham Gap",696623,9.5714285714285712,26.714285714285715,"East","Natasha Petley","Unapproved",4,"2017-12-20","2018-01-15","2018-03-02","2018-03-30","2018-06-25","2018-08-31","2018-05-17","2018-06-25","2018-08-31","2018-08-31","18/19","Y",null,null,"TBC",null,null,800000,696623,55079,783068,16932,null,{"$f":"AD52","v":55079},10000,125000,125000,125000,650000,914125,null,null,{"$f":"SUM(AH52:AP52)","v":2004204},null,null,8,2018]
[124,"Modernisation","The Limes",0,4.2857142857142856,6187.4285714285716,"North","Emily Stapley","Approved",4,null,null,null,null,"2018-07-31","2018-08-31","TBC","2018-08-01","2018-08-31","2018-08-31","18/19","Y",null,null,null,null,null,null,null,null,null,null,null,null,null,null,null,null,null,null,null,null,null,null,null,8,2018]
[44,"Basic Need","Meadowfield School",4339278,34.857142857142854,{"$error":"#VALUE!"},"East","Banji Adegunju","Approved",3,"-","-","-","2018-08-31","2019-01-01","2020-03-03","2018-02-28","2019-01-01","2019-09-02","2020-03-03","19/20","B",1538,{"$f":"AE54/W54","v":3019.4629388816643},3950000,3950000,"N/A",3950000,4339278,179001.2,4643934,{"$f":"SUM(AB54-AE54)","v":-693934},null,null,null,null,null,null,null,null,null,null,null,null,null,9,2019]
[55,"PSBP","Benenden PS",4600000,52.428571428571431,{"$error":"#VALUE!"},"West","Banji Adegunju","Approved",3,"-","-","2013-01-21","2017-12-22","2018-08-13","2019-07-15","2013-01-21","2018-08-13","2019-08-15","2019-07-15","19/20","Y",1464,"TBC",1000000,1000000,3100000,4100000,4600000,780511.03,5290000,{"$f":"SUM(AB55-AE55)","v":-1190000},null,null,null,null,null,null,null,null,null,null,null,null,null,8,2019]
[64,"Basic Need","Judd School",1063592,33.571428571428569,{"$error":"#VALUE!"},"West","Rachel Line","Unapproved",3,"-","2017-07-10","2018-02-19","2018-09-30","2018-11-30","2019-08-31","2018-10-31","2019-01-10","2019-09-02","2019-08-31","19/20","Y","TBC","-",1500000,1500000,"N/A",1500000,1063592,86789,1484460,{"$f":"SUM(AB56-AE56)","v":15540},null,{"$f":"AD56","v":86789},145690,156810,179852,359800,362670,192849,null,null,{"$f":"SUM(AH56:AP56)","v":1484460},null,null,9,2019]
[65,"Basic Need","Judd School",0,33.285714285714285,6204.8571428571431,"West","Rachel Line","Unapproved",3,null,"2017-07-10","2018-02-19","2018-09-30","2018-11-30","2019-08-31","2018-10-31","2019-01-10","2019-08-31","2019-08-31","19/20","Y",null,null,null,null,null,null,null,null,null,null,null,null,null,null,null,null,null,null,null,null,null,null,null,8,2019]
[72,"Basic Need","Spires","TBC",12.142857142857142,6205.2857142857147,"East","Natasha Petley","Approved",3,null,null,null,"2018-07-31","2018-12-03","2019-02-26","TBC","2018-12-03","2019-02-26","2019-02-26","18/19","Y",null,null,"N/A","TBC",0,"TBC","TBC","TBC","TBC",0,null,null,null,null,null,null,null,null,null,null,null,null,null,2,2019]
[86,"Basic Need","Maplesden Noakes Secondary Expansion ","TBC",{"$error":"#VALUE!"},43.714285714285715,"West","Emily Stapley","Approved",3,"2018-04-01","2018-06-30","2018-08-01","2018-10-01","2019-02-01","2020-08-31","2019-04-26","2019-07-01","TBC","2020-07-01","20/21","Y",1500,{"$f":"AE59/W59","v":2333.3333333333335},"TBC",3500000,"N/A",3500000,"TBC","-",3500000,{"$f":"SUM(AB59-AE59)","v":0},null,null,null,null,null,null,null,null,null,null,null,null,null,{"$error":"#VALUE!"},{"$error":"#VALUE!"}]
[98,"GET","Southborough Hub","PCSA £414,920 D&B £9,461,975",56.571428571428569,6213.2857142857147,"West","Andrew Fleming","Approved",3,null,null,null,"2018-10-30","2019-01-28","Summer 2020 subject to SOS April 19","2017-12-15","2019-04-01","2020-05-01","2020-05-01",null,"Y","N/A",2780,9750000,550000,9670000,10230000,"PCSA £414,920 D&B £9,461,975",1000000,10100000,130000,null,null,null,null,null,null,null,null,null,null,null,null,null,5,2020]
[120,"Basic Need","St Gregory's Secondary School","TBC",39.285714285714285,38.857142857142854,"West","Paula Malpeli","Unapproved",3,"2018-03-02","2018-04-20","2018-05-25","2018-10-18","2018-11-29","2020-05-28","TBC","2018-11-29","2019-08-31","2020-05-28","20/21","B","TBC","-",6600000,6600000,"N/A",6600000,"TBC",299039,7265018,-665018,null,{"$f":"AD61","v":299039},218535,509454,null,null,null,null,null,null,{"$f":"SUM(AH61:AP61)","v":1027028},null,null,8,2019]
[121,"Basic Need","Tunbridge Wells Boys School","TBC",39.285714285714285,38.857142857142854,"West","Paula Malpeli","Unapproved",3,"2018-03-02","2018-04-20","2018-05-25","2018-10-18","2018-11-29","2020-05-28","TBC","2018-11-29","2019-08-31","2020-05-28","20/21","B",2905,2496,7700000,7700000,"N/A",7700000,"TBC",289290,7912510.8799999999,-212510.87999999989,null,{"$f":"AD62","v":289290},96430,96430,96430,169237,645284,3643678,1642281,null,{"$f":"SUM(AH62:AP62)","v":6679060},null,null,8,2019]
[125,"Basic Need","Finberry PS",0,56.571428571428569,252.14285714285714,"South","Emily Stapley","Unapproved",3,"2014-10-01","2015-01-01","2015-04-01","2015-07-14","2019-08-01","2020-08-31","2015-10-26","2019-08-01","2020-08-31","2020-08-31","20/21","Y",null,null,"TBC",null,null,2200000,null,0,2200000,0,null,{"$f":"AD63","v":0},12500,25450,25485,110504,110504,4000890,1714667,null,{"$f":"SUM(AH63:AP63)","v":6000000},null,null,8,2020]
[30,"Basic Need","Northfleet School for Girls","TBC",85.571428571428569,36,"North","John Brocklehurst","Approved",2,"2018-05-01","2018-05-30","2018-07-27","2018-09-15","2019-01-08","2019-08-15","2018-12-14","2018-01-08","2019-08-30","2019-08-31","19/20","Y",1500,"-",4000000,4000000,0,4000000,"TBC",277024.11,4149770,-149770,null,null,null,null,null,null,null,null,null,null,null,null,null,8,2019]
[39,"Basic Need","Chilmington Green PS","TBC",4.2857142857142856,52.857142857142854,"South","Emily Stapley","Unapproved",2,"2018-01-02","2018-03-23","2018-08-06","2018-10-01","2019-01-07","2019-03-04","TBC","2019-08-01","2019-08-31","2020-08-31","20/21","Y","TBC","TBC",7200000,7200000,"N/A",7200000,"TBC",33837.42,7300000,-100000,null,{"$f":"AD65","v":33837.42},76540,32150,51695,134615,25000,4260000,2420000,null,{"$f":"SUM(AH65:AP65)","v":7033837.4199999999},null,null,8,2019]
[52,"Basic Need","Park Way PS",350000,{"$error":"#VALUE!"},47.285714285714285,"West","Joanna Ashby","Approved",2,"2017-09-18","2018-03-07","2018-06-15","2018-07-01","2018-08-15","2018-12-19","13/12/2017 PD","TBC","2018-09-03","2018-12-19","18/19","N",100,{"$f":"AE66/W66","v":4000},1400000,400000,"N/A",400000,350000,6250,400000,0,null,null,null,null,null,null,null,null,null,null,null,null,null,9,2018]
[54,"Basic Need","St Peters Tunbridge Wells PS (Hawkenbury)",4900000,31.428571428571427,88.428571428571431,"West","Emily Stapley","Approved",2,"2017-05-15","2018-06-05","2018-07-05","2018-09-05","2019-01-24","2020-01-10","20 February 2017 (Outline)","2019-01-25","2019-09-02","2020-03-28","19/20","B","TBC","TBC",6900000,5400000,1500000,6900000,4900000,0,6200000,700000,null,null,null,null,null,null,null,null,null,null,null,null,null,9,2019]
[56,"PSBP","Platt PS",4600000,{"$f":"(S68-R68)/7","v":44},{"$f":"(O68-K68)/7","v":{"$error":"#VALUE!"}},"West","Banji Adegunju","Approved",2,"-","2017-12-22","2018-07-27","2018-10-08","2019-03-29","2020-01-31","Due November 2018","2019-03-29","2020-01-31","2020-01-31","19/20","Y","TBC","TBC","N/A",1200000,"TBC","TBC",4600000,14000,5000000,{"$error":"#VALUE!"},null,null,null,null,null,null,null,null,null,null,null,null,null,1,2020]
[63,"Basic Need","Ursuline College","TBC",44,6200.2857142857147,"East","Sue Meads","Unapproved",2,null,null,"2018-06-29","2018-08-31","2018-10-29","2019-08-31","TBC","2018-10-29","2019-09-02","2019-08-31","19/20","Y",1370,3195,3000000,3000000,0,3000000,"TBC",138634,3158578,-158578,null,{"$f":"AD69","v":138634},72600,98000,35068,593200,1500058,1901070,null,null,{"$f":"SUM(AH69:AP69)","v":4338630},null,null,9,2019]
[66,"Basic Need","Bennett Memorial School",6000000,74,34.571428571428569,"West","Janet Streek","Unapproved",2,"2018-03-02","2018-04-20","2018-07-31","2018-08-10","2018-10-30","2020-08-31","TBC","2018-12-01","2020-05-02","2020-05-02","20/21","B",2906,2017,6500000,6500000,"N/A",6500000,6000000,273422,7400000,-900000,null,{"$f":"AD70","v":273422},89250,89250,89250,169237,650587,3656528,1530037,null,{"$f":"SUM(AH70:AP70)","v":6547561},null,null,5,2020]
[101,"GET","Coroners Phase 2","TBC",30.571428571428573,91.142857142857139,"West","Andrew Fleming","Approved",2,"2017-08-01","2018-03-01","2018-07-01","2019-01-01","2019-05-01","2019-10-01","TBC","2019-04-01","2019-11-01","2019-11-01",null,"Y","N/A",1400,"Pending",2215500,200000,2415500,"TBC",23000,2330500,85000,null,null,null,null,null,null,null,null,null,null,null,null,null,11,2019]
[122,"Basic Need","Skinners School Expansion","TBC",43.714285714285715,6196.8571428571431,"West","Emily Stapley","Unapproved",2,null,null,null,null,"2018-10-05","2018-10-08","TBC","2018-10-08","2019-08-10","2019-08-10","19/20","Y",null,null,3000000,3000000,"N/A",3000000,"TBC",280000,3000000,0,null,{"$f":"AD72","v":280000},126953,126953,126953,261064,726800,3795147,2276249,null,{"$f":"SUM(AH72:AP72)","v":7720119},null,null,8,2019]
[42,"Other","Herne Bay Library","TBC",29.142857142857142,55.857142857142854,"East","Sue Meads","Approved",1,"2017-11-01","2018-07-27","2018-08-30","2018-09-29","2018-11-27","2019-07-30","N/A","2019-01-07","2019-07-30","2019-07-30","N/A","Y","N/A","N/A","N/A","TBC","TBC",535000,"TBC",0,535000,0,null,null,null,null,null,null,null,null,null,null,null,null,null,7,2019]
[57,"Basic Need","Northfleet Tech College (PFI)","TBC",78.428571428571431,5978,"North","David Mounter","Unapproved",1,2016,"2018-12-05","2019-08-15","2019-11-30","2020-02-01","2021-09-01","TBC","2020-03-01","2021-09-01","2021-09-01","21/22","Y","TBC","TBC","TBC","TBC","TBC",3250000,"TBC",13000,3250000,0,null,{"$f":"AD74","v":13000},35000,35000,42000,79000,164500,2017050,864450,null,{"$f":"SUM(AH74:AP74)","v":3250000},null,null,9,2021]
[59,"Basic Need","St John's Secondary School (PFI)","TBC",69.857142857142861,72.142857142857139,"North","David Mounter","Unapproved",1,"2017-12-12","2018-08-29","2018-11-12","2019-02-01","2019-05-01","2020-09-01","TBC","2019-05-01","2020-09-01","2020-09-01","20/21","Y","TBC","TBC","TBC","TBC","TBC",5600000,"TBC",17000,3500000,2100000,null,{"$f":"AD75","v":17000},24000,39000,42250,63000,152050,2213890,948810,null,{"$f":"SUM(AH75:AP75)","v":3500000},null,null,9,2020]
[61,"Basic Need","Thamesview School (PFI)","TBC",69.857142857142861,72.142857142857139,"North","David Mounter","Unapproved",1,"2017-12-12","2018-09-15","2018-11-30","2019-02-01","2019-05-01","2020-09-01","TBC","2019-05-01","2020-09-01","2020-09-01","20/21","Y","TBC","TBC","TBC","TBC","TBC",5950000,"TBC",16500,2950000,3000000,null,{"$f":"AD76","v":16500},24000,39000,42250,63000,152050,1829240,783960,null,{"$f":"SUM(AH76:AP76)","v":2950000},null,null,9,2020]
[102,"ESFA Managed","Barton Court Free School","TBC",78.428571428571431,61.571428571428569,"East","Chris Wrench","Approved",1,"2018-06-22","2018-09-28","2019-04-02","2019-06-13","2019-08-27","2021-06-18","2019-09-19","2019-12-17","2021-06-18","2021-06-18","21/22","Y",8226,"TBC","N/A",0,"TBC","TBC","TBC",0,20600000,{"$error":"#VALUE!"},null,null,null,null,null,null,null,null,null,null,null,null,null,6,2021]
[105,"Basic Need","St George's (Gravesend)",0,39.285714285714285,35,"North","Joanne Taylor","Unapproved",1,"2018-03-02","2018-04-20","2018-05-25","2018-07-06","2018-11-02","2019-12-01","TBC","2018-12-01","2019-09-02","2019-12-01","19/20","Y",null,null,"TBC",null,null,3300000,null,1300,2600000,700000,null,{"$f":"AD78","v":1300},null,null,null,null,null,null,null,null,{"$f":"SUM(AH78:AP78)","v":1300},null,null,9,2019]
[116,"Basic Need","Sellindge PS",0,0,0,"South","Emily Stapley","Approved",1,null,null,null,null,null,null,null,null,null,null,null,"Y",null,null,836000,null,null,836000,null,null,836000,0,null,null,null,null,null,null,null,null,null,null,null,null,null,3,2020]
[126,"Basic Need","St Nicholas PS",0,6,132.28571428571428,"South","David Harris","Unapproved",1,"2018-01-06","2018-02-23","2020-03-20","2020-05-20","2020-07-20","2020-08-31","NA","2020-07-20","2020-08-31","2020-08-31","20/21","Y",null,null,"TBC",null,null,100000,null,975,100000,0,null,{"$f":"AD80","v":975},null,null,null,null,null,1562000,638000,null,{"$f":"SUM(AH80:AP80)","v":2200975},null,null,{"$f":"MONTH(S80)","v":8},{"$f":"YEAR(S80)","v":2020}]
[128,"Basic Need","Sunnybank PS",0,58.285714285714285,60.714285714285715,"East","Joanne Taylor","Unapproved",1,"2018-05-21","2018-07-09","2018-09-09","2019-03-01","2019-07-20","2020-08-31","TBC","2019-07-20","2020-08-31","2020-08-31","20/21","Y",null,null,"TBC",null,null,3000000,null,3500,3000000,0,null,{"$f":"AD81","v":3500},null,null,null,null,null,35000,314025,null,{"$f":"SUM(AH81:AP81)","v":352525},null,null,{"$f":"MONTH(S81)","v":8},{"$f":"YEAR(S81)","v":2020}]
[132,"Basic Need","St Gregory's PS",0,56.428571428571431,262.42857142857144,"East","Natasha Petley","Unapproved",1,"2017-07-21","2021-11-01","2022-01-01","2022-06-01","2022-08-01","2023-08-31","TBC","2022-08-01","2023-08-31","2023-08-31","23/24","HOLD",null,null,"TBC",null,null,1500000,null,3600,1500000,0,null,{"$f":"AD82","v":3600},null,null,null,null,null,null,null,2750000,{"$f":"SUM(AH82:AP82)","v":2753600},null,null,{"$f":"MONTH(S82)","v":8},{"$f":"YEAR(S82)","v":2023}]
[99,"Corporate","Dover Discovery Centre","TBC",{"$error":"#VALUE!"},{"$error":"#VALUE!"},"South","Andrew Fleming","Approved",0,"2018-09-15","TBC","TBC","TBC","TBC","TBC","None","TBC","TBC","2020-12-01",null,"Y","N/A",1100,"£5,700,000 subject to PAG",5600000,"£50,000 TBC",5600000,"TBC",20250,5040000,560000]
[103,"ESFA Managed","St Andrew's PS",0,48.857142857142854,69.571428571428569,"West","Emily Stapley","Approved",0,"2018-06-30","2018-10-31","2019-04-24","2019-07-17","2019-10-30","2020-10-07","TBC","2019-10-31","2020-10-07","7/20/2020",null,"Y",null,null,"N/A",null,null,null,null,null,null,0,null,null,null,null,null,null,null,null,null,null,null,null,null,{"$f":"MONTH(S84)","v":10},{"$f":"YEAR(S84)","v":2020}]
[118,"Basic Need","Westlands Secondary School",0,34.142857142857146,32.714285714285715,"East","N/A","Unapproved",0,"2018-05-20","2018-07-24","2018-08-15","2018-10-26","2019-01-04","2019-08-31","TBC","2019-01-04","2019-08-31","2019-08-31","19/20","Y",null,null,"TBC",null,null,3250000,null,875,1950000,1300000,null,{"$f":"AD85","v":875},25000,250000,250000,500000,500000,1073700,null,null,{"$f":"SUM(AH85:AP85)","v":2599575},null,null,8,2019]
[123,"Basic Need","Ebbsfleet Green PS",0,56.571428571428569,52.142857142857146,"North","Joanna Ashby","Unapproved",0,"2018-08-01","2018-11-01","2019-01-01","2019-06-01","2019-08-01","2020-08-31","TBC","2019-08-01","2020-08-31","2020-08-31","20/21","Y",null,null,"TBC",null,null,6000000,null,0,6000000,0,null,0,40000,null,null,24000,null,2656000,null,null,2720000,null,null,8,2020]
[127,"Basic Need","Towers (North) School",0,23.428571428571427,114.85714285714286,"South","TBC","Unapproved",0,"2018-01-06","2019-07-04","2019-10-04","2020-01-04","2020-03-20","2020-08-31","TBC","2020-03-20","2020-08-31","2020-08-31","20/21","Y",null,null,"TBC",null,null,350000,null,975,350000,0,null,975,null,null,null,null,null,null,99025,null,100000,null,null,8,2020]
[129,"Basic Need","Former RSD",0,78.142857142857139,108.57142857142857,"East","TBC","Unapproved",0,"2017-10-02","2018-08-01","2018-12-01","2019-06-01","2019-11-01","2021-05-01","TBC","2019-11-01","2021-05-01","2021-05-01","21/22","Y",null,null,26950000,null,null,26950000,null,36257,26950000,0,null,36257,12600,30000,30000,30000,30000,1718340,1145560,null,3032757,null,null,5,2021]
[130,"Basic Need","Hermitage Lane PS",0,56.571428571428569,52.142857142857146,"West","TBC","Unapproved",0,"2018-08-01","2018-11-01","2019-01-01","2019-06-01","2019-08-01","2020-08-31","TBC","2019-08-01","2020-08-31","2020-08-31","20/21","Y",null,null,"TBC",null,null,7000000,null,0,7000000,0,null,0,25000,75000,75000,7100000,150000,11693246,6450000,1345497,26913743,null,null,8,2020]
[131,"Basic Need","Swanley and Hextable PS",0,56.428571428571431,52.142857142857146,"North","TBC","Unapproved",0,"2021-08-01","2021-11-01","2022-01-01","2022-06-01","2022-08-01","2023-08-31","TBC","2022-08-01","2023-08-31","2023-08-31","23/24","HOLD",null,null,"TBC",null,null,2750000,null,0,2750000,0,null,0,76540,32150,51695,134615,25000,4260000,2420000,null,7000000,null,null,8,2023]
[133,"Basic Need","Quinton Road Secondary School",0,78.285714285714292,86.857142857142861,"East","TBC","Unapproved",0,"2020-07-01","2020-11-01","2021-03-01","2021-09-01","2022-03-01","2023-08-31","TBC","2022-03-01","2023-08-31","2023-08-31","23/24","HOLD",null,null,"TBC",null,null,20000000,null,0,20000000,0,null,0,null,null,null,null,null,null,null,1496400,1496400]
[134,"Basic Need","Skinners Kent Academy",{"$f":"AC92","v":0},0,0,"West","TBC","Unapproved",0,null,null,null,null,null,null,null,null,null,null,null,"HOLD",null,null,"TBC",null,null,20000000,null,0,20000000,0,null,0,null,null,null,null,null,null,2000000,18000000,20000000]
[135,"Basic Need","Tonbridge and Malling Area",0,0,0,"West","TBC","Unapproved",0,null,null,null,null,null,null,null,null,null,null,null,"HOLD",null,null,"TBC",null,null,9750000,null,0,9750000,0,null,0,null,null,null,null,null,null,2000000,18000000,20000000]
[136,"Basic Need","Tonbridge and Malling Area",0,0,0,"West","TBC","Unapproved",0,null,null,null,null,null,null,null,null,null,null,null,"HOLD",null,null,"TBC",null,null,6500000,null,0,6500000,0,null,0,null,null,null,null,null,null,1000000,8750000,9750000,null,null,{"$f":"MONTH(S94)","v":1},{"$f":"YEAR(S94)","v":1900}]
[139,"Modernisation","Simon Langdon Boys",0,{"$error":"#VALUE!"},{"$error":"#VALUE!"},"East","TBC","Unapproved",0,"2018-09-30","TBC","TBC","TBC","TBC","TBC","TBC","TBC","TBC","TBC",null,"HOLD",null,null,"N/A",250000,null,"TBC",null,0,null,{"$error":"#VALUE!"},null,"To date","2018-07-01","2018-08-01","2018-09-01","2018/19 Q3","2018/19 Q4","2019/20","2020/21","2021/22 +","Total",null,null,{"$f":"MONTH(S95)","v":{"$error":"#VALUE!"}},{"$f":"YEAR(S95)","v":{"$error":"#VALUE!"}}]
[140,"Modernisation","Simon Langdon Girls",0,{"$error":"#VALUE!"},{"$error":"#VALUE!"},"East","TBC","Unapproved",0,"2018-09-30","TBC","TBC","TBC","TBC","TBC","TBC","TBC","TBC","TBC",null,"HOLD",null,null,"N/A",250000,null,"TBC",null,0,null,{"$error":"#VALUE!"},"Totals",{"$f":"SUM(AH3:AH93)","v":1606005.42},1411620,2314830,1401272,10245769,5844503,51422753,27247064,41591897,142955774.42000002]
[141,"Modernisation","Meadowfiled School",0,{"$error":"#VALUE!"},{"$error":"#VALUE!"},"East","TBC","Unapproved",0,"2018-09-30","TBC","TBC","TBC","TBC","TBC","TBC","TBC","TBC","TBC",null,"HOLD",null,null,"N/A",250000,null,"TBC",null,0,null,{"$error":"#VALUE!"},"Cumulative",{"$f":"AH96","v":1606005.42},{"$f":"AI96+AH97","v":3017625.42},5332455.42,6733727.4199999999,16979496.420000002,22823999.420000002,74246752.420000002,101493816.42,143085713.42000002,null,null,null,{"$f":"MONTH(S97)","v":{"$error":"#VALUE!"}},{"$f":"YEAR(S97)","v":{"$error":"#VALUE!"}}]
[34,"Basic Need","Trinity Free School",6620000,0,0,"North","Esther Larner","Unapproved",null,null,null,null,null,null,null,null,null,null,null,null,"Y","N/A","TBC",8000000,8000000,0,8000000,6620000,334134,8000000,0,null,{"$f":"AD98","v":334134},300000,525000,260000,120000,825000,3076018,2448971,null,{"$f":"SUM(AH98:AP98)","v":7889123},null,null,{"$f":"MONTH(S98)","v":1},{"$f":"YEAR(S98)","v":1900}]
[80,"Other","Kent History and Library Centre",0,0,0,"West","Janet Streek","Approved",null,null,null,null,null,null,null,null,null,null,null,null,"C",null,null,null,null,null,null,null,null,null,0,null,null,null,null,null,null,null,null,null,null,null,null,null,{"$f":"MONTH(S99)","v":1},{"$f":"YEAR(S99)","v":1900}]
[137,"Modernisation","New Ash Green Primary",0,0,0,"North","David Harris","Approved",null,null,null,null,null,null,null,null,null,null,null,null,null,null,null,null,null,null,50000,null,null,41250,8750,null,{"$f":"AD100","v":0},null,null,null,null,null,null,750000,5750000,{"$f":"SUM(AH100:AP100)","v":6500000},null,null,{"$f":"MONTH(S100)","v":1},{"$f":"YEAR(S100)","v":1900}]
[]
[1,1,1,1,1,1]

{"sheet":"ave timescales","index":22,"n_rows":2,"n_cols":1,"rows_kept":2,"cut":false,"hidden":true,"merged":[]}
["CAPITAL WORKS PROGRAMME"]
["INDICATIVE TIMEFRAMES"]